BEGIN:VCALENDAR
VERSION:2.0
PRODID:-//https://niccm.com//NONSGML kigkonsult.se iCalcreator 2.23.20//
METHOD:PUBLISH
X-WR-CALNAME:JCal Pro Calendar
X-WR-CALDESC:Your online events calendar
X-WR-TIMEZONE:UTC
BEGIN:VTIMEZONE
TZID:UTC
BEGIN:STANDARD
DTSTART:20260425T023623
TZOFFSETFROM:+0000
TZOFFSETTO:+0000
END:STANDARD
END:VTIMEZONE
BEGIN:VEVENT
UID:20210729T080000UTC-5757x7G6N9@https://niccm.com/
DTSTAMP:20260425T023623Z
CATEGORIES:Past NICCM Events
DESCRIPTION:<p style='text-align: center\;'><span style='color: #000000\;'>
 &nbsp\;<span class='font-family-helvetica' style='font-size: small\;'><spa
 n style='font-size: 70pt\;'><strong><span style='font-size: 36pt\;'>$129</
 span></strong></span></span><strong style='color: #000000\; font-family: a
 rial\, helvetica\, sans-serif\; text-align: center\; font-size: 1rem\;'><s
 pan style='font-size: x-small\;'>&nbsp\; <span style='font-size: 24pt\;'>&
 nbsp\;<span style='font-size: 24pt\;'>Exclusive&nbsp\;</span><span style='
 font-size: x-small\;'></span><span style='color: #000000\;'></span>One Day
 </span></span><span style='font-size: 24pt\;'></span></strong><strong styl
 e='color: #000000\; font-family: arial\, helvetica\, sans-serif\; text-ali
 gn: center\; font-size: 1rem\;'><span style='font-size: 24pt\;'>Leadership
  Retreat</span></strong></span></p>\n<h2 style='text-align: center\;'><spa
 n style='font-size: 18pt\;'>with Bradley Smith</span></h2>\n<p>&nbsp\;</p>
 \n<p><span style='font-family: arial\, helvetica\, sans-serif\; color: #00
 0000\;'></span></p>\n<h4 style='text-align: center\;'><span style='font-fa
 mily: arial\, helvetica\, sans-serif\; color: #000000\;'><strong style='fo
 nt-size: 26pt\;'>July 28th\, 2022 - Orlando\, FL&nbsp\;</strong></span></h
 4>\n<h4 style='text-align: center\;'><span style='font-size: 18pt\; color:
  #000000\;'>(8am - 5pm)&nbsp\;</span></h4>\n<p>&nbsp\;</p>\n<p style='text
 -align: center\;'><span style='color: #000000\;'></span></p>\n<div><span s
 tyle='color: #000000\;'></span></div>\n<div><span style='font-size: 18pt\;
  font-family: arial\, helvetica\, sans-serif\; color: #000000\;'><strong>L
 ocation/Hotel:</strong></span></div>\n<div><span style='color: #000000\;'>
 </span></div>\n<div>\n<p style='font-style: italic\;'><span style='font-fa
 mily: arial\, helvetica\, sans-serif\; font-size: large\;'>Hilton Garden I
 nn - Lake Buena Vista&nbsp\;</span></p>\n<p><span style='font-size: 14pt\;
 '>11400 Marabella Palm Court </span></p>\n<p><span style='font-size: 14pt\
 ;'>Orlando\, FL &nbsp\;32836</span></p>\n<p><span style='font-size: 14pt\;
 '>(407) 239- 9550</span></p>\n<p><span style='font-family: arial\, helveti
 ca\, sans-serif\; font-size: 14pt\;'>Reservations <a href='https://www.hil
 ton.com/en/book/reservation/deeplink/?&amp\;ctyhocn=MCOBVGI&amp\;groupCode
 =NICM2&amp\;arrival=20210519&amp\;departure=20210523&amp\;cid=OM\,WW\,HILT
 ONLINK\,en\,DirectLink&amp\;fromId=HILTONLINKDIRECT'></a><a href='https://
 www.hilton.com/en/book/reservation/rooms/?ctyhocn=MCOBVGI&amp\;arrivalDate
 =2022-07-25&amp\;departureDate=2022-07-31&amp\;room1NumAdults=1&amp\;cid=O
 M%2CWW%2CHILTONLINK%2CEN%2CDirectLink'>Hilton.com</a></span>&nbsp\;</p>\n<
 p><span style='font-size: 14pt\;'>&nbsp\; &nbsp\; &nbsp\; &nbsp\; &nbsp\;C
 all Hotel If No Rooms Available On The Link</span></p>\n</div>\n<div><span
  style='color: #000000\;'></span></div>\n<div style='text-align: center\;'
 ><span style='color: #000000\;'>&nbsp\;<span style='font-family: arial\, h
 elvetica\, sans-serif\;'>&nbsp\;&nbsp\;</span><span style='font-family: ar
 ial\, helvetica\, sans-serif\; font-size: 12pt\;'><span style='font-family
 : inherit\; font-size: 1rem\; background-color: inherit\;'></span></span><
 /span></div>\n<article>\n<p style='text-align: justify\;'><span style='fon
 t-family: Arial\; font-size: 12pt\; color: #000000\;'><strong>THE NICCM 20
 20 LEADERSHIP RETREAT</strong> is structured to be a vision casting and TE
 AM building event.&nbsp\; Whether attending solo or with a group\, this da
 y is guaranteed to be highly motivational and provide all participants wit
 h numerous takeaways that will positively impact their program.&nbsp\;</sp
 an></p>\n<p><span style='color: #000000\;'></span></p>\n</article>\n<artic
 le>\n<p><span style='font-family: arial\, helvetica\, sans-serif\; color: 
 #000000\;'><span style='font-size: small\;'><strong><span style='font-size
 : 12pt\;'><span style='font-size: 18pt\;'>LEARN:&nbsp\;</span></span></str
 ong><span style='font-family: Arial\; font-size: 12pt\; background-color: 
 inherit\;'>Learning is essesntial to continued success in an early educati
 on program. Early Education is a quickly changing industrly with evershift
 ling challenges. The successful administrator is also constantly learning 
 and adapting to meet these challenges. &nbsp\;</span></span></span></p>\n<
 p><span style='color: #000000\;'></span></p>\n</article>\n<p><span style='
 color: #000000\;'><span style='font-size: 12pt\; font-family: Arial\;'><st
 rong style='font-size: 14pt\; font-family: arial\, helvetica\, sans-serif\
 ;'><span style='font-size: 18pt\;'>LEAD:</span>&nbsp\;</strong><span style
 ='font-size: 12pt\; font-family: Arial\;'>A&nbsp\;</span>collaborative TEA
 M environment is imperative to a continued successful program.&nbsp\; The 
 LEAD session will focus on methods of leadership that will minimize turnov
 er and increase TEAM and staff morale.&nbsp\; Topics covered will include:
 &nbsp\; Understanding the Nature of Influence in order to create “buy-in” 
 and using these concepts to build your very own Leadership team that will 
 behave like leaders.</span><span style='font-family: Arial\; font-size: 12
 pt\; background-color: inherit\;'>&nbsp\;&nbsp\;</span></span></p>\n<p><sp
 an style='color: #000000\;'></span></p>\n<div><span style='font-family: ar
 ial\, helvetica\, sans-serif\; color: #000000\;'><span style='font-family:
  arial\, helvetica\, sans-serif\;'><strong><strong><span style='font-size:
  12pt\;'><span style='font-size: 18pt\;'>Grow:</span> </span> </strong> </
 strong><span style='font-size: 12pt\;'>&nbsp\;<span style='font-size: 12pt
 \; font-family: Arial\;'>Center growth and continued program growth are vi
 tal for the 21st century program. This session will highlight and target o
 rganizational growth. The focus will be on strategies to remove the attend
 ance highs and lows of the program and bring consistent stability to enrol
 lment and staffing.</span></span></span></span></div>\n<div><span style='c
 olor: #000000\;'></span></div>\n<div><span style='color: #000000\;'></span
 ></div>\n<div><span style='font-family: arial\, helvetica\, sans-serif\; c
 olor: #000000\;'><span style='font-family: arial\, helvetica\, sans-serif\
 ;'><strong><strong><span style='font-size: 12pt\;'><span style='font-size:
  18pt\;'>REPEAT:</span> </span> </strong> </strong><span style='font-size:
  12pt\;'>&nbsp\;<span style='font-size: 12pt\; font-family: Arial\;'>This 
 session is at the foundation of what NICCM stands for\, which is having a 
 personal commitment to continued growth and excellence.&nbsp\; This sessio
 n will outline methods for establishing a personal growth plan and how to 
 coach your staff to develop their own personal growth plan.&nbsp\;&nbsp\;<
 /span></span> </span> </span></div>\n<div>&nbsp\;</div>\n<div>&nbsp\;</div
 >\n<p>&nbsp\;</p>\n<div>&nbsp\;</div>\n<div>&nbsp\;</div>\n<div>\n<h4 styl
 e='font-size: 11px\; color: #000000\; text-align: center\;'><span style='f
 ont-size: xx-large\;'>Participants may earn up to 10 hours.&nbsp\;</span><
 /h4>\n<p><span style='font-size: xx-large\;'></span></p>\n</div>\n<div>&nb
 sp\;&nbsp\;</div>\n<p style='text-align: center\;'><span style='color: #71
 9603\; font-size: 24pt\;'><a href='http://handprint.niccm.com/products/lea
 dership-retreat.html' target='_self' title='Director Credential Registrati
 on'><span style='color: #719603\;'><strong>Click Here To Register Online</
 strong></span></a></span></p>\n<p style='text-align: center\;'><span style
 ='color: #719603\;'></span></p>\n<p style='text-align: center\;'><span sty
 le='color: #719603\;'><strong><span style='font-size: 14pt\;'><a href='ima
 ges/stories/Leadership%20Registration%20Form.pdf'><span style='color: #719
 603\;'></span></a></span></strong></span></p>\n<p><span style='color: #719
 603\;'><strong>&nbsp\;</strong></span></p>\n<p>&nbsp\;</p>\n<p><span style
 ='font-size: 12pt\;'><span style='font-weight: normal\;'><span style='font
 -size: 18pt\;'></span></span></span></p>
DTSTART:20220728T080000Z
DTEND:20220728T170000Z
SUMMARY:Leadership Retreat - Orlando\, FL  2022
URL:https://niccm.com/64-leadership-retreat-upcoming/733-leadership-retreat
 -orlando-fl-2021-2
END:VEVENT
END:VCALENDAR
