BEGIN:VCALENDAR
VERSION:2.0
PRODID:-//https://niccm.com//NONSGML kigkonsult.se iCalcreator 2.23.20//
METHOD:PUBLISH
X-WR-CALNAME:JCal Pro Calendar
X-WR-CALDESC:Your online events calendar
X-WR-TIMEZONE:UTC
BEGIN:VTIMEZONE
TZID:UTC
BEGIN:STANDARD
DTSTART:20260425T021402
TZOFFSETFROM:+0000
TZOFFSETTO:+0000
END:STANDARD
END:VTIMEZONE
BEGIN:VEVENT
UID:20220318T170000UTC-9465Rakfw4@https://niccm.com/
DTSTAMP:20260425T021402Z
CATEGORIES:Past NICCM Events
DESCRIPTION:<h1 style='color: #000000\; visibility: visible\; text-align: c
 enter\;'>N.A.C. (National Administrator's Credential)</h1>\n<h2 style='col
 or: #000000\; visibility: visible\; text-align: justify\;'><span style='fo
 nt-size: 18pt\;'>Location/Hotel:</span>&nbsp\;&nbsp\;</h2>\n<p style='font
 -style: italic\;'><span style='font-family: arial\, helvetica\, sans-serif
 \; font-size: large\;'>Hilton Garden Inn - Lake Buena Vista&nbsp\;</span><
 /p>\n<p><span style='font-size: 14pt\;'>11400 Marabella Palm Court </span>
 </p>\n<p><span style='font-size: 14pt\;'>Orlando\, FL &nbsp\;32836</span><
 /p>\n<p><span style='font-size: 14pt\;'>(407) 239- 9550</span></p>\n<p sty
 le='font-style: italic\;'><span style='font-family: arial\, helvetica\, sa
 ns-serif\; font-size: 14pt\;'>Reservations <a href='https://www.hilton.com
 /en/book/reservation/deeplink/?&amp\;ctyhocn=MCOBVGI&amp\;groupCode=NICM2&
 amp\;arrival=20210519&amp\;departure=20210523&amp\;cid=OM\,WW\,HILTONLINK\
 ,en\,DirectLink&amp\;fromId=HILTONLINKDIRECT'></a><a href='https://www.hil
 ton.com/en/book/reservation/rooms/?ctyhocn=MCOBVGI&amp\;arrivalDate=2022-0
 3-22&amp\;departureDate=2022-03-28&amp\;room1NumAdults=1&amp\;cid=OM%2CWW%
 2CHILTONLINK%2CEN%2CDirectLink'>Hilton.com</a></span></p>\n<h2 style='colo
 r: #000000\; visibility: visible\;'><strong><span style='font-size: 14pt\;
 '> &nbsp\; &nbsp\; &nbsp\; &nbsp\; &nbsp\; &nbsp\; Call Hotel If No Rooms 
 Available On The Link</span><span style='margin: 0px\; padding: 0px\; bord
 er: 0px\; outline: 0px\; font-size: 14pt\; background-color: transparent\;
  font-family: arial\, helvetica\, sans-serif\;'></span>&nbsp\;</strong>&nb
 sp\;</h2>\n<p style='text-align: center\;'><a href='http://handprint.niccm
 .com/products/national-florida-and-texas-director-credential-n-a-c.html' t
 itle='Registration NAC '><span style='color: #ffffff\;'><span style='font-
 size: 19px\; padding: 3px 10px 4px\; background-color: #7b3b3b\;'><strong>
 Click Here To Register Online Now!</strong></span></span></a></p>\n<p><spa
 n style='color: #000000\;'><strong style='font-size: 14pt\;'><span style='
 font-size: 18pt\;'>Schedule:</span></strong></span></p>\n<div><span style=
 'color: #000000\;'><span style='text-decoration: underline\;'><strong><spa
 n style='font-size: 14pt\;'>Friday\, March 25th\, 2022</span></strong></sp
 an><strong><span style='font-size: 14pt\;'>&nbsp\; &nbsp\;</span></strong>
 </span></div>\n<div>&nbsp\;</div>\n<div><span style='font-size: 12pt\; col
 or: #000000\;'><strong>Arrival and Check-In: &nbsp\;</strong>4:00pm-4:15pm
  &nbsp\;</span><span style='color: #000000\;'><span style='color: #000000\
 ;'>(Students must arrive and check-in at least 45 min before class starts)
 </span></span></div>\n<div>&nbsp\;</div>\n<div><span style='color: #000000
 \;'></span></div>\n<div><span style='font-size: 12pt\; color: #000000\;'><
 strong>Session A: &nbsp\;</strong>5:00pm-9:00pm&nbsp\;<span style='font-si
 ze: 10.666666984558105px\;'>4</span><span style='font-size: 10.66666698455
 8105px\;'>&nbsp\;Contact Hours / .4 CEUs</span>&nbsp\;<span style='font-si
 ze: 8pt\;'>(For Sessions taken individually earn up to 5 Contact Hours / .
 5 CEUs by completing 1 Praxis question)</span></span></div>\n<div style='p
 adding-left: 30px\;'><span style='font-size: 12pt\; color: #000000\;'>Unit
  1: Fiscal Management&nbsp\;</span></div>\n<div style='padding-left: 30px\
 ;'><span style='font-size: 12pt\; color: #000000\;'>Unit 2: Insurance for 
 Your Center</span></div>\n<div>&nbsp\;</div>\n<div style='padding-left: 30
 px\;'><span style='color: #000000\;'></span></div>\n<div><span style='colo
 r: #000000\;'><span style='text-decoration: underline\;'><strong><span sty
 le='font-size: 14pt\;'>Saturday\, March 26th\, 2022</span></strong></span>
 <span style='font-size: 8pt\;'>&nbsp\; &nbsp\;&nbsp\;</span></span></div>
 \n<div>&nbsp\;</div>\n<div><span style='color: #000000\;'></span></div>\n<
 div><span style='font-size: 12pt\; color: #000000\;'><strong>Session B:</s
 trong>&nbsp\;&nbsp\;8:00am-12:00pm&nbsp\;<span style='font-size: 10.666666
 984558105px\;'>4</span><span style='font-size: 10.666666984558105px\;'>&nb
 sp\;Contact Hours / .4 CEUs&nbsp\;</span><span style='font-size: 8pt\;'>(F
 or Sessions taken individually earn up to 5 Contact Hours / .5 CEUs by com
 pleting 1 Praxis question)</span></span></div>\n<div style='padding-left: 
 30px\;'><span style='font-size: 12pt\; color: #000000\;'>Unit 3: Hiring &a
 mp\; Teacher Orientation</span></div>\n<div style='padding-left: 30px\;'><
 span style='font-size: 12pt\; color: #000000\;'>Unit 4: Employee Handbooks
  &amp\; Evals</span></div>\n<div style='padding-left: 30px\;'><span style=
 'color: #000000\;'></span></div>\n<div><span style='font-size: 12pt\; colo
 r: #000000\;'><strong>Session C:</strong>&nbsp\;&nbsp\;1:00pm-5:00pm &nbsp
 \;<span style='font-size: 10.666666984558105px\;'>4</span><span style='fon
 t-size: 10.666666984558105px\;'>&nbsp\;Contact Hours / .4 CEUs&nbsp\;</spa
 n><span style='font-size: 8pt\;'>(For Sessions taken individually earn up 
 to 5 Contact Hours / .5 CEUs by completing 1 Praxis question)</span></span
 ></div>\n<div style='padding-left: 30px\;'><span style='font-size: 12pt\; 
 color: #000000\;'>Unit 5: Center Management</span></div>\n<div style='padd
 ing-left: 30px\;'><span style='font-size: 12pt\; color: #000000\;'>Unit 6:
  Child Development - The Essentials</span></div>\n<div>&nbsp\;</div>\n<div
  style='padding-left: 30px\;'><span style='color: #000000\;'></span></div>
 \n<div><span style='color: #000000\;'><span style='text-decoration: underl
 ine\;'><strong><span style='font-size: 14pt\;'>Sunday\, March 27th\, 2022<
 /span></strong></span><strong><span style='font-size: 14pt\;'>&nbsp\; &nbs
 p\;</span></strong></span></div>\n<div>&nbsp\;</div>\n<div><span style='co
 lor: #000000\;'></span></div>\n<div><span style='font-size: 12pt\; color: 
 #000000\;'><strong>Session D: &nbsp\;</strong>8:00am-12:00pm&nbsp\;<span s
 tyle='font-size: 10.666666984558105px\;'>4</span><span style='font-size: 1
 0.666666984558105px\;'>&nbsp\;Contact Hours / .4 CEUs&nbsp\;</span><span s
 tyle='font-size: 8pt\;'>(For Sessions taken individually earn up to 5 Cont
 act Hours / .5 CEUs by completing 1 Praxis question)</span></span></div>\n
 <div style='padding-left: 30px\;'><span style='font-size: 12pt\; color: #0
 00000\;'>Unit 7: Dealing with Difficult Employees</span></div>\n<div style
 ='padding-left: 30px\;'><span style='font-size: 12pt\; color: #000000\;'>U
 nit 8: Administrative Leadership</span></div>\n<div style='padding-left: 3
 0px\;'><span style='color: #000000\;'></span></div>\n<div>\n<div><span sty
 le='font-size: 12pt\; color: #000000\;'><strong>Session E: &nbsp\;</strong
 >1:00pm-5:00pm&nbsp\;<span style='font-size: 10.666666984558105px\;'>4</sp
 an><span style='font-size: 10.666666984558105px\;'>&nbsp\;Contact Hours / 
 .4 CEUs&nbsp\;</span><span style='font-size: 8pt\;'>(For Sessions taken in
 dividually earn up to 5 Contact Hours / .5 CEUs by completing 1 Praxis que
 stion)</span></span></div>\n<div style='padding-left: 30px\;'><span style=
 'font-size: 12pt\; color: #000000\;'>Unit 9: The New Economy</span></div>
 \n<div style='padding-left: 30px\;'><span style='font-size: 12pt\; color: 
 #000000\;'>Unit 10: Train the Trainer</span></div>\n<div>&nbsp\;</div>\n<d
 iv style='padding-left: 30px\;'><span style='color: #000000\;'></span></di
 v>\n<div style='padding-left: 30px\;'><span style='color: #000000\;'>&nbsp
 \;&nbsp\;</span></div>\n</div>\n<div>\n<div><span style='font-size: 12pt\;
  color: #000000\;'><strong>Session F: &nbsp\;Credential Praxis&nbsp\;</str
 ong><span style='font-size: 8pt\;'>(25 Contact Hours / 2.5 CEUs)</span></s
 pan></div>\n<div><span style='color: #000000\;'>&nbsp\;<span style='font-s
 ize: medium\;'>When attending the full conference\, each Session is worth 
 4 Hours/ .4 CEUs for a total of 20 hours for sessions A-E. &nbsp\;Convert 
 the 20 contact hours / 2 CEUs from attendance in sessions A-E into the NAC
  (which is worth 45 contact hours/4.5 CEUs) by completing the Praxis. &nbs
 p\;Students will be assigned a mentor/instructor to advise them during the
  completion of their project from home if they have questions. Students al
 so have the option of registering for tutoring to complete their praxis du
 ring the event\, at a future event or to get additional help from home on 
 their praxis.&nbsp\;</span></span></div>\n<div>&nbsp\;</div>\n</div>\n<div
 ><span style='color: #000000\;'></span></div>\n<div style='padding-left: 3
 0px\;'><span style='color: #000000\;'></span></div>\n<div><span style='col
 or: #000000\;'><span style='color: #993300\;'><strong style='font-family: 
 arial\, helvetica\, sans-serif\; font-size: 16px\;'><a href='http://handpr
 int.niccm.com/products/national-administrators-credential-n-a-c-tutoring.h
 tml' title='NAC Tutoring Registration '><span style='font-size: 12pt\; col
 or: #993300\;'>Optional Tutoring ($160)</span></a>&nbsp\;&nbsp\;</strong><
 /span><span style='font-family: arial\, helvetica\, sans-serif\; font-size
 : 16px\;'>Students who elect to stay for tutoring will receive a list of m
 aterials to bring with them. &nbsp\;The presenter will provide individuali
 zed assistance to each tutoring participant in order to help them put toge
 ther and complete their Praxis. Tutoring allows students the&nbsp\;<strong
 >opportunity</strong>&nbsp\;of completing their test and praxis at the eve
 nt and&nbsp\;<strong>leave having earned their certificate</strong>. &nbsp
 \;Those who wish to participate in tutoring are advised to register for th
 is service at least 3 days prior to the event to obtain a list of suggeste
 d documentation. Tutoring is usually offered on Saturday and Sunday of eac
 h event from approximately 5:15 pm - 8:15 pm.</span></span></div>
DTSTART:20220325T170000Z
DTEND:20220327T210000Z
SUMMARY:NAC - Orlando 322
URL:https://niccm.com/70-upcoming-credential-courses/740-nac-orlando-322
END:VEVENT
END:VCALENDAR
