BEGIN:VCALENDAR
VERSION:2.0
PRODID:-//https://niccm.com//NONSGML kigkonsult.se iCalcreator 2.23.20//
METHOD:PUBLISH
X-WR-CALNAME:JCal Pro Calendar
X-WR-CALDESC:Your online events calendar
X-WR-TIMEZONE:UTC
BEGIN:VTIMEZONE
TZID:UTC
BEGIN:STANDARD
DTSTART:20260425T023425
TZOFFSETFROM:+0000
TZOFFSETTO:+0000
END:STANDARD
END:VTIMEZONE
BEGIN:VEVENT
UID:20220923T170000UTC-6187wtpAZ5@https://niccm.com/
DTSTAMP:20260425T023425Z
CATEGORIES:Past NICCM Events
DESCRIPTION:<h1 style='color: #000000\; visibility: visible\; text-align: c
 enter\;'>N.A.C. (National Administrator's Credential)</h1>\n<h2 style='col
 or: #000000\; visibility: visible\; text-align: justify\;'><span style='fo
 nt-size: 18pt\;'>Location/Hotel:</span>&nbsp\;&nbsp\;</h2>\n<p style='back
 ground-color: transparent\; margin: 2px 0px\; padding: 0px\; border: 0px\;
  outline: 0px\; font-size: 12px\; color: #505f69\; font-family: Helvetica\
 , Arial\, FreeSans\, sans-serif\;'><span style='font-family: arial\, helve
 tica\, sans-serif\; font-size: large\;'>Hilton Garden Inn- Waco</span></p>
 \n<p style='background-color: transparent\; margin: 2px 0px\; padding: 0px
 \; border: 0px\; outline: 0px\; font-size: 12px\; color: #505f69\; font-fa
 mily: Helvetica\, Arial\, FreeSans\, sans-serif\;'><span style='font-famil
 y: arial\, helvetica\, sans-serif\; font-size: large\;'>5800 Legend lake P
 arkway&nbsp\;</span></p>\n<p style='background-color: transparent\; margin
 : 2px 0px\; padding: 0px\; border: 0px\; outline: 0px\; font-size: 12px\; 
 color: #505f69\; font-family: Helvetica\, Arial\, FreeSans\, sans-serif\;'
 ><span style='font-family: arial\, helvetica\, sans-serif\; font-size: lar
 ge\;'>Waco\, TX &nbsp\;76712</span></p>\n<p style='background-color: trans
 parent\; margin: 2px 0px\; padding: 0px\; border: 0px\; outline: 0px\; fon
 t-size: 12px\; color: #505f69\; font-family: Helvetica\, Arial\, FreeSans\
 , sans-serif\;'><span style='margin: 0px\; padding: 0px\; border: 0px\; ou
 tline: 0px\; font-size: 14pt\; background-color: transparent\; font-family
 : arial\, helvetica\, sans-serif\;'>(940) 280-3432</span></p>\n<p style='b
 ackground-color: transparent\; margin: 2px 0px\; padding: 0px\; border: 0p
 x\; outline: 0px\; font-size: 12px\; color: #505f69\; font-family: Helveti
 ca\, Arial\, FreeSans\, sans-serif\;'><span style='font-size: 14pt\; color
 : #333399\;'><a href='https://secure3.hilton.com/en_US/es/reservation/book
 .htm?inputModule=HOTEL&amp\;ctyhocn=DALLFES&amp\;groupCode=CESCM1&amp\;arr
 ival=20210415&amp\;departure=20210418&amp\;cid=OM\,WW\,HILTONLINK\,EN\,Dir
 ectLink&amp\;fromId=HILTONLINKDIRECT' style='color: #333399\;'>Res</a>erva
 tions Booking Link: Hilton.com</span></p>\n<h2 style='color: #000000\; vis
 ibility: visible\;'>&nbsp\;</h2>\n<p style='text-align: center\;'><a href=
 'http://handprint.niccm.com/products/national-florida-and-texas-director-c
 redential-n-a-c.html' title='Registration NAC '><span style='color: #fffff
 f\;'><span style='font-size: 19px\; padding: 3px 10px 4px\; background-col
 or: #7b3b3b\;'><strong>Click Here To Register Online Now!</strong></span><
 /span></a></p>\n<p><span style='color: #000000\;'><strong style='font-size
 : 14pt\;'><span style='font-size: 18pt\;'>Schedule:</span></strong></span>
 </p>\n<div><span style='color: #000000\;'><span style='text-decoration: un
 derline\;'><strong><span style='font-size: 14pt\;'>Friday\, October 14th\,
  2022</span></strong></span><strong><span style='font-size: 14pt\;'>&nbsp\
 ; &nbsp\;</span></strong></span></div>\n<div>&nbsp\;</div>\n<div><span sty
 le='font-size: 12pt\; color: #000000\;'><strong>Arrival and Check-In: &nbs
 p\;</strong>4:00pm-4:15pm &nbsp\;</span><span style='color: #000000\;'><sp
 an style='color: #000000\;'>(Students must arrive and check-in at least 45
  min before class starts)</span></span></div>\n<div>&nbsp\;</div>\n<div><s
 pan style='color: #000000\;'></span></div>\n<div><span style='font-size: 1
 2pt\; color: #000000\;'><strong>Session A: &nbsp\;</strong>5:00pm-9:00pm&n
 bsp\;<span style='font-size: 10.666666984558105px\;'>4</span><span style='
 font-size: 10.666666984558105px\;'>&nbsp\;Contact Hours / .4 CEUs</span>&n
 bsp\;<span style='font-size: 8pt\;'>(For Sessions taken individually earn 
 up to 5 Contact Hours / .5 CEUs by completing 1 Praxis question)</span></s
 pan></div>\n<div style='padding-left: 30px\;'><span style='font-size: 12pt
 \; color: #000000\;'>Unit 1: Fiscal Management&nbsp\;</span></div>\n<div s
 tyle='padding-left: 30px\;'><span style='font-size: 12pt\; color: #000000\
 ;'>Unit 2: Insurance for Your Center</span></div>\n<div>&nbsp\;</div>\n<di
 v style='padding-left: 30px\;'><span style='color: #000000\;'></span></div
 >\n<div><span style='color: #000000\;'><span style='text-decoration: under
 line\;'><strong><span style='font-size: 14pt\;'>Saturday\, October 15th\, 
 2022</span></strong></span><span style='font-size: 8pt\;'>&nbsp\; &nbsp\;&
 nbsp\;</span></span></div>\n<div>&nbsp\;</div>\n<div><span style='color: #
 000000\;'></span></div>\n<div><span style='font-size: 12pt\; color: #00000
 0\;'><strong>Session B:</strong>&nbsp\;&nbsp\;8:00am-12:00pm&nbsp\;<span s
 tyle='font-size: 10.666666984558105px\;'>4</span><span style='font-size: 1
 0.666666984558105px\;'>&nbsp\;Contact Hours / .4 CEUs&nbsp\;</span><span s
 tyle='font-size: 8pt\;'>(For Sessions taken individually earn up to 5 Cont
 act Hours / .5 CEUs by completing 1 Praxis question)</span></span></div>\n
 <div style='padding-left: 30px\;'><span style='font-size: 12pt\; color: #0
 00000\;'>Unit 3: Hiring &amp\; Teacher Orientation</span></div>\n<div styl
 e='padding-left: 30px\;'><span style='font-size: 12pt\; color: #000000\;'>
 Unit 4: Employee Handbooks &amp\; Evals</span></div>\n<div style='padding-
 left: 30px\;'><span style='color: #000000\;'></span></div>\n<div><span sty
 le='font-size: 12pt\; color: #000000\;'><strong>Session C:</strong>&nbsp\;
 &nbsp\;1:00pm-5:00pm &nbsp\;<span style='font-size: 10.666666984558105px\;
 '>4</span><span style='font-size: 10.666666984558105px\;'>&nbsp\;Contact H
 ours / .4 CEUs&nbsp\;</span><span style='font-size: 8pt\;'>(For Sessions t
 aken individually earn up to 5 Contact Hours / .5 CEUs by completing 1 Pra
 xis question)</span></span></div>\n<div style='padding-left: 30px\;'><span
  style='font-size: 12pt\; color: #000000\;'>Unit 5: Center Management</spa
 n></div>\n<div style='padding-left: 30px\;'><span style='font-size: 12pt\;
  color: #000000\;'>Unit 6: Child Development - The Essentials</span></div>
 \n<div>&nbsp\;</div>\n<div style='padding-left: 30px\;'><span style='color
 : #000000\;'></span></div>\n<div><span style='color: #000000\;'><span styl
 e='text-decoration: underline\;'><strong><span style='font-size: 14pt\;'>S
 unday\, October 16th\, 2022</span></strong></span><strong><span style='fon
 t-size: 14pt\;'>&nbsp\; &nbsp\;</span></strong></span></div>\n<div>&nbsp\;
 </div>\n<div><span style='color: #000000\;'></span></div>\n<div><span styl
 e='font-size: 12pt\; color: #000000\;'><strong>Session D: &nbsp\;</strong>
 8:00am-12:00pm&nbsp\;<span style='font-size: 10.666666984558105px\;'>4</sp
 an><span style='font-size: 10.666666984558105px\;'>&nbsp\;Contact Hours / 
 .4 CEUs&nbsp\;</span><span style='font-size: 8pt\;'>(For Sessions taken in
 dividually earn up to 5 Contact Hours / .5 CEUs by completing 1 Praxis que
 stion)</span></span></div>\n<div style='padding-left: 30px\;'><span style=
 'font-size: 12pt\; color: #000000\;'>Unit 7: Dealing with Difficult Employ
 ees</span></div>\n<div style='padding-left: 30px\;'><span style='font-size
 : 12pt\; color: #000000\;'>Unit 8: Administrative Leadership</span></div>
 \n<div style='padding-left: 30px\;'><span style='color: #000000\;'></span>
 </div>\n<div>\n<div><span style='font-size: 12pt\; color: #000000\;'><stro
 ng>Session E: &nbsp\;</strong>1:00pm-5:00pm&nbsp\;<span style='font-size: 
 10.666666984558105px\;'>4</span><span style='font-size: 10.666666984558105
 px\;'>&nbsp\;Contact Hours / .4 CEUs&nbsp\;</span><span style='font-size: 
 8pt\;'>(For Sessions taken individually earn up to 5 Contact Hours / .5 CE
 Us by completing 1 Praxis question)</span></span></div>\n<div style='paddi
 ng-left: 30px\;'><span style='font-size: 12pt\; color: #000000\;'>Unit 9: 
 The New Economy</span></div>\n<div style='padding-left: 30px\;'><span styl
 e='font-size: 12pt\; color: #000000\;'>Unit 10: Train the Trainer</span></
 div>\n<div>&nbsp\;</div>\n<div style='padding-left: 30px\;'><span style='c
 olor: #000000\;'></span></div>\n<div style='padding-left: 30px\;'><span st
 yle='color: #000000\;'>&nbsp\;&nbsp\;</span></div>\n</div>\n<div>\n<div><s
 pan style='font-size: 12pt\; color: #000000\;'><strong>Session F: &nbsp\;C
 redential Praxis&nbsp\;</strong><span style='font-size: 8pt\;'>(25 Contact
  Hours / 2.5 CEUs)</span></span></div>\n<div><span style='color: #000000\;
 '>&nbsp\;<span style='font-size: medium\;'>When attending the full confere
 nce\, each Session is worth 4 Hours/ .4 CEUs for a total of 20 hours for s
 essions A-E. &nbsp\;Convert the 20 contact hours / 2 CEUs from attendance 
 in sessions A-E into the NAC (which is worth 45 contact hours/4.5 CEUs) by
  completing the Praxis. &nbsp\;Students will be assigned a mentor/instruct
 or to advise them during the completion of their project from home if they
  have questions. Students also have the option of registering for tutoring
  to complete their praxis during the event\, at a future event or to get a
 dditional help from home on their praxis.&nbsp\;</span></span></div>\n<div
 >&nbsp\;</div>\n</div>\n<div><span style='color: #000000\;'></span></div>
 \n<div style='padding-left: 30px\;'><span style='color: #000000\;'></span>
 </div>\n<div><span style='color: #000000\;'><span style='color: #993300\;'
 ><strong style='font-family: arial\, helvetica\, sans-serif\; font-size: 1
 6px\;'><a href='http://handprint.niccm.com/products/national-administrator
 s-credential-n-a-c-tutoring.html' title='NAC Tutoring Registration '><span
  style='font-size: 12pt\; color: #993300\;'>Optional Tutoring ($160)</span
 ></a>&nbsp\;&nbsp\;</strong></span><span style='font-family: arial\, helve
 tica\, sans-serif\; font-size: 16px\;'>Students who elect to stay for tuto
 ring will receive a list of materials to bring with them. &nbsp\;The prese
 nter will provide individualized assistance to each tutoring participant i
 n order to help them put together and complete their Praxis. Tutoring allo
 ws students the&nbsp\;<strong>opportunity</strong>&nbsp\;of completing the
 ir test and praxis at the event and&nbsp\;<strong>leave having earned thei
 r certificate</strong>. &nbsp\;Those who wish to participate in tutoring a
 re advised to register for this service at least 3 days prior to the event
  to obtain a list of suggested documentation. Tutoring is usually offered 
 on Saturday and Sunday of each event from approximately 5:15 pm - 8:15 pm.
 </span></span></div>
DTSTART:20221014T170000Z
DTEND:20221016T210000Z
SUMMARY:NAC - Waco 1022
URL:https://niccm.com/70-upcoming-credential-courses/752-nac-orlando-922-2
END:VEVENT
END:VCALENDAR
