BEGIN:VCALENDAR
VERSION:2.0
PRODID:-//https://niccm.com//NONSGML kigkonsult.se iCalcreator 2.23.20//
METHOD:PUBLISH
X-WR-CALNAME:JCal Pro Calendar
X-WR-CALDESC:Your online events calendar
X-WR-TIMEZONE:UTC
BEGIN:VTIMEZONE
TZID:UTC
BEGIN:STANDARD
DTSTART:20260425T023425
TZOFFSETFROM:+0000
TZOFFSETTO:+0000
END:STANDARD
END:VTIMEZONE
BEGIN:VEVENT
UID:20221014T170000UTC-2598CWzADG@https://niccm.com/
DTSTAMP:20260425T023425Z
CATEGORIES:Past NICCM Events
DESCRIPTION:<h1 style='color: #000000\; visibility: visible\; text-align: c
 enter\;'>N.A.C. (National Administrator's Credential)</h1>\n<h2 style='col
 or: #000000\; visibility: visible\; text-align: justify\;'><span style='fo
 nt-size: 18pt\;'>Location/Hotel:</span>&nbsp\;&nbsp\;</h2>\n<p style='marg
 in: 2px 0px\; padding: 0px\; border: 0px\; outline: 0px\; font-size: 12px\
 ; background-color: transparent\; color: #505f69\; font-family: Helvetica\
 , Arial\, FreeSans\, sans-serif\;'><span style='font-family: arial\, helve
 tica\, sans-serif\; font-size: large\;'>Doubletree Deerfield Beach-Boca Ra
 ton</span></p>\n<p style='margin: 2px 0px\; padding: 0px\; border: 0px\; o
 utline: 0px\; font-size: 12px\; background-color: transparent\; color: #50
 5f69\; font-family: Helvetica\, Arial\, FreeSans\, sans-serif\;'><span sty
 le='font-family: arial\, helvetica\, sans-serif\; font-size: large\;'>100 
 Fairway Dr.</span></p>\n<p style='margin: 2px 0px\; padding: 0px\; border:
  0px\; outline: 0px\; font-size: 12px\; background-color: transparent\; co
 lor: #505f69\; font-family: Helvetica\, Arial\, FreeSans\, sans-serif\;'><
 span style='font-family: arial\, helvetica\, sans-serif\; font-size: large
 \;'>Deerfield Beach\, Fl &nbsp\;33441</span></p>\n<p style='margin: 2px 0p
 x\; padding: 0px\; border: 0px\; outline: 0px\; font-size: 12px\; backgrou
 nd-color: transparent\; color: #505f69\; font-family: Helvetica\, Arial\, 
 FreeSans\, sans-serif\;'><span style='font-family: arial\, helvetica\, san
 s-serif\; font-size: large\; color: #000000\;'><a href='https://www.hilton
 .com/en/book/reservation/rooms/?ctyhocn=PBIPGES&amp\;arrivalDate=2022-12-0
 6&amp\;departureDate=2022-12-12&amp\;room1NumAdults=1&amp\;cid=OM%2CWW%2CH
 ILTONLINK%2CEN%2CDirectLink' style='font-size: 14pt\; background-color: in
 herit\; font-family: inherit\; color: #000000\;'>F</a>or Reservations Call
  Christelle <span style='font-family: arial\, helvetica\, sans-serif\; fon
 t-size: large\; color: #000000\;'>(954) 422-1798</span></span></p>\n<h2 st
 yle='color: #000000\; visibility: visible\;'><strong><span style='font-siz
 e: 14pt\;'> &nbsp\; &nbsp\; &nbsp\; &nbsp\; &nbsp\; &nbsp\;</span>&nbsp\;<
 /strong>&nbsp\;</h2>\n<p style='text-align: center\;'><a href='http://hand
 print.niccm.com/products/national-florida-and-texas-director-credential-n-
 a-c.html' title='Registration NAC '><span style='color: #ffffff\;'><span s
 tyle='font-size: 19px\; padding: 3px 10px 4px\; background-color: #7b3b3b\
 ;'><strong>Click Here To Register Online Now!</strong></span></span></a></
 p>\n<p><span style='color: #000000\;'><strong style='font-size: 14pt\;'><s
 pan style='font-size: 18pt\;'>Schedule:</span></strong></span></p>\n<div><
 span style='color: #000000\;'><span style='text-decoration: underline\;'><
 strong><span style='font-size: 14pt\;'>Friday\, October 21st\, 2022</span>
 </strong></span><strong><span style='font-size: 14pt\;'>&nbsp\; &nbsp\;</s
 pan></strong></span></div>\n<div>&nbsp\;</div>\n<div><span style='font-siz
 e: 12pt\; color: #000000\;'><strong>Arrival and Check-In: &nbsp\;</strong>
 4:00pm-4:15pm &nbsp\;</span><span style='color: #000000\;'><span style='co
 lor: #000000\;'>(Students must arrive and check-in at least 45 min before 
 class starts)</span></span></div>\n<div>&nbsp\;</div>\n<div><span style='c
 olor: #000000\;'></span></div>\n<div><span style='font-size: 12pt\; color:
  #000000\;'><strong>Session A: &nbsp\;</strong>5:00pm-9:00pm&nbsp\;<span s
 tyle='font-size: 10.666666984558105px\;'>4</span><span style='font-size: 1
 0.666666984558105px\;'>&nbsp\;Contact Hours / .4 CEUs</span>&nbsp\;<span s
 tyle='font-size: 8pt\;'>(For Sessions taken individually earn up to 5 Cont
 act Hours / .5 CEUs by completing 1 Praxis question)</span></span></div>\n
 <div style='padding-left: 30px\;'><span style='font-size: 12pt\; color: #0
 00000\;'>Unit 1: Fiscal Management&nbsp\;</span></div>\n<div style='paddin
 g-left: 30px\;'><span style='font-size: 12pt\; color: #000000\;'>Unit 2: I
 nsurance for Your Center</span></div>\n<div>&nbsp\;</div>\n<div style='pad
 ding-left: 30px\;'><span style='color: #000000\;'></span></div>\n<div><spa
 n style='color: #000000\;'><span style='text-decoration: underline\;'><str
 ong><span style='font-size: 14pt\;'>Saturday\, October 22nd\, 2022</span><
 /strong></span><span style='font-size: 8pt\;'>&nbsp\; &nbsp\;&nbsp\;</span
 ></span></div>\n<div>&nbsp\;</div>\n<div><span style='color: #000000\;'></
 span></div>\n<div><span style='font-size: 12pt\; color: #000000\;'><strong
 >Session B:</strong>&nbsp\;&nbsp\;8:00am-12:00pm&nbsp\;<span style='font-s
 ize: 10.666666984558105px\;'>4</span><span style='font-size: 10.6666669845
 58105px\;'>&nbsp\;Contact Hours / .4 CEUs&nbsp\;</span><span style='font-s
 ize: 8pt\;'>(For Sessions taken individually earn up to 5 Contact Hours / 
 .5 CEUs by completing 1 Praxis question)</span></span></div>\n<div style='
 padding-left: 30px\;'><span style='font-size: 12pt\; color: #000000\;'>Uni
 t 3: Hiring &amp\; Teacher Orientation</span></div>\n<div style='padding-l
 eft: 30px\;'><span style='font-size: 12pt\; color: #000000\;'>Unit 4: Empl
 oyee Handbooks &amp\; Evals</span></div>\n<div style='padding-left: 30px\;
 '><span style='color: #000000\;'></span></div>\n<div><span style='font-siz
 e: 12pt\; color: #000000\;'><strong>Session C:</strong>&nbsp\;&nbsp\;1:00p
 m-5:00pm &nbsp\;<span style='font-size: 10.666666984558105px\;'>4</span><s
 pan style='font-size: 10.666666984558105px\;'>&nbsp\;Contact Hours / .4 CE
 Us&nbsp\;</span><span style='font-size: 8pt\;'>(For Sessions taken individ
 ually earn up to 5 Contact Hours / .5 CEUs by completing 1 Praxis question
 )</span></span></div>\n<div style='padding-left: 30px\;'><span style='font
 -size: 12pt\; color: #000000\;'>Unit 5: Center Management</span></div>\n<d
 iv style='padding-left: 30px\;'><span style='font-size: 12pt\; color: #000
 000\;'>Unit 6: Child Development - The Essentials</span></div>\n<div>&nbsp
 \;</div>\n<div style='padding-left: 30px\;'><span style='color: #000000\;'
 ></span></div>\n<div><span style='color: #000000\;'><span style='text-deco
 ration: underline\;'><strong><span style='font-size: 14pt\;'>Sunday\, Octo
 ber 23rd\, 2022</span></strong></span><strong><span style='font-size: 14pt
 \;'>&nbsp\; &nbsp\;</span></strong></span></div>\n<div>&nbsp\;</div>\n<div
 ><span style='color: #000000\;'></span></div>\n<div><span style='font-size
 : 12pt\; color: #000000\;'><strong>Session D: &nbsp\;</strong>8:00am-12:00
 pm&nbsp\;<span style='font-size: 10.666666984558105px\;'>4</span><span sty
 le='font-size: 10.666666984558105px\;'>&nbsp\;Contact Hours / .4 CEUs&nbsp
 \;</span><span style='font-size: 8pt\;'>(For Sessions taken individually e
 arn up to 5 Contact Hours / .5 CEUs by completing 1 Praxis question)</span
 ></span></div>\n<div style='padding-left: 30px\;'><span style='font-size: 
 12pt\; color: #000000\;'>Unit 7: Dealing with Difficult Employees</span></
 div>\n<div style='padding-left: 30px\;'><span style='font-size: 12pt\; col
 or: #000000\;'>Unit 8: Administrative Leadership</span></div>\n<div style=
 'padding-left: 30px\;'><span style='color: #000000\;'></span></div>\n<div>
 \n<div><span style='font-size: 12pt\; color: #000000\;'><strong>Session E:
  &nbsp\;</strong>1:00pm-5:00pm&nbsp\;<span style='font-size: 10.6666669845
 58105px\;'>4</span><span style='font-size: 10.666666984558105px\;'>&nbsp\;
 Contact Hours / .4 CEUs&nbsp\;</span><span style='font-size: 8pt\;'>(For S
 essions taken individually earn up to 5 Contact Hours / .5 CEUs by complet
 ing 1 Praxis question)</span></span></div>\n<div style='padding-left: 30px
 \;'><span style='font-size: 12pt\; color: #000000\;'>Unit 9: The New Econo
 my</span></div>\n<div style='padding-left: 30px\;'><span style='font-size:
  12pt\; color: #000000\;'>Unit 10: Train the Trainer</span></div>\n<div>&n
 bsp\;</div>\n<div style='padding-left: 30px\;'><span style='color: #000000
 \;'></span></div>\n<div style='padding-left: 30px\;'><span style='color: #
 000000\;'>&nbsp\;&nbsp\;</span></div>\n</div>\n<div>\n<div><span style='fo
 nt-size: 12pt\; color: #000000\;'><strong>Session F: &nbsp\;Credential Pra
 xis&nbsp\;</strong><span style='font-size: 8pt\;'>(25 Contact Hours / 2.5 
 CEUs)</span></span></div>\n<div><span style='color: #000000\;'>&nbsp\;<spa
 n style='font-size: medium\;'>When attending the full conference\, each Se
 ssion is worth 4 Hours/ .4 CEUs for a total of 20 hours for sessions A-E. 
 &nbsp\;Convert the 20 contact hours / 2 CEUs from attendance in sessions A
 -E into the NAC (which is worth 45 contact hours/4.5 CEUs) by completing t
 he Praxis. &nbsp\;Students will be assigned a mentor/instructor to advise 
 them during the completion of their project from home if they have questio
 ns. Students also have the option of registering for tutoring to complete 
 their praxis during the event\, at a future event or to get additional hel
 p from home on their praxis.&nbsp\;</span></span></div>\n<div>&nbsp\;</div
 >\n</div>\n<div><span style='color: #000000\;'></span></div>\n<div style='
 padding-left: 30px\;'><span style='color: #000000\;'></span></div>\n<div><
 span style='color: #000000\;'><span style='color: #993300\;'><strong style
 ='font-family: arial\, helvetica\, sans-serif\; font-size: 16px\;'><a href
 ='http://handprint.niccm.com/products/national-administrators-credential-n
 -a-c-tutoring.html' title='NAC Tutoring Registration '><span style='font-s
 ize: 12pt\; color: #993300\;'>Optional Tutoring ($160)</span></a>&nbsp\;&n
 bsp\;</strong></span><span style='font-family: arial\, helvetica\, sans-se
 rif\; font-size: 16px\;'>Students who elect to stay for tutoring will rece
 ive a list of materials to bring with them. &nbsp\;The presenter will prov
 ide individualized assistance to each tutoring participant in order to hel
 p them put together and complete their Praxis. Tutoring allows students th
 e&nbsp\;<strong>opportunity</strong>&nbsp\;of completing their test and pr
 axis at the event and&nbsp\;<strong>leave having earned their certificate<
 /strong>. &nbsp\;Those who wish to participate in tutoring are advised to 
 register for this service at least 3 days prior to the event to obtain a l
 ist of suggested documentation. Tutoring is usually offered on Saturday an
 d Sunday of each event from approximately 5:15 pm - 8:15 pm.</span></span>
 </div>
DTSTART:20221021T170000Z
DTEND:20221023T210000Z
SUMMARY:NAC - Deerfield Beach 1022
URL:https://niccm.com/70-upcoming-credential-courses/753-nac-waco-1022-2
END:VEVENT
END:VCALENDAR
