BEGIN:VCALENDAR
VERSION:2.0
PRODID:-//https://niccm.com//NONSGML kigkonsult.se iCalcreator 2.23.20//
METHOD:PUBLISH
X-WR-CALNAME:JCal Pro Calendar
X-WR-CALDESC:Your online events calendar
X-WR-TIMEZONE:UTC
BEGIN:VTIMEZONE
TZID:UTC
BEGIN:STANDARD
DTSTART:20260425T021402
TZOFFSETFROM:+0000
TZOFFSETTO:+0000
END:STANDARD
END:VTIMEZONE
BEGIN:VEVENT
UID:20230120T160000UTC-9309vi6vDu@https://niccm.com/
DTSTAMP:20260425T021402Z
CATEGORIES:Past NICCM Events
DESCRIPTION:<h1 style='color: #000000\; visibility: visible\; text-align: c
 enter\;'>N.A.C. (National Administrator's Credential)</h1>\n<h2 style='col
 or: #000000\; visibility: visible\; text-align: justify\;'><span style='fo
 nt-size: 18pt\;'>Location/Hotel:</span>&nbsp\;&nbsp\;</h2>\n<p style='back
 ground-color: transparent\; margin: 2px 0px\; padding: 0px\; border: 0px\;
  outline: 0px\; font-size: 12px\; color: #505f69\; font-family: Helvetica\
 , Arial\, FreeSans\, sans-serif\;'><span style='margin: 0px\; padding: 0px
 \; border: 0px\; outline: 0px\; background-color: transparent\; color: #00
 0000\; font-family: arial\, helvetica\, sans-serif\; font-size: 14pt\;'>Ha
 mpton Inn &amp\; Suites- Houston/Passadena</span></p>\n<p style='backgroun
 d-color: transparent\; margin: 2px 0px\; padding: 0px\; border: 0px\; outl
 ine: 0px\; font-size: 12px\; color: #505f69\; font-family: Helvetica\, Ari
 al\, FreeSans\, sans-serif\;'><span style='margin: 0px\; padding: 0px\; bo
 rder: 0px\; outline: 0px\; background-color: transparent\; color: #000000\
 ; font-family: arial\, helvetica\, sans-serif\; font-size: 14pt\;'>4741 Ea
 st Sam Houston Parkway South</span></p>\n<p style='background-color: trans
 parent\; margin: 2px 0px\; padding: 0px\; border: 0px\; outline: 0px\; fon
 t-size: 12px\; color: #505f69\; font-family: Helvetica\, Arial\, FreeSans\
 , sans-serif\;'><span style='margin: 0px\; padding: 0px\; border: 0px\; ou
 tline: 0px\; background-color: transparent\; color: #000000\; font-family:
  arial\, helvetica\, sans-serif\; font-size: 14pt\;'>Passadena\, TX &nbsp\
 ;77505</span></p>\n<p style='background-color: transparent\; margin: 2px 0
 px\; padding: 0px\; border: 0px\; outline: 0px\; font-size: 12px\; color: 
 #505f69\; font-family: Helvetica\, Arial\, FreeSans\, sans-serif\;'><span 
 style='margin: 0px\; padding: 0px\; border: 0px\; outline: 0px\; backgroun
 d-color: transparent\; color: #000000\; font-family: arial\, helvetica\, s
 ans-serif\; font-size: 14pt\;'>(281) 998-3300 </span></p>\n<p style='backg
 round-color: transparent\; margin: 2px 0px\; padding: 0px\; border: 0px\; 
 outline: 0px\; font-size: 12px\; color: #505f69\; font-family: Helvetica\,
  Arial\, FreeSans\, sans-serif\;'><span style='margin: 0px\; padding: 0px\
 ; border: 0px\; outline: 0px\; background-color: transparent\; color: #000
 000\; font-family: arial\, helvetica\, sans-serif\; font-size: 14pt\;'>Res
 ervations&nbsp\;<a href='https://www.hilton.com/en/book/reservation/rooms/
 ?ctyhocn=HOUPDHX&amp\;arrivalDate=2023-02-16&amp\;departureDate=2023-02-19
 &amp\;groupCode=CHHNIC&amp\;room1NumAdults=1&amp\;cid=OM%2CWW%2CHILTONLINK
 %2CEN%2CDirectLink'>Hilton.com&nbsp\;</a></span></p>\n<p style='text-align
 : center\;'>&nbsp\;</p>\n<p style='text-align: center\;'><a href='http://h
 andprint.niccm.com/products/national-florida-and-texas-director-credential
 -n-a-c.html' title='Registration NAC '><span style='color: #ffffff\;'><spa
 n style='font-size: 19px\; padding: 3px 10px 4px\; background-color: #7b3b
 3b\;'><strong>Click Here To Register Online Now!</strong></span></span></a
 ></p>\n<p>&nbsp\;</p>\n<p><span style='color: #000000\;'><strong style='fo
 nt-size: 14pt\;'><span style='font-size: 18pt\;'>Schedule:</span></strong>
 </span></p>\n<div><span style='color: #000000\;'><span style='text-decorat
 ion: underline\;'><strong><span style='font-size: 14pt\;'>Friday\, Februar
 y 17th\, 2023</span></strong></span><strong><span style='font-size: 14pt\;
 '>&nbsp\; &nbsp\;</span></strong></span></div>\n<div>&nbsp\;</div>\n<div><
 span style='font-size: 12pt\; color: #000000\;'><strong>Arrival and Check-
 In:&nbsp\; </strong>3:45pm-4:00pm &nbsp\;</span><span style='color: #00000
 0\;'><span style='color: #000000\;'>(Students must arrive and check-in at 
 least 1 hour before class starts)</span></span></div>\n<div>&nbsp\;</div>
 \n<div><span style='color: #000000\;'></span></div>\n<div><span style='fon
 t-size: 12pt\; color: #000000\;'><strong>Session A: &nbsp\;</strong>5:00pm
 -9:00pm&nbsp\;<span style='font-size: 10.666666984558105px\;'>4</span><spa
 n style='font-size: 10.666666984558105px\;'>&nbsp\;Contact Hours / .4 CEUs
 </span>&nbsp\;<span style='font-size: 8pt\;'>(For Sessions taken individua
 lly earn up to 5 Contact Hours / .5 CEUs by completing 1 Praxis question)<
 /span></span></div>\n<div style='padding-left: 30px\;'><span style='font-s
 ize: 12pt\; color: #000000\;'>Unit 1: Fiscal Management&nbsp\;</span></div
 >\n<div style='padding-left: 30px\;'><span style='font-size: 12pt\; color:
  #000000\;'>Unit 2: Insurance for Your Center</span></div>\n<div>&nbsp\;</
 div>\n<div style='padding-left: 30px\;'><span style='color: #000000\;'></s
 pan></div>\n<div><span style='color: #000000\;'><span style='text-decorati
 on: underline\;'><strong><span style='font-size: 14pt\;'>Saturday\, Februa
 ry 18th\, 2023</span></strong></span><span style='font-size: 8pt\;'>&nbsp\
 ; &nbsp\;</span></span></div>\n<div>&nbsp\;</div>\n<div><span style='color
 : #000000\;'></span></div>\n<div><span style='font-size: 12pt\; color: #00
 0000\;'><strong>Session B:</strong>&nbsp\;&nbsp\;8:00am-12:00pm&nbsp\;<spa
 n style='font-size: 10.666666984558105px\;'>4</span><span style='font-size
 : 10.666666984558105px\;'>&nbsp\;Contact Hours / .4 CEUs&nbsp\;</span><spa
 n style='font-size: 8pt\;'>(For Sessions taken individually earn up to 5 C
 ontact Hours / .5 CEUs by completing 1 Praxis question)</span></span></div
 >\n<div style='padding-left: 30px\;'><span style='font-size: 12pt\; color:
  #000000\;'>Unit 3: Hiring &amp\; Teacher Orientation</span></div>\n<div s
 tyle='padding-left: 30px\;'><span style='font-size: 12pt\; color: #000000\
 ;'>Unit 4: Employee Handbooks &amp\; Evals</span></div>\n<div style='paddi
 ng-left: 30px\;'><span style='color: #000000\;'></span></div>\n<div><span 
 style='font-size: 12pt\; color: #000000\;'><strong>Session C:</strong>&nbs
 p\;&nbsp\;1:00pm-5:00pm &nbsp\;<span style='font-size: 10.666666984558105p
 x\;'>4</span><span style='font-size: 10.666666984558105px\;'>&nbsp\;Contac
 t Hours / .4 CEUs&nbsp\;</span><span style='font-size: 8pt\;'>(For Session
 s taken individually earn up to 5 Contact Hours / .5 CEUs by completing 1 
 Praxis question)</span></span></div>\n<div style='padding-left: 30px\;'><s
 pan style='font-size: 12pt\; color: #000000\;'>Unit 5: Center Management</
 span></div>\n<div style='padding-left: 30px\;'><span style='font-size: 12p
 t\; color: #000000\;'>Unit 6: Child Development - The Essentials</span></d
 iv>\n<div>&nbsp\;</div>\n<div style='padding-left: 30px\;'><span style='co
 lor: #000000\;'></span></div>\n<div><span style='color: #000000\;'><span s
 tyle='text-decoration: underline\;'><strong><span style='font-size: 14pt\;
 '>Sunday\, February 19th\, 2023</span></strong></span><strong><span style=
 'font-size: 14pt\;'>&nbsp\; &nbsp\;</span></strong></span></div>\n<div>&nb
 sp\;</div>\n<div><span style='color: #000000\;'></span></div>\n<div><span 
 style='font-size: 12pt\; color: #000000\;'><strong>Session D: &nbsp\;</str
 ong>8:00am-12:00pm&nbsp\;<span style='font-size: 10.666666984558105px\;'>4
 </span><span style='font-size: 10.666666984558105px\;'>&nbsp\;Contact Hour
 s / .4 CEUs&nbsp\;</span><span style='font-size: 8pt\;'>(For Sessions take
 n individually earn up to 5 Contact Hours / .5 CEUs by completing 1 Praxis
  question)</span></span></div>\n<div style='padding-left: 30px\;'><span st
 yle='font-size: 12pt\; color: #000000\;'>Unit 7: Dealing with Difficult Em
 ployees</span></div>\n<div style='padding-left: 30px\;'><span style='font-
 size: 12pt\; color: #000000\;'>Unit 8: Administrative Leadership</span></d
 iv>\n<div style='padding-left: 30px\;'><span style='color: #000000\;'></sp
 an></div>\n<div>\n<div><span style='font-size: 12pt\; color: #000000\;'><s
 trong>Session E: &nbsp\;</strong>1:00pm-5:00pm&nbsp\;<span style='font-siz
 e: 10.666666984558105px\;'>4</span><span style='font-size: 10.666666984558
 105px\;'>&nbsp\;Contact Hours / .4 CEUs&nbsp\;</span><span style='font-siz
 e: 8pt\;'>(For Sessions taken individually earn up to 5 Contact Hours / .5
  CEUs by completing 1 Praxis question)</span></span></div>\n<div style='pa
 dding-left: 30px\;'><span style='font-size: 12pt\; color: #000000\;'>Unit 
 9: The New Economy</span></div>\n<div style='padding-left: 30px\;'><span s
 tyle='font-size: 12pt\; color: #000000\;'>Unit 10: Train the Trainer</span
 ></div>\n<div>&nbsp\;</div>\n<div style='padding-left: 30px\;'><span style
 ='color: #000000\;'></span></div>\n<div style='padding-left: 30px\;'><span
  style='color: #000000\;'>&nbsp\;&nbsp\;</span></div>\n</div>\n<div>\n<div
 ><span style='font-size: 12pt\; color: #000000\;'><strong>Session F: &nbsp
 \;Credential Praxis&nbsp\;</strong><span style='font-size: 8pt\;'>(25 Cont
 act Hours / 2.5 CEUs)</span></span></div>\n<div><span style='color: #00000
 0\;'>&nbsp\;<span style='font-size: medium\;'>When attending the full conf
 erence\, each Session is worth 4 Hours/ .4 CEUs for a total of 20 hours fo
 r sessions A-E. &nbsp\;Convert the 20 contact hours / 2 CEUs from attendan
 ce in sessions A-E into the NAC (which is worth 45 contact hours/4.5 CEUs)
  by completing the Praxis. &nbsp\;Students will be assigned an instructor 
 to advise them during the completion of their project from home if they ha
 ve questions. Students also have the option of registering for tutoring to
  complete their praxis during the event\, at a future event or to get addi
 tional help from home on their praxis.&nbsp\;</span></span></div>\n<div>&n
 bsp\;</div>\n</div>\n<div><span style='color: #000000\;'></span></div>\n<d
 iv style='padding-left: 30px\;'><span style='color: #000000\;'></span></di
 v>\n<div><span style='color: #000000\;'><span style='color: #993300\;'><st
 rong style='font-family: arial\, helvetica\, sans-serif\; font-size: 16px\
 ;'><a href='http://handprint.niccm.com/products/national-administrators-cr
 edential-n-a-c-tutoring.html' title='NAC Tutoring Registration '><span sty
 le='font-size: 12pt\; color: #993300\;'>Optional Tutoring ($160)</span></a
 >&nbsp\;&nbsp\;</strong></span><span style='font-family: arial\, helvetica
 \, sans-serif\; font-size: 16px\;'>Students who elect to stay for tutoring
  will receive a list of materials to bring with them. &nbsp\;The presenter
  will provide individualized assistance to each tutoring participant in or
 der to help them put together and complete their Praxis. Tutoring allows s
 tudents the&nbsp\;<strong>opportunity</strong>&nbsp\;of completing their t
 est and praxis at the event and&nbsp\;<strong>leave having earned their ce
 rtificate</strong>. &nbsp\;Those who wish to participate in tutoring are a
 dvised to register for this service at least 3 days prior to the event to 
 obtain a list of suggested documentation. Tutoring is usually offered on S
 aturday and Sunday of each event from approximately 5:15 pm - 8:15 pm.</sp
 an></span></div>
DTSTART:20230217T160000Z
DTEND:20230219T210000Z
SUMMARY:NAC - Houston 223
URL:https://niccm.com/70-upcoming-credential-courses/785-nac-miami-122
END:VEVENT
END:VCALENDAR
