BEGIN:VCALENDAR
VERSION:2.0
PRODID:-//https://niccm.com//NONSGML kigkonsult.se iCalcreator 2.23.20//
METHOD:PUBLISH
X-WR-CALNAME:JCal Pro Calendar
X-WR-CALDESC:Your online events calendar
X-WR-TIMEZONE:UTC
BEGIN:VTIMEZONE
TZID:UTC
BEGIN:STANDARD
DTSTART:20260425T022002
TZOFFSETFROM:+0000
TZOFFSETTO:+0000
END:STANDARD
END:VTIMEZONE
BEGIN:VEVENT
UID:20230331T160000UTC-4222vem4kn@https://niccm.com/
DTSTAMP:20260425T022002Z
CATEGORIES:Past NICCM Events
DESCRIPTION:<h1 style='color: #000000\; visibility: visible\; text-align: c
 enter\;'>N.A.C. (National Administrator's Credential)</h1>\n<h2 style='col
 or: #000000\; visibility: visible\; text-align: justify\;'><span style='fo
 nt-size: 18pt\;'>Location/Hotel:</span>&nbsp\;&nbsp\;</h2>\n<h2 style='col
 or: #000000\; visibility: visible\; text-align: justify\;'><strong><span s
 tyle='color: #333333\;'><span style='font-family: arial\, helvetica\, sans
 -serif\; font-size: 14pt\;'>Chateau Mar Golf Resort</span></span></strong>
 </h2>\n<h2 style='color: #000000\; visibility: visible\; text-align: justi
 fy\;'><strong><span style='color: #333333\;'><span style='font-family: ari
 al\, helvetica\, sans-serif\; font-size: 14pt\;'>3501 Inverrary Blvd.</spa
 n></span></strong></h2>\n<h2 style='color: #000000\; visibility: visible\;
  text-align: justify\;'><strong><span style='color: #333333\;'><span style
 ='font-family: arial\, helvetica\, sans-serif\; font-size: 14pt\;'>Fort La
 uderdale\, FL&nbsp\; 33319</span></span></strong></h2>\n<h2 style='color: 
 #000000\; visibility: visible\; text-align: justify\;'><strong><span style
 ='color: #333333\;'><span style='font-family: arial\, helvetica\, sans-ser
 if\; font-size: 14pt\;'>(954-516-0049)&nbsp\;</span></span></strong></h2>
 \n<h2 style='color: #000000\; visibility: visible\; text-align: justify\;'
 ><strong><span style='color: #333333\;'><span style='font-family: arial\, 
 helvetica\, sans-serif\; font-size: 14pt\;'>Reservations</span></span></st
 rong><span style='font-family: arial\, helvetica\, sans-serif\; font-size:
  14pt\;'><a href='https://www.hilton.com/en/book/reservation/deeplink/?cty
 hocn=PBIPGES&amp\;groupCode=CESCCM&amp\;arrivaldate=2022-12-06&amp\;depart
 uredate=2022-12-12&amp\;cid=OM\,WW\,HILTONLINK\,EN\,DirectLink&amp\;fromId
 =HILTONLINKDIRECT' style='font-size: 14pt\; background-color: inherit\; fo
 nt-family: inherit\;'><span style='color: #505f69\;'>&nbsp\;&nbsp\;</span>
 </a><a href='https://www.wyndhamhotels.com/trademark/lauderhill-florida/ch
 ateau-mar-golf-resort-trademark-collection/rooms-rates?&amp\;checkInDate=0
 4/19/2023&amp\;checkOutDate=04/24/2023&amp\;groupCode=041923NAT'>Wyndhamho
 tels.com</a></span></h2>\n<p><span style='color: #000000\; font-size: 14pt
 \; font-family: arial\, helvetica\, sans-serif\;'>Resort Fees will NOT be 
 charged at check in.</span></p>\n<p><span style='color: #000000\; font-siz
 e: 14pt\; font-family: arial\, helvetica\, sans-serif\;'>Call for assistan
 ce if there aren't any available reservations on the link.&nbsp\;</span></
 p>\n<p>&nbsp\;</p>\n<p><span style='font-size: 14pt\; background-color: in
 herit\; color: inherit\; font-family: inherit\; caret-color: auto\;'>&nbsp
 \;&nbsp\;</span></p>\n<p>&nbsp\;</p>\n<p style='text-align: center\;'><a h
 ref='http://handprint.niccm.com/products/national-florida-and-texas-direct
 or-credential-n-a-c.html' title='Registration NAC '><span style='color: #f
 fffff\;'><span style='font-size: 19px\; padding: 3px 10px 4px\; background
 -color: #7b3b3b\;'><strong>Click Here To Register Online Now!</strong></sp
 an></span></a></p>\n<p><span style='color: #000000\;'><strong style='font-
 size: 14pt\;'><span style='font-size: 18pt\;'>Schedule:</span></strong></s
 pan></p>\n<div><span style='color: #000000\;'><span style='text-decoration
 : underline\;'><strong><span style='font-size: 14pt\;'>Friday\, April 21st
 \, 2023</span></strong></span><strong><span style='font-size: 14pt\;'>&nbs
 p\; &nbsp\;</span></strong></span></div>\n<div>&nbsp\;</div>\n<div><span s
 tyle='font-size: 12pt\; color: #000000\;'><strong>Arrival and Check-In:&nb
 sp\; </strong>3:45pm-4:00pm &nbsp\;</span><span style='color: #000000\;'><
 span style='color: #000000\;'>(Students must arrive and check-in at least 
 1 hour before class starts)</span></span></div>\n<div>&nbsp\;</div>\n<div>
 <span style='color: #000000\;'></span></div>\n<div><span style='font-size:
  12pt\; color: #000000\;'><strong>Session A: &nbsp\;</strong>5:00pm-9:00pm
 &nbsp\;<span style='font-size: 10.6667px\;'>4</span><span style='font-size
 : 10.6667px\;'>&nbsp\;Contact Hours / .4 CEUs</span>&nbsp\;<span style='fo
 nt-size: 8pt\;'>(For Sessions taken individually earn up to 5 Contact Hour
 s / .5 CEUs by completing 1 Praxis question)</span></span></div>\n<div sty
 le='padding-left: 30px\;'><span style='font-size: 12pt\; color: #000000\;'
 >Unit 1: Fiscal Management&nbsp\;</span></div>\n<div style='padding-left: 
 30px\;'><span style='font-size: 12pt\; color: #000000\;'>Unit 2: Insurance
  for Your Center</span></div>\n<div>&nbsp\;</div>\n<div style='padding-lef
 t: 30px\;'><span style='color: #000000\;'></span></div>\n<div><span style=
 'color: #000000\;'><span style='text-decoration: underline\;'><strong><spa
 n style='font-size: 14pt\;'>Saturday\, April 22nd\, 2023</span></strong></
 span><span style='font-size: 8pt\;'>&nbsp\; &nbsp\;</span></span></div>\n<
 div>&nbsp\;</div>\n<div><span style='color: #000000\;'></span></div>\n<div
 ><span style='font-size: 12pt\; color: #000000\;'><strong>Session B:</stro
 ng>&nbsp\;&nbsp\;8:00am-12:00pm&nbsp\;<span style='font-size: 10.6667px\;'
 >4</span><span style='font-size: 10.6667px\;'>&nbsp\;Contact Hours / .4 CE
 Us&nbsp\;</span><span style='font-size: 8pt\;'>(For Sessions taken individ
 ually earn up to 5 Contact Hours / .5 CEUs by completing 1 Praxis question
 )</span></span></div>\n<div style='padding-left: 30px\;'><span style='font
 -size: 12pt\; color: #000000\;'>Unit 3: Hiring &amp\; Teacher Orientation<
 /span></div>\n<div style='padding-left: 30px\;'><span style='font-size: 12
 pt\; color: #000000\;'>Unit 4: Employee Handbooks &amp\; Evals</span></div
 >\n<div style='padding-left: 30px\;'><span style='color: #000000\;'></span
 ></div>\n<div><span style='font-size: 12pt\; color: #000000\;'><strong>Ses
 sion C:</strong>&nbsp\;&nbsp\;1:00pm-5:00pm &nbsp\;<span style='font-size:
  10.6667px\;'>4</span><span style='font-size: 10.6667px\;'>&nbsp\;Contact 
 Hours / .4 CEUs&nbsp\;</span><span style='font-size: 8pt\;'>(For Sessions 
 taken individually earn up to 5 Contact Hours / .5 CEUs by completing 1 Pr
 axis question)</span></span></div>\n<div style='padding-left: 30px\;'><spa
 n style='font-size: 12pt\; color: #000000\;'>Unit 5: Center Management</sp
 an></div>\n<div style='padding-left: 30px\;'><span style='font-size: 12pt\
 ; color: #000000\;'>Unit 6: Child Development - The Essentials</span></div
 >\n<div>&nbsp\;</div>\n<div style='padding-left: 30px\;'><span style='colo
 r: #000000\;'></span></div>\n<div><span style='color: #000000\;'><span sty
 le='text-decoration: underline\;'><strong><span style='font-size: 14pt\;'>
 Sunday\, April 23rd\, 2023</span></strong></span><strong><span style='font
 -size: 14pt\;'>&nbsp\; &nbsp\;</span></strong></span></div>\n<div>&nbsp\;<
 /div>\n<div><span style='color: #000000\;'></span></div>\n<div><span style
 ='font-size: 12pt\; color: #000000\;'><strong>Session D: &nbsp\;</strong>8
 :00am-12:00pm&nbsp\;<span style='font-size: 10.6667px\;'>4</span><span sty
 le='font-size: 10.6667px\;'>&nbsp\;Contact Hours / .4 CEUs&nbsp\;</span><s
 pan style='font-size: 8pt\;'>(For Sessions taken individually earn up to 5
  Contact Hours / .5 CEUs by completing 1 Praxis question)</span></span></d
 iv>\n<div style='padding-left: 30px\;'><span style='font-size: 12pt\; colo
 r: #000000\;'>Unit 7: Dealing with Difficult Employees</span></div>\n<div 
 style='padding-left: 30px\;'><span style='font-size: 12pt\; color: #000000
 \;'>Unit 8: Administrative Leadership</span></div>\n<div style='padding-le
 ft: 30px\;'><span style='color: #000000\;'></span></div>\n<div>\n<div><spa
 n style='font-size: 12pt\; color: #000000\;'><strong>Session E: &nbsp\;</s
 trong>1:00pm-5:00pm&nbsp\;<span style='font-size: 10.6667px\;'>4</span><sp
 an style='font-size: 10.6667px\;'>&nbsp\;Contact Hours / .4 CEUs&nbsp\;</s
 pan><span style='font-size: 8pt\;'>(For Sessions taken individually earn u
 p to 5 Contact Hours / .5 CEUs by completing 1 Praxis question)</span></sp
 an></div>\n<div style='padding-left: 30px\;'><span style='font-size: 12pt\
 ; color: #000000\;'>Unit 9: The New Economy</span></div>\n<div style='padd
 ing-left: 30px\;'><span style='font-size: 12pt\; color: #000000\;'>Unit 10
 : Train the Trainer</span></div>\n<div>&nbsp\;</div>\n<div style='padding-
 left: 30px\;'><span style='color: #000000\;'></span></div>\n<div style='pa
 dding-left: 30px\;'><span style='color: #000000\;'>&nbsp\;&nbsp\;</span></
 div>\n</div>\n<div>\n<div><span style='color: #000000\; font-family: arial
 \, helvetica\, sans-serif\; font-size: 12pt\;'><strong>Session F: &nbsp\;C
 redential Praxis&nbsp\;</strong>(25 Contact Hours / 2.5 CEUs)</span></div>
 \n<div><span style='color: #000000\; font-family: arial\, helvetica\, sans
 -serif\; font-size: 12pt\;'>When attending the full conference\, each Sess
 ion is worth 4 Hours/ .4 CEUs for a total of 20 hours for sessions A-E. &n
 bsp\;Convert the 20 contact hours / 2 CEUs from attendance in sessions A-E
  into the NAC (which is worth 45 contact hours/4.5 CEUs) by completing the
  Praxis. &nbsp\;Students will be assigned an instructor to advise them dur
 ing the completion of their project from home if they have questions. Stud
 ents also have the option of registering for tutoring to complete their pr
 axis during the event\, at a future event or to get additional help from h
 ome on their praxis.&nbsp\;</span></div>\n<div>&nbsp\;</div>\n</div>\n<div
 ><span style='color: #000000\;'></span></div>\n<div style='padding-left: 3
 0px\;'><span style='color: #000000\;'></span></div>\n<div><span style='col
 or: #000000\;'><span style='color: #993300\;'><strong style='font-family: 
 arial\, helvetica\, sans-serif\; font-size: 16px\;'><a href='http://handpr
 int.niccm.com/products/national-administrators-credential-n-a-c-tutoring.h
 tml' title='NAC Tutoring Registration '><span style='font-size: 12pt\; col
 or: #993300\;'>Optional Tutoring ($160)</span></a>&nbsp\;&nbsp\;</strong><
 /span><span style='font-family: arial\, helvetica\, sans-serif\; font-size
 : 16px\;'>Students who elect to stay for tutoring will receive a list of m
 aterials to bring with them. &nbsp\;The presenter will provide individuali
 zed assistance to each tutoring participant in order to help them put toge
 ther and complete their Praxis. Tutoring allows students the&nbsp\;<strong
 >opportunity</strong>&nbsp\;of completing their test and praxis at the eve
 nt and&nbsp\;<strong>leave having earned their certificate</strong>. &nbsp
 \;Those who wish to participate in tutoring are advised to register for th
 is service at least 3 days prior to the event to obtain a list of suggeste
 d documentation. Tutoring is usually offered on Saturday and Sunday of eac
 h event from approximately 5:15 pm - 8:15 pm.</span></span></div>
DTSTART:20230421T160000Z
DTEND:20230423T210000Z
SUMMARY:NAC - Ft. Lauderdale 423
URL:https://niccm.com/70-upcoming-credential-courses/798-nac-ft-lauderdale-
 423
END:VEVENT
END:VCALENDAR
