BEGIN:VCALENDAR
VERSION:2.0
PRODID:-//https://niccm.com//NONSGML kigkonsult.se iCalcreator 2.23.20//
METHOD:PUBLISH
X-WR-CALNAME:JCal Pro Calendar
X-WR-CALDESC:Your online events calendar
X-WR-TIMEZONE:UTC
BEGIN:VTIMEZONE
TZID:UTC
BEGIN:STANDARD
DTSTART:20260425T132235
TZOFFSETFROM:+0000
TZOFFSETTO:+0000
END:STANDARD
END:VTIMEZONE
BEGIN:VEVENT
UID:20230804T160000UTC-1137dH8voU@https://niccm.com/
DTSTAMP:20260425T132235Z
CATEGORIES:Past NICCM Events
DESCRIPTION:<h1 style='color: #000000\; visibility: visible\; text-align: c
 enter\;'>N.A.C. (National Administrator's Credential)</h1>\n<h2 style='col
 or: #000000\; visibility: visible\; text-align: justify\;'><span style='fo
 nt-size: 18pt\;'>Location changed to Deerfield Beach</span></h2>\n<h2 styl
 e='color: #000000\; visibility: visible\; text-align: justify\;'><span sty
 le='font-size: 18pt\;'>Hotel:</span>&nbsp\;&nbsp\;</h2>\n<p style='backgro
 und-color: transparent\; margin: 2px 0px\; padding: 0px\; border: 0px\; ou
 tline: 0px\; font-size: 12px\; color: #505f69\; font-family: Helvetica\, A
 rial\, FreeSans\, sans-serif\;'><span style='color: #333333\; font-family:
  arial\, helvetica\, sans-serif\; font-size: 14pt\;'>Wyndham Deerfield Bea
 ch Resort</span></p>\n<p><span style='font-size: 14pt\; color: #333333\; f
 ont-family: arial\, helvetica\, sans-serif\;'>2096 N.E. 2nd Street</span><
 /p>\n<p><span style='font-size: 14pt\; color: #333333\; font-family: arial
 \, helvetica\, sans-serif\;'>Deerfield Beach\, FL&nbsp\; 33441</span></p>
 \n<p><span style='font-size: 14pt\; color: #333333\; font-family: arial\, 
 helvetica\, sans-serif\;'>(954) 428-2850</span></p>\n<p><span style='font-
 family: arial\, helvetica\, sans-serif\; font-size: 14pt\;'><span style='c
 olor: #333333\;'>Reservations</span>&nbsp\;<a href='https://www.wyndhamhot
 els.com/wyndham/deerfield-beach-florida/wyndham-deerfield-beach-resort/roo
 ms-rates?&amp\;checkInDate=08/10/2023&amp\;checkOutDate=08/13/2023&amp\;gr
 oupCode=080723nic'>Wyndhamhotels.com</a>&nbsp\;</span></p>\n<p><span style
 ='color: #0000ff\; font-size: 14pt\;'><span style='color: #000000\;'>Call 
 for assistance if there aren't any available reservations on the link.</sp
 an>&nbsp\;</span></p>\n<p>&nbsp\;</p>\n<p style='background-color: transpa
 rent\; margin: 2px 0px\; padding: 0px\; border: 0px\; outline: 0px\; font-
 size: 12px\; color: #505f69\; font-family: Helvetica\, Arial\, FreeSans\, 
 sans-serif\;'><span style='font-size: 14pt\; background-color: inherit\; c
 olor: inherit\; font-family: inherit\; caret-color: auto\;'> &nbsp\;</span
 ></p>\n<p style='text-align: center\;'><a href='http://handprint.niccm.com
 /products/national-florida-and-texas-director-credential-n-a-c.html' title
 ='Registration NAC '><span style='color: #ffffff\;'><span style='font-size
 : 19px\; padding: 3px 10px 4px\; background-color: #7b3b3b\;'><strong>Clic
 k Here To Register Online Now!</strong></span></span></a></p>\n<p>&nbsp\;<
 /p>\n<p><span style='color: #000000\;'><strong style='font-size: 14pt\;'><
 span style='font-size: 18pt\;'>Schedule:</span></strong></span></p>\n<div>
 <span style='color: #000000\;'><span style='text-decoration: underline\;'>
 <strong><span style='font-size: 14pt\;'>Friday\, August 11th 2023</span></
 strong></span><strong><span style='font-size: 14pt\;'>&nbsp\; &nbsp\;</spa
 n></strong></span></div>\n<div>&nbsp\;</div>\n<div><span style='font-size:
  12pt\; color: #000000\;'><strong>Arrival and Check-In:&nbsp\; </strong>3:
 45pm-4:00pm &nbsp\;</span><span style='color: #000000\;'><span style='colo
 r: #000000\;'>(Students must arrive and check-in at least 1 hour before cl
 ass starts)</span></span></div>\n<div>&nbsp\;</div>\n<div><span style='col
 or: #000000\;'></span></div>\n<div><span style='font-size: 12pt\; color: #
 000000\;'><strong>Session A: &nbsp\;</strong>5:00pm-9:00pm&nbsp\;<span sty
 le='font-size: 10.6667px\;'>4</span><span style='font-size: 10.6667px\;'>&
 nbsp\;Contact Hours / .4 CEUs</span>&nbsp\;<span style='font-size: 8pt\;'>
 (For Sessions taken individually earn up to 5 Contact Hours / .5 CEUs by c
 ompleting 1 Praxis question)</span></span></div>\n<div style='padding-left
 : 30px\;'><span style='font-size: 12pt\; color: #000000\;'>Unit 1: Fiscal 
 Management&nbsp\;</span></div>\n<div style='padding-left: 30px\;'><span st
 yle='font-size: 12pt\; color: #000000\;'>Unit 2: Insurance for Your Center
 </span></div>\n<div>&nbsp\;</div>\n<div style='padding-left: 30px\;'><span
  style='color: #000000\;'></span></div>\n<div><span style='color: #000000\
 ;'><span style='text-decoration: underline\;'><strong><span style='font-si
 ze: 14pt\;'>Saturday\, August 12th\, 2023</span></strong></span><span styl
 e='font-size: 8pt\;'>&nbsp\; &nbsp\;</span></span></div>\n<div>&nbsp\;</di
 v>\n<div><span style='color: #000000\;'></span></div>\n<div><span style='f
 ont-size: 12pt\; color: #000000\;'><strong>Session B:</strong>&nbsp\;&nbsp
 \;8:00am-12:00pm&nbsp\;<span style='font-size: 10.6667px\;'>4</span><span 
 style='font-size: 10.6667px\;'>&nbsp\;Contact Hours / .4 CEUs&nbsp\;</span
 ><span style='font-size: 8pt\;'>(For Sessions taken individually earn up t
 o 5 Contact Hours / .5 CEUs by completing 1 Praxis question)</span></span>
 </div>\n<div style='padding-left: 30px\;'><span style='font-size: 12pt\; c
 olor: #000000\;'>Unit 3: Hiring &amp\; Teacher Orientation</span></div>\n<
 div style='padding-left: 30px\;'><span style='font-size: 12pt\; color: #00
 0000\;'>Unit 4: Employee Handbooks &amp\; Evals</span></div>\n<div style='
 padding-left: 30px\;'><span style='color: #000000\;'></span></div>\n<div><
 span style='font-size: 12pt\; color: #000000\;'><strong>Session C:</strong
 >&nbsp\;&nbsp\;1:00pm-5:00pm &nbsp\;<span style='font-size: 10.6667px\;'>4
 </span><span style='font-size: 10.6667px\;'>&nbsp\;Contact Hours / .4 CEUs
 &nbsp\;</span><span style='font-size: 8pt\;'>(For Sessions taken individua
 lly earn up to 5 Contact Hours / .5 CEUs by completing 1 Praxis question)<
 /span></span></div>\n<div style='padding-left: 30px\;'><span style='font-s
 ize: 12pt\; color: #000000\;'>Unit 5: Center Management</span></div>\n<div
  style='padding-left: 30px\;'><span style='font-size: 12pt\; color: #00000
 0\;'>Unit 6: Child Development - The Essentials</span></div>\n<div>&nbsp\;
 </div>\n<div style='padding-left: 30px\;'><span style='color: #000000\;'><
 /span></div>\n<div><span style='color: #000000\;'><span style='text-decora
 tion: underline\;'><strong><span style='font-size: 14pt\;'>Sunday\, August
  13th\, 2023</span></strong></span><strong><span style='font-size: 14pt\;'
 >&nbsp\; &nbsp\;</span></strong></span></div>\n<div>&nbsp\;</div>\n<div><s
 pan style='color: #000000\;'></span></div>\n<div><span style='font-size: 1
 2pt\; color: #000000\;'><strong>Session D: &nbsp\;</strong>8:00am-12:00pm&
 nbsp\;<span style='font-size: 10.6667px\;'>4</span><span style='font-size:
  10.6667px\;'>&nbsp\;Contact Hours / .4 CEUs&nbsp\;</span><span style='fon
 t-size: 8pt\;'>(For Sessions taken individually earn up to 5 Contact Hours
  / .5 CEUs by completing 1 Praxis question)</span></span></div>\n<div styl
 e='padding-left: 30px\;'><span style='font-size: 12pt\; color: #000000\;'>
 Unit 7: Dealing with Difficult Employees</span></div>\n<div style='padding
 -left: 30px\;'><span style='font-size: 12pt\; color: #000000\;'>Unit 8: Ad
 ministrative Leadership</span></div>\n<div style='padding-left: 30px\;'><s
 pan style='color: #000000\;'></span></div>\n<div>\n<div><span style='font-
 size: 12pt\; color: #000000\;'><strong>Session E: &nbsp\;</strong>1:00pm-5
 :00pm&nbsp\;<span style='font-size: 10.6667px\;'>4</span><span style='font
 -size: 10.6667px\;'>&nbsp\;Contact Hours / .4 CEUs&nbsp\;</span><span styl
 e='font-size: 8pt\;'>(For Sessions taken individually earn up to 5 Contact
  Hours / .5 CEUs by completing 1 Praxis question)</span></span></div>\n<di
 v style='padding-left: 30px\;'><span style='font-size: 12pt\; color: #0000
 00\;'>Unit 9: The New Economy</span></div>\n<div style='padding-left: 30px
 \;'><span style='font-size: 12pt\; color: #000000\;'>Unit 10: Train the Tr
 ainer</span></div>\n<div>&nbsp\;</div>\n<div style='padding-left: 30px\;'>
 <span style='color: #000000\;'></span></div>\n<div style='padding-left: 30
 px\;'><span style='color: #000000\;'>&nbsp\;&nbsp\;</span></div>\n</div>\n
 <div>\n<div>\n<div><span style='color: #000000\; font-family: arial\, helv
 etica\, sans-serif\; font-size: 12pt\;'><strong>Session F: &nbsp\;Credenti
 al Praxis&nbsp\;</strong>(25 Contact Hours / 2.5 CEUs)</span></div>\n<div>
 <span style='color: #000000\; font-family: arial\, helvetica\, sans-serif\
 ; font-size: 12pt\;'>When attending the full conference\, each Session is 
 worth 4 Hours/ .4 CEUs for a total of 20 hours for sessions A-E. &nbsp\;Co
 nvert the 20 contact hours / 2 CEUs from attendance in sessions A-E into t
 he NAC (which is worth 45 contact hours/4.5 CEUs) by completing the Praxis
 . &nbsp\;Students will be assigned an instructor to advise them during the
  completion of their project from home if they have questions. Students al
 so have the option of registering for tutoring to complete their praxis du
 ring the event\, at a future event or to get additional help from home on 
 their praxis.&nbsp\;</span></div>\n</div>\n<div>&nbsp\;</div>\n</div>\n<di
 v><span style='color: #000000\;'></span></div>\n<div style='padding-left: 
 30px\;'><span style='color: #000000\;'></span></div>\n<div><span style='co
 lor: #000000\;'><span style='color: #993300\;'><strong style='font-family:
  arial\, helvetica\, sans-serif\; font-size: 16px\;'><a href='http://handp
 rint.niccm.com/products/national-administrators-credential-n-a-c-tutoring.
 html' title='NAC Tutoring Registration '><span style='font-size: 12pt\; co
 lor: #993300\;'>Optional Tutoring ($160)</span></a>&nbsp\;&nbsp\;</strong>
 </span><span style='font-family: arial\, helvetica\, sans-serif\; font-siz
 e: 16px\;'>Students who elect to stay for tutoring will receive a list of 
 materials to bring with them. &nbsp\;The presenter will provide individual
 ized assistance to each tutoring participant in order to help them put tog
 ether and complete their Praxis. Tutoring allows students the&nbsp\;<stron
 g>opportunity</strong>&nbsp\;of completing their test and praxis at the ev
 ent and&nbsp\;<strong>leave having earned their certificate</strong>. &nbs
 p\;Those who wish to participate in tutoring are advised to register for t
 his service at least 3 days prior to the event to obtain a list of suggest
 ed documentation. Tutoring is usually offered on Saturday and Sunday of ea
 ch event from approximately 5:15 pm - 8:15 pm.</span></span></div>
DTSTART:20230811T160000Z
DTEND:20230813T210000Z
SUMMARY:NAC - Fort Lauderdale LOCATION CHANGED to Deerfield Beach  823
URL:https://niccm.com/70-upcoming-credential-courses/826-nac-ft-lauderdale-
 823
END:VEVENT
END:VCALENDAR
