BEGIN:VCALENDAR
VERSION:2.0
PRODID:-//https://niccm.com//NONSGML kigkonsult.se iCalcreator 2.23.20//
METHOD:PUBLISH
X-WR-CALNAME:JCal Pro Calendar
X-WR-CALDESC:Your online events calendar
X-WR-TIMEZONE:UTC
BEGIN:VTIMEZONE
TZID:UTC
BEGIN:STANDARD
DTSTART:20260425T021403
TZOFFSETFROM:+0000
TZOFFSETTO:+0000
END:STANDARD
END:VTIMEZONE
BEGIN:VEVENT
UID:20240126T160000UTC-1686wWmaZ9@https://niccm.com/
DTSTAMP:20260425T021403Z
CATEGORIES:Past NICCM Events
DESCRIPTION:<h1 style='color: #000000\; visibility: visible\; text-align: c
 enter\;'>N.A.C. (National Administrator's Credential)</h1>\n<h2 style='col
 or: #000000\; visibility: visible\; text-align: justify\;'><span style='fo
 nt-size: 18pt\;'>Location/Hotel:</span>&nbsp\;&nbsp\;</h2>\n<p style='back
 ground-color: transparent\; margin: 2px 0px\; padding: 0px\; border: 0px\;
  outline: 0px\; font-size: 12px\; color: #505f69\; font-family: Helvetica\
 , Arial\, FreeSans\, sans-serif\;'>&nbsp\;</p>\n<p style='background-color
 : transparent\; margin: 2px 0px\; padding: 0px\; border: 0px\; outline: 0p
 x\; font-size: 12px\; color: #505f69\; font-family: Helvetica\, Arial\, Fr
 eeSans\, sans-serif\;'><span style='color: #000000\; font-family: arial\, 
 helvetica\, sans-serif\; font-size: 14pt\;'>Hampton Inn &amp\; Suites</spa
 n></p>\n<p><span style='color: #000000\; font-family: arial\, helvetica\, 
 sans-serif\; font-size: 14pt\;'>4741 East Sam Houston Parkway South</span>
 </p>\n<p><span style='color: #000000\; font-family: arial\, helvetica\, sa
 ns-serif\; font-size: 14pt\;'>Pasadena\, TX&nbsp\; 77505</span></p>\n<p><s
 pan style='color: #000000\; font-family: arial\, helvetica\, sans-serif\; 
 font-size: 14pt\;'>(281) 998- 3300</span></p>\n<p><span style='font-size: 
 14pt\; font-family: arial\, helvetica\, sans-serif\; color: #000000\;'>Res
 ervations</span>&nbsp\;<span style='font-size: 14pt\;'><a href='https://ww
 w.hilton.com/en/hotels/houpdhx-hampton-suites-houston-pasadena/'>Hilton.co
 m</a>&nbsp\;</span></p>\n<p><span style='color: #0000ff\; font-size: 14pt\
 ;'><span style='color: #000000\;'>Call for assistance if there aren't any 
 available reservations on the link.</span>&nbsp\;</span></p>\n<p>&nbsp\;</
 p>\n<p>&nbsp\;</p>\n<p style='text-align: center\;'><a href='http://handpr
 int.niccm.com/products/national-florida-and-texas-director-credential-n-a-
 c.html' title='Registration NAC '><span style='color: #ffffff\;'><span sty
 le='font-size: 19px\; padding: 3px 10px 4px\; background-color: #7b3b3b\;'
 ><strong>Click Here To Register Online Now!</strong></span></span></a></p>
 \n<p>&nbsp\;</p>\n<p>&nbsp\;</p>\n<p><span style='color: #000000\;'><stron
 g style='font-size: 14pt\;'><span style='font-size: 18pt\;'>Schedule:</spa
 n></strong></span></p>\n<div>&nbsp\;</div>\n<div><span style='color: #0000
 00\;'><span style='text-decoration: underline\;'><strong><span style='font
 -size: 14pt\;'>Friday\, September 6th\, 2024</span></strong></span><strong
 ><span style='font-size: 14pt\;'>&nbsp\; &nbsp\;</span></strong></span></d
 iv>\n<div>&nbsp\;</div>\n<div><span style='font-size: 12pt\; color: #00000
 0\;'><strong>Arrival and Check-In:&nbsp\; </strong>3:45pm-4:00pm &nbsp\;</
 span><span style='color: #000000\;'><span style='color: #000000\;'>(Studen
 ts must arrive and check-in at least 1 hour before class starts)</span></s
 pan></div>\n<div>&nbsp\;</div>\n<div><span style='color: #000000\;'></span
 ></div>\n<div><span style='font-size: 12pt\; color: #000000\;'><strong>Ses
 sion A: &nbsp\;</strong>5:00pm-9:00pm&nbsp\;<span style='font-size: 10.666
 7px\;'>4</span><span style='font-size: 10.6667px\;'>&nbsp\;Contact Hours /
  .4 CEUs</span>&nbsp\;<span style='font-size: 8pt\;'>(For Sessions taken i
 ndividually earn up to 5 Contact Hours / .5 CEUs by completing 1 Praxis qu
 estion)</span></span></div>\n<div style='padding-left: 30px\;'><span style
 ='font-size: 12pt\; color: #000000\;'>Unit 1: Fiscal Management&nbsp\;</sp
 an></div>\n<div style='padding-left: 30px\;'><span style='font-size: 12pt\
 ; color: #000000\;'>Unit 2: Insurance for Your Center</span></div>\n<div>&
 nbsp\;</div>\n<div style='padding-left: 30px\;'><span style='color: #00000
 0\;'></span></div>\n<div><span style='color: #000000\;'><span style='text-
 decoration: underline\;'><strong><span style='font-size: 14pt\;'>Saturday\
 , September 7th\, 2024</span></strong></span><span style='font-size: 8pt\;
 '>&nbsp\;&nbsp\;</span></span></div>\n<div>&nbsp\;</div>\n<div><span style
 ='color: #000000\;'></span></div>\n<div><span style='font-size: 12pt\; col
 or: #000000\;'><strong>Session B:</strong>&nbsp\;&nbsp\;8:00am-12:00pm&nbs
 p\;<span style='font-size: 10.6667px\;'>4</span><span style='font-size: 10
 .6667px\;'>&nbsp\;Contact Hours / .4 CEUs&nbsp\;</span><span style='font-s
 ize: 8pt\;'>(For Sessions taken individually earn up to 5 Contact Hours / 
 .5 CEUs by completing 1 Praxis question)</span></span></div>\n<div style='
 padding-left: 30px\;'><span style='font-size: 12pt\; color: #000000\;'>Uni
 t 3: Hiring &amp\; Teacher Orientation</span></div>\n<div style='padding-l
 eft: 30px\;'><span style='font-size: 12pt\; color: #000000\;'>Unit 4: Empl
 oyee Handbooks &amp\; Evals</span></div>\n<div style='padding-left: 30px\;
 '><span style='color: #000000\;'></span></div>\n<div><span style='font-siz
 e: 12pt\; color: #000000\;'><strong>Session C:</strong>&nbsp\;&nbsp\;1:00p
 m-5:00pm &nbsp\;<span style='font-size: 10.6667px\;'>4</span><span style='
 font-size: 10.6667px\;'>&nbsp\;Contact Hours / .4 CEUs&nbsp\;</span><span 
 style='font-size: 8pt\;'>(For Sessions taken individually earn up to 5 Con
 tact Hours / .5 CEUs by completing 1 Praxis question)</span></span></div>
 \n<div style='padding-left: 30px\;'><span style='font-size: 12pt\; color: 
 #000000\;'>Unit 5: Center Management</span></div>\n<div style='padding-lef
 t: 30px\;'><span style='font-size: 12pt\; color: #000000\;'>Unit 6: Child 
 Development - The Essentials</span></div>\n<div>&nbsp\;</div>\n<div style=
 'padding-left: 30px\;'><span style='color: #000000\;'></span></div>\n<div>
 <span style='color: #000000\;'><span style='text-decoration: underline\;'>
 <strong><span style='font-size: 14pt\;'>Sunday\, September 8th\, 2024</spa
 n></strong></span><strong><span style='font-size: 14pt\;'>&nbsp\; &nbsp\;<
 /span></strong></span></div>\n<div>&nbsp\;</div>\n<div><span style='color:
  #000000\;'></span></div>\n<div><span style='font-size: 12pt\; color: #000
 000\;'><strong>Session D: &nbsp\;</strong>8:00am-12:00pm&nbsp\;<span style
 ='font-size: 10.6667px\;'>4</span><span style='font-size: 10.6667px\;'>&nb
 sp\;Contact Hours / .4 CEUs&nbsp\;</span><span style='font-size: 8pt\;'>(F
 or Sessions taken individually earn up to 5 Contact Hours / .5 CEUs by com
 pleting 1 Praxis question)</span></span></div>\n<div style='padding-left: 
 30px\;'><span style='font-size: 12pt\; color: #000000\;'>Unit 7: Dealing w
 ith Difficult Employees</span></div>\n<div style='padding-left: 30px\;'><s
 pan style='font-size: 12pt\; color: #000000\;'>Unit 8: Administrative Lead
 ership</span></div>\n<div style='padding-left: 30px\;'><span style='color:
  #000000\;'></span></div>\n<div>\n<div><span style='font-size: 12pt\; colo
 r: #000000\;'><strong>Session E: &nbsp\;</strong>1:00pm-5:00pm&nbsp\;<span
  style='font-size: 10.6667px\;'>4</span><span style='font-size: 10.6667px\
 ;'>&nbsp\;Contact Hours / .4 CEUs&nbsp\;</span><span style='font-size: 8pt
 \;'>(For Sessions taken individually earn up to 5 Contact Hours / .5 CEUs 
 by completing 1 Praxis question)</span></span></div>\n<div style='padding-
 left: 30px\;'><span style='font-size: 12pt\; color: #000000\;'>Unit 9: The
  New Economy</span></div>\n<div style='padding-left: 30px\;'><span style='
 font-size: 12pt\; color: #000000\;'>Unit 10: Train the Trainer</span></div
 >\n<div>&nbsp\;</div>\n<div style='padding-left: 30px\;'><span style='colo
 r: #000000\;'></span></div>\n<div style='padding-left: 30px\;'><span style
 ='color: #000000\;'>&nbsp\;&nbsp\;</span></div>\n</div>\n<div>\n<div>\n<di
 v><span style='font-size: 12pt\; color: #000000\;'><strong><span style='fo
 nt-family: arial\, helvetica\, sans-serif\; font-size: 14pt\;'>Session F: 
 &nbsp\;Credential Praxis</span>&nbsp\;</strong><span style='font-size: 8pt
 \;'>(25 Contact Hours / 2.5 CEUs)</span></span></div>\n<div><span style='c
 olor: #000000\; font-family: arial\, helvetica\, sans-serif\; font-size: 1
 4pt\;'>When attending the full conference\, each Session is worth 4 Hours/
  .4 CEUs for a total of 20 hours for sessions A-E. &nbsp\;Convert the 20 c
 ontact hours / 2 CEUs from attendance in sessions A-E into the NAC (which 
 is worth 45 contact hours/4.5 CEUs) by completing the Praxis. Students wil
 l be assigned an instructor to advise them during the completion of their 
 project from home if they have questions. Students also have the option of
  registering for tutoring to complete their praxis during the event\, at a
  future event or to get additional help from home on their praxis.&nbsp\;<
 /span></div>\n<div>&nbsp\;</div>\n</div>\n<div>&nbsp\;</div>\n<div><span s
 tyle='color: #000000\; font-family: arial\, helvetica\, sans-serif\;'><spa
 n style='color: #993300\;'><strong style='font-family: arial\, helvetica\,
  sans-serif\; font-size: 16px\;'><a href='http://handprint.niccm.com/produ
 cts/national-administrators-credential-n-a-c-tutoring.html' title='NAC Tut
 oring Registration'><span style='color: #993300\;'>Optional Tutoring $170 
 - includes tutoring binder</span></a></strong></span></span><span style='c
 olor: #000000\; font-family: arial\, helvetica\, sans-serif\; font-size: 1
 4pt\;'><strong style='font-family: arial\, helvetica\, sans-serif\; font-s
 ize: 16px\;'>&nbsp\;&nbsp\;</strong>Students who elect to stay for tutorin
 g will receive a list of documentation to bring with them. The presenter w
 ill provide individualized assistance to each tutoring participant in orde
 r to help them put together and complete their Praxis. Tutoring allows stu
 dents the&nbsp\;<strong>opportunity</strong>&nbsp\;of completing their tes
 t and praxis at the event and&nbsp\;<strong>leave having earned their cert
 ificate</strong>. Those who wish to participate in tutoring are advised to
  register for this service at least 3 days before the event in order to ar
 rive prepared for tutoring. Tutoring is usually offered on Saturday and Su
 nday of each event from approximately 5:15 pm - 8:15 pm.</span></div>\n</d
 iv>
DTSTART:20240906T160000Z
DTEND:20240908T170000Z
SUMMARY:NAC - Houston 924  
URL:https://niccm.com/70-upcoming-credential-courses/848-nac-houston-224
END:VEVENT
END:VCALENDAR
