BEGIN:VCALENDAR
VERSION:2.0
PRODID:-//https://niccm.com//NONSGML kigkonsult.se iCalcreator 2.23.20//
METHOD:PUBLISH
X-WR-CALNAME:JCal Pro Calendar
X-WR-CALDESC:Your online events calendar
X-WR-TIMEZONE:UTC
BEGIN:VTIMEZONE
TZID:UTC
BEGIN:STANDARD
DTSTART:20260425T104249
TZOFFSETFROM:+0000
TZOFFSETTO:+0000
END:STANDARD
END:VTIMEZONE
BEGIN:VEVENT
UID:20240322T160000UTC-2026c8gOcb@https://niccm.com/
DTSTAMP:20260425T104249Z
CATEGORIES:Past NICCM Events
DESCRIPTION:<h1 style='color: #000000\; visibility: visible\; text-align: c
 enter\;'>N.A.C. (National Administrator's Credential)</h1>\n<h2 style='col
 or: #000000\; visibility: visible\; text-align: justify\;'><span style='fo
 nt-size: 18pt\;'>Location/Hotel:</span>&nbsp\;&nbsp\;</h2>\n<p style='back
 ground-color: transparent\; margin: 2px 0px\; padding: 0px\; border: 0px\;
  outline: 0px\; font-size: 12px\; color: #505f69\; font-family: Helvetica\
 , Arial\, FreeSans\, sans-serif\;'>&nbsp\;</p>\n<p style='background-color
 : transparent\; margin: 2px 0px\; padding: 0px\; border: 0px\; outline: 0p
 x\; font-size: 12px\; color: #505f69\; font-family: Helvetica\, Arial\, Fr
 eeSans\, sans-serif\;'><span style='font-family: arial\, helvetica\, sans-
 serif\; font-size: 14pt\; color: #000000\;'>Hilton Garden Inn - Lake Buena
  Vista&nbsp\;</span></p>\n<p><span style='color: #000000\; font-family: ar
 ial\, helvetica\, sans-serif\; font-size: 14pt\;'>11400 Marabella Palm Cou
 rt</span></p>\n<p><span style='color: #000000\; font-family: arial\, helve
 tica\, sans-serif\; font-size: 14pt\;'>Orlando\, FL &nbsp\;32836</span></p
 >\n<p><span style='color: #000000\; font-family: arial\, helvetica\, sans-
 serif\; font-size: 14pt\;'>(407) 239- 9550</span></p>\n<p><span style='fon
 t-size: 14pt\; font-family: arial\, helvetica\, sans-serif\; color: #00000
 0\;'>Reservations</span>&nbsp\;<span style='font-size: 14pt\;'><a href='ht
 tps://www.hilton.com/en/book/reservation/deeplink/?ctyhocn=MCOBVGI&amp\;gr
 oupCode=NIC3&amp\;arrivaldate=2024-05-21&amp\;departuredate=2024-05-27&amp
 \;cid=OM\,WW\,HILTONLINK\,EN\,DirectLink&amp\;fromId=HILTONLINKDIRECT'>Hil
 ton.com</a>&nbsp\;</span></p>\n<p><span style='color: #0000ff\; font-size:
  14pt\;'><span style='color: #000000\;'>Call for assistance if there aren'
 t any available reservations on the link.</span>&nbsp\;</span></p>\n<p>&nb
 sp\;</p>\n<p>&nbsp\;</p>\n<p style='text-align: center\;'><a href='http://
 handprint.niccm.com/products/national-florida-and-texas-director-credentia
 l-n-a-c.html' title='Registration NAC '><span style='color: #ffffff\;'><sp
 an style='font-size: 19px\; padding: 3px 10px 4px\; background-color: #7b3
 b3b\;'><strong>Click Here To Register Online Now!</strong></span></span></
 a></p>\n<p>&nbsp\;</p>\n<p>&nbsp\;</p>\n<p><span style='color: #000000\;'>
 <strong style='font-size: 14pt\;'><span style='font-size: 18pt\;'>Schedule
 :</span></strong></span></p>\n<div>&nbsp\;</div>\n<div><span style='color:
  #000000\;'><span style='text-decoration: underline\;'><strong><span style
 ='font-size: 14pt\;'>Friday\, May 24th\, 2024</span></strong></span><stron
 g><span style='font-size: 14pt\;'>&nbsp\; &nbsp\;</span></strong></span></
 div>\n<div>&nbsp\;</div>\n<div><span style='font-size: 12pt\; color: #0000
 00\;'><strong>Arrival and Check-In:&nbsp\; </strong>3:45pm-4:00pm &nbsp\;<
 /span><span style='color: #000000\;'><span style='color: #000000\;'>(Stude
 nts must arrive and check-in at least 1 hour before class starts)</span></
 span></div>\n<div>&nbsp\;</div>\n<div><span style='color: #000000\;'></spa
 n></div>\n<div><span style='font-size: 12pt\; color: #000000\;'><strong>Se
 ssion A: &nbsp\;</strong>5:00pm-9:00pm&nbsp\;<span style='font-size: 10.66
 67px\;'>4</span><span style='font-size: 10.6667px\;'>&nbsp\;Contact Hours 
 / .4 CEUs</span>&nbsp\;<span style='font-size: 8pt\;'>(For Sessions taken 
 individually earn up to 5 Contact Hours / .5 CEUs by completing 1 Praxis q
 uestion)</span></span></div>\n<div style='padding-left: 30px\;'><span styl
 e='font-size: 12pt\; color: #000000\;'>Unit 1: Fiscal Management&nbsp\;</s
 pan></div>\n<div style='padding-left: 30px\;'><span style='font-size: 12pt
 \; color: #000000\;'>Unit 2: Insurance for Your Center</span></div>\n<div>
 &nbsp\;</div>\n<div style='padding-left: 30px\;'><span style='color: #0000
 00\;'></span></div>\n<div><span style='color: #000000\;'><span style='text
 -decoration: underline\;'><strong><span style='font-size: 14pt\;'>Saturday
 \, May 25th\, 2024</span></strong></span><span style='font-size: 8pt\;'>&n
 bsp\;&nbsp\;</span></span></div>\n<div>&nbsp\;</div>\n<div><span style='co
 lor: #000000\;'></span></div>\n<div><span style='font-size: 12pt\; color: 
 #000000\;'><strong>Session B:</strong>&nbsp\;&nbsp\;8:00am-12:00pm&nbsp\;<
 span style='font-size: 10.6667px\;'>4</span><span style='font-size: 10.666
 7px\;'>&nbsp\;Contact Hours / .4 CEUs&nbsp\;</span><span style='font-size:
  8pt\;'>(For Sessions taken individually earn up to 5 Contact Hours / .5 C
 EUs by completing 1 Praxis question)</span></span></div>\n<div style='padd
 ing-left: 30px\;'><span style='font-size: 12pt\; color: #000000\;'>Unit 3:
  Hiring &amp\; Teacher Orientation</span></div>\n<div style='padding-left:
  30px\;'><span style='font-size: 12pt\; color: #000000\;'>Unit 4: Employee
  Handbooks &amp\; Evals</span></div>\n<div style='padding-left: 30px\;'><s
 pan style='color: #000000\;'></span></div>\n<div><span style='font-size: 1
 2pt\; color: #000000\;'><strong>Session C:</strong>&nbsp\;&nbsp\;1:00pm-5:
 00pm &nbsp\;<span style='font-size: 10.6667px\;'>4</span><span style='font
 -size: 10.6667px\;'>&nbsp\;Contact Hours / .4 CEUs&nbsp\;</span><span styl
 e='font-size: 8pt\;'>(For Sessions taken individually earn up to 5 Contact
  Hours / .5 CEUs by completing 1 Praxis question)</span></span></div>\n<di
 v style='padding-left: 30px\;'><span style='font-size: 12pt\; color: #0000
 00\;'>Unit 5: Center Management</span></div>\n<div style='padding-left: 30
 px\;'><span style='font-size: 12pt\; color: #000000\;'>Unit 6: Child Devel
 opment - The Essentials</span></div>\n<div>&nbsp\;</div>\n<div style='padd
 ing-left: 30px\;'><span style='color: #000000\;'></span></div>\n<div><span
  style='color: #000000\;'><span style='text-decoration: underline\;'><stro
 ng><span style='font-size: 14pt\;'>Sunday\, May 26th\, 2024</span></strong
 ></span><strong><span style='font-size: 14pt\;'>&nbsp\; &nbsp\;</span></st
 rong></span></div>\n<div>&nbsp\;</div>\n<div><span style='color: #000000\;
 '></span></div>\n<div><span style='font-size: 12pt\; color: #000000\;'><st
 rong>Session D: &nbsp\;</strong>8:00am-12:00pm&nbsp\;<span style='font-siz
 e: 10.6667px\;'>4</span><span style='font-size: 10.6667px\;'>&nbsp\;Contac
 t Hours / .4 CEUs&nbsp\;</span><span style='font-size: 8pt\;'>(For Session
 s taken individually earn up to 5 Contact Hours / .5 CEUs by completing 1 
 Praxis question)</span></span></div>\n<div style='padding-left: 30px\;'><s
 pan style='font-size: 12pt\; color: #000000\;'>Unit 7: Dealing with Diffic
 ult Employees</span></div>\n<div style='padding-left: 30px\;'><span style=
 'font-size: 12pt\; color: #000000\;'>Unit 8: Administrative Leadership</sp
 an></div>\n<div style='padding-left: 30px\;'><span style='color: #000000\;
 '></span></div>\n<div>\n<div><span style='font-size: 12pt\; color: #000000
 \;'><strong>Session E: &nbsp\;</strong>1:00pm-5:00pm&nbsp\;<span style='fo
 nt-size: 10.6667px\;'>4</span><span style='font-size: 10.6667px\;'>&nbsp\;
 Contact Hours / .4 CEUs&nbsp\;</span><span style='font-size: 8pt\;'>(For S
 essions taken individually earn up to 5 Contact Hours / .5 CEUs by complet
 ing 1 Praxis question)</span></span></div>\n<div style='padding-left: 30px
 \;'><span style='font-size: 12pt\; color: #000000\;'>Unit 9: The New Econo
 my</span></div>\n<div style='padding-left: 30px\;'><span style='font-size:
  12pt\; color: #000000\;'>Unit 10: Train the Trainer</span></div>\n<div>&n
 bsp\;</div>\n<div style='padding-left: 30px\;'><span style='color: #000000
 \;'></span></div>\n<div style='padding-left: 30px\;'><span style='color: #
 000000\;'>&nbsp\;&nbsp\;</span></div>\n</div>\n<div>\n<div>\n<div><span st
 yle='font-size: 12pt\; color: #000000\;'><strong><span style='font-family:
  arial\, helvetica\, sans-serif\; font-size: 14pt\;'>Session F: &nbsp\;Cre
 dential Praxis</span>&nbsp\;</strong><span style='font-size: 8pt\;'>(25 Co
 ntact Hours / 2.5 CEUs)</span></span></div>\n<div><span style='color: #000
 000\; font-family: arial\, helvetica\, sans-serif\; font-size: 14pt\;'>Whe
 n attending the full conference\, each Session is worth 4 Hours/ .4 CEUs f
 or a total of 20 hours for sessions A-E. &nbsp\;Convert the 20 contact hou
 rs / 2 CEUs from attendance in sessions A-E into the NAC (which is worth 4
 5 contact hours/4.5 CEUs) by completing the Praxis. Students will be assig
 ned an instructor to advise them during the completion of their project fr
 om home if they have questions. Students also have the option of registeri
 ng for tutoring to complete their praxis during the event\, at a future ev
 ent or to get additional help from home on their praxis.&nbsp\;</span></di
 v>\n<div>&nbsp\;</div>\n</div>\n<div>&nbsp\;</div>\n<div><span style='colo
 r: #000000\; font-family: arial\, helvetica\, sans-serif\;'><span style='c
 olor: #993300\;'><strong style='font-family: arial\, helvetica\, sans-seri
 f\; font-size: 16px\;'><a href='http://handprint.niccm.com/products/nation
 al-administrators-credential-n-a-c-tutoring.html' title='NAC Tutoring Regi
 stration'><span style='color: #993300\;'>Optional Tutoring $170 - includes
  tutoring binder</span></a></strong></span></span><span style='color: #000
 000\; font-family: arial\, helvetica\, sans-serif\; font-size: 14pt\;'><st
 rong style='font-family: arial\, helvetica\, sans-serif\; font-size: 16px\
 ;'>&nbsp\;&nbsp\;</strong>Students who elect to stay for tutoring will rec
 eive a list of documentation to bring with them. The presenter will provid
 e individualized assistance to each tutoring participant in order to help 
 them put together and complete their Praxis. Tutoring allows students the&
 nbsp\;<strong>opportunity</strong>&nbsp\;of completing their test and prax
 is at the event and&nbsp\;<strong>leave having earned their certificate</s
 trong>. Those who wish to participate in tutoring are advised to register 
 for this service at least 3 days before the event in order to arrive prepa
 red for tutoring. Tutoring is usually offered on Saturday and Sunday of ea
 ch event from approximately 5:15 pm - 8:15 pm.</span></div>\n</div>
DTSTART:20240524T160000Z
DTEND:20240526T170000Z
SUMMARY:NAC - Orlando 524  
URL:https://niccm.com/70-upcoming-credential-courses/864-nac-orlando-524
END:VEVENT
END:VCALENDAR
