BEGIN:VCALENDAR
VERSION:2.0
PRODID:-//https://niccm.com//NONSGML kigkonsult.se iCalcreator 2.23.20//
METHOD:PUBLISH
X-WR-CALNAME:JCal Pro Calendar
X-WR-CALDESC:Your online events calendar
X-WR-TIMEZONE:UTC
BEGIN:VTIMEZONE
TZID:UTC
BEGIN:STANDARD
DTSTART:20260425T022223
TZOFFSETFROM:+0000
TZOFFSETTO:+0000
END:STANDARD
END:VTIMEZONE
BEGIN:VEVENT
UID:20240524T160000UTC-00984sTJoW@https://niccm.com/
DTSTAMP:20260425T022223Z
CATEGORIES:Past NICCM Events
DESCRIPTION:<h1 style='color: #000000\; visibility: visible\; text-align: c
 enter\;'>N.A.C. (National Administrator's Credential)</h1>\n<h2 style='col
 or: #000000\; visibility: visible\; text-align: justify\;'><span style='fo
 nt-size: 18pt\;'>Location/Hotel:</span>&nbsp\;&nbsp\;</h2>\n<p style='back
 ground-color: transparent\; margin: 2px 0px\; padding: 0px\; border: 0px\;
  outline: 0px\; font-size: 12px\; color: #505f69\; font-family: Helvetica\
 , Arial\, FreeSans\, sans-serif\;'>&nbsp\;</p>\n<p style='background-color
 : transparent\; margin: 2px 0px\; padding: 0px\; border: 0px\; outline: 0p
 x\; font-size: 12px\; color: #505f69\; font-family: Helvetica\, Arial\, Fr
 eeSans\, sans-serif\;'><span style='font-family: arial\, helvetica\, sans-
 serif\; font-size: 14pt\; color: #000000\;'>Hilton Garden Inn - Lake Buena
  Vista&nbsp\;</span></p>\n<p><span style='color: #000000\; font-family: ar
 ial\, helvetica\, sans-serif\; font-size: 14pt\;'>11400 Marabella Palm Cou
 rt</span></p>\n<p><span style='color: #000000\; font-family: arial\, helve
 tica\, sans-serif\; font-size: 14pt\;'>Orlando\, FL &nbsp\;32836</span></p
 >\n<p><span style='color: #000000\; font-family: arial\, helvetica\, sans-
 serif\; font-size: 14pt\;'>(407) 239- 9550</span></p>\n<p><span style='fon
 t-size: 14pt\; font-family: arial\, helvetica\, sans-serif\; color: #00000
 0\;'>Reservations</span>&nbsp\;<a href='https://www.hilton.com/en/book/res
 ervation/deeplink/?ctyhocn=MCOBVGI&amp\;groupCode=NIC5&amp\;arrivaldate=20
 24-09-10&amp\;departuredate=2024-09-16&amp\;cid=OM\,WW\,HILTONLINK\,EN\,Di
 rectLink&amp\;fromId=HILTONLINKDIRECT'><span style='font-size: 14pt\;'>Hil
 ton.com&nbsp\;</span></a></p>\n<p><span style='color: #0000ff\; font-size:
  14pt\;'><span style='color: #000000\;'>Call for assistance if there aren'
 t any available reservations on the link.</span>&nbsp\;</span></p>\n<p>&nb
 sp\;</p>\n<p>&nbsp\;</p>\n<p style='text-align: center\;'><a href='http://
 handprint.niccm.com/products/national-florida-and-texas-director-credentia
 l-n-a-c.html' title='Registration NAC '><span style='color: #ffffff\;'><sp
 an style='font-size: 19px\; padding: 3px 10px 4px\; background-color: #7b3
 b3b\;'><strong>Click Here To Register Online Now!</strong></span></span></
 a></p>\n<p>&nbsp\;</p>\n<p>&nbsp\;</p>\n<p><span style='color: #000000\;'>
 <strong style='font-size: 14pt\;'><span style='font-size: 18pt\;'>Schedule
 :</span></strong></span></p>\n<div>&nbsp\;</div>\n<div><span style='color:
  #000000\;'><span style='text-decoration: underline\;'><strong><span style
 ='font-size: 14pt\;'>Friday\, September 13th\, 2024</span></strong></span>
 <strong><span style='font-size: 14pt\;'>&nbsp\; &nbsp\;</span></strong></s
 pan></div>\n<div>&nbsp\;</div>\n<div><span style='font-size: 12pt\; color:
  #000000\;'><strong>Arrival and Check-In:&nbsp\; </strong>3:45pm-4:00pm &n
 bsp\;</span><span style='color: #000000\;'><span style='color: #000000\;'>
 (Students must arrive and check-in at least 1 hour before class starts)</s
 pan></span></div>\n<div>&nbsp\;</div>\n<div><span style='color: #000000\;'
 ></span></div>\n<div><span style='font-size: 12pt\; color: #000000\;'><str
 ong>Session A: &nbsp\;</strong>5:00pm-9:00pm&nbsp\;<span style='font-size:
  10.6667px\;'>4</span><span style='font-size: 10.6667px\;'>&nbsp\;Contact 
 Hours / .4 CEUs</span>&nbsp\;<span style='font-size: 8pt\;'>(For Sessions 
 taken individually earn up to 5 Contact Hours / .5 CEUs by completing 1 Pr
 axis question)</span></span></div>\n<div style='padding-left: 30px\;'><spa
 n style='font-size: 12pt\; color: #000000\;'>Unit 1: Fiscal Management&nbs
 p\;</span></div>\n<div style='padding-left: 30px\;'><span style='font-size
 : 12pt\; color: #000000\;'>Unit 2: Insurance for Your Center</span></div>
 \n<div>&nbsp\;</div>\n<div style='padding-left: 30px\;'><span style='color
 : #000000\;'></span></div>\n<div><span style='color: #000000\;'><span styl
 e='text-decoration: underline\;'><strong><span style='font-size: 14pt\;'>S
 aturday\, September 14th\, 2024</span></strong></span><span style='font-si
 ze: 8pt\;'>&nbsp\;&nbsp\;</span></span></div>\n<div>&nbsp\;</div>\n<div><s
 pan style='color: #000000\;'></span></div>\n<div><span style='font-size: 1
 2pt\; color: #000000\;'><strong>Session B:</strong>&nbsp\;&nbsp\;8:00am-12
 :00pm&nbsp\;<span style='font-size: 10.6667px\;'>4</span><span style='font
 -size: 10.6667px\;'>&nbsp\;Contact Hours / .4 CEUs&nbsp\;</span><span styl
 e='font-size: 8pt\;'>(For Sessions taken individually earn up to 5 Contact
  Hours / .5 CEUs by completing 1 Praxis question)</span></span></div>\n<di
 v style='padding-left: 30px\;'><span style='font-size: 12pt\; color: #0000
 00\;'>Unit 3: Hiring &amp\; Teacher Orientation</span></div>\n<div style='
 padding-left: 30px\;'><span style='font-size: 12pt\; color: #000000\;'>Uni
 t 4: Employee Handbooks &amp\; Evals</span></div>\n<div style='padding-lef
 t: 30px\;'><span style='color: #000000\;'></span></div>\n<div><span style=
 'font-size: 12pt\; color: #000000\;'><strong>Session C:</strong>&nbsp\;&nb
 sp\;1:00pm-5:00pm &nbsp\;<span style='font-size: 10.6667px\;'>4</span><spa
 n style='font-size: 10.6667px\;'>&nbsp\;Contact Hours / .4 CEUs&nbsp\;</sp
 an><span style='font-size: 8pt\;'>(For Sessions taken individually earn up
  to 5 Contact Hours / .5 CEUs by completing 1 Praxis question)</span></spa
 n></div>\n<div style='padding-left: 30px\;'><span style='font-size: 12pt\;
  color: #000000\;'>Unit 5: Center Management</span></div>\n<div style='pad
 ding-left: 30px\;'><span style='font-size: 12pt\; color: #000000\;'>Unit 6
 : Child Development - The Essentials</span></div>\n<div>&nbsp\;</div>\n<di
 v style='padding-left: 30px\;'><span style='color: #000000\;'></span></div
 >\n<div><span style='color: #000000\;'><span style='text-decoration: under
 line\;'><strong><span style='font-size: 14pt\;'>Sunday\, September 15th\, 
 2024</span></strong></span><strong><span style='font-size: 14pt\;'>&nbsp\;
  &nbsp\;</span></strong></span></div>\n<div>&nbsp\;</div>\n<div><span styl
 e='color: #000000\;'></span></div>\n<div><span style='font-size: 12pt\; co
 lor: #000000\;'><strong>Session D: &nbsp\;</strong>8:00am-12:00pm&nbsp\;<s
 pan style='font-size: 10.6667px\;'>4</span><span style='font-size: 10.6667
 px\;'>&nbsp\;Contact Hours / .4 CEUs&nbsp\;</span><span style='font-size: 
 8pt\;'>(For Sessions taken individually earn up to 5 Contact Hours / .5 CE
 Us by completing 1 Praxis question)</span></span></div>\n<div style='paddi
 ng-left: 30px\;'><span style='font-size: 12pt\; color: #000000\;'>Unit 7: 
 Dealing with Difficult Employees</span></div>\n<div style='padding-left: 3
 0px\;'><span style='font-size: 12pt\; color: #000000\;'>Unit 8: Administra
 tive Leadership</span></div>\n<div style='padding-left: 30px\;'><span styl
 e='color: #000000\;'></span></div>\n<div>\n<div><span style='font-size: 12
 pt\; color: #000000\;'><strong>Session E: &nbsp\;</strong>1:00pm-5:00pm&nb
 sp\;<span style='font-size: 10.6667px\;'>4</span><span style='font-size: 1
 0.6667px\;'>&nbsp\;Contact Hours / .4 CEUs&nbsp\;</span><span style='font-
 size: 8pt\;'>(For Sessions taken individually earn up to 5 Contact Hours /
  .5 CEUs by completing 1 Praxis question)</span></span></div>\n<div style=
 'padding-left: 30px\;'><span style='font-size: 12pt\; color: #000000\;'>Un
 it 9: The New Economy</span></div>\n<div style='padding-left: 30px\;'><spa
 n style='font-size: 12pt\; color: #000000\;'>Unit 10: Train the Trainer</s
 pan></div>\n<div>&nbsp\;</div>\n<div style='padding-left: 30px\;'><span st
 yle='color: #000000\;'></span></div>\n<div style='padding-left: 30px\;'><s
 pan style='color: #000000\;'>&nbsp\;&nbsp\;</span></div>\n</div>\n<div>\n<
 div>\n<div><span style='font-size: 12pt\; color: #000000\;'><strong><span 
 style='font-family: arial\, helvetica\, sans-serif\; font-size: 14pt\;'>Se
 ssion F: &nbsp\;Credential Praxis</span>&nbsp\;</strong><span style='font-
 size: 8pt\;'>(25 Contact Hours / 2.5 CEUs)</span></span></div>\n<div><span
  style='color: #000000\; font-family: arial\, helvetica\, sans-serif\; fon
 t-size: 14pt\;'>When attending the full conference\, each Session is worth
  4 Hours/ .4 CEUs for a total of 20 hours for sessions A-E. &nbsp\;Convert
  the 20 contact hours / 2 CEUs from attendance in sessions A-E into the NA
 C (which is worth 45 contact hours/4.5 CEUs) by completing the Praxis. Stu
 dents will be assigned an instructor to advise them during the completion 
 of their project from home if they have questions. Students also have the 
 option of registering for tutoring to complete their praxis during the eve
 nt\, at a future event or to get additional help from home on their praxis
 .&nbsp\;</span></div>\n<div>&nbsp\;</div>\n</div>\n<div>&nbsp\;</div>\n<di
 v><span style='color: #000000\; font-family: arial\, helvetica\, sans-seri
 f\;'><span style='color: #993300\;'><strong style='font-family: arial\, he
 lvetica\, sans-serif\; font-size: 16px\;'><a href='http://handprint.niccm.
 com/products/national-administrators-credential-n-a-c-tutoring.html' title
 ='NAC Tutoring Registration'><span style='color: #993300\;'>Optional Tutor
 ing $170 - includes tutoring binder</span></a></strong></span></span><span
  style='color: #000000\; font-family: arial\, helvetica\, sans-serif\; fon
 t-size: 14pt\;'><strong style='font-family: arial\, helvetica\, sans-serif
 \; font-size: 16px\;'>&nbsp\;&nbsp\;</strong>Students who elect to stay fo
 r tutoring will receive a list of documentation to bring with them. The pr
 esenter will provide individualized assistance to each tutoring participan
 t in order to help them put together and complete their Praxis. Tutoring a
 llows students the&nbsp\;<strong>opportunity</strong>&nbsp\;of completing 
 their test and praxis at the event and&nbsp\;<strong>leave having earned t
 heir certificate</strong>. Those who wish to participate in tutoring are a
 dvised to register for this service at least 3 days before the event in or
 der to arrive prepared for tutoring. Tutoring is usually offered on Saturd
 ay and Sunday of each event from approximately 5:15 pm - 8:15 pm.</span></
 div>\n</div>
DTSTART:20240913T160000Z
DTEND:20240915T170000Z
SUMMARY:NAC - Orlando 924   
URL:https://niccm.com/70-upcoming-credential-courses/872-nac-orlando-924
END:VEVENT
END:VCALENDAR
