BEGIN:VCALENDAR
VERSION:2.0
PRODID:-//https://niccm.com//NONSGML kigkonsult.se iCalcreator 2.23.20//
METHOD:PUBLISH
X-WR-CALNAME:JCal Pro Calendar
X-WR-CALDESC:Your online events calendar
X-WR-TIMEZONE:UTC
BEGIN:VTIMEZONE
TZID:UTC
BEGIN:STANDARD
DTSTART:20260425T022002
TZOFFSETFROM:+0000
TZOFFSETTO:+0000
END:STANDARD
END:VTIMEZONE
BEGIN:VEVENT
UID:20240517T160000UTC-4143vsHvWC@https://niccm.com/
DTSTAMP:20260425T022002Z
CATEGORIES:Past NICCM Events
DESCRIPTION:<h1 style='color: #000000\; visibility: visible\; text-align: c
 enter\;'>N.A.C. (National Administrator's Credential)</h1>\n<h2 style='col
 or: #000000\; visibility: visible\; text-align: justify\;'><span style='fo
 nt-size: 18pt\;'>Location/Hotel:</span>&nbsp\;&nbsp\;</h2>\n<p style='back
 ground-color: transparent\; margin: 2px 0px\; padding: 0px\; border: 0px\;
  outline: 0px\; font-size: 12px\; color: #505f69\; font-family: Helvetica\
 , Arial\, FreeSans\, sans-serif\;'>&nbsp\;</p>\n<p style='background-color
 : transparent\; margin: 2px 0px\; padding: 0px\; border: 0px\; outline: 0p
 x\; font-size: 12px\; color: #505f69\; font-family: Helvetica\, Arial\, Fr
 eeSans\, sans-serif\;'><span style='color: #000000\; font-family: arial\, 
 helvetica\, sans-serif\; font-size: 14pt\;'>Embassy Suites Hotel- Dallas L
 ove Field</span></p>\n<p><span style='color: #000000\; font-family: arial\
 , helvetica\, sans-serif\; font-size: 14pt\;'>3880 W. Northwest Highway</s
 pan></p>\n<p><span style='color: #000000\; font-family: arial\, helvetica\
 , sans-serif\; font-size: 14pt\;'>Dallas\, TX&nbsp\; 75220</span></p>\n<p>
 <span style='color: #000000\; font-family: arial\, helvetica\, sans-serif\
 ; font-size: 14pt\;'>(214) 357- 4500</span></p>\n<p><span style='font-size
 : 14pt\; font-family: arial\, helvetica\, sans-serif\; color: #000000\;'>R
 eservations</span>&nbsp\;<span style='font-size: 14pt\;'><a href='https://
 www.hilton.com/en/book/reservation/rooms/?ctyhocn=DALLFES&amp\;arrivalDate
 =2024-12-05&amp\;departureDate=2024-12-09&amp\;groupCode=CESIC1&amp\;room1
 NumAdults=1&amp\;cid=OM%2CWW%2CHILTONLINK%2CEN%2CDirectLink'>hilton.com</a
 ><a href='https://www.hilton.com/en/book/reservation/deeplink/?ctyhocn=MCO
 BVGI&amp\;groupCode=NICCM6&amp\;arrivaldate=2023-11-14&amp\;departuredate=
 2023-11-20&amp\;cid=OM\,WW\,HILTONLINK\,EN\,DirectLink&amp\;fromId=HILTONL
 INKDIRECT'></a></span></p>\n<p style='background-color: transparent\; marg
 in: 2px 0px\; padding: 0px\; border: 0px\; outline: 0px\; font-size: 12px\
 ; color: #505f69\; font-family: Helvetica\, Arial\, FreeSans\, sans-serif\
 ;'><span style='font-family: arial\, helvetica\, sans-serif\; font-size: 1
 4pt\;'><span style='color: #000000\;'>Call for assistance if there aren't 
 any available reservations on the link.</span><span style='color: #0000ff\
 ; background-color: inherit\; caret-color: auto\;'></span></span></p>\n<p>
 &nbsp\;</p>\n<p>&nbsp\;</p>\n<p style='text-align: center\;'><a href='http
 ://handprint.niccm.com/products/national-florida-and-texas-director-creden
 tial-n-a-c.html' title='Registration NAC '><span style='color: #ffffff\;'>
 <span style='font-size: 19px\; padding: 3px 10px 4px\; background-color: #
 7b3b3b\;'><strong>Click Here To Register Online Now!</strong></span></span
 ></a></p>\n<p>&nbsp\;</p>\n<p>&nbsp\;</p>\n<p><span style='color: #000000\
 ;'><strong style='font-size: 14pt\;'><span style='font-size: 18pt\;'>Sched
 ule:</span></strong></span></p>\n<div>&nbsp\;</div>\n<div><span style='col
 or: #000000\;'><span style='text-decoration: underline\;'><strong><span st
 yle='font-size: 14pt\;'>Friday\, December 6th\, 2024</span></strong></span
 ><strong><span style='font-size: 14pt\;'>&nbsp\; &nbsp\;</span></strong></
 span></div>\n<div>&nbsp\;</div>\n<div><span style='font-size: 12pt\; color
 : #000000\;'><strong>Arrival and Check-In:&nbsp\; </strong>3:45pm-4:00pm &
 nbsp\;</span><span style='color: #000000\;'><span style='color: #000000\;'
 >(Students must arrive and check-in at least 1 hour before class starts)</
 span></span></div>\n<div>&nbsp\;</div>\n<div><span style='color: #000000\;
 '></span></div>\n<div><span style='font-size: 12pt\; color: #000000\;'><st
 rong>Session A: &nbsp\;</strong>5:00pm-9:00pm&nbsp\;<span style='font-size
 : 10.6667px\;'>4</span><span style='font-size: 10.6667px\;'>&nbsp\;Contact
  Hours / .4 CEUs</span>&nbsp\;<span style='font-size: 8pt\;'>(For Sessions
  taken individually earn up to 5 Contact Hours / .5 CEUs by completing 1 P
 raxis question)</span></span></div>\n<div style='padding-left: 30px\;'><sp
 an style='font-size: 12pt\; color: #000000\;'>Unit 1: Fiscal Management&nb
 sp\;</span></div>\n<div style='padding-left: 30px\;'><span style='font-siz
 e: 12pt\; color: #000000\;'>Unit 2: Insurance for Your Center</span></div>
 \n<div>&nbsp\;</div>\n<div style='padding-left: 30px\;'><span style='color
 : #000000\;'></span></div>\n<div><span style='color: #000000\;'><span styl
 e='text-decoration: underline\;'><strong><span style='font-size: 14pt\;'>S
 aturday\, December 7th\, 2024</span></strong></span><span style='font-size
 : 8pt\;'>&nbsp\;&nbsp\;</span></span></div>\n<div>&nbsp\;</div>\n<div><spa
 n style='color: #000000\;'></span></div>\n<div><span style='font-size: 12p
 t\; color: #000000\;'><strong>Session B:</strong>&nbsp\;&nbsp\;8:00am-12:0
 0pm&nbsp\;<span style='font-size: 10.6667px\;'>4</span><span style='font-s
 ize: 10.6667px\;'>&nbsp\;Contact Hours / .4 CEUs&nbsp\;</span><span style=
 'font-size: 8pt\;'>(For Sessions taken individually earn up to 5 Contact H
 ours / .5 CEUs by completing 1 Praxis question)</span></span></div>\n<div 
 style='padding-left: 30px\;'><span style='font-size: 12pt\; color: #000000
 \;'>Unit 3: Hiring &amp\; Teacher Orientation</span></div>\n<div style='pa
 dding-left: 30px\;'><span style='font-size: 12pt\; color: #000000\;'>Unit 
 4: Employee Handbooks &amp\; Evals</span></div>\n<div style='padding-left:
  30px\;'><span style='color: #000000\;'></span></div>\n<div><span style='f
 ont-size: 12pt\; color: #000000\;'><strong>Session C:</strong>&nbsp\;&nbsp
 \;1:00pm-5:00pm &nbsp\;<span style='font-size: 10.6667px\;'>4</span><span 
 style='font-size: 10.6667px\;'>&nbsp\;Contact Hours / .4 CEUs&nbsp\;</span
 ><span style='font-size: 8pt\;'>(For Sessions taken individually earn up t
 o 5 Contact Hours / .5 CEUs by completing 1 Praxis question)</span></span>
 </div>\n<div style='padding-left: 30px\;'><span style='font-size: 12pt\; c
 olor: #000000\;'>Unit 5: Center Management</span></div>\n<div style='paddi
 ng-left: 30px\;'><span style='font-size: 12pt\; color: #000000\;'>Unit 6: 
 Child Development - The Essentials</span></div>\n<div>&nbsp\;</div>\n<div 
 style='padding-left: 30px\;'><span style='color: #000000\;'></span></div>
 \n<div><span style='color: #000000\;'><span style='text-decoration: underl
 ine\;'><strong><span style='font-size: 14pt\;'>Sunday\, December 8th\, 202
 4</span></strong></span><strong><span style='font-size: 14pt\;'>&nbsp\; &n
 bsp\;</span></strong></span></div>\n<div>&nbsp\;</div>\n<div><span style='
 color: #000000\;'></span></div>\n<div><span style='font-size: 12pt\; color
 : #000000\;'><strong>Session D: &nbsp\;</strong>8:00am-12:00pm&nbsp\;<span
  style='font-size: 10.6667px\;'>4</span><span style='font-size: 10.6667px\
 ;'>&nbsp\;Contact Hours / .4 CEUs&nbsp\;</span><span style='font-size: 8pt
 \;'>(For Sessions taken individually earn up to 5 Contact Hours / .5 CEUs 
 by completing 1 Praxis question)</span></span></div>\n<div style='padding-
 left: 30px\;'><span style='font-size: 12pt\; color: #000000\;'>Unit 7: Dea
 ling with Difficult Employees</span></div>\n<div style='padding-left: 30px
 \;'><span style='font-size: 12pt\; color: #000000\;'>Unit 8: Administrativ
 e Leadership</span></div>\n<div style='padding-left: 30px\;'><span style='
 color: #000000\;'></span></div>\n<div>\n<div><span style='font-size: 12pt\
 ; color: #000000\;'><strong>Session E: &nbsp\;</strong>1:00pm-5:00pm&nbsp\
 ;<span style='font-size: 10.6667px\;'>4</span><span style='font-size: 10.6
 667px\;'>&nbsp\;Contact Hours / .4 CEUs&nbsp\;</span><span style='font-siz
 e: 8pt\;'>(For Sessions taken individually earn up to 5 Contact Hours / .5
  CEUs by completing 1 Praxis question)</span></span></div>\n<div style='pa
 dding-left: 30px\;'><span style='font-size: 12pt\; color: #000000\;'>Unit 
 9: The New Economy</span></div>\n<div style='padding-left: 30px\;'><span s
 tyle='font-size: 12pt\; color: #000000\;'>Unit 10: Train the Trainer</span
 ></div>\n<div>&nbsp\;</div>\n<div style='padding-left: 30px\;'><span style
 ='color: #000000\;'></span></div>\n<div style='padding-left: 30px\;'><span
  style='color: #000000\;'>&nbsp\;&nbsp\;</span></div>\n</div>\n<div>\n<div
 >\n<div><span style='font-size: 12pt\; color: #000000\;'><strong><span sty
 le='font-family: arial\, helvetica\, sans-serif\; font-size: 14pt\;'>Sessi
 on F: &nbsp\;Credential Praxis</span>&nbsp\;</strong><span style='font-siz
 e: 8pt\;'>(25 Contact Hours / 2.5 CEUs)</span></span></div>\n<div><span st
 yle='color: #000000\; font-family: arial\, helvetica\, sans-serif\; font-s
 ize: 14pt\;'>When attending the full conference\, each Session is worth 4 
 Hours/ .4 CEUs for a total of 20 hours for sessions A-E. &nbsp\;Convert th
 e 20 contact hours / 2 CEUs from attendance in sessions A-E into the NAC (
 which is worth 45 contact hours/4.5 CEUs) by completing the Praxis. Studen
 ts will be assigned an instructor to advise them during the completion of 
 their project from home if they have questions. Students also have the opt
 ion of registering for tutoring to complete their praxis during the event\
 , at a future event or to get additional help from home on their praxis.&n
 bsp\;</span></div>\n<div>&nbsp\;</div>\n</div>\n<div>&nbsp\;</div>\n<div><
 span style='color: #000000\; font-family: arial\, helvetica\, sans-serif\;
 '><span style='color: #993300\;'><strong style='font-family: arial\, helve
 tica\, sans-serif\; font-size: 16px\;'><a href='http://handprint.niccm.com
 /products/national-administrators-credential-n-a-c-tutoring.html' title='N
 AC Tutoring Registration'><span style='color: #993300\;'>Optional Tutoring
  $170 - includes tutoring binder</span></a></strong></span></span><span st
 yle='color: #000000\; font-family: arial\, helvetica\, sans-serif\; font-s
 ize: 14pt\;'><strong style='font-family: arial\, helvetica\, sans-serif\; 
 font-size: 16px\;'>&nbsp\;&nbsp\;</strong>Students who elect to stay for t
 utoring will receive a list of documentation to bring with them. The prese
 nter will provide individualized assistance to each tutoring participant i
 n order to help them put together and complete their Praxis. Tutoring allo
 ws students the&nbsp\;<strong>opportunity</strong>&nbsp\;of completing the
 ir test and praxis at the event and&nbsp\;<strong>leave having earned thei
 r certificate</strong>. Those who wish to participate in tutoring are advi
 sed to register for this service at least 3 days before the event in order
  to arrive prepared for tutoring. Tutoring is usually offered on Saturday 
 and Sunday of each event from approximately 5:15 pm - 8:15 pm.</span></div
 >\n</div>
DTSTART:20241206T160000Z
DTEND:20241208T170000Z
SUMMARY:NAC - Dallas 1224     
URL:https://niccm.com/70-upcoming-credential-courses/887-nac-dallas-1224
END:VEVENT
END:VCALENDAR
