BEGIN:VCALENDAR
VERSION:2.0
PRODID:-//https://niccm.com//NONSGML kigkonsult.se iCalcreator 2.23.20//
METHOD:PUBLISH
X-WR-CALNAME:JCal Pro Calendar
X-WR-CALDESC:Your online events calendar
X-WR-TIMEZONE:UTC
BEGIN:VTIMEZONE
TZID:UTC
BEGIN:STANDARD
DTSTART:20260425T021402
TZOFFSETFROM:+0000
TZOFFSETTO:+0000
END:STANDARD
END:VTIMEZONE
BEGIN:VEVENT
UID:20250530T160000UTC-2224zlOP1s@https://niccm.com/
DTSTAMP:20260425T021402Z
CATEGORIES:Past NICCM Events
DESCRIPTION:<h1 style='color: #000000\; visibility: visible\; text-align: c
 enter\;'>N.A.C. (National Administrator's Credential)</h1>\n<h2 style='col
 or: #000000\; visibility: visible\; text-align: justify\;'><span style='fo
 nt-size: 18pt\;'>Location/Hotel:</span>&nbsp\;&nbsp\;</h2>\n<p style='back
 ground-color: transparent\; margin: 2px 0px\; padding: 0px\; border: 0px\;
  outline: 0px\; font-size: 12px\; color: #505f69\; font-family: Helvetica\
 , Arial\, FreeSans\, sans-serif\;'>&nbsp\;</p>\n<p style='background-color
 : transparent\; margin: 2px 0px\; padding: 0px\; border: 0px\; outline: 0p
 x\; font-size: 12px\; color: #505f69\; font-family: Helvetica\, Arial\, Fr
 eeSans\, sans-serif\;'><span style='font-family: arial\, helvetica\, sans-
 serif\; font-size: 14pt\; color: #000000\;'>Hilton Garden Inn - Lake Buena
  Vista&nbsp\;</span></p>\n<p><span style='color: #000000\; font-family: ar
 ial\, helvetica\, sans-serif\; font-size: 14pt\;'>11400 Marabella Palm Cou
 rt</span></p>\n<p><span style='color: #000000\; font-family: arial\, helve
 tica\, sans-serif\; font-size: 14pt\;'>Orlando\, FL &nbsp\;32836</span></p
 >\n<p><span style='color: #000000\; font-family: arial\, helvetica\, sans-
 serif\; font-size: 14pt\;'>(407) 239- 9550</span></p>\n<p><span style='fon
 t-size: 14pt\; font-family: arial\, helvetica\, sans-serif\; color: #00000
 0\;'>Reservations</span>&nbsp\;<a href='https://www.hilton.com/en/book/res
 ervation/deeplink/?ctyhocn=MCOBVGI&amp\;groupCode=NICJ&amp\;arrivaldate=20
 25-06-26&amp\;departuredate=2025-06-30&amp\;cid=OM\,WW\,HILTONLINK\,EN\,Di
 rectLink&amp\;fromId=HILTONLINKDIRECT'><span style='font-size: 14pt\;'>Hil
 ton.com&nbsp\;</span></a></p>\n<p><span style='color: #0000ff\; font-size:
  14pt\;'><span style='color: #000000\;'>Call for assistance if there aren'
 t any available reservations on the link.</span>&nbsp\;</span></p>\n<p cla
 ss='p1'><span style='font-family: arial\, helvetica\, sans-serif\; font-si
 ze: 14pt\; color: #000000\;'>*Free parking available if you register your 
 car upon arrival.&nbsp\;</span></p>\n<p>&nbsp\;</p>\n<p>&nbsp\;</p>\n<p st
 yle='text-align: center\;'><a href='http://handprint.niccm.com/products/na
 tional-florida-and-texas-director-credential-n-a-c.html' title='Registrati
 on NAC '><span style='color: #ffffff\;'><span style='font-size: 19px\; pad
 ding: 3px 10px 4px\; background-color: #7b3b3b\;'><strong>Click Here To Re
 gister Online Now!</strong></span></span></a></p>\n<p>&nbsp\;</p>\n<p>&nbs
 p\;</p>\n<p><span style='color: #000000\;'><strong style='font-size: 14pt\
 ;'><span style='font-size: 18pt\;'>Schedule:</span></strong></span></p>\n<
 div>&nbsp\;</div>\n<div><span style='color: #000000\;'><span style='text-d
 ecoration: underline\;'><strong><span style='font-size: 14pt\;'>Friday\, J
 une 27th\, 2025</span></strong></span><strong><span style='font-size: 14pt
 \;'>&nbsp\; &nbsp\;</span></strong></span></div>\n<div>&nbsp\;</div>\n<div
 ><span style='font-size: 12pt\; color: #000000\;'><strong>Arrival and Chec
 k-In:&nbsp\; </strong>3:45pm-4:00pm &nbsp\;</span><span style='color: #000
 000\;'><span style='color: #000000\;'>(Students must arrive and check-in a
 t least 1 hour before class starts)</span></span></div>\n<div>&nbsp\;</div
 >\n<div><span style='color: #000000\;'></span></div>\n<div><span style='fo
 nt-size: 12pt\; color: #000000\;'><strong>Session A: &nbsp\;</strong>5:00p
 m-9:00pm&nbsp\;<span style='font-size: 10.6667px\;'>4</span><span style='f
 ont-size: 10.6667px\;'>&nbsp\;Contact Hours / .4 CEUs</span>&nbsp\;<span s
 tyle='font-size: 8pt\;'>(For Sessions taken individually earn up to 5 Cont
 act Hours / .5 CEUs by completing 1 Praxis question)</span></span></div>\n
 <div style='padding-left: 30px\;'><span style='font-size: 12pt\; color: #0
 00000\;'>Unit 1: Fiscal Management&nbsp\;</span></div>\n<div style='paddin
 g-left: 30px\;'><span style='font-size: 12pt\; color: #000000\;'>Unit 2: I
 nsurance for Your Center</span></div>\n<div>&nbsp\;</div>\n<div style='pad
 ding-left: 30px\;'><span style='color: #000000\;'></span></div>\n<div><spa
 n style='color: #000000\;'><span style='text-decoration: underline\;'><str
 ong><span style='font-size: 14pt\;'>Saturday\, June 28th\, 2025</span></st
 rong></span><span style='font-size: 8pt\;'>&nbsp\;&nbsp\;</span></span></d
 iv>\n<div>&nbsp\;</div>\n<div><span style='color: #000000\;'></span></div>
 \n<div><span style='font-size: 12pt\; color: #000000\;'><strong>Session B:
 </strong>&nbsp\;&nbsp\;8:00am-12:00pm&nbsp\;<span style='font-size: 10.666
 7px\;'>4</span><span style='font-size: 10.6667px\;'>&nbsp\;Contact Hours /
  .4 CEUs&nbsp\;</span><span style='font-size: 8pt\;'>(For Sessions taken i
 ndividually earn up to 5 Contact Hours / .5 CEUs by completing 1 Praxis qu
 estion)</span></span></div>\n<div style='padding-left: 30px\;'><span style
 ='font-size: 12pt\; color: #000000\;'>Unit 3: Hiring &amp\; Teacher Orient
 ation</span></div>\n<div style='padding-left: 30px\;'><span style='font-si
 ze: 12pt\; color: #000000\;'>Unit 4: Employee Handbooks &amp\; Evals</span
 ></div>\n<div style='padding-left: 30px\;'><span style='color: #000000\;'>
 </span></div>\n<div><span style='font-size: 12pt\; color: #000000\;'><stro
 ng>Session C:</strong>&nbsp\;&nbsp\;1:00pm-5:00pm &nbsp\;<span style='font
 -size: 10.6667px\;'>4</span><span style='font-size: 10.6667px\;'>&nbsp\;Co
 ntact Hours / .4 CEUs&nbsp\;</span><span style='font-size: 8pt\;'>(For Ses
 sions taken individually earn up to 5 Contact Hours / .5 CEUs by completin
 g 1 Praxis question)</span></span></div>\n<div style='padding-left: 30px\;
 '><span style='font-size: 12pt\; color: #000000\;'>Unit 5: Center Manageme
 nt</span></div>\n<div style='padding-left: 30px\;'><span style='font-size:
  12pt\; color: #000000\;'>Unit 6: Child Development - The Essentials</span
 ></div>\n<div>&nbsp\;</div>\n<div style='padding-left: 30px\;'><span style
 ='color: #000000\;'></span></div>\n<div><span style='color: #000000\;'><sp
 an style='text-decoration: underline\;'><strong><span style='font-size: 14
 pt\;'>Sunday\, June 29th\, 2025</span></strong></span><strong><span style=
 'font-size: 14pt\;'>&nbsp\; &nbsp\;</span></strong></span></div>\n<div>&nb
 sp\;</div>\n<div><span style='color: #000000\;'></span></div>\n<div><span 
 style='font-size: 12pt\; color: #000000\;'><strong>Session D: &nbsp\;</str
 ong>8:00am-12:00pm&nbsp\;<span style='font-size: 10.6667px\;'>4</span><spa
 n style='font-size: 10.6667px\;'>&nbsp\;Contact Hours / .4 CEUs&nbsp\;</sp
 an><span style='font-size: 8pt\;'>(For Sessions taken individually earn up
  to 5 Contact Hours / .5 CEUs by completing 1 Praxis question)</span></spa
 n></div>\n<div style='padding-left: 30px\;'><span style='font-size: 12pt\;
  color: #000000\;'>Unit 7: Dealing with Difficult Employees</span></div>\n
 <div style='padding-left: 30px\;'><span style='font-size: 12pt\; color: #0
 00000\;'>Unit 8: Administrative Leadership</span></div>\n<div style='paddi
 ng-left: 30px\;'><span style='color: #000000\;'></span></div>\n<div>\n<div
 ><span style='font-size: 12pt\; color: #000000\;'><strong>Session E: &nbsp
 \;</strong>1:00pm-5:00pm&nbsp\;<span style='font-size: 10.6667px\;'>4</spa
 n><span style='font-size: 10.6667px\;'>&nbsp\;Contact Hours / .4 CEUs&nbsp
 \;</span><span style='font-size: 8pt\;'>(For Sessions taken individually e
 arn up to 5 Contact Hours / .5 CEUs by completing 1 Praxis question)</span
 ></span></div>\n<div style='padding-left: 30px\;'><span style='font-size: 
 12pt\; color: #000000\;'>Unit 9: The New Economy</span></div>\n<div style=
 'padding-left: 30px\;'><span style='font-size: 12pt\; color: #000000\;'>Un
 it 10: Train the Trainer</span></div>\n<div>&nbsp\;</div>\n<div style='pad
 ding-left: 30px\;'><span style='color: #000000\;'></span></div>\n<div styl
 e='padding-left: 30px\;'><span style='color: #000000\;'>&nbsp\;&nbsp\;</sp
 an></div>\n</div>\n<div>\n<div>\n<div><span style='font-size: 12pt\; color
 : #000000\;'><strong><span style='font-family: arial\, helvetica\, sans-se
 rif\; font-size: 14pt\;'>Session F: &nbsp\;Credential Praxis</span>&nbsp\;
 </strong><span style='font-size: 8pt\;'>(25 Contact Hours / 2.5 CEUs)</spa
 n></span></div>\n<div><span style='color: #000000\; font-family: arial\, h
 elvetica\, sans-serif\; font-size: 14pt\;'>When attending the full confere
 nce\, each Session is worth 4 Hours/ .4 CEUs for a total of 20 hours for s
 essions A-E. &nbsp\;Convert the 20 contact hours / 2 CEUs from attendance 
 in sessions A-E into the NAC (which is worth 45 contact hours/4.5 CEUs) by
  completing the Praxis. Students will be assigned an instructor to advise 
 them during the completion of their project from home if they have questio
 ns. Students also have the option of registering for tutoring to complete 
 their praxis during the event\, at a future event or to get additional hel
 p from home on their praxis.&nbsp\;</span></div>\n<div>&nbsp\;</div>\n</di
 v>\n<div>&nbsp\;</div>\n<div><span style='color: #000000\; font-family: ar
 ial\, helvetica\, sans-serif\;'><span style='color: #993300\;'><strong sty
 le='font-family: arial\, helvetica\, sans-serif\; font-size: 16px\;'><a hr
 ef='http://handprint.niccm.com/products/national-administrators-credential
 -n-a-c-tutoring.html' title='NAC Tutoring Registration'><span style='color
 : #993300\;'>Optional Tutoring $170 - includes tutoring binder</span></a><
 /strong></span></span><span style='color: #000000\; font-family: arial\, h
 elvetica\, sans-serif\; font-size: 14pt\;'><strong style='font-family: ari
 al\, helvetica\, sans-serif\; font-size: 16px\;'>&nbsp\;&nbsp\;</strong>St
 udents who elect to stay for tutoring will receive a list of documentation
  to bring with them. The presenter will provide individualized assistance 
 to each tutoring participant in order to help them put together and comple
 te their Praxis. Tutoring allows students the&nbsp\;<strong>opportunity</s
 trong>&nbsp\;of completing their test and praxis at the event and&nbsp\;<s
 trong>leave having earned their certificate</strong>. Those who wish to pa
 rticipate in tutoring are advised to register for this service at least 3 
 days before the event in order to arrive prepared for tutoring. Tutoring i
 s usually offered on Saturday and Sunday of each event from approximately 
 5:15 pm - 8:15 pm.</span></div>\n</div>
DTSTART:20250627T160000Z
DTEND:20250629T170000Z
SUMMARY:NAC - Orlando 625 
URL:https://niccm.com/70-upcoming-credential-courses/920-nac-orlando-625
END:VEVENT
END:VCALENDAR
