BEGIN:VCALENDAR
VERSION:2.0
PRODID:-//https://niccm.com//NONSGML kigkonsult.se iCalcreator 2.23.20//
METHOD:PUBLISH
X-WR-CALNAME:JCal Pro Calendar
X-WR-CALDESC:Your online events calendar
X-WR-TIMEZONE:UTC
BEGIN:VTIMEZONE
TZID:UTC
BEGIN:STANDARD
DTSTART:20260425T022029
TZOFFSETFROM:+0000
TZOFFSETTO:+0000
END:STANDARD
END:VTIMEZONE
BEGIN:VEVENT
UID:20251107T160000UTC-3202KeibDf@https://niccm.com/
DTSTAMP:20260425T022029Z
CATEGORIES:Past NICCM Events
DESCRIPTION:<h1 style='color: #000000\; visibility: visible\; text-align: c
 enter\;'>N.A.C. (National Administrator's Credential)</h1>\n<h2 style='col
 or: #000000\; visibility: visible\; text-align: justify\;'><span style='fo
 nt-size: 18pt\;'>Location/Hotel:</span>&nbsp\;&nbsp\;</h2>\n<p style='back
 ground-color: transparent\; margin: 2px 0px\; padding: 0px\; border: 0px\;
  outline: 0px\; font-size: 12px\; color: #505f69\; font-family: Helvetica\
 , Arial\, FreeSans\, sans-serif\;'>&nbsp\;</p>\n<p style='background-color
 : transparent\; margin: 2px 0px\; padding: 0px\; border: 0px\; outline: 0p
 x\; font-size: 12px\; color: #505f69\; font-family: Helvetica\, Arial\, Fr
 eeSans\, sans-serif\;'><span style='color: #000000\; font-family: arial\, 
 helvetica\, sans-serif\; font-size: 14pt\;'>Drury Inn &amp\; Suites San An
 tonio North Stone Oak</span></p>\n<p><span style='color: #000000\; font-fa
 mily: arial\, helvetica\, sans-serif\; font-size: 14pt\;'>801 North Loop 1
 604 East</span></p>\n<p><span style='color: #000000\; font-family: arial\,
  helvetica\, sans-serif\; font-size: 14pt\;'>San Antonio\, TX&nbsp\; 78258
 </span></p>\n<p><span style='color: #000000\; font-family: arial\, helveti
 ca\, sans-serif\; font-size: 14pt\;'>(210) 404-1600</span></p>\n<p><span s
 tyle='font-size: 14pt\; font-family: arial\, helvetica\, sans-serif\; colo
 r: #000000\;'>Reservations</span>&nbsp\;<a href='https://www.druryhotels.c
 om/bookandstay/newreservation/?groupno=10111956'><span style='font-size: 1
 4pt\;'>Drury.com&nbsp\;</span></a></p>\n<p><span style='color: #0000ff\; f
 ont-size: 14pt\;'><span style='color: #000000\;'>Call for assistance if th
 ere aren't any available reservations on the link.</span>&nbsp\;</span></p
 >\n<p>&nbsp\;</p>\n<p>&nbsp\;</p>\n<p>&nbsp\;</p>\n<p style='text-align: c
 enter\;'><a href='http://handprint.niccm.com/products/national-florida-and
 -texas-director-credential-n-a-c.html' title='Registration NAC '><span sty
 le='color: #ffffff\;'><span style='font-size: 19px\; padding: 3px 10px 4px
 \; background-color: #7b3b3b\;'><strong>Click Here To Register Online Now!
 </strong></span></span></a></p>\n<p>&nbsp\;</p>\n<p>&nbsp\;</p>\n<p><span 
 style='color: #000000\;'><strong style='font-size: 14pt\;'><span style='fo
 nt-size: 18pt\;'>Schedule:</span></strong></span></p>\n<div>&nbsp\;</div>
 \n<div><span style='color: #000000\;'><span style='text-decoration: underl
 ine\;'><strong><span style='font-size: 14pt\;'>Friday\, November 8th\, 202
 4</span></strong></span></span></div>\n<div>&nbsp\;</div>\n<div><span styl
 e='font-size: 12pt\; color: #000000\;'><strong>Arrival and Check-In:&nbsp\
 ; </strong>3:45pm-4:00pm &nbsp\;</span><span style='color: #000000\;'><spa
 n style='color: #000000\;'>(Students must arrive and check-in at least 1 h
 our before class starts)</span></span></div>\n<div>&nbsp\;</div>\n<div><sp
 an style='color: #000000\;'></span></div>\n<div><span style='font-size: 12
 pt\; color: #000000\;'><strong>Session A: &nbsp\;</strong>5:00pm-9:00pm&nb
 sp\;<span style='font-size: 10.6667px\;'>4</span><span style='font-size: 1
 0.6667px\;'>&nbsp\;Contact Hours / .4 CEUs</span>&nbsp\;<span style='font-
 size: 8pt\;'>(For Sessions taken individually earn up to 5 Contact Hours /
  .5 CEUs by completing 1 Praxis question)</span></span></div>\n<div style=
 'padding-left: 30px\;'><span style='font-size: 12pt\; color: #000000\;'>Un
 it 1: Fiscal Management&nbsp\;</span></div>\n<div style='padding-left: 30p
 x\;'><span style='font-size: 12pt\; color: #000000\;'>Unit 2: Insurance fo
 r Your Center</span></div>\n<div>&nbsp\;</div>\n<div style='padding-left: 
 30px\;'><span style='color: #000000\;'></span></div>\n<div><span style='co
 lor: #000000\;'><span style='text-decoration: underline\;'><strong><span s
 tyle='font-size: 14pt\;'>Saturday\, November 9th\, 2024</span></strong></s
 pan></span></div>\n<div>&nbsp\;</div>\n<div><span style='color: #000000\;'
 ></span></div>\n<div><span style='font-size: 12pt\; color: #000000\;'><str
 ong>Session B:</strong>&nbsp\;&nbsp\;8:00am-12:00pm&nbsp\;<span style='fon
 t-size: 10.6667px\;'>4</span><span style='font-size: 10.6667px\;'>&nbsp\;C
 ontact Hours / .4 CEUs&nbsp\;</span><span style='font-size: 8pt\;'>(For Se
 ssions taken individually earn up to 5 Contact Hours / .5 CEUs by completi
 ng 1 Praxis question)</span></span></div>\n<div style='padding-left: 30px\
 ;'><span style='font-size: 12pt\; color: #000000\;'>Unit 3: Hiring &amp\; 
 Teacher Orientation</span></div>\n<div style='padding-left: 30px\;'><span 
 style='font-size: 12pt\; color: #000000\;'>Unit 4: Employee Handbooks &amp
 \; Evals</span></div>\n<div style='padding-left: 30px\;'><span style='colo
 r: #000000\;'></span></div>\n<div><span style='font-size: 12pt\; color: #0
 00000\;'><strong>Session C:</strong>&nbsp\;&nbsp\;1:00pm-5:00pm &nbsp\;<sp
 an style='font-size: 10.6667px\;'>4</span><span style='font-size: 10.6667p
 x\;'>&nbsp\;Contact Hours / .4 CEUs&nbsp\;</span><span style='font-size: 8
 pt\;'>(For Sessions taken individually earn up to 5 Contact Hours / .5 CEU
 s by completing 1 Praxis question)</span></span></div>\n<div style='paddin
 g-left: 30px\;'><span style='font-size: 12pt\; color: #000000\;'>Unit 5: C
 enter Management</span></div>\n<div style='padding-left: 30px\;'><span sty
 le='font-size: 12pt\; color: #000000\;'>Unit 6: Child Development - The Es
 sentials</span></div>\n<div>&nbsp\;</div>\n<div style='padding-left: 30px\
 ;'><span style='color: #000000\;'></span></div>\n<div><span style='color: 
 #000000\;'><span style='text-decoration: underline\;'><strong><span style=
 'font-size: 14pt\;'>Sunday\, November 10th\, 2024</span></strong></span><s
 trong><span style='font-size: 14pt\;'>&nbsp\; &nbsp\;</span></strong></spa
 n></div>\n<div>&nbsp\;</div>\n<div><span style='color: #000000\;'></span><
 /div>\n<div><span style='font-size: 12pt\; color: #000000\;'><strong>Sessi
 on D: &nbsp\;</strong>8:00am-12:00pm&nbsp\;<span style='font-size: 10.6667
 px\;'>4</span><span style='font-size: 10.6667px\;'>&nbsp\;Contact Hours / 
 .4 CEUs&nbsp\;</span><span style='font-size: 8pt\;'>(For Sessions taken in
 dividually earn up to 5 Contact Hours / .5 CEUs by completing 1 Praxis que
 stion)</span></span></div>\n<div style='padding-left: 30px\;'><span style=
 'font-size: 12pt\; color: #000000\;'>Unit 7: Dealing with Difficult Employ
 ees</span></div>\n<div style='padding-left: 30px\;'><span style='font-size
 : 12pt\; color: #000000\;'>Unit 8: Administrative Leadership</span></div>
 \n<div style='padding-left: 30px\;'><span style='color: #000000\;'></span>
 </div>\n<div>\n<div><span style='font-size: 12pt\; color: #000000\;'><stro
 ng>Session E: &nbsp\;</strong>1:00pm-5:00pm&nbsp\;<span style='font-size: 
 10.6667px\;'>4</span><span style='font-size: 10.6667px\;'>&nbsp\;Contact H
 ours / .4 CEUs&nbsp\;</span><span style='font-size: 8pt\;'>(For Sessions t
 aken individually earn up to 5 Contact Hours / .5 CEUs by completing 1 Pra
 xis question)</span></span></div>\n<div style='padding-left: 30px\;'><span
  style='font-size: 12pt\; color: #000000\;'>Unit 9: The New Economy</span>
 </div>\n<div style='padding-left: 30px\;'><span style='font-size: 12pt\; c
 olor: #000000\;'>Unit 10: Train the Trainer</span></div>\n<div>&nbsp\;</di
 v>\n<div style='padding-left: 30px\;'><span style='color: #000000\;'></spa
 n></div>\n<div style='padding-left: 30px\;'><span style='color: #000000\;'
 >&nbsp\;&nbsp\;</span></div>\n</div>\n<div>\n<div>\n<div><span style='font
 -size: 12pt\; color: #000000\;'><strong><span style='font-family: arial\, 
 helvetica\, sans-serif\; font-size: 14pt\;'>Session F: &nbsp\;Credential P
 raxis</span>&nbsp\;</strong><span style='font-size: 8pt\;'>(25 Contact Hou
 rs / 2.5 CEUs)</span></span></div>\n<div><span style='color: #000000\; fon
 t-family: arial\, helvetica\, sans-serif\; font-size: 14pt\;'>When attendi
 ng the full conference\, each Session is worth 4 Hours/ .4 CEUs for a tota
 l of 20 hours for sessions A-E. &nbsp\;Convert the 20 contact hours / 2 CE
 Us from attendance in sessions A-E into the NAC (which is worth 45 contact
  hours/4.5 CEUs) by completing the Praxis. Students will be assigned an in
 structor to advise them during the completion of their project from home i
 f they have questions. Students also have the option of registering for tu
 toring to complete their praxis during the event\, at a future event or to
  get additional help from home on their praxis.&nbsp\;</span></div>\n<div>
 &nbsp\;</div>\n</div>\n<div>&nbsp\;</div>\n<div><span style='color: #00000
 0\; font-family: arial\, helvetica\, sans-serif\;'><span style='color: #99
 3300\;'><strong style='font-family: arial\, helvetica\, sans-serif\; font-
 size: 16px\;'><a href='http://handprint.niccm.com/products/national-admini
 strators-credential-n-a-c-tutoring.html' title='NAC Tutoring Registration'
 ><span style='color: #993300\;'>Optional Tutoring $170 - includes tutoring
  binder</span></a></strong></span></span><span style='color: #000000\; fon
 t-family: arial\, helvetica\, sans-serif\; font-size: 14pt\;'><strong styl
 e='font-family: arial\, helvetica\, sans-serif\; font-size: 16px\;'>&nbsp\
 ;&nbsp\;</strong>Students who elect to stay for tutoring will receive a li
 st of documentation to bring with them. The presenter will provide individ
 ualized assistance to each tutoring participant in order to help them put 
 together and complete their Praxis. Tutoring allows students the&nbsp\;<st
 rong>opportunity</strong>&nbsp\;of completing their test and praxis at the
  event and&nbsp\;<strong>leave having earned their certificate</strong>. T
 hose who wish to participate in tutoring are advised to register for this 
 service at least 3 days before the event in order to arrive prepared for t
 utoring. Tutoring is usually offered on Saturday and Sunday of each event 
 from approximately 5:15 pm - 8:15 pm.</span></div>\n</div>
DTSTART:20241108T160000Z
DTEND:20241110T170000Z
SUMMARY:NAC - San Antonio 1124      
URL:https://niccm.com/70-upcoming-credential-courses/939-nac-san-antonio-11
 24
END:VEVENT
END:VCALENDAR
