BEGIN:VCALENDAR
VERSION:2.0
PRODID:-//https://niccm.com//NONSGML kigkonsult.se iCalcreator 2.23.20//
METHOD:PUBLISH
X-WR-CALNAME:JCal Pro Calendar
X-WR-CALDESC:Your online events calendar
X-WR-TIMEZONE:UTC
BEGIN:VTIMEZONE
TZID:UTC
BEGIN:STANDARD
DTSTART:20260425T022019
TZOFFSETFROM:+0000
TZOFFSETTO:+0000
END:STANDARD
END:VTIMEZONE
BEGIN:VEVENT
UID:20220422T080000UTC-8509SnHkw7@https://niccm.com/
DTSTAMP:20260425T022019Z
CATEGORIES:Past NICCM Events
DESCRIPTION:<h1 style='color: #000000\; visibility: visible\; text-align: c
 enter\;'><span style='font-family: arial\, helvetica\, sans-serif\; font-s
 ize: 18pt\;'>CDA Fast Track&nbsp\;</span></h1>\n<h2 style='color: #000000\
 ; visibility: visible\; text-align: justify\;'><span style='font-size: 12p
 t\; font-family: arial\, helvetica\, sans-serif\;'><strong style='font-siz
 e: 18pt\;'>Location/Hotel:</strong></span>&nbsp\;</h2>\n<p style='font-sty
 le: italic\;'><span style='font-family: arial\, helvetica\, sans-serif\; f
 ont-size: large\;'>DoubleTree by HIlton - Jacksonville Riverfront</span></
 p>\n<p><span style='font-size: 14pt\;'>1201 Riverplace Boulevard</span></p
 >\n<p><span style='font-size: 14pt\;'>Jacksonville\, FL &nbsp\;32207</span
 ></p>\n<p><span style='font-size: 14pt\;'>(904) 398- 8800</span></p>\n<p s
 tyle='font-style: italic\;'><span style='font-family: arial\, helvetica\, 
 sans-serif\; font-size: 14pt\;'>Reservations <a href='https://www.hilton.c
 om/en/book/reservation/deeplink/?&amp\;ctyhocn=MCOBVGI&amp\;groupCode=NICM
 2&amp\;arrival=20210519&amp\;departure=20210523&amp\;cid=OM\,WW\,HILTONLIN
 K\,en\,DirectLink&amp\;fromId=HILTONLINKDIRECT'></a><a href='https://www.h
 ilton.com/en/book/reservation/rooms/?ctyhocn=JAXJRDT&amp\;arrivalDate=2022
 -04-28&amp\;departureDate=2022-05-02&amp\;room1NumAdults=1&amp\;cid=OM%2CW
 W%2CHILTONLINK%2CEN%2CDirectLink'>Hilton.com</a></span></p>\n<p>&nbsp\;</p
 >\n<p style='background-color: transparent\; margin: 2px 0px\; padding: 0p
 x\; border: 0px\; outline: 0px\; font-size: 12px\; color: #505f69\; font-f
 amily: Helvetica\, Arial\, FreeSans\, sans-serif\;'><span style='margin: 0
 px\; padding: 0px\; border: 0px\; outline: 0px\; font-size: 14pt\; backgro
 und-color: transparent\; font-family: arial\, helvetica\, sans-serif\;'></
 span>&nbsp\;</p>\n<address>&nbsp\;</address>\n<p style='text-align: center
 \;'><a href='http://handprint.niccm.com/products/cda-fast-track.html' titl
 e='Registration CDA Fast Track '><span style='font-size: 18pt\;'><span sty
 le='margin: 0px\; padding: 0px\; border: 0px\; outline: 0px\; background-c
 olor: transparent\; font-family: arial\, helvetica\, sans-serif\;'><span s
 tyle='color: #ffffff\;'><span style='font-size: 19px\; padding: 3px 10px 4
 px\; background-color: #7b3b3b\;'><strong>Click Here To Register Online No
 w!</strong></span></span></span></span></a></p>\n<p style='text-align: cen
 ter\;'>&nbsp\;<span style='font-size: 18pt\;'><span style='margin: 0px\; p
 adding: 0px\; border: 0px\; outline: 0px\; background-color: transparent\;
  font-family: arial\, helvetica\, sans-serif\;'>&nbsp\; &nbsp\; &nbsp\; &n
 bsp\; &nbsp\; &nbsp\; &nbsp\; &nbsp\; &nbsp\; &nbsp\; &nbsp\; &nbsp\; &nbs
 p\;&nbsp\;</span></span>&nbsp\;</p>\n<p style='text-align: center\;'>&nbsp
 \;</p>\n<div style='text-align: center\;'>\n<p style='visibility: visible\
 ; text-align: justify\;'><span style='font-size: 12pt\; font-family: arial
 \, helvetica\, sans-serif\;'><strong style='font-size: 18pt\;'>Course Cont
 ent &amp\; Schedule:</strong></span>&nbsp\;</p>\n<p style='visibility: vis
 ible\; text-align: justify\;'>&nbsp\;</p>\n</div>\n<div style='text-align:
  justify\;'><span style='text-decoration: underline\;'><span style='font-s
 ize: large\;'><strong><span style='font-size: 14pt\;'>Friday\, April 29th\
 , 2022</span></strong></span></span></div>\n<div>&nbsp\;</div>\n<div><span
  style='font-size: 14pt\;'><strong>Arrival and Check-In</strong>: 7:00am -
 7:15am <span style='font-size: 12pt\;'>(students must arrive and check-in 
 45 min before class)</span></span></div>\n<div style='padding-left: 30px\;
 '><span style='font-size: large\;'><strong><br /></strong></span><span sty
 le='font-size: 14pt\;'><strong>C</strong></span><span style='font-size: 14
 pt\;'><strong>lass A</strong></span><span style='font-size: 14pt\;'>: 8:00
 am -12:00pm &nbsp\;<span style='font-size: 12pt\;'>(4 Contact Hours/.4 CEU
 s)</span></span></div>\n<div style='padding-left: 30px\;'>&nbsp\; &nbsp\; 
 &nbsp\; &nbsp\; &nbsp\;<span style='font-size: 12pt\;'><strong><span style
 ='font-family: Arial\;'><span style='font-size: 14pt\;'>Introduction:</spa
 n>&nbsp\;</span>&nbsp\;</strong> </span><span style='font-size: 12pt\;'><s
 trong><span style='font-family: Arial\;'>CDA and the NICCM 3-Day CDA Fast 
 Track</span><span style='font-family: Arial\;'>&nbsp\; &nbsp\;</span></str
 ong></span></div>\n<div style='margin-left: 60px\;'>\n<p><span style='font
 -size: 14pt\;'><strong><span style='font-family: Arial\;'>Unit 1: &nbsp\; 
 &nbsp\; &nbsp\; &nbsp\; &nbsp\; &nbsp\;</span>&nbsp\;&nbsp\;</strong></spa
 n><span style='font-size: 12pt\;'><strong><span style='font-family: Arial\
 ;'>Keys to Writing Statements</span> </strong> </span></p>\n<p style='marg
 in-left: 31px\;'><span style='font-size: 12pt\;'><strong><span style='font
 -family: Arial\;'>&nbsp\; &nbsp\; &nbsp\; &nbsp\; &nbsp\; &nbsp\; &nbsp\; 
 &nbsp\; &nbsp\; &nbsp\; &nbsp\; &nbsp\;Competency Statement 1:&nbsp\;&nbsp
 \;</span> </strong><span style='font-family: Arial\;'>Planning a safe and 
 healthy learning environment</span></span></p>\n<p><span style='font-size:
  14pt\;'><strong><span style='font-family: Arial\;'>Unit 2: &nbsp\; &nbsp\
 ; &nbsp\; &nbsp\; &nbsp\; &nbsp\; </span><span>&nbsp\;</span></strong></sp
 an><span style='font-size: 12pt\;'><strong><span style='font-family: Arial
 \;'>Competency Statement 2:&nbsp\;&nbsp\;</span> </strong><span style='fon
 t-family: Arial\;'>Advancing children’s physical and intellectual developm
 ent</span></span></p>\n<p style='margin-left: 1in\; text-indent: -1in\;'><
 span style='font-size: 14pt\;'><strong><span style='font-family: Arial\;'>
 Unit 3:&nbsp\; &nbsp\; &nbsp\; &nbsp\; &nbsp\; &nbsp\;&nbsp\;</span>&nbsp\
 ;</strong> </span><span style='font-size: 12pt\;'><strong><span style='fon
 t-family: Arial\;'>Competency Statement 3:&nbsp\;&nbsp\;</span> </strong><
 span style='font-family: Arial\;'>Supporting children’s social and emotion
 al development</span></span></p>\n</div>\n<div style='padding-left: 30px\;
 '><span style='font-size: 12pt\;'><br /><span style='font-size: 14pt\;'><s
 trong>Class B:</strong>&nbsp\;12:30pm- 5:30pm &nbsp\;<span style='font-siz
 e: 12pt\;'>(5 Contact Hours/.5 CEUs)</span></span> </span></div>\n<div sty
 le='padding-left: 30px\;'>&nbsp\; &nbsp\; &nbsp\; &nbsp\; &nbsp\;<strong s
 tyle='font-family: arial\, helvetica\, sans-serif\; font-size: 12pt\; text
 -indent: -1in\; color: inherit\;'><span style='font-size: 14pt\;'>Unit 4:&
 nbsp\;</span>&nbsp\; &nbsp\; &nbsp\; &nbsp\; &nbsp\; &nbsp\; &nbsp\; &nbsp
 \;Competency Statement 4:&nbsp\;<span style='font-size: 14pt\;'></span></s
 trong><span style='font-size: 12pt\;'>Establishing positive and productive
  relationships with families</span></div>\n<div style='padding-left: 60px\
 ;'>\n<p style='margin-left: 1in\; text-indent: -1in\;'><span style='font-f
 amily: arial\, helvetica\, sans-serif\; font-size: 12pt\;'><span style='fo
 nt-size: 14pt\;'><strong>Unit 5: &nbsp\; &nbsp\; &nbsp\; &nbsp\; &nbsp\; &
 nbsp\; &nbsp\;<span style='font-size: 12pt\;'>Competency Statement 5:</spa
 n>&nbsp\;&nbsp\;</strong></span>Ensuring a well-run purposeful program</sp
 an></p>\n<p style='margin-left: 1in\; text-indent: -1in\;'><span style='fo
 nt-family: arial\, helvetica\, sans-serif\; font-size: 12pt\;'><strong><sp
 an style='font-size: 14pt\;'>Unit 6:&nbsp\;</span>&nbsp\; &nbsp\; &nbsp\; 
 &nbsp\; &nbsp\; &nbsp\; &nbsp\; &nbsp\;Competency Statement 6:&nbsp\;&nbsp
 \;</strong>Maintaining a commitment to professionalism</span></p>\n<p><spa
 n style='font-family: Arial\; font-size: 12pt\;'><strong>Documenting Profe
 ssional Education</strong>&nbsp\;- 8 CDA Subject Areas</span><span style='
 font-size: 12pt\;'></span></p>\n</div>\n<div><span style='font-size: 12pt\
 ;'><br /></span><span style='text-decoration: underline\;'><span style='fo
 nt-size: large\;'><strong><span style='font-size: 14pt\;'>Saturday\, April
  30th\, 2022</span></strong></span></span></div>\n<div style='padding-left
 : 30px\;'>&nbsp\;</div>\n<div style='padding-left: 30px\;'><span style='fo
 nt-size: 14pt\;'><strong>Class C</strong><strong>:</strong>12:00pm-4:30pm&
 nbsp\;</span><span style='font-size: 12pt\;'>&nbsp\;(arrivals will be stag
 gard\, students will be scheduled in as early as 8:00am)</span></div>\n<di
 v style='padding-left: 30px\;'><span style='font-size: 10pt\;'>(13 Hours/1
 .3 CEUs&nbsp\;will be awarded for sessions C &amp\; E upon completion of t
 he course)</span></div>\n<div style='padding-left: 30px\;'><span style='fo
 nt-size: 12pt\;'><strong><span style='font-family: Arial\;'><span style='f
 ont-size: 14pt\;'>&nbsp\; &nbsp\; &nbsp\; Directed Portfolio Lab:</span>&n
 bsp\;&nbsp\;</span> </strong><span style='font-family: Arial\;'>The Direct
 ed Portfolio Lab allows for individual consultation &amp\; one-on-one time
  with</span></span><span style='font-size: 12pt\;'><span style='font-famil
 y: Arial\;'>&nbsp\;the &nbsp\; &nbsp\;</span></span></div>\n<div style='pa
 dding-left: 30px\;'><span style='font-size: 12pt\;'><span style='font-fami
 ly: Arial\;'>&nbsp\; &nbsp\; &nbsp\; &nbsp\;presenter. &nbsp\;Participants
  will work on their portfolio and meet with the presenter to discuss their
  statements and</span></span><span style='font-size: 12pt\;'><span style='
 font-family: Arial\;'>&nbsp\;the </span></span></div>\n<div style='padding
 -left: 30px\;'><span style='font-size: 12pt\;'><span style='font-family: A
 rial\;'>&nbsp\; &nbsp\; &nbsp\; &nbsp\;documentation within their professi
 onal portfolio.</span></span></div>\n<div style='padding-left: 30px\;'><sp
 an style='font-size: 12pt\;'><br /></span><span style='font-size: 14pt\;'>
 <strong>Class D:&nbsp\;</strong>5:30pm - 9:30pm <span style='font-size: 12
 pt\;'>(dissmissal will be staggard\, students will be dismissed throughout
  the evening)</span></span></div>\n<div style='padding-left: 30px\;'><span
  style='font-size: 14pt\;'><span style='font-size: 12pt\;'>(4 Contact Hour
 s/.4 CEUs)</span></span></div>\n<div style='padding-left: 30px\;'>&nbsp\; 
 &nbsp\; &nbsp\; &nbsp\; &nbsp\;<strong style='font-size: 12pt\; text-inden
 t: -1in\; color: inherit\; font-family: inherit\;'><span style='font-famil
 y: Arial\;'><span style='font-size: 14pt\;'>Unit 7:&nbsp\;&nbsp\;</span>&n
 bsp\; &nbsp\; The Professional Philosophy Statement</span></strong></div>
 \n<div style='padding-left: 60px\;'>\n<p style='margin-left: 1in\; text-in
 dent: -1in\;'><span style='font-size: 12pt\;'><strong><span style='font-fa
 mily: Arial\;'>&nbsp\; &nbsp\; &nbsp\; &nbsp\; &nbsp\; &nbsp\; &nbsp\; &nb
 sp\; &nbsp\; &nbsp\; Individual consultations</span> </strong> </span></p>
 \n<p style='margin-left: 151px\; text-indent: -1in\;'><span style='font-si
 ze: 12pt\;'><strong><span style='font-family: Arial\;'>&nbsp\; &nbsp\; &nb
 sp\; &nbsp\;</span><strong><span style='font-family: Arial\;'><strong>CDA 
 practice Exam&nbsp\;</strong> </span> </strong> </strong> </span></p>\n</d
 iv>\n<div><span style='font-size: 12pt\;'>&nbsp\;<br /><span style='text-d
 ecoration: underline\;'><span style='font-size: 14pt\;'><strong>Sunday\, M
 ay 1st\, 2022</strong></span></span></span></div>\n<div style='margin-left
 : 30px\;'><span style='font-size: large\;'><strong><br /></strong></span><
 span style='font-size: 14pt\;'><strong>Class E</strong><strong>:</strong>&
 nbsp\;12:00pm-4:30pm</span><span style='font-size: 12pt\;'>&nbsp\;<span st
 yle='font-size: 10pt\;'>(13 Hours/1.3 CEU's will be awarded for sessions C
  &amp\; E &nbsp\;upon completion of the course)</span></span></div>\n<div 
 style='margin-left: 30px\;'>\n<p style='margin-left: 1in\; text-indent: -1
 in\;'><span style='font-size: 12pt\;'><strong><span style='font-family: Ar
 ial\;'>&nbsp\; &nbsp\; &nbsp\; &nbsp\; &nbsp\; &nbsp\; &nbsp\; &nbsp\; &nb
 sp\; &nbsp\; &nbsp\; &nbsp\; &nbsp\; Understanding the verification visit<
 /span> </strong> </span></p>\n<p style='margin-left: 1in\; text-indent: -1
 in\;'><span style='font-size: 12pt\;'><strong><span style='font-family: Ar
 ial\;'>&nbsp\; &nbsp\; &nbsp\; &nbsp\; &nbsp\; &nbsp\; &nbsp\; &nbsp\; &nb
 sp\; &nbsp\; &nbsp\; &nbsp\; &nbsp\;&nbsp\;<strong>The application process
 </strong></span> </strong> </span></p>\n<p style='margin-left: 1in\; text-
 indent: -1in\;'><span style='font-size: 12pt\;'><strong><span style='font-
 family: Arial\;'>&nbsp\; &nbsp\; &nbsp\; &nbsp\; &nbsp\; &nbsp\; &nbsp\; &
 nbsp\; &nbsp\; &nbsp\; &nbsp\; &nbsp\; &nbsp\; Choosing your PD Specialist
 </span> </strong> </span></p>\n<p style='margin-left: 1in\; text-indent: -
 1in\;'><span style='font-size: 12pt\;'><strong><span style='font-family: A
 rial\;'>&nbsp\; &nbsp\; &nbsp\; &nbsp\; &nbsp\; &nbsp\; &nbsp\; &nbsp\; &n
 bsp\; &nbsp\; &nbsp\; &nbsp\; &nbsp\;&nbsp\;</span></strong></span><span s
 tyle='font-size: 12pt\;'><strong><span style='font-family: Arial\;'>Findin
 g a Pearson Vue testing site&nbsp\;</span></strong></span></p>\n</div>\n<d
 iv>&nbsp\;</div>\n<div style='padding-left: 30px\;'><span style='font-size
 : 12pt\;'><span style='font-size: 14pt\;'><strong>Class F:</strong>&nbsp\;
 5:30pm-9:30pm&nbsp\;<span style='font-size: 12pt\;'>(4 Contact Hours/.4 CE
 Us)</span></span></span></div>\n<div style='padding-left: 30px\;'><span st
 yle='font-size: 12pt\;'><strong><span style='font-family: Arial\;'><span s
 tyle='font-size: 14pt\;'>&nbsp\; &nbsp\; &nbsp\; Unit 8:</span>&nbsp\; &nb
 sp\; &nbsp\;</span></strong></span><span style='font-size: 12pt\;'><strong
 ><span style='font-family: Arial\;'>I<strong>nstructions on completing the
  process</strong></span></strong></span></div>\n<div style='padding-left: 
 60px\;'>\n<p style='margin-left: 1in\; text-indent: -1in\;'><span style='f
 ont-size: 12pt\;'><strong><span style='font-family: Arial\;'>&nbsp\; &nbsp
 \; &nbsp\; &nbsp\; &nbsp\; &nbsp\; &nbsp\; &nbsp\; &nbsp\; &nbsp\; &nbsp\;
  &nbsp\; &nbsp\; </span></strong></span></p>\n<p>&nbsp\;</p>\n<p>&nbsp\;</
 p>\n<footer></footer></div>\n<p style='text-align: center\;'><span style='
 font-size: 24pt\;'>Call (602) 476-1422 for More Information&nbsp\;</span><
 /p>\n<p>&nbsp\;&nbsp\;</p>
DTSTART:20220429T080000Z
DTEND:20220501T160000Z
SUMMARY:CDA Fast Track  - Jacksonville 422
URL:https://niccm.com/71-cda-fast-track/765-cda-fast-track-west-palm-beach-
 422-2
END:VEVENT
END:VCALENDAR
