BEGIN:VCALENDAR
VERSION:2.0
PRODID:-//https://niccm.com//NONSGML kigkonsult.se iCalcreator 2.23.20//
METHOD:PUBLISH
X-WR-CALNAME:JCal Pro Calendar
X-WR-CALDESC:Your online events calendar
X-WR-TIMEZONE:UTC
BEGIN:VTIMEZONE
TZID:UTC
BEGIN:STANDARD
DTSTART:20260425T144336
TZOFFSETFROM:+0000
TZOFFSETTO:+0000
END:STANDARD
END:VTIMEZONE
BEGIN:VEVENT
UID:20230811T070000UTC-5929omeS3C@https://niccm.com/
DTSTAMP:20260425T144336Z
CATEGORIES:Past NICCM Events
DESCRIPTION:<h1 style='color: #000000\; visibility: visible\; text-align: c
 enter\;'><span style='font-family: arial\, helvetica\, sans-serif\; font-s
 ize: 18pt\;'>CDA Fast Track&nbsp\;</span></h1>\n<h2 style='color: #000000\
 ; visibility: visible\; text-align: justify\;'><span style='font-size: 12p
 t\; font-family: arial\, helvetica\, sans-serif\;'><strong style='font-siz
 e: 18pt\;'>Location/Hotel:</strong></span>&nbsp\;</h2>\n<p style='backgrou
 nd-color: transparent\; margin: 2px 0px\; padding: 0px\; border: 0px\; out
 line: 0px\; font-size: 12px\; color: #505f69\; font-family: Helvetica\, Ar
 ial\, FreeSans\, sans-serif\;'>&nbsp\;</p>\n<p style='background-color: tr
 ansparent\; margin: 2px 0px\; padding: 0px\; border: 0px\; outline: 0px\; 
 font-size: 12px\; color: #505f69\; font-family: Helvetica\, Arial\, FreeSa
 ns\, sans-serif\;'><span style='margin: 0px\; padding: 0px\; border: 0px\;
  outline: 0px\; font-size: 14pt\; background-color: transparent\; color: #
 000000\;'>Hampton Inn &amp\; Suites- Houston/Passadena</span></p>\n<p styl
 e='background-color: transparent\; margin: 2px 0px\; padding: 0px\; border
 : 0px\; outline: 0px\; font-size: 12px\; color: #505f69\; font-family: Hel
 vetica\, Arial\, FreeSans\, sans-serif\;'><span style='margin: 0px\; paddi
 ng: 0px\; border: 0px\; outline: 0px\; font-size: 14pt\; background-color:
  transparent\; color: #000000\;'>4741 East Sam Houston Parkway South</span
 ></p>\n<p style='background-color: transparent\; margin: 2px 0px\; padding
 : 0px\; border: 0px\; outline: 0px\; font-size: 12px\; color: #505f69\; fo
 nt-family: Helvetica\, Arial\, FreeSans\, sans-serif\;'><span style='margi
 n: 0px\; padding: 0px\; border: 0px\; outline: 0px\; font-size: 14pt\; bac
 kground-color: transparent\; color: #000000\;'>Passadena\, TX &nbsp\;77505
 </span></p>\n<p style='background-color: transparent\; margin: 2px 0px\; p
 adding: 0px\; border: 0px\; outline: 0px\; font-size: 12px\; color: #505f6
 9\; font-family: Helvetica\, Arial\, FreeSans\, sans-serif\;'><span style=
 'margin: 0px\; padding: 0px\; border: 0px\; outline: 0px\; font-size: 14pt
 \; background-color: transparent\; color: #000000\;'>(281) 998-3300</span>
 </p>\n<p style='text-align: center\;'><a href='https://www.hilton.com/en/b
 ook/reservation/deeplink/?ctyhocn=PBIPGES&amp\;groupCode=CESCCM&amp\;arriv
 aldate=2022-12-06&amp\;departuredate=2022-12-12&amp\;cid=OM\,WW\,HILTONLIN
 K\,EN\,DirectLink&amp\;fromId=HILTONLINKDIRECT' style='font-size: 14pt\; b
 ackground-color: inherit\; font-family: inherit\;'></a></p>\n<p><a href='h
 ttps://www.hilton.com/en/book/reservation/deeplink/?ctyhocn=PBIPGES&amp\;g
 roupCode=CESCCM&amp\;arrivaldate=2022-12-06&amp\;departuredate=2022-12-12&
 amp\;cid=OM\,WW\,HILTONLINK\,EN\,DirectLink&amp\;fromId=HILTONLINKDIRECT' 
 style='font-size: 14pt\; background-color: inherit\; font-family: inherit\
 ;'></a><a href='https://www.hilton.com/en/book/reservation/rooms/?ctyhocn=
 PBIPGES&amp\;arrivalDate=2022-12-06&amp\;departureDate=2022-12-12&amp\;roo
 m1NumAdults=1&amp\;cid=OM%2CWW%2CHILTONLINK%2CEN%2CDirectLink' style='font
 -size: 14pt\; background-color: inherit\; font-family: inherit\;'><span st
 yle='font-size: 14pt\;'></span></a></p>\n<p>&nbsp\;</p>\n<address>&nbsp\;<
 /address>\n<p style='text-align: center\;'><a href='http://handprint.niccm
 .com/products/cda-fast-track.html' title='Registration CDA Fast Track '><s
 pan style='font-size: 18pt\;'><span style='margin: 0px\; padding: 0px\; bo
 rder: 0px\; outline: 0px\; background-color: transparent\; font-family: ar
 ial\, helvetica\, sans-serif\;'><span style='color: #ffffff\;'><span style
 ='font-size: 19px\; padding: 3px 10px 4px\; background-color: #7b3b3b\;'><
 strong>Click Here To Register Online Now!</strong></span></span></span></s
 pan></a></p>\n<p style='text-align: center\;'>&nbsp\;<span style='font-siz
 e: 18pt\;'><span style='margin: 0px\; padding: 0px\; border: 0px\; outline
 : 0px\; background-color: transparent\; font-family: arial\, helvetica\, s
 ans-serif\;'>&nbsp\; &nbsp\; &nbsp\; &nbsp\; &nbsp\; &nbsp\; &nbsp\; &nbsp
 \; &nbsp\; &nbsp\; &nbsp\; &nbsp\; &nbsp\;&nbsp\;</span></span>&nbsp\;</p>
 \n<p style='text-align: center\;'>&nbsp\;</p>\n<div style='text-align: cen
 ter\;'>\n<p style='visibility: visible\; text-align: justify\;'><span styl
 e='font-size: 12pt\; font-family: arial\, helvetica\, sans-serif\;'><stron
 g style='font-size: 18pt\;'>Course Content &amp\; Schedule:</strong></span
 >&nbsp\;</p>\n<p style='visibility: visible\; text-align: justify\;'>&nbsp
 \;</p>\n</div>\n<div style='text-align: justify\;'><span style='text-decor
 ation: underline\;'><span style='font-size: large\;'><strong><span style='
 font-size: 14pt\;'>Friday\, September 15th\, 2023</span></strong></span></
 span></div>\n<div>&nbsp\;</div>\n<div><span style='font-size: 14pt\;'><str
 ong>Arrival and Check-In</strong>: 6:45am -7:00am <span style='font-size: 
 12pt\;'>(students must arrive and check-in 15 minutes before class)</span>
 </span></div>\n<div style='padding-left: 30px\;'><span style='font-size: l
 arge\;'><strong><br /></strong></span><span style='font-size: 14pt\;'><str
 ong>C</strong></span><span style='font-size: 14pt\;'><strong>lass A</stron
 g></span><span style='font-size: 14pt\;'>: 7:00am -12:00pm &nbsp\;<span st
 yle='font-size: 12pt\;'>(5 Contact Hours/.5 CEUs)</span></span></div>\n<di
 v style='padding-left: 30px\;'>&nbsp\; &nbsp\; &nbsp\; &nbsp\; &nbsp\;<spa
 n style='font-size: 12pt\;'><strong><span style='font-family: Arial\;'><sp
 an style='font-size: 14pt\;'>Introduction:</span>&nbsp\;</span>&nbsp\;</st
 rong> </span><span style='font-size: 12pt\;'><strong><span style='font-fam
 ily: Arial\;'>Overview of the Course</span><span style='font-family: Arial
 \;'>&nbsp\; &nbsp\;</span></strong></span></div>\n<div style='margin-left:
  60px\;'>\n<p><span style='font-size: 14pt\;'><strong><span style='font-fa
 mily: Arial\;'>Unit 1: &nbsp\; &nbsp\; &nbsp\; &nbsp\; &nbsp\; &nbsp\;</sp
 an>&nbsp\;&nbsp\;</strong></span><span style='font-size: 12pt\;'><strong><
 span style='font-family: Arial\;'>Keys to Writing Statements</span> </stro
 ng> </span></p>\n<p style='margin-left: 31px\;'><span style='font-size: 12
 pt\;'><strong><span style='font-family: Arial\;'>&nbsp\; &nbsp\; &nbsp\; &
 nbsp\; &nbsp\; &nbsp\; &nbsp\; &nbsp\; &nbsp\; &nbsp\; &nbsp\; &nbsp\;Comp
 etency Statement 1:&nbsp\;&nbsp\;</span> </strong><span style='font-family
 : Arial\;'>Planning a safe and healthy learning environment</span></span><
 /p>\n<p><span style='font-size: 14pt\;'><strong><span style='font-family: 
 Arial\;'>Unit 2: &nbsp\; &nbsp\; &nbsp\; &nbsp\; &nbsp\; &nbsp\; </span><s
 pan>&nbsp\;</span></strong></span><span style='font-size: 12pt\;'><strong>
 <span style='font-family: Arial\;'>Competency Statement 2:&nbsp\;&nbsp\;</
 span> </strong><span style='font-family: Arial\;'>Advancing children’s phy
 sical and intellectual development</span></span></p>\n</div>\n<div style='
 padding-left: 30px\;'><span style='font-size: 12pt\;'><br /><span style='f
 ont-size: 14pt\;'><strong>Class B:</strong>&nbsp\;12:30pm- 5:30pm &nbsp\;<
 span style='font-size: 12pt\;'>(5 Contact Hours/.5 CEUs)</span></span> </s
 pan></div>\n<div style='padding-left: 30px\;'><span style='font-size: 14pt
 \;'><span style='font-size: 14pt\;'><strong><span style='font-family: Aria
 l\;'>&nbsp\; &nbsp\; &nbsp\;</span></strong></span></span>\n<div style='pa
 dding-left: 30px\; text-align: justify\;'><span style='font-size: 14pt\;'>
 <strong><span style='font-family: Arial\;'><span style='font-family: arial
 \, helvetica\, sans-serif\; font-size: 14pt\;'>Unit 3:&nbsp\; &nbsp\;&nbsp
 \;</span></span></strong></span><span style='font-size: 14pt\; font-family
 : arial\, helvetica\, sans-serif\;'><strong>Competency Statement 3:&nbsp\;
 &nbsp\;</strong>Supporting children’s social and emotional development</sp
 an></div>\n<div style='text-align: justify\;'><span style='font-family: ar
 ial\, helvetica\, sans-serif\; font-size: 14pt\;'>&nbsp\; &nbsp\; &nbsp\; 
 </span><span style='font-family: arial\, helvetica\, sans-serif\;'><strong
  style='font-family: arial\, helvetica\, sans-serif\; font-size: 12pt\; te
 xt-indent: -1in\; color: inherit\;'><span style='font-size: 14pt\;'>Unit 4
 :&nbsp\; &nbsp\;&nbsp\;</span><span style='font-size: 14pt\;'>Competency S
 tatement 4:&nbsp\;&nbsp\;</span></strong></span><span style='font-family: 
 arial\, helvetica\, sans-serif\; font-size: 14pt\;'>Establishing positive 
 and productive relationships with families</span></div>\n<div style='text-
 align: justify\;'><span style='font-family: arial\, helvetica\, sans-serif
 \; font-size: 14pt\;'><strong>&nbsp\; &nbsp\; &nbsp\; Unit 5:&nbsp\; &nbsp
 \;&nbsp\;</strong></span><span style='font-size: 14pt\;'><span style='font
 -family: arial\, helvetica\, sans-serif\;'><strong>Competency Statement 5:
 &nbsp\;&nbsp\;</strong></span><span style='font-family: arial\, helvetica\
 , sans-serif\;'>Ensuring a well-run purposeful program&nbsp\;</span></span
 ></div>\n<div style='text-align: justify\;'><span style='font-family: aria
 l\, helvetica\, sans-serif\;'><strong><span style='font-family: arial\, he
 lvetica\, sans-serif\; font-size: 14pt\;'>&nbsp\; &nbsp\; &nbsp\; Unit 6:&
 nbsp\;&nbsp\; &nbsp\;</span><span style='font-size: 14pt\;'>Competency Sta
 tement 6:&nbsp\;&nbsp\;</span></strong><span style='font-size: 14pt\;'>Mai
 ntaining a commitment to professionalism</span></span></div>\n<div style='
 padding-left: 60px\;'>&nbsp\;</div>\n</div>\n<div style='padding-left: 60p
 x\;'>\n<p style='margin-left: 1in\; text-indent: -1in\;'><span style='font
 -family: Arial\; font-size: 12pt\;'><strong>Documenting Professional Educa
 tion</strong>&nbsp\;- 8 CDA Subject Areas</span><span style='font-size: 12
 pt\;'></span></p>\n</div>\n<div><span style='font-size: 12pt\;'><br /></sp
 an><span style='text-decoration: underline\;'><span style='font-size: larg
 e\;'><strong><span style='font-size: 14pt\;'>Saturday\, September 16th\, 2
 023</span></strong></span></span></div>\n<div style='padding-left: 30px\;'
 >&nbsp\;</div>\n<div style='padding-left: 30px\;'><span style='font-size: 
 14pt\;'><strong>Class C</strong><strong>:&nbsp\;</strong>8:00am-3:00pm&nbs
 p\;<span style='font-size: 12pt\;'>(7 Contact Hours/.7 CEUs)</span></span>
 </div>\n<div style='padding-left: 30px\;'><span style='font-size: 12pt\;'>
 &nbsp\;(arrivals will be staggered\, students will be scheduled in as earl
 y as 8:00am)</span></div>\n<div style='padding-left: 30px\;'><span style='
 font-size: 12pt\;'><strong><span style='font-family: Arial\;'><span style=
 'font-size: 14pt\;'>&nbsp\; &nbsp\; &nbsp\;</span></span></strong></span><
 /div>\n<div style='padding-left: 30px\;'><span style='font-size: 14pt\;'><
 strong>Class D:&nbsp\;</strong>4:00pm - 7:00pm <span style='font-size: 12p
 t\;'>(3 Contact Hours/.3 CEUs)&nbsp\;</span></span></div>\n<div style='pad
 ding-left: 30px\;'><span style='font-size: 14pt\;'><span style='font-size:
  14pt\;'></span><span style='font-size: 12pt\;'>(dissmissal will be stagge
 red\, students will be dismissed throughout the evening)</span></span></di
 v>\n<div>\n<div>&nbsp\;</div>\n<div style='padding-left: 30px\; text-align
 : center\;'><span style='font-size: 12pt\;'><span style='font-size: 12pt\;
 '><strong><span style='font-family: Arial\;'><span style='font-size: 14pt\
 ;'>C &amp\; D Class Content</span></span></strong></span></span>\n<div sty
 le='padding-left: 60px\;'>&nbsp\;</div>\n</div>\n<div style='padding-left:
  30px\;'><span style='font-size: 12pt\;'><strong><span style='font-family:
  Arial\;'><span style='font-size: 14pt\;'>Directed Portfolio Lab:</span>&n
 bsp\;&nbsp\;</span> </strong><span style='font-family: Arial\;'>The Direct
 ed Portfolio Lab allows for individual consultation &amp\; one-on-one time
  with</span></span><span style='font-size: 12pt\;'><span style='font-famil
 y: Arial\;'>&nbsp\;the &nbsp\; &nbsp\;</span></span></div>\n<div style='pa
 dding-left: 30px\;'><span style='font-size: 12pt\;'><span style='font-fami
 ly: Arial\;'>instructor. &nbsp\;Participants will work on their portfolio 
 and meet with the instructor to discuss their statements and</span></span>
 <span style='font-size: 12pt\;'><span style='font-family: Arial\;'>&nbsp\;
 the </span></span></div>\n<div style='padding-left: 30px\;'><span style='f
 ont-size: 12pt\;'><span style='font-family: Arial\;'>documentation within 
 their professional portfolio.</span></span></div>\n</div>\n<div style='pad
 ding-left: 30px\;'>\n<div style='padding-left: 30px\;'>&nbsp\;</div>\n<div
  style='padding-left: 30px\;'><strong style='font-size: 12pt\; text-indent
 : -1in\; color: inherit\; font-family: inherit\;'><span style='font-family
 : Arial\;'><span style='font-size: 12pt\;'>The Professional Philosophy Sta
 tement</span></span></strong></div>\n<div>&nbsp\;</div>\n<div style='paddi
 ng-left: 30px\;'><span style='font-size: 12pt\;'><strong>Individual Consul
 tations - allows one on one with instructors</strong></span></div>\n<div s
 tyle='padding-left: 60px\;'>&nbsp\;</div>\n</div>\n<div style='padding-lef
 t: 60px\;'>&nbsp\;</div>\n<div><span style='font-size: 12pt\;'>&nbsp\;<spa
 n style='text-decoration: underline\;'><span style='font-size: 14pt\;'><st
 rong>Sunday\, September 17th\, 2023</strong></span></span></span></div>\n<
 div style='margin-left: 30px\;'><span style='font-size: large\;'><strong><
 br /></strong></span><span style='font-size: 14pt\;'><strong>Class E</stro
 ng><strong>:</strong>&nbsp\;8:00am-3:00pm</span><span style='font-size: 12
 pt\;'>&nbsp\;<span style='font-size: 12pt\;'>(7 Contact Hours/.7 CEUs)</sp
 an></span></div>\n<div style='margin-left: 30px\;'>\n<p style='margin-left
 : 1in\; text-indent: -1in\;'><span style='font-size: 14pt\;'><strong>Class
  F:</strong>&nbsp\;4:00pm-7:00pm&nbsp\;<span style='background-color: inhe
 rit\; color: inherit\; font-family: inherit\; caret-color: auto\;'>(3 Cont
 act Hours/.3 CEUs)</span></span></p>\n<p>&nbsp\;</p>\n</div>\n<div style='
 padding-left: 30px\; text-align: center\;'><span style='font-size: 12pt\;'
 ><strong><span style='font-family: Arial\;'><span style='font-size: 14pt\;
 '><span style='font-size: 14pt\;'>E &amp\; F Class Content</span><span sty
 le='font-family: Arial\;'></span><span style='font-size: 12pt\;'></span><s
 pan style='font-size: 12pt\;'></span>&nbsp\; &nbsp\; &nbsp\; </span></span
 ></strong></span></div>\n<div style='padding-left: 30px\;'><span style='fo
 nt-size: 12pt\;'><strong><span style='font-family: Arial\;'><span style='f
 ont-size: 14pt\;'><span style='font-family: Arial\;'>&nbsp\; &nbsp\; &nbsp
 \; &nbsp\;<span style='font-size: 14pt\;'>Unit 7:</span><span style='font-
 family: Arial\;'>&nbsp\;CDA Practice Exam&nbsp\;</span>&nbsp\;</span><span
  style='font-size: 12pt\;'></span></span></span></strong></span></div>\n<d
 iv style='padding-left: 30px\;'><span style='font-size: 12pt\;'><strong><s
 pan style='font-family: Arial\;'><span style='font-size: 14pt\;'>&nbsp\; &
 nbsp\; &nbsp\; &nbsp\;Unit 8:</span>&nbsp\;</span></strong></span><span st
 yle='font-size: 14pt\;'><strong><span style='font-family: Arial\;'>I<stron
 g>nstructions on completing the process</strong></span></strong></span></d
 iv>\n<div style='padding-left: 60px\;'>\n<p style='margin-left: 1in\; text
 -indent: -1in\;'><span style='font-size: 12pt\;'><strong><span style='font
 -family: Arial\;'>&nbsp\; &nbsp\; &nbsp\; &nbsp\; &nbsp\; &nbsp\; &nbsp\; 
 &nbsp\; &nbsp\; &nbsp\; &nbsp\; &nbsp\; &nbsp\;&nbsp\;</span></strong></sp
 an><span style='font-size: 12pt\;'><strong><span style='font-family: Arial
 \;'>Understanding the verification visit</span> </strong> </span></p>\n<p 
 style='margin-left: 1in\; text-indent: -1in\;'><span style='font-size: 12p
 t\;'><strong><span style='font-family: Arial\;'>&nbsp\; &nbsp\; &nbsp\; &n
 bsp\; &nbsp\; &nbsp\; &nbsp\; &nbsp\; &nbsp\; &nbsp\; &nbsp\; &nbsp\; &nbs
 p\;&nbsp\;<strong>The application process</strong></span> </strong> </span
 ></p>\n<p style='margin-left: 1in\; text-indent: -1in\;'><span style='font
 -size: 12pt\;'><strong><span style='font-family: Arial\;'>&nbsp\; &nbsp\; 
 &nbsp\; &nbsp\; &nbsp\; &nbsp\; &nbsp\; &nbsp\; &nbsp\; &nbsp\; &nbsp\; &n
 bsp\; &nbsp\; Choosing your PD Specialist</span> </strong> </span></p>\n<p
  style='margin-left: 1in\; text-indent: -1in\;'><span style='font-size: 12
 pt\;'><strong><span style='font-family: Arial\;'>&nbsp\; &nbsp\; &nbsp\; &
 nbsp\; &nbsp\; &nbsp\; &nbsp\; &nbsp\; &nbsp\; &nbsp\; &nbsp\; &nbsp\; &nb
 sp\;&nbsp\;</span></strong></span><span style='font-size: 12pt\;'><strong>
 <span style='font-family: Arial\;'>Finding a Pearson Vue testing site&nbsp
 \;</span></strong></span></p>\n<p style='margin-left: 1in\; text-indent: -
 1in\;'><span style='font-size: 12pt\;'><strong><span style='font-family: A
 rial\;'>&nbsp\; &nbsp\; &nbsp\; </span></strong></span></p>\n<p style='tex
 t-align: center\;'><a href='http://handprint.niccm.com/products/cda-fast-t
 rack.html' title='Registration CDA Fast Track '><span style='font-size: 18
 pt\;'><span style='margin: 0px\; padding: 0px\; border: 0px\; outline: 0px
 \; background-color: transparent\; font-family: arial\, helvetica\, sans-s
 erif\;'><span style='color: #ffffff\;'><span style='font-size: 19px\; padd
 ing: 3px 10px 4px\; background-color: #7b3b3b\;'><strong>Click Here To Reg
 ister Online Now!</strong></span></span></span></span></a></p>\n<p style='
 text-align: center\;'>&nbsp\;</p>\n<p style='text-align: center\;'>&nbsp\;
 </p>\n<footer></footer></div>\n<p style='text-align: center\;'><span style
 ='font-size: 18pt\;'>&nbsp\; &nbsp\; &nbsp\; &nbsp\;Call (602) 476-1422 fo
 r More Information&nbsp\;</span></p>\n<p>&nbsp\;&nbsp\;</p>
DTSTART:20230915T070000Z
DTEND:20230917T150000Z
SUMMARY:CDA Fast Track  - Houston 923
URL:https://niccm.com/71-cda-fast-track/811-cda-fast-track-houston-923
END:VEVENT
END:VCALENDAR
