BEGIN:VCALENDAR
VERSION:2.0
PRODID:-//https://niccm.com//NONSGML kigkonsult.se iCalcreator 2.23.20//
METHOD:PUBLISH
X-WR-CALNAME:JCal Pro Calendar
X-WR-CALDESC:Your online events calendar
X-WR-TIMEZONE:UTC
BEGIN:VTIMEZONE
TZID:UTC
BEGIN:STANDARD
DTSTART:20260425T154235
TZOFFSETFROM:+0000
TZOFFSETTO:+0000
END:STANDARD
END:VTIMEZONE
BEGIN:VEVENT
UID:20230922T070000UTC-2343Nce4nl@https://niccm.com/
DTSTAMP:20260425T154235Z
CATEGORIES:Past NICCM Events
DESCRIPTION:<h1 style='color: #000000\; visibility: visible\; text-align: c
 enter\;'><span style='font-family: arial\, helvetica\, sans-serif\; font-s
 ize: 18pt\;'>CDA Fast Track&nbsp\;</span></h1>\n<h2 style='color: #000000\
 ; visibility: visible\; text-align: justify\;'><span style='font-size: 12p
 t\; font-family: arial\, helvetica\, sans-serif\;'><strong style='font-siz
 e: 18pt\;'>Location/Hotel:</strong></span>&nbsp\;</h2>\n<p style='backgrou
 nd-color: transparent\; margin: 2px 0px\; padding: 0px\; border: 0px\; out
 line: 0px\; font-size: 12px\; color: #505f69\; font-family: Helvetica\, Ar
 ial\, FreeSans\, sans-serif\;'>&nbsp\;</p>\n<p><a href='https://www.hilton
 .com/en/book/reservation/deeplink/?ctyhocn=PBIPGES&amp\;groupCode=CESCCM&a
 mp\;arrivaldate=2022-12-06&amp\;departuredate=2022-12-12&amp\;cid=OM\,WW\,
 HILTONLINK\,EN\,DirectLink&amp\;fromId=HILTONLINKDIRECT' style='color: #33
 3333\;'><span style='font-size: 14pt\; color: #000000\;'>Holiday Inn I-295
  E Baymeadows</span></a></p>\n<p><a href='https://www.hilton.com/en/book/r
 eservation/deeplink/?ctyhocn=PBIPGES&amp\;groupCode=CESCCM&amp\;arrivaldat
 e=2022-12-06&amp\;departuredate=2022-12-12&amp\;cid=OM\,WW\,HILTONLINK\,EN
 \,DirectLink&amp\;fromId=HILTONLINKDIRECT' style='color: #333333\;'><span 
 style='font-size: 14pt\; color: #000000\;'>11083 Nurseryfields Drive</span
 ></a></p>\n<p><a href='https://www.hilton.com/en/book/reservation/deeplink
 /?ctyhocn=PBIPGES&amp\;groupCode=CESCCM&amp\;arrivaldate=2022-12-06&amp\;d
 eparturedate=2022-12-12&amp\;cid=OM\,WW\,HILTONLINK\,EN\,DirectLink&amp\;f
 romId=HILTONLINKDIRECT' style='color: #333333\;'><span style='font-size: 1
 4pt\; color: #000000\;'>Jacksonville\, FL&nbsp\; 32256</span></a></p>\n<p>
 <a href='https://www.hilton.com/en/book/reservation/deeplink/?ctyhocn=PBIP
 GES&amp\;groupCode=CESCCM&amp\;arrivaldate=2022-12-06&amp\;departuredate=2
 022-12-12&amp\;cid=OM\,WW\,HILTONLINK\,EN\,DirectLink&amp\;fromId=HILTONLI
 NKDIRECT' style='color: #333333\;'><span style='font-size: 14pt\; color: #
 000000\;'>(904) 854-8000</span></a></p>\n<p><a href='https://www.hilton.co
 m/en/book/reservation/deeplink/?ctyhocn=PBIPGES&amp\;groupCode=CESCCM&amp\
 ;arrivaldate=2022-12-06&amp\;departuredate=2022-12-12&amp\;cid=OM\,WW\,HIL
 TONLINK\,EN\,DirectLink&amp\;fromId=HILTONLINKDIRECT' style='color: #33333
 3\;'><span style='font-size: 14pt\; font-family: arial\, helvetica\, sans-
 serif\;'><span style='color: #000000\;'>Reservations&nbsp\;</span></span><
 /a><span style='font-size: 14pt\;'><a href='https://www.holidayinn.com/red
 irect?path=hd&amp\;brandCode=HI&amp\;localeCode=en&amp\;regionCode=1&amp\;
 hotelCode=JAXES&amp\;_PMID=99801505&amp\;GPC=CDA&amp\;cn=no&amp\;viewfulls
 ite=true'>ihg.com</a></span></p>\n<p><span style='font-size: 14pt\; color:
  #000000\;'>Use code CDA for online and phone reservations to receive our 
 group rate.&nbsp\;</span></p>\n<p><span style='color: #000000\; font-size:
  14pt\;'>Call for assistance if there aren't any available reservations on
  the link.&nbsp\;</span></p>\n<p><a href='https://www.hilton.com/en/book/r
 eservation/rooms/?ctyhocn=PBIPGES&amp\;arrivalDate=2022-12-06&amp\;departu
 reDate=2022-12-12&amp\;room1NumAdults=1&amp\;cid=OM%2CWW%2CHILTONLINK%2CEN
 %2CDirectLink' style='font-size: 14pt\; background-color: inherit\; font-f
 amily: inherit\;'><span style='font-size: 14pt\;'></span></a></p>\n<p>&nbs
 p\;</p>\n<address>&nbsp\;</address>\n<p style='text-align: center\;'><a hr
 ef='http://handprint.niccm.com/products/cda-fast-track.html' title='Regist
 ration CDA Fast Track '><span style='font-size: 18pt\;'><span style='margi
 n: 0px\; padding: 0px\; border: 0px\; outline: 0px\; background-color: tra
 nsparent\; font-family: arial\, helvetica\, sans-serif\;'><span style='col
 or: #ffffff\;'><span style='font-size: 19px\; padding: 3px 10px 4px\; back
 ground-color: #7b3b3b\;'><strong>Click Here To Register Online Now!</stron
 g></span></span></span></span></a></p>\n<p style='text-align: center\;'>&n
 bsp\;<span style='font-size: 18pt\;'><span style='margin: 0px\; padding: 0
 px\; border: 0px\; outline: 0px\; background-color: transparent\; font-fam
 ily: arial\, helvetica\, sans-serif\;'>&nbsp\; &nbsp\; &nbsp\; &nbsp\; &nb
 sp\; &nbsp\; &nbsp\; &nbsp\; &nbsp\; &nbsp\; &nbsp\; &nbsp\; &nbsp\;&nbsp\
 ;</span></span>&nbsp\;</p>\n<p style='text-align: center\;'>&nbsp\;</p>\n<
 div style='text-align: center\;'>\n<p style='visibility: visible\; text-al
 ign: justify\;'><span style='font-size: 12pt\; font-family: arial\, helvet
 ica\, sans-serif\;'><strong style='font-size: 18pt\;'>Course Content &amp\
 ; Schedule:</strong></span>&nbsp\;</p>\n<p style='visibility: visible\; te
 xt-align: justify\;'>&nbsp\;</p>\n</div>\n<div style='text-align: justify\
 ;'><span style='text-decoration: underline\;'><span style='font-size: larg
 e\;'><strong><span style='font-size: 14pt\;'>Friday\, October 13th\, 2023<
 /span></strong></span></span></div>\n<div>&nbsp\;</div>\n<div><span style=
 'font-size: 14pt\;'><strong>Arrival and Check-In</strong>: 6:45am -7:00am 
 <span style='font-size: 12pt\;'>(students must arrive and check-in 15 minu
 tes before class)</span></span></div>\n<div style='padding-left: 30px\;'><
 span style='font-size: large\;'><strong><br /></strong></span><span style=
 'font-size: 14pt\;'><strong>C</strong></span><span style='font-size: 14pt\
 ;'><strong>lass A</strong></span><span style='font-size: 14pt\;'>: 7:00am 
 -12:00pm &nbsp\;<span style='font-size: 12pt\;'>(5 Contact Hours/.5 CEUs)<
 /span></span></div>\n<div style='padding-left: 30px\;'>&nbsp\; &nbsp\; &nb
 sp\; &nbsp\; &nbsp\;<span style='font-size: 12pt\;'><strong><span style='f
 ont-family: Arial\;'><span style='font-size: 14pt\;'>Introduction:</span>&
 nbsp\;</span>&nbsp\;</strong> </span><span style='font-size: 12pt\;'><stro
 ng><span style='font-family: Arial\;'>Overview of the Course</span><span s
 tyle='font-family: Arial\;'>&nbsp\; &nbsp\;</span></strong></span></div>\n
 <div style='margin-left: 60px\;'>\n<p><span style='font-size: 14pt\;'><str
 ong><span style='font-family: Arial\;'>Unit 1: &nbsp\; &nbsp\; &nbsp\; &nb
 sp\; &nbsp\; &nbsp\;</span>&nbsp\;&nbsp\;</strong></span><span style='font
 -size: 12pt\;'><strong><span style='font-family: Arial\;'>Keys to Writing 
 Statements</span> </strong> </span></p>\n<p style='margin-left: 31px\;'><s
 pan style='font-size: 12pt\;'><strong><span style='font-family: Arial\;'>&
 nbsp\; &nbsp\; &nbsp\; &nbsp\; &nbsp\; &nbsp\; &nbsp\; &nbsp\; &nbsp\; &nb
 sp\; &nbsp\; &nbsp\;Competency Statement 1:&nbsp\;&nbsp\;</span> </strong>
 <span style='font-family: Arial\;'>Planning a safe and healthy learning en
 vironment</span></span></p>\n<p><span style='font-size: 14pt\;'><strong><s
 pan style='font-family: Arial\;'>Unit 2: &nbsp\; &nbsp\; &nbsp\; &nbsp\; &
 nbsp\; &nbsp\; </span><span>&nbsp\;</span></strong></span><span style='fon
 t-size: 12pt\;'><strong><span style='font-family: Arial\;'>Competency Stat
 ement 2:&nbsp\;&nbsp\;</span> </strong><span style='font-family: Arial\;'>
 Advancing children’s physical and intellectual development</span></span></
 p>\n</div>\n<div style='padding-left: 30px\;'><span style='font-size: 12pt
 \;'><br /><span style='font-size: 14pt\;'><strong>Class B:</strong>&nbsp\;
 12:30pm- 5:30pm &nbsp\;<span style='font-size: 12pt\;'>(5 Contact Hours/.5
  CEUs)</span></span> </span></div>\n<div style='padding-left: 30px\;'><spa
 n style='font-size: 14pt\;'><span style='font-size: 14pt\;'><strong><span 
 style='font-family: Arial\;'>&nbsp\; &nbsp\; &nbsp\;</span></strong></span
 ></span>\n<div style='padding-left: 30px\; text-align: justify\;'><span st
 yle='font-size: 14pt\;'><strong><span style='font-family: Arial\;'><span s
 tyle='font-family: arial\, helvetica\, sans-serif\; font-size: 14pt\;'>Uni
 t 3:&nbsp\; &nbsp\;&nbsp\;</span></span></strong></span><span style='font-
 size: 14pt\; font-family: arial\, helvetica\, sans-serif\;'><strong>Compet
 ency Statement 3:&nbsp\;&nbsp\;</strong>Supporting children’s social and e
 motional development</span></div>\n<div style='text-align: justify\;'><spa
 n style='font-family: arial\, helvetica\, sans-serif\; font-size: 14pt\;'>
 &nbsp\; &nbsp\; &nbsp\; </span><span style='font-family: arial\, helvetica
 \, sans-serif\;'><strong style='font-family: arial\, helvetica\, sans-seri
 f\; font-size: 12pt\; text-indent: -1in\; color: inherit\;'><span style='f
 ont-size: 14pt\;'>Unit 4:&nbsp\; &nbsp\;&nbsp\;</span><span style='font-si
 ze: 14pt\;'>Competency Statement 4:&nbsp\;&nbsp\;</span></strong></span><s
 pan style='font-family: arial\, helvetica\, sans-serif\; font-size: 14pt\;
 '>Establishing positive and productive relationships with families</span><
 /div>\n<div style='text-align: justify\;'><span style='font-family: arial\
 , helvetica\, sans-serif\; font-size: 14pt\;'><strong>&nbsp\; &nbsp\; &nbs
 p\; Unit 5:&nbsp\; &nbsp\;&nbsp\;</strong></span><span style='font-size: 1
 4pt\;'><span style='font-family: arial\, helvetica\, sans-serif\;'><strong
 >Competency Statement 5:&nbsp\;&nbsp\;</strong></span><span style='font-fa
 mily: arial\, helvetica\, sans-serif\;'>Ensuring a well-run purposeful pro
 gram&nbsp\;</span></span></div>\n<div style='text-align: justify\;'><span 
 style='font-family: arial\, helvetica\, sans-serif\;'><strong><span style=
 'font-family: arial\, helvetica\, sans-serif\; font-size: 14pt\;'>&nbsp\; 
 &nbsp\; &nbsp\; Unit 6:&nbsp\;&nbsp\; &nbsp\;</span><span style='font-size
 : 14pt\;'>Competency Statement 6:&nbsp\;&nbsp\;</span></strong><span style
 ='font-size: 14pt\;'>Maintaining a commitment to professionalism</span></s
 pan></div>\n<div style='padding-left: 60px\;'>&nbsp\;</div>\n<span style='
 background-color: inherit\; color: inherit\; font-family: inherit\; font-s
 ize: 1rem\; caret-color: auto\;'></span></div>\n<div style='padding-left: 
 60px\;'>\n<p style='margin-left: 1in\; text-indent: -1in\;'><span style='f
 ont-family: Arial\; font-size: 12pt\;'><strong>Documenting Professional Ed
 ucation</strong>&nbsp\;- 8 CDA Subject Areas</span><span style='font-size:
  12pt\;'></span></p>\n</div>\n<div><span style='font-size: 12pt\;'><br /><
 /span><span style='text-decoration: underline\;'><span style='font-size: l
 arge\;'><strong><span style='font-size: 14pt\;'>Saturday\, October 14th\, 
 2023</span></strong></span></span></div>\n<div style='padding-left: 30px\;
 '>&nbsp\;</div>\n<div style='padding-left: 30px\;'><span style='font-size:
  14pt\;'><strong>Class C</strong><strong>:&nbsp\;</strong>8:00am-3:00pm&nb
 sp\;<span style='font-size: 12pt\;'>(7 Contact Hours/.7 CEUs)</span></span
 ></div>\n<div style='padding-left: 30px\;'><span style='font-size: 12pt\;'
 >&nbsp\;(arrivals will be staggered\, students will be scheduled in as ear
 ly as 8:00am)</span></div>\n<div style='padding-left: 30px\;'><span style=
 'font-size: 12pt\;'><strong><span style='font-family: Arial\;'><span style
 ='font-size: 14pt\;'>&nbsp\; &nbsp\; &nbsp\;</span></span></strong></span>
 </div>\n<div style='padding-left: 30px\;'><span style='font-size: 14pt\;'>
 <strong>Class D:&nbsp\;</strong>4:00pm - 7:00pm <span style='font-size: 12
 pt\;'>(3 Contact Hours/.3 CEUs)&nbsp\;</span></span></div>\n<div style='pa
 dding-left: 30px\;'><span style='font-size: 14pt\;'><span style='font-size
 : 14pt\;'></span><span style='font-size: 12pt\;'>(dissmissal will be stagg
 ered\, students will be dismissed throughout the evening)</span></span></d
 iv>\n<div>\n<div>&nbsp\;</div>\n<div style='padding-left: 30px\; text-alig
 n: center\;'><span style='font-size: 12pt\;'><span style='font-size: 12pt\
 ;'><strong><span style='font-family: Arial\;'><span style='font-size: 14pt
 \;'>C &amp\; D Class Content</span></span></strong></span></span>\n<div st
 yle='padding-left: 60px\;'>&nbsp\;</div>\n</div>\n<div style='padding-left
 : 30px\;'><span style='font-size: 12pt\;'><strong><span style='font-family
 : Arial\;'><span style='font-size: 14pt\;'>Directed Portfolio Lab:</span>&
 nbsp\;&nbsp\;</span> </strong><span style='font-family: Arial\;'>The Direc
 ted Portfolio Lab allows for individual consultation &amp\; one-on-one tim
 e with</span></span><span style='font-size: 12pt\;'><span style='font-fami
 ly: Arial\;'>&nbsp\;the &nbsp\; &nbsp\;</span></span></div>\n<div style='p
 adding-left: 30px\;'><span style='font-size: 12pt\;'><span style='font-fam
 ily: Arial\;'>instructor. &nbsp\;Participants will work on their portfolio
  and meet with the instructor to discuss their statements and</span></span
 ><span style='font-size: 12pt\;'><span style='font-family: Arial\;'>&nbsp\
 ;the </span></span></div>\n<div style='padding-left: 30px\;'><span style='
 font-size: 12pt\;'><span style='font-family: Arial\;'>documentation within
  their professional portfolio.</span></span></div>\n</div>\n<div style='pa
 dding-left: 30px\;'>\n<div style='padding-left: 30px\;'>&nbsp\;</div>\n<di
 v style='padding-left: 30px\;'><strong style='font-size: 12pt\; text-inden
 t: -1in\; color: inherit\; font-family: inherit\;'><span style='font-famil
 y: Arial\;'><span style='font-size: 12pt\;'>The Professional Philosophy St
 atement</span></span></strong></div>\n<div>&nbsp\;</div>\n<div style='padd
 ing-left: 30px\;'><span style='font-size: 12pt\;'><strong>Individual Consu
 ltations - allows one on one with instructors</strong></span></div>\n<div 
 style='padding-left: 60px\;'>&nbsp\;</div>\n</div>\n<div style='padding-le
 ft: 60px\;'>&nbsp\;</div>\n<div><span style='font-size: 12pt\;'>&nbsp\;<sp
 an style='text-decoration: underline\;'><span style='font-size: 14pt\;'><s
 trong>Sunday\, October 15th\, 2023</strong></span></span></span></div>\n<d
 iv style='margin-left: 30px\;'><span style='font-size: large\;'><strong><b
 r /></strong></span><span style='font-size: 14pt\;'><strong>Class E</stron
 g><strong>:</strong>&nbsp\;8:00am-3:00pm</span><span style='font-size: 12p
 t\;'>&nbsp\;<span style='font-size: 12pt\;'>(7 Contact Hours/.7 CEUs)</spa
 n></span></div>\n<div style='margin-left: 30px\;'>\n<p style='margin-left:
  1in\; text-indent: -1in\;'><span style='font-size: 14pt\;'><strong>Class 
 F:</strong>&nbsp\;4:00pm-7:00pm&nbsp\;<span style='background-color: inher
 it\; color: inherit\; font-family: inherit\; caret-color: auto\;'>(3 Conta
 ct Hours/.3 CEUs)</span></span></p>\n<p>&nbsp\;</p>\n</div>\n<div style='p
 adding-left: 30px\; text-align: center\;'><span style='font-size: 12pt\;'>
 <strong><span style='font-family: Arial\;'><span style='font-size: 14pt\;'
 ><span style='font-size: 14pt\;'>E &amp\; F Class Content</span><span styl
 e='font-family: Arial\;'></span><span style='font-size: 12pt\;'></span><sp
 an style='font-size: 12pt\;'></span>&nbsp\; &nbsp\; &nbsp\; </span></span>
 </strong></span></div>\n<div style='padding-left: 30px\;'><span style='fon
 t-size: 12pt\;'><strong><span style='font-family: Arial\;'><span style='fo
 nt-size: 14pt\;'><span style='font-family: Arial\;'>&nbsp\; &nbsp\; &nbsp\
 ; &nbsp\;<span style='font-size: 14pt\;'>Unit 7:</span><span style='font-f
 amily: Arial\;'>&nbsp\;CDA Practice Exam&nbsp\;</span>&nbsp\;</span><span 
 style='font-size: 12pt\;'></span></span></span></strong></span></div>\n<di
 v style='padding-left: 30px\;'><span style='font-size: 12pt\;'><strong><sp
 an style='font-family: Arial\;'><span style='font-size: 14pt\;'>&nbsp\; &n
 bsp\; &nbsp\; &nbsp\;Unit 8:</span>&nbsp\;</span></strong></span><span sty
 le='font-size: 14pt\;'><strong><span style='font-family: Arial\;'>I<strong
 >nstructions on completing the process</strong></span></strong></span></di
 v>\n<div style='padding-left: 60px\;'>\n<p style='margin-left: 1in\; text-
 indent: -1in\;'><span style='font-size: 12pt\;'><strong><span style='font-
 family: Arial\;'>&nbsp\; &nbsp\; &nbsp\; &nbsp\; &nbsp\; &nbsp\; &nbsp\; &
 nbsp\; &nbsp\; &nbsp\; &nbsp\; &nbsp\; &nbsp\;&nbsp\;</span></strong></spa
 n><span style='font-size: 12pt\;'><strong><span style='font-family: Arial\
 ;'>Understanding the verification visit</span> </strong> </span></p>\n<p s
 tyle='margin-left: 1in\; text-indent: -1in\;'><span style='font-size: 12pt
 \;'><strong><span style='font-family: Arial\;'>&nbsp\; &nbsp\; &nbsp\; &nb
 sp\; &nbsp\; &nbsp\; &nbsp\; &nbsp\; &nbsp\; &nbsp\; &nbsp\; &nbsp\; &nbsp
 \;&nbsp\;<strong>The application process</strong></span> </strong> </span>
 </p>\n<p style='margin-left: 1in\; text-indent: -1in\;'><span style='font-
 size: 12pt\;'><strong><span style='font-family: Arial\;'>&nbsp\; &nbsp\; &
 nbsp\; &nbsp\; &nbsp\; &nbsp\; &nbsp\; &nbsp\; &nbsp\; &nbsp\; &nbsp\; &nb
 sp\; &nbsp\; Choosing your PD Specialist</span> </strong> </span></p>\n<p 
 style='margin-left: 1in\; text-indent: -1in\;'><span style='font-size: 12p
 t\;'><strong><span style='font-family: Arial\;'>&nbsp\; &nbsp\; &nbsp\; &n
 bsp\; &nbsp\; &nbsp\; &nbsp\; &nbsp\; &nbsp\; &nbsp\; &nbsp\; &nbsp\; &nbs
 p\;&nbsp\;</span></strong></span><span style='font-size: 12pt\;'><strong><
 span style='font-family: Arial\;'>Finding a Pearson Vue testing site&nbsp\
 ;</span></strong></span></p>\n<p style='margin-left: 1in\; text-indent: -1
 in\;'><span style='font-size: 12pt\;'><strong><span style='font-family: Ar
 ial\;'>&nbsp\; &nbsp\; &nbsp\; </span></strong></span></p>\n<p style='text
 -align: center\;'><a href='http://handprint.niccm.com/products/cda-fast-tr
 ack.html' title='Registration CDA Fast Track '><span style='font-size: 18p
 t\;'><span style='margin: 0px\; padding: 0px\; border: 0px\; outline: 0px\
 ; background-color: transparent\; font-family: arial\, helvetica\, sans-se
 rif\;'><span style='color: #ffffff\;'><span style='font-size: 19px\; paddi
 ng: 3px 10px 4px\; background-color: #7b3b3b\;'><strong>Click Here To Regi
 ster Online Now!</strong></span></span></span></span></a></p>\n<p style='t
 ext-align: center\;'>&nbsp\;</p>\n<p style='text-align: center\;'>&nbsp\;<
 /p>\n<footer></footer></div>\n<p style='text-align: center\;'><span style=
 'font-size: 18pt\;'>&nbsp\; &nbsp\; &nbsp\; &nbsp\;Call (602) 476-1422 for
  More Information&nbsp\;</span></p>\n<p>&nbsp\;&nbsp\;</p>
DTSTART:20231013T070000Z
DTEND:20231015T190000Z
SUMMARY:CDA Fast Track  - Jacksonville 1023
URL:https://niccm.com/71-cda-fast-track/813-cda-fast-track-jacksonville-102
 3
END:VEVENT
END:VCALENDAR
