BEGIN:VCALENDAR
VERSION:2.0
PRODID:-//https://niccm.com//NONSGML kigkonsult.se iCalcreator 2.23.20//
METHOD:PUBLISH
X-WR-CALNAME:JCal Pro Calendar
X-WR-CALDESC:Your online events calendar
X-WR-TIMEZONE:UTC
BEGIN:VTIMEZONE
TZID:UTC
BEGIN:STANDARD
DTSTART:20260425T023425
TZOFFSETFROM:+0000
TZOFFSETTO:+0000
END:STANDARD
END:VTIMEZONE
BEGIN:VEVENT
UID:20230120T070000UTC-6514VEoXrs@https://niccm.com/
DTSTAMP:20260425T023425Z
CATEGORIES:Past NICCM Events
DESCRIPTION:<h1 style='color: #000000\; visibility: visible\; text-align: c
 enter\;'><span style='font-family: arial\, helvetica\, sans-serif\; font-s
 ize: 18pt\;'>CDA Fast Track&nbsp\;</span></h1>\n<h2 style='color: #000000\
 ; visibility: visible\; text-align: justify\;'><span style='font-size: 12p
 t\; font-family: arial\, helvetica\, sans-serif\;'><strong style='font-siz
 e: 18pt\;'>Location/Hotel:</strong></span>&nbsp\;</h2>\n<p style='font-sty
 le: italic\;'><span style='font-family: arial\, helvetica\, sans-serif\; f
 ont-size: large\;'>Hilton Garden Inn - Lake Buena Vista&nbsp\;</span></p>
 \n<p><span style='font-size: 14pt\;'>11400 Marabella Palm Court </span></p
 >\n<p><span style='font-size: 14pt\;'>Orlando\, FL &nbsp\;32836</span></p>
 \n<p><span style='font-size: 14pt\;'>(407) 239- 9550</span></p>\n<p style=
 'font-style: italic\;'><a href='https://www.hilton.com/en/book/reservation
 /rooms/?ctyhocn=MCOBVGI&amp\;arrivalDate=2022-09-20&amp\;departureDate=202
 2-09-26&amp\;groupCode=NICCM5&amp\;room1NumAdults=1&amp\;cid=OM%2CWW%2CHIL
 TONLINK%2CEN%2CDirectLink'><span style='font-family: arial\, helvetica\, s
 ans-serif\; font-size: 14pt\;'>Reservations &nbsp\;Hilton.com</span></a></
 p>\n<p style='background-color: transparent\; margin: 2px 0px\; padding: 0
 px\; border: 0px\; outline: 0px\; font-size: 12px\; color: #505f69\; font-
 family: Helvetica\, Arial\, FreeSans\, sans-serif\;'><span style='margin: 
 0px\; padding: 0px\; border: 0px\; outline: 0px\; font-size: 14pt\; backgr
 ound-color: transparent\; font-family: arial\, helvetica\, sans-serif\;'><
 span style='font-size: 14pt\;'>&nbsp\; &nbsp\; &nbsp\; &nbsp\; &nbsp\;Call
  Hotel If No Rooms Available On The Link</span>&nbsp\;</span>&nbsp\;</p>\n
 <address>&nbsp\;</address>\n<p style='text-align: center\;'><a href='http:
 //handprint.niccm.com/products/cda-fast-track.html' title='Registration CD
 A Fast Track '><span style='font-size: 18pt\;'><span style='margin: 0px\; 
 padding: 0px\; border: 0px\; outline: 0px\; background-color: transparent\
 ; font-family: arial\, helvetica\, sans-serif\;'><span style='color: #ffff
 ff\;'><span style='font-size: 19px\; padding: 3px 10px 4px\; background-co
 lor: #7b3b3b\;'><strong>Click Here To Register Online Now!</strong></span>
 </span></span></span></a></p>\n<p style='text-align: center\;'>&nbsp\;<spa
 n style='font-size: 18pt\;'><span style='margin: 0px\; padding: 0px\; bord
 er: 0px\; outline: 0px\; background-color: transparent\; font-family: aria
 l\, helvetica\, sans-serif\;'>&nbsp\; &nbsp\; &nbsp\; &nbsp\; &nbsp\; &nbs
 p\; &nbsp\; &nbsp\; &nbsp\; &nbsp\; &nbsp\; &nbsp\; &nbsp\;&nbsp\;</span><
 /span>&nbsp\;</p>\n<p style='text-align: center\;'>&nbsp\;</p>\n<div style
 ='text-align: center\;'>\n<p style='visibility: visible\; text-align: just
 ify\;'><span style='font-size: 12pt\; font-family: arial\, helvetica\, san
 s-serif\;'><strong style='font-size: 18pt\;'>Course Content &amp\; Schedul
 e:</strong></span>&nbsp\;</p>\n<p style='visibility: visible\; text-align:
  justify\;'>&nbsp\;</p>\n</div>\n<div style='text-align: justify\;'><span 
 style='text-decoration: underline\;'><span style='font-size: large\;'><str
 ong><span style='font-size: 14pt\;'>Friday\, September 23rd\, 2022</span><
 /strong></span></span></div>\n<div><span style='font-size: 14pt\;'><strong
 >Arrival and Check-In</strong>: 6:45am -7:00am <span style='font-size: 12p
 t\;'>(students must arrive and check-in <span style='font-size: 12pt\;'>15
  minutes </span><span style='font-size: 14pt\;'></span> before class)</spa
 n></span></div>\n<div style='padding-left: 30px\;'><span style='font-size:
  large\;'><strong><br /></strong></span><span style='font-size: 14pt\;'><s
 trong>C</strong></span><span style='font-size: 14pt\;'><strong>lass A</str
 ong></span><span style='font-size: 14pt\;'>: 7:00am -12:00pm &nbsp\;<span 
 style='font-size: 12pt\;'>(5 Contact Hours/.5 CEUs)</span></span></div>\n<
 div style='padding-left: 30px\;'>&nbsp\; &nbsp\; &nbsp\; &nbsp\; &nbsp\;<s
 pan style='font-size: 12pt\;'><strong><span style='font-family: Arial\;'><
 span style='font-size: 14pt\;'>Introduction:</span>&nbsp\;</span>&nbsp\;</
 strong> </span><span style='font-size: 12pt\;'><strong><span style='font-f
 amily: Arial\;'>Overview of the Course</span><span style='font-family: Ari
 al\;'>&nbsp\; &nbsp\;</span></strong></span></div>\n<div style='margin-lef
 t: 60px\;'>\n<p><span style='font-size: 14pt\;'><strong><span style='font-
 family: Arial\;'>Unit 1: &nbsp\; &nbsp\; &nbsp\; &nbsp\; &nbsp\; &nbsp\;</
 span>&nbsp\;&nbsp\;</strong></span><span style='font-size: 12pt\;'><strong
 ><span style='font-family: Arial\;'>Keys to Writing Statements</span> </st
 rong> </span></p>\n<p style='margin-left: 31px\;'><span style='font-size: 
 12pt\;'><strong><span style='font-family: Arial\;'>&nbsp\; &nbsp\; &nbsp\;
  &nbsp\; &nbsp\; &nbsp\; &nbsp\; &nbsp\; &nbsp\; &nbsp\; &nbsp\; &nbsp\;Co
 mpetency Statement 1:&nbsp\;&nbsp\;</span> </strong><span style='font-fami
 ly: Arial\;'>Planning a safe and healthy learning environment</span></span
 ></p>\n<p><span style='font-size: 14pt\;'><strong><span style='font-family
 : Arial\;'>Unit 2: &nbsp\; &nbsp\; &nbsp\; &nbsp\; &nbsp\; &nbsp\; </span>
 <span>&nbsp\;</span></strong></span><span style='font-size: 12pt\;'><stron
 g><span style='font-family: Arial\;'>Competency Statement 2:&nbsp\;&nbsp\;
 </span> </strong><span style='font-family: Arial\;'>Advancing children’s p
 hysical and intellectual development</span></span></p>\n</div>\n<div style
 ='padding-left: 30px\;'><span style='font-size: 12pt\;'><br /><span style=
 'font-size: 14pt\;'><strong>Class B:</strong>&nbsp\;12:30pm- 5:30pm &nbsp\
 ;<span style='font-size: 12pt\;'>(5 Contact Hours/.5 CEUs)</span></span> <
 /span></div>\n<div style='padding-left: 30px\;'><span style='font-size: 14
 pt\;'><strong><span style='font-family: Arial\;'>&nbsp\; &nbsp\; &nbsp\; U
 nit 3:&nbsp\; &nbsp\; &nbsp\; &nbsp\; &nbsp\; &nbsp\;&nbsp\;</span>&nbsp\;
 </strong> </span><span style='font-size: 12pt\;'><strong><span style='font
 -family: Arial\;'>Competency Statement 3:&nbsp\;&nbsp\;</span> </strong><s
 pan style='font-family: Arial\;'>Supporting children’s social and emotiona
 l development</span></span></div>\n<div>&nbsp\; &nbsp\; &nbsp\; &nbsp\; &n
 bsp\; &nbsp\; &nbsp\; &nbsp\; &nbsp\;&nbsp\;<strong style='font-family: ar
 ial\, helvetica\, sans-serif\; font-size: 12pt\; text-indent: -1in\; color
 : inherit\;'><span style='font-size: 14pt\;'>Unit 4:&nbsp\;</span>&nbsp\; 
 &nbsp\; &nbsp\; &nbsp\; &nbsp\; &nbsp\; &nbsp\; &nbsp\;Competency Statemen
 t 4:&nbsp\;<span style='font-size: 14pt\;'></span></strong><span style='fo
 nt-size: 12pt\;'>Establishing positive and productive relationships with f
 amilies</span></div>\n<div style='padding-left: 60px\;'>\n<p style='margin
 -left: 1in\; text-indent: -1in\;'><span style='font-family: arial\, helvet
 ica\, sans-serif\; font-size: 12pt\;'><span style='font-size: 14pt\;'><str
 ong>Unit 5: &nbsp\; &nbsp\; &nbsp\; &nbsp\; &nbsp\; &nbsp\; &nbsp\;<span s
 tyle='font-size: 12pt\;'>Competency Statement 5:</span>&nbsp\;&nbsp\;</str
 ong></span>Ensuring a well-run purposeful program</span></p>\n<p style='ma
 rgin-left: 1in\; text-indent: -1in\;'><span style='font-family: arial\, he
 lvetica\, sans-serif\; font-size: 12pt\;'><strong><span style='font-size: 
 14pt\;'>Unit 6:&nbsp\;</span>&nbsp\; &nbsp\; &nbsp\; &nbsp\; &nbsp\; &nbsp
 \; &nbsp\; &nbsp\;Competency Statement 6:&nbsp\;&nbsp\;</strong>Maintainin
 g a commitment to professionalism</span></p>\n<p>&nbsp\;</p>\n<p style='ma
 rgin-left: 1in\; text-indent: -1in\;'><span style='font-family: Arial\; fo
 nt-size: 12pt\;'><strong>Documenting Professional Education</strong>&nbsp\
 ;- 8 CDA Subject Areas</span><span style='font-size: 12pt\;'></span></p>\n
 </div>\n<div><span style='font-size: 12pt\;'><br /></span><span style='tex
 t-decoration: underline\;'><span style='font-size: large\;'><strong><span 
 style='font-size: 14pt\;'>Saturday\, September 24th\, 2022</span></strong>
 </span></span></div>\n<div style='padding-left: 30px\;'>&nbsp\;</div>\n<di
 v style='padding-left: 30px\;'><span style='font-size: 14pt\;'><strong>Cla
 ss C</strong><strong>:&nbsp\;</strong>8:00am-3:00pm&nbsp\;<span style='fon
 t-size: 12pt\;'>(7 Contact Hours/.7 CEUs)</span></span></div>\n<div style=
 'padding-left: 30px\;'><span style='font-size: 12pt\;'>&nbsp\;(arrivals wi
 ll be staggered\, students will be scheduled in as early as 8:00am)</span>
 </div>\n<div style='padding-left: 30px\;'><span style='font-size: 12pt\;'>
 <strong><span style='font-family: Arial\;'><span style='font-size: 14pt\;'
 >&nbsp\; &nbsp\; &nbsp\;</span></span></strong></span></div>\n<div style='
 padding-left: 30px\;'><span style='font-size: 14pt\;'><strong>Class D:&nbs
 p\;</strong>4:00pm - 7:00pm <span style='font-size: 12pt\;'>(3 Contact Hou
 rs/.3 CEUs)&nbsp\;</span></span></div>\n<div style='padding-left: 30px\;'>
 <span style='font-size: 14pt\;'><span style='font-size: 14pt\;'></span><sp
 an style='font-size: 12pt\;'>(dissmissal will be staggard\, students will 
 be dismissed throughout the evening)</span></span></div>\n<div>\n<div>&nbs
 p\;</div>\n<div style='padding-left: 30px\; text-align: center\;'><span st
 yle='font-size: 12pt\;'><span style='font-size: 12pt\;'><strong><span styl
 e='font-family: Arial\;'><span style='font-size: 14pt\;'>C &amp\; D Class 
 Content</span></span></strong></span></span>\n<div style='padding-left: 60
 px\;'>&nbsp\;</div>\n</div>\n<div style='padding-left: 30px\;'><span style
 ='font-size: 12pt\;'><strong><span style='font-family: Arial\;'><span styl
 e='font-size: 14pt\;'>&nbsp\; &nbsp\; &nbsp\; Directed Portfolio Lab:</spa
 n>&nbsp\;&nbsp\;</span> </strong><span style='font-family: Arial\;'>The Di
 rected Portfolio Lab allows for individual consultation &amp\; one-on-one 
 time with</span></span><span style='font-size: 12pt\;'><span style='font-f
 amily: Arial\;'>&nbsp\;the &nbsp\; &nbsp\;</span></span></div>\n<div style
 ='padding-left: 30px\;'><span style='font-size: 12pt\;'><span style='font-
 family: Arial\;'>&nbsp\; &nbsp\; &nbsp\; &nbsp\;instructor. &nbsp\;Partici
 pants will work on their portfolio and meet with the instructor to discuss
  their statements and</span></span><span style='font-size: 12pt\;'><span s
 tyle='font-family: Arial\;'>&nbsp\;the </span></span></div>\n<div style='p
 adding-left: 30px\;'><span style='font-size: 12pt\;'><span style='font-fam
 ily: Arial\;'>&nbsp\; &nbsp\; &nbsp\; &nbsp\;documentation within their pr
 ofessional portfolio.</span></span></div>\n</div>\n<div style='padding-lef
 t: 30px\;'>\n<div style='padding-left: 30px\;'>&nbsp\;</div>\n<div style='
 padding-left: 30px\;'><strong style='font-size: 12pt\; text-indent: -1in\;
  color: inherit\; font-family: inherit\;'><span style='font-family: Arial\
 ;'><span style='font-size: 12pt\;'>The Professional Philosophy Statement</
 span></span></strong></div>\n<div>&nbsp\;</div>\n<div style='padding-left:
  30px\;'><span style='font-size: 12pt\;'><strong>Individual Consultations 
 - allows one on one with instructors</strong></span></div>\n<div style='pa
 dding-left: 60px\;'>&nbsp\;</div>\n</div>\n<div style='padding-left: 60px\
 ;'>&nbsp\;</div>\n<div><span style='font-size: 12pt\;'>&nbsp\;<span style=
 'text-decoration: underline\;'><span style='font-size: 14pt\;'><strong>Sun
 day\, September 25\, 2022</strong></span></span></span></div>\n<div style=
 'margin-left: 30px\;'><span style='font-size: large\;'><strong><br /></str
 ong></span><span style='font-size: 14pt\;'><strong>Class E</strong><strong
 >:</strong>&nbsp\;8:00am-3:00pm</span><span style='font-size: 12pt\;'>&nbs
 p\;<span style='font-size: 12pt\;'>(7 Contact Hours/.7 CEUs)</span></span>
 </div>\n<div style='margin-left: 30px\;'>\n<p style='margin-left: 1in\; te
 xt-indent: -1in\;'><span style='font-size: 14pt\;'><strong>Class F:</stron
 g>&nbsp\;4:00pm-7:00pm&nbsp\;<span style='background-color: inherit\; colo
 r: inherit\; font-family: inherit\; caret-color: auto\;'>(3 Contact Hours/
 .3 CEUs)</span></span></p>\n<p>&nbsp\;</p>\n</div>\n<div style='padding-le
 ft: 30px\; text-align: center\;'><span style='font-size: 12pt\;'><strong><
 span style='font-family: Arial\;'><span style='font-size: 14pt\;'><span st
 yle='font-size: 14pt\;'>E &amp\; F Class Content</span><span style='font-f
 amily: Arial\;'></span><span style='font-size: 12pt\;'></span><span style=
 'font-size: 12pt\;'></span>&nbsp\; &nbsp\; &nbsp\; </span></span></strong>
 </span></div>\n<div style='padding-left: 30px\;'><span style='font-size: 1
 2pt\;'><strong><span style='font-family: Arial\;'><span style='font-size: 
 14pt\;'><span style='font-family: Arial\;'>&nbsp\; &nbsp\; &nbsp\; &nbsp\;
 <span style='font-size: 14pt\;'>Unit 7:</span><span style='font-family: Ar
 ial\;'>&nbsp\;CDA Practice Exam&nbsp\;</span>&nbsp\;</span><span style='fo
 nt-size: 12pt\;'></span></span></span></strong></span></div>\n<div style='
 padding-left: 30px\;'><span style='font-size: 12pt\;'><strong><span style=
 'font-family: Arial\;'><span style='font-size: 14pt\;'>&nbsp\; &nbsp\; &nb
 sp\; &nbsp\;Unit 8:</span>&nbsp\;</span></strong></span><span style='font-
 size: 14pt\;'><strong><span style='font-family: Arial\;'>I<strong>nstructi
 ons on completing the process</strong></span></strong></span></div>\n<div 
 style='padding-left: 60px\;'>\n<p style='margin-left: 1in\; text-indent: -
 1in\;'><span style='font-size: 12pt\;'><strong><span style='font-family: A
 rial\;'>&nbsp\; &nbsp\; &nbsp\; &nbsp\; &nbsp\; &nbsp\; &nbsp\; &nbsp\; &n
 bsp\; &nbsp\; &nbsp\; &nbsp\; &nbsp\;&nbsp\;</span></strong></span><span s
 tyle='font-size: 12pt\;'><strong><span style='font-family: Arial\;'>Unders
 tanding the verification visit</span> </strong> </span></p>\n<p style='mar
 gin-left: 1in\; text-indent: -1in\;'><span style='font-size: 12pt\;'><stro
 ng><span style='font-family: Arial\;'>&nbsp\; &nbsp\; &nbsp\; &nbsp\; &nbs
 p\; &nbsp\; &nbsp\; &nbsp\; &nbsp\; &nbsp\; &nbsp\; &nbsp\; &nbsp\;&nbsp\;
 <strong>The application process</strong></span> </strong> </span></p>\n<p 
 style='margin-left: 1in\; text-indent: -1in\;'><span style='font-size: 12p
 t\;'><strong><span style='font-family: Arial\;'>&nbsp\; &nbsp\; &nbsp\; &n
 bsp\; &nbsp\; &nbsp\; &nbsp\; &nbsp\; &nbsp\; &nbsp\; &nbsp\; &nbsp\; &nbs
 p\; Choosing your PD Specialist</span> </strong> </span></p>\n<p style='ma
 rgin-left: 1in\; text-indent: -1in\;'><span style='font-size: 12pt\;'><str
 ong><span style='font-family: Arial\;'>&nbsp\; &nbsp\; &nbsp\; &nbsp\; &nb
 sp\; &nbsp\; &nbsp\; &nbsp\; &nbsp\; &nbsp\; &nbsp\; &nbsp\; &nbsp\;&nbsp\
 ;</span></strong></span><span style='font-size: 12pt\;'><strong><span styl
 e='font-family: Arial\;'>Finding a Pearson Vue testing site&nbsp\;</span><
 /strong></span></p>\n<p style='margin-left: 1in\; text-indent: -1in\;'><sp
 an style='font-size: 12pt\;'><strong><span style='font-family: Arial\;'>&n
 bsp\; &nbsp\; &nbsp\; </span></strong></span></p>\n<p style='text-align: c
 enter\;'><a href='http://handprint.niccm.com/products/cda-fast-track.html'
  title='Registration CDA Fast Track '><span style='font-size: 18pt\;'><spa
 n style='margin: 0px\; padding: 0px\; border: 0px\; outline: 0px\; backgro
 und-color: transparent\; font-family: arial\, helvetica\, sans-serif\;'><s
 pan style='color: #ffffff\;'><span style='font-size: 19px\; padding: 3px 1
 0px 4px\; background-color: #7b3b3b\;'><strong>Click Here To Register Onli
 ne Now!</strong></span></span></span></span></a></p>\n<p style='text-align
 : center\;'>&nbsp\;</p>\n<p style='text-align: center\;'>&nbsp\;</p>\n<foo
 ter></footer></div>\n<p style='text-align: center\;'><span style='font-siz
 e: 18pt\;'>&nbsp\; &nbsp\; &nbsp\; &nbsp\;Call (602) 476-1422 for More Inf
 ormation&nbsp\;</span></p>\n<p>&nbsp\;&nbsp\;</p>
DTSTART:20220923T070000Z
DTEND:20220925T150000Z
SUMMARY:CDA Fast Track  - Orlando 922
URL:https://niccm.com/71-cda-fast-track/841-cda-fast-track-orlando-922
END:VEVENT
END:VCALENDAR
