BEGIN:VCALENDAR
VERSION:2.0
PRODID:-//https://niccm.com//NONSGML kigkonsult.se iCalcreator 2.23.20//
METHOD:PUBLISH
X-WR-CALNAME:JCal Pro Calendar
X-WR-CALDESC:Your online events calendar
X-WR-TIMEZONE:UTC
BEGIN:VTIMEZONE
TZID:UTC
BEGIN:STANDARD
DTSTART:20260425T023411
TZOFFSETFROM:+0000
TZOFFSETTO:+0000
END:STANDARD
END:VTIMEZONE
BEGIN:VEVENT
UID:20221021T070000UTC-7738jP7B6u@https://niccm.com/
DTSTAMP:20260425T023411Z
CATEGORIES:Past NICCM Events
DESCRIPTION:<h1 style='color: #000000\; visibility: visible\; text-align: c
 enter\;'><span style='font-family: arial\, helvetica\, sans-serif\; font-s
 ize: 18pt\;'>CDA Fast Track&nbsp\;</span></h1>\n<h2 style='color: #000000\
 ; visibility: visible\; text-align: justify\;'><span style='font-size: 12p
 t\; font-family: arial\, helvetica\, sans-serif\;'><strong style='font-siz
 e: 18pt\;'>Location/Hotel:</strong></span>&nbsp\;</h2>\n<p style='backgrou
 nd-color: transparent\; margin: 2px 0px\; padding: 0px\; border: 0px\; out
 line: 0px\; font-size: 12px\; color: #505f69\; font-family: Helvetica\, Ar
 ial\, FreeSans\, sans-serif\;'><span style='font-family: arial\, helvetica
 \, sans-serif\; font-size: large\;'>Hilton Garden Inn- Waco</span></p>\n<p
  style='background-color: transparent\; margin: 2px 0px\; padding: 0px\; b
 order: 0px\; outline: 0px\; font-size: 12px\; color: #505f69\; font-family
 : Helvetica\, Arial\, FreeSans\, sans-serif\;'><span style='font-family: a
 rial\, helvetica\, sans-serif\; font-size: large\;'>5800 Legend lake Parkw
 ay&nbsp\;</span></p>\n<p style='background-color: transparent\; margin: 2p
 x 0px\; padding: 0px\; border: 0px\; outline: 0px\; font-size: 12px\; colo
 r: #505f69\; font-family: Helvetica\, Arial\, FreeSans\, sans-serif\;'><sp
 an style='font-family: arial\, helvetica\, sans-serif\; font-size: large\;
 '>Waco\, TX &nbsp\;76712</span></p>\n<p style='background-color: transpare
 nt\; margin: 2px 0px\; padding: 0px\; border: 0px\; outline: 0px\; font-si
 ze: 12px\; color: #505f69\; font-family: Helvetica\, Arial\, FreeSans\, sa
 ns-serif\;'><span style='margin: 0px\; padding: 0px\; border: 0px\; outlin
 e: 0px\; font-size: 14pt\; background-color: transparent\; font-family: ar
 ial\, helvetica\, sans-serif\;'>(940) 280-3432</span></p>\n<p style='backg
 round-color: transparent\; margin: 2px 0px\; padding: 0px\; border: 0px\; 
 outline: 0px\; font-size: 12px\; color: #505f69\; font-family: Helvetica\,
  Arial\, FreeSans\, sans-serif\;'><span style='font-size: 14pt\; color: #3
 33399\;'><a href='https://secure3.hilton.com/en_US/es/reservation/book.htm
 ?inputModule=HOTEL&amp\;ctyhocn=DALLFES&amp\;groupCode=CESCM1&amp\;arrival
 =20210415&amp\;departure=20210418&amp\;cid=OM\,WW\,HILTONLINK\,EN\,DirectL
 ink&amp\;fromId=HILTONLINKDIRECT' style='color: #333399\;'>Res</a>ervation
 s Booking Link: Hilton.com</span></p>\n<h2 style='color: #000000\; visibil
 ity: visible\; text-align: justify\;'>&nbsp\;</h2>\n<address>&nbsp\;</addr
 ess>\n<p style='text-align: center\;'><a href='http://handprint.niccm.com/
 products/cda-fast-track.html' title='Registration CDA Fast Track '><span s
 tyle='font-size: 18pt\;'><span style='margin: 0px\; padding: 0px\; border:
  0px\; outline: 0px\; background-color: transparent\; font-family: arial\,
  helvetica\, sans-serif\;'><span style='color: #ffffff\;'><span style='fon
 t-size: 19px\; padding: 3px 10px 4px\; background-color: #7b3b3b\;'><stron
 g>Click Here To Register Online Now!</strong></span></span></span></span><
 /a></p>\n<p style='text-align: center\;'>&nbsp\;<span style='font-size: 18
 pt\;'><span style='margin: 0px\; padding: 0px\; border: 0px\; outline: 0px
 \; background-color: transparent\; font-family: arial\, helvetica\, sans-s
 erif\;'>&nbsp\; &nbsp\; &nbsp\; &nbsp\; &nbsp\; &nbsp\; &nbsp\; &nbsp\; &n
 bsp\; &nbsp\; &nbsp\; &nbsp\; &nbsp\;&nbsp\;</span></span>&nbsp\;</p>\n<p 
 style='text-align: center\;'>&nbsp\;</p>\n<div style='text-align: center\;
 '>\n<p style='visibility: visible\; text-align: justify\;'><span style='fo
 nt-size: 12pt\; font-family: arial\, helvetica\, sans-serif\;'><strong sty
 le='font-size: 18pt\;'>Course Content &amp\; Schedule:</strong></span>&nbs
 p\;</p>\n<p style='visibility: visible\; text-align: justify\;'>&nbsp\;</p
 >\n</div>\n<div style='text-align: justify\;'><span style='text-decoration
 : underline\;'><span style='font-size: large\;'><strong><span style='font-
 size: 14pt\;'>Friday\, October 14th\, 2022</span></strong></span></span></
 div>\n<div>&nbsp\;</div>\n<div><span style='font-size: 14pt\;'><strong>Arr
 ival and Check-In</strong>: 6:45am -7:00am <span style='font-size: 12pt\;'
 >(students must arrive and check-in <span style='font-size: 12pt\;'>15 min
 utes </span><span style='font-size: 14pt\;'></span> before class)</span></
 span></div>\n<div style='padding-left: 30px\;'><span style='font-size: lar
 ge\;'><strong><br /></strong></span><span style='font-size: 14pt\;'><stron
 g>C</strong></span><span style='font-size: 14pt\;'><strong>lass A</strong>
 </span><span style='font-size: 14pt\;'>: 7:00am -12:00pm &nbsp\;<span styl
 e='font-size: 12pt\;'>(5 Contact Hours/.5 CEUs)</span></span></div>\n<div 
 style='padding-left: 30px\;'>&nbsp\; &nbsp\; &nbsp\; &nbsp\; &nbsp\;<span 
 style='font-size: 12pt\;'><strong><span style='font-family: Arial\;'><span
  style='font-size: 14pt\;'>Introduction:</span>&nbsp\;</span>&nbsp\;</stro
 ng> </span><span style='font-size: 12pt\;'><strong><span style='font-famil
 y: Arial\;'>Overview of the Course</span><span style='font-family: Arial\;
 '>&nbsp\; &nbsp\;</span></strong></span></div>\n<div style='margin-left: 6
 0px\;'>\n<p><span style='font-size: 14pt\;'><strong><span style='font-fami
 ly: Arial\;'>Unit 1: &nbsp\; &nbsp\; &nbsp\; &nbsp\; &nbsp\; &nbsp\;</span
 >&nbsp\;&nbsp\;</strong></span><span style='font-size: 12pt\;'><strong><sp
 an style='font-family: Arial\;'>Keys to Writing Statements</span> </strong
 > </span></p>\n<p style='margin-left: 31px\;'><span style='font-size: 12pt
 \;'><strong><span style='font-family: Arial\;'>&nbsp\; &nbsp\; &nbsp\; &nb
 sp\; &nbsp\; &nbsp\; &nbsp\; &nbsp\; &nbsp\; &nbsp\; &nbsp\; &nbsp\;Compet
 ency Statement 1:&nbsp\;&nbsp\;</span> </strong><span style='font-family: 
 Arial\;'>Planning a safe and healthy learning environment</span></span></p
 >\n<p><span style='font-size: 14pt\;'><strong><span style='font-family: Ar
 ial\;'>Unit 2: &nbsp\; &nbsp\; &nbsp\; &nbsp\; &nbsp\; &nbsp\; </span><spa
 n>&nbsp\;</span></strong></span><span style='font-size: 12pt\;'><strong><s
 pan style='font-family: Arial\;'>Competency Statement 2:&nbsp\;&nbsp\;</sp
 an> </strong><span style='font-family: Arial\;'>Advancing children’s physi
 cal and intellectual development</span></span></p>\n</div>\n<div style='pa
 dding-left: 30px\;'><span style='font-size: 12pt\;'><br /><span style='fon
 t-size: 14pt\;'><strong>Class B:</strong>&nbsp\;12:30pm- 5:30pm &nbsp\;<sp
 an style='font-size: 12pt\;'>(5 Contact Hours/.5 CEUs)</span></span> </spa
 n></div>\n<div style='padding-left: 30px\;'><span style='font-size: 14pt\;
 '><strong><span style='font-family: Arial\;'>&nbsp\; &nbsp\; &nbsp\; Unit 
 3:&nbsp\; &nbsp\; &nbsp\; &nbsp\; &nbsp\; &nbsp\;&nbsp\;</span>&nbsp\;</st
 rong> </span><span style='font-size: 12pt\;'><strong><span style='font-fam
 ily: Arial\;'>Competency Statement 3:&nbsp\;&nbsp\;</span> </strong><span 
 style='font-family: Arial\;'>Supporting children’s social and emotional de
 velopment</span></span></div>\n<div>&nbsp\; &nbsp\; &nbsp\; &nbsp\; &nbsp\
 ; &nbsp\; &nbsp\; &nbsp\; &nbsp\;&nbsp\;<strong style='font-family: arial\
 , helvetica\, sans-serif\; font-size: 12pt\; text-indent: -1in\; color: in
 herit\;'><span style='font-size: 14pt\;'>Unit 4:&nbsp\;</span>&nbsp\; &nbs
 p\; &nbsp\; &nbsp\; &nbsp\; &nbsp\; &nbsp\; &nbsp\;Competency Statement 4:
 &nbsp\;<span style='font-size: 14pt\;'></span></strong><span style='font-s
 ize: 12pt\;'>Establishing positive and productive relationships with famil
 ies</span></div>\n<div style='padding-left: 60px\;'>\n<p style='margin-lef
 t: 1in\; text-indent: -1in\;'><span style='font-family: arial\, helvetica\
 , sans-serif\; font-size: 12pt\;'><span style='font-size: 14pt\;'><strong>
 Unit 5: &nbsp\; &nbsp\; &nbsp\; &nbsp\; &nbsp\; &nbsp\; &nbsp\;<span style
 ='font-size: 12pt\;'>Competency Statement 5:</span>&nbsp\;&nbsp\;</strong>
 </span>Ensuring a well-run purposeful program</span></p>\n<p style='margin
 -left: 1in\; text-indent: -1in\;'><span style='font-family: arial\, helvet
 ica\, sans-serif\; font-size: 12pt\;'><strong><span style='font-size: 14pt
 \;'>Unit 6:&nbsp\;</span>&nbsp\; &nbsp\; &nbsp\; &nbsp\; &nbsp\; &nbsp\; &
 nbsp\; &nbsp\;Competency Statement 6:&nbsp\;&nbsp\;</strong>Maintaining a 
 commitment to professionalism</span></p>\n<p>&nbsp\;</p>\n<p style='margin
 -left: 1in\; text-indent: -1in\;'><span style='font-family: Arial\; font-s
 ize: 12pt\;'><strong>Documenting Professional Education</strong>&nbsp\;- 8
  CDA Subject Areas</span><span style='font-size: 12pt\;'></span></p>\n</di
 v>\n<div><span style='font-size: 12pt\;'><br /></span><span style='text-de
 coration: underline\;'><span style='font-size: large\;'><strong><span styl
 e='font-size: 14pt\;'>Saturday\, October 15th\, 2022</span></strong></span
 ></span></div>\n<div style='padding-left: 30px\;'>&nbsp\;</div>\n<div styl
 e='padding-left: 30px\;'><span style='font-size: 14pt\;'><strong>Class C</
 strong><strong>:&nbsp\;</strong>8:00am-3:00pm&nbsp\;<span style='font-size
 : 12pt\;'>(7 Contact Hours/.7 CEUs)</span></span></div>\n<div style='paddi
 ng-left: 30px\;'><span style='font-size: 12pt\;'>&nbsp\;(arrivals will be 
 staggered\, students will be scheduled in as early as 8:00am)</span></div>
 \n<div style='padding-left: 30px\;'><span style='font-size: 12pt\;'><stron
 g><span style='font-family: Arial\;'><span style='font-size: 14pt\;'>&nbsp
 \; &nbsp\; &nbsp\;</span></span></strong></span></div>\n<div style='paddin
 g-left: 30px\;'><span style='font-size: 14pt\;'><strong>Class D:&nbsp\;</s
 trong>4:00pm - 7:00pm <span style='font-size: 12pt\;'>(3 Contact Hours/.3 
 CEUs)&nbsp\;</span></span></div>\n<div style='padding-left: 30px\;'><span 
 style='font-size: 14pt\;'><span style='font-size: 14pt\;'></span><span sty
 le='font-size: 12pt\;'>(dissmissal will be staggard\, students will be dis
 missed throughout the evening)</span></span></div>\n<div>\n<div>&nbsp\;</d
 iv>\n<div style='padding-left: 30px\; text-align: center\;'><span style='f
 ont-size: 12pt\;'><span style='font-size: 12pt\;'><strong><span style='fon
 t-family: Arial\;'><span style='font-size: 14pt\;'>C &amp\; D Class Conten
 t</span></span></strong></span></span>\n<div style='padding-left: 60px\;'>
 &nbsp\;</div>\n</div>\n<div style='padding-left: 30px\;'><span style='font
 -size: 12pt\;'><strong><span style='font-family: Arial\;'><span style='fon
 t-size: 14pt\;'>&nbsp\; &nbsp\; &nbsp\; Directed Portfolio Lab:</span>&nbs
 p\;&nbsp\;</span> </strong><span style='font-family: Arial\;'>The Directed
  Portfolio Lab allows for individual consultation &amp\; one-on-one time w
 ith</span></span><span style='font-size: 12pt\;'><span style='font-family:
  Arial\;'>&nbsp\;the &nbsp\; &nbsp\;</span></span></div>\n<div style='padd
 ing-left: 30px\;'><span style='font-size: 12pt\;'><span style='font-family
 : Arial\;'>&nbsp\; &nbsp\; &nbsp\; &nbsp\;instructor. &nbsp\;Participants 
 will work on their portfolio and meet with the instructor to discuss their
  statements and</span></span><span style='font-size: 12pt\;'><span style='
 font-family: Arial\;'>&nbsp\;the </span></span></div>\n<div style='padding
 -left: 30px\;'><span style='font-size: 12pt\;'><span style='font-family: A
 rial\;'>&nbsp\; &nbsp\; &nbsp\; &nbsp\;documentation within their professi
 onal portfolio.</span></span></div>\n</div>\n<div style='padding-left: 30p
 x\;'>\n<div style='padding-left: 30px\;'>&nbsp\;</div>\n<div style='paddin
 g-left: 30px\;'><strong style='font-size: 12pt\; text-indent: -1in\; color
 : inherit\; font-family: inherit\;'><span style='font-family: Arial\;'><sp
 an style='font-size: 12pt\;'>The Professional Philosophy Statement</span><
 /span></strong></div>\n<div>&nbsp\;</div>\n<div style='padding-left: 30px\
 ;'><span style='font-size: 12pt\;'><strong>Individual Consultations - allo
 ws one on one with instructors</strong></span></div>\n<div style='padding-
 left: 60px\;'>&nbsp\;</div>\n</div>\n<div style='padding-left: 60px\;'>&nb
 sp\;</div>\n<div><span style='font-size: 12pt\;'>&nbsp\;<span style='text-
 decoration: underline\;'><span style='font-size: 14pt\;'><strong>Sunday\, 
 October 16th\, 2022</strong></span></span></span></div>\n<div style='margi
 n-left: 30px\;'><span style='font-size: large\;'><strong><br /></strong></
 span><span style='font-size: 14pt\;'><strong>Class E</strong><strong>:</st
 rong>&nbsp\;8:00am-3:00pm</span><span style='font-size: 12pt\;'>&nbsp\;<sp
 an style='font-size: 12pt\;'>(7 Contact Hours/.7 CEUs)</span></span></div>
 \n<div style='margin-left: 30px\;'>\n<p style='margin-left: 1in\; text-ind
 ent: -1in\;'><span style='font-size: 14pt\;'><strong>Class F:</strong>&nbs
 p\;4:00pm-7:00pm&nbsp\;<span style='background-color: inherit\; color: inh
 erit\; font-family: inherit\; caret-color: auto\;'>(3 Contact Hours/.3 CEU
 s)</span></span></p>\n<p>&nbsp\;</p>\n</div>\n<div style='padding-left: 30
 px\; text-align: center\;'><span style='font-size: 12pt\;'><strong><span s
 tyle='font-family: Arial\;'><span style='font-size: 14pt\;'><span style='f
 ont-size: 14pt\;'>E &amp\; F Class Content</span><span style='font-family:
  Arial\;'></span><span style='font-size: 12pt\;'></span><span style='font-
 size: 12pt\;'></span>&nbsp\; &nbsp\; &nbsp\; </span></span></strong></span
 ></div>\n<div style='padding-left: 30px\;'><span style='font-size: 12pt\;'
 ><strong><span style='font-family: Arial\;'><span style='font-size: 14pt\;
 '><span style='font-family: Arial\;'>&nbsp\; &nbsp\; &nbsp\; &nbsp\;<span 
 style='font-size: 14pt\;'>Unit 7:</span><span style='font-family: Arial\;'
 >&nbsp\;CDA Practice Exam&nbsp\;</span>&nbsp\;</span><span style='font-siz
 e: 12pt\;'></span></span></span></strong></span></div>\n<div style='paddin
 g-left: 30px\;'><span style='font-size: 12pt\;'><strong><span style='font-
 family: Arial\;'><span style='font-size: 14pt\;'>&nbsp\; &nbsp\; &nbsp\; &
 nbsp\;Unit 8:</span>&nbsp\;</span></strong></span><span style='font-size: 
 14pt\;'><strong><span style='font-family: Arial\;'>I<strong>nstructions on
  completing the process</strong></span></strong></span></div>\n<div style=
 'padding-left: 60px\;'>\n<p style='margin-left: 1in\; text-indent: -1in\;'
 ><span style='font-size: 12pt\;'><strong><span style='font-family: Arial\;
 '>&nbsp\; &nbsp\; &nbsp\; &nbsp\; &nbsp\; &nbsp\; &nbsp\; &nbsp\; &nbsp\; 
 &nbsp\; &nbsp\; &nbsp\; &nbsp\;&nbsp\;</span></strong></span><span style='
 font-size: 12pt\;'><strong><span style='font-family: Arial\;'>Understandin
 g the verification visit</span> </strong> </span></p>\n<p style='margin-le
 ft: 1in\; text-indent: -1in\;'><span style='font-size: 12pt\;'><strong><sp
 an style='font-family: Arial\;'>&nbsp\; &nbsp\; &nbsp\; &nbsp\; &nbsp\; &n
 bsp\; &nbsp\; &nbsp\; &nbsp\; &nbsp\; &nbsp\; &nbsp\; &nbsp\;&nbsp\;<stron
 g>The application process</strong></span> </strong> </span></p>\n<p style=
 'margin-left: 1in\; text-indent: -1in\;'><span style='font-size: 12pt\;'><
 strong><span style='font-family: Arial\;'>&nbsp\; &nbsp\; &nbsp\; &nbsp\; 
 &nbsp\; &nbsp\; &nbsp\; &nbsp\; &nbsp\; &nbsp\; &nbsp\; &nbsp\; &nbsp\; Ch
 oosing your PD Specialist</span> </strong> </span></p>\n<p style='margin-l
 eft: 1in\; text-indent: -1in\;'><span style='font-size: 12pt\;'><strong><s
 pan style='font-family: Arial\;'>&nbsp\; &nbsp\; &nbsp\; &nbsp\; &nbsp\; &
 nbsp\; &nbsp\; &nbsp\; &nbsp\; &nbsp\; &nbsp\; &nbsp\; &nbsp\;&nbsp\;</spa
 n></strong></span><span style='font-size: 12pt\;'><strong><span style='fon
 t-family: Arial\;'>Finding a Pearson Vue testing site&nbsp\;</span></stron
 g></span></p>\n<p style='margin-left: 1in\; text-indent: -1in\;'><span sty
 le='font-size: 12pt\;'><strong><span style='font-family: Arial\;'>&nbsp\; 
 &nbsp\; &nbsp\; </span></strong></span></p>\n<p style='text-align: center\
 ;'><a href='http://handprint.niccm.com/products/cda-fast-track.html' title
 ='Registration CDA Fast Track '><span style='font-size: 18pt\;'><span styl
 e='margin: 0px\; padding: 0px\; border: 0px\; outline: 0px\; background-co
 lor: transparent\; font-family: arial\, helvetica\, sans-serif\;'><span st
 yle='color: #ffffff\;'><span style='font-size: 19px\; padding: 3px 10px 4p
 x\; background-color: #7b3b3b\;'><strong>Click Here To Register Online Now
 !</strong></span></span></span></span></a></p>\n<p style='text-align: cent
 er\;'>&nbsp\;</p>\n<p style='text-align: center\;'>&nbsp\;</p>\n<footer></
 footer></div>\n<p style='text-align: center\;'><span style='font-size: 18p
 t\;'>&nbsp\; &nbsp\; &nbsp\; &nbsp\;Call (602) 476-1422 for More Informati
 on&nbsp\;</span></p>\n<p>&nbsp\;&nbsp\;</p>
DTSTART:20221014T070000Z
DTEND:20221016T150000Z
SUMMARY:CDA Fast Track  - Waco 1022
URL:https://niccm.com/71-cda-fast-track/842-cda-fast-track-waco-1022
END:VEVENT
END:VCALENDAR
