BEGIN:VCALENDAR
VERSION:2.0
PRODID:-//https://niccm.com//NONSGML kigkonsult.se iCalcreator 2.23.20//
METHOD:PUBLISH
X-WR-CALNAME:JCal Pro Calendar
X-WR-CALDESC:Your online events calendar
X-WR-TIMEZONE:UTC
BEGIN:VTIMEZONE
TZID:UTC
BEGIN:STANDARD
DTSTART:20260425T105751
TZOFFSETFROM:+0000
TZOFFSETTO:+0000
END:STANDARD
END:VTIMEZONE
BEGIN:VEVENT
UID:20240426T070000UTC-3200KCJFwU@https://niccm.com/
DTSTAMP:20260425T105751Z
CATEGORIES:Past NICCM Events
DESCRIPTION:<h1 style='color: #000000\; visibility: visible\; text-align: c
 enter\;'><span style='font-family: arial\, helvetica\, sans-serif\; font-s
 ize: 18pt\;'>CDA Fast Track&nbsp\;</span></h1>\n<h2 style='color: #000000\
 ; visibility: visible\; text-align: justify\;'><span style='font-size: 12p
 t\; font-family: arial\, helvetica\, sans-serif\;'><strong style='font-siz
 e: 18pt\;'>Location/Hotel:</strong></span>&nbsp\;</h2>\n<p style='backgrou
 nd-color: transparent\; margin: 2px 0px\; padding: 0px\; border: 0px\; out
 line: 0px\; font-size: 12px\; color: #505f69\; font-family: Helvetica\, Ar
 ial\, FreeSans\, sans-serif\;'><span style='color: #000000\; font-family: 
 arial\, helvetica\, sans-serif\; font-size: 14pt\;'>Embassy Suites Hotel- 
 Dallas Love Field</span></p>\n<p><span style='color: #000000\; font-family
 : arial\, helvetica\, sans-serif\; font-size: 14pt\;'>3880 W. Northwest Hi
 ghway</span></p>\n<p><span style='color: #000000\; font-family: arial\, he
 lvetica\, sans-serif\; font-size: 14pt\;'>Dallas\, TX&nbsp\; 75220</span><
 /p>\n<p><span style='color: #000000\; font-family: arial\, helvetica\, san
 s-serif\; font-size: 14pt\;'>(214) 357- 4500</span></p>\n<p><span style='f
 ont-size: 14pt\; font-family: arial\, helvetica\, sans-serif\; color: #000
 000\;'>Reservations</span>&nbsp\;<span style='font-size: 14pt\;'><a href='
 https://www.hilton.com/en/book/reservation/deeplink/?ctyhocn=DALLFES&amp\;
 groupCode=CESNC1&amp\;arrivaldate=2024-05-16&amp\;departuredate=2024-05-20
 &amp\;cid=OM\,WW\,HILTONLINK\,EN\,DirectLink&amp\;fromId=HILTONLINKDIRECT'
 >hilton.com</a><a href='https://www.hilton.com/en/book/reservation/deeplin
 k/?ctyhocn=MCOBVGI&amp\;groupCode=NICCM6&amp\;arrivaldate=2023-11-14&amp\;
 departuredate=2023-11-20&amp\;cid=OM\,WW\,HILTONLINK\,EN\,DirectLink&amp\;
 fromId=HILTONLINKDIRECT'></a></span></p>\n<p><span style='color: #0000ff\;
  font-size: 14pt\;'><span style='color: #000000\;'>Call for assistance if 
 there aren't any available reservations on the link.</span>&nbsp\;</span><
 /p>\n<address>&nbsp\;</address>\n<p>&nbsp\;</p>\n<p style='text-align: cen
 ter\;'><a href='http://handprint.niccm.com/products/cda-fast-track.html' t
 itle='Registration CDA Fast Track '><span style='font-size: 18pt\;'><span 
 style='margin: 0px\; padding: 0px\; border: 0px\; outline: 0px\; backgroun
 d-color: transparent\; font-family: arial\, helvetica\, sans-serif\;'><spa
 n style='color: #ffffff\;'><span style='font-size: 19px\; padding: 3px 10p
 x 4px\; background-color: #7b3b3b\;'><strong>Click Here To Register Online
  Now!</strong></span></span></span></span></a></p>\n<p style='text-align: 
 center\;'>&nbsp\;<span style='font-size: 18pt\;'><span style='margin: 0px\
 ; padding: 0px\; border: 0px\; outline: 0px\; background-color: transparen
 t\; font-family: arial\, helvetica\, sans-serif\;'>&nbsp\; &nbsp\; &nbsp\;
  &nbsp\; &nbsp\; &nbsp\; &nbsp\; &nbsp\; &nbsp\; &nbsp\; &nbsp\; &nbsp\; &
 nbsp\;&nbsp\;</span></span>&nbsp\;</p>\n<p style='text-align: center\;'>&n
 bsp\;</p>\n<div style='text-align: center\;'>\n<p style='visibility: visib
 le\; text-align: justify\;'><span style='color: #333333\;'><span style='fo
 nt-size: 12pt\; font-family: arial\, helvetica\, sans-serif\;'><strong sty
 le='font-size: 18pt\;'>Course Content &amp\; Schedule:</strong></span>&nbs
 p\;</span></p>\n<p style='visibility: visible\; text-align: justify\;'><sp
 an style='color: #333333\;'></span></p>\n</div>\n<div>&nbsp\;</div>\n<div 
 style='text-align: justify\;'><span style='text-decoration: underline\; co
 lor: #333333\;'><span style='font-size: large\;'><strong><span style='font
 -size: 14pt\;'>Friday\, May 17th\, 2024</span></strong></span></span></div
 >\n<div><span style='color: #333333\;'></span></div>\n<div>&nbsp\;</div>\n
 <div><span style='font-size: 14pt\; color: #333333\;'><strong>Arrival and 
 Check-In</strong>: 6:45am -7:00am <span style='font-size: 12pt\;'>(student
 s must arrive and check-in 15 minutes before class)</span></span></div>\n<
 div style='padding-left: 30px\;'><span style='color: #333333\;'><span styl
 e='font-size: large\;'><strong><br /></strong></span><span style='font-siz
 e: 14pt\;'><strong>C</strong><strong>lass A</strong>: 7:00am -12:00pm &nbs
 p\;(5 Contact Hours/.5 CEUs)</span></span></div>\n<div style='padding-left
 : 30px\;'><span style='font-size: 14pt\; color: #333333\;'>&nbsp\; &nbsp\;
  &nbsp\;&nbsp\;</span><span style='font-size: 14pt\; color: #333333\;'><st
 rong><span style='font-family: Arial\;'>Introduction:&nbsp\;</span>&nbsp\;
 </strong> <strong><span style='font-family: Arial\;'>Overview of the Cours
 e</span><span style='font-family: Arial\;'>&nbsp\; &nbsp\;</span></strong>
 </span></div>\n<div style='margin-left: 60px\;'>\n<p><span style='font-siz
 e: 14pt\; color: #333333\;'><strong><span style='font-family: Arial\;'>Uni
 t 1:&nbsp\; &nbsp\; </span></strong><strong><span style='font-family: Aria
 l\;'>Keys to Writing Statements</span> </strong> </span></p>\n<p style='ma
 rgin-left: 31px\;'><span style='font-size: 14pt\; color: #333333\;'><stron
 g><span style='font-family: Arial\;'>&nbsp\; &nbsp\; &nbsp\; &nbsp\; &nbsp
 \;Competency Statement 1:&nbsp\;&nbsp\;</span> </strong><span style='font-
 family: Arial\;'>Planning a safe and healthy learning environment</span></
 span></p>\n<p><span style='font-size: 14pt\; color: #333333\;'><strong><sp
 an style='font-family: Arial\;'>Unit 2:&nbsp\; &nbsp\; </span></strong><st
 rong><span style='font-family: Arial\;'>Competency Statement 2:&nbsp\;&nbs
 p\;</span> </strong><span style='font-family: Arial\;'>Advancing children’
 s physical and intellectual development</span></span></p>\n</div>\n<div st
 yle='padding-left: 30px\;'><span style='font-size: 12pt\; color: #333333\;
 '><br /><span style='font-size: 14pt\;'><strong>Class B:</strong>&nbsp\;12
 :30pm- 5:30pm &nbsp\;(5 Contact Hours/.5 CEUs) </span></span></div>\n<div 
 style='padding-left: 30px\;'><span style='font-size: 14pt\; color: #333333
 \;'><strong><span style='font-family: Arial\;'>&nbsp\; &nbsp\; &nbsp\;</sp
 an></strong></span>\n<div style='padding-left: 30px\; text-align: justify\
 ;'><span style='color: #333333\; font-size: 14pt\;'><strong><span style='f
 ont-family: Arial\;'>Unit 3:&nbsp\; &nbsp\;&nbsp\;</span></strong><strong>
 Competency Statement 3:&nbsp\;&nbsp\;</strong>Supporting children’s social
  and emotional development</span></div>\n<div style='text-align: justify\;
 '><span style='color: #333333\; font-size: 14pt\;'>&nbsp\; &nbsp\; &nbsp\;
  </span><span style='color: #333333\;'><strong style='font-family: arial\,
  helvetica\, sans-serif\; font-size: 12pt\; text-indent: -1in\; color: inh
 erit\;'><span style='font-size: 14pt\;'>Unit 4:&nbsp\; &nbsp\;&nbsp\;Compe
 tency Statement 4:</span>&nbsp\;&nbsp\;</strong></span><span style='color:
  #333333\; font-size: 14pt\;'>Establishing positive and productive relatio
 nships with families</span></div>\n<div style='text-align: justify\;'><spa
 n style='color: #333333\; font-size: 14pt\;'><strong>&nbsp\; &nbsp\; &nbsp
 \; Unit 5:&nbsp\; &nbsp\;&nbsp\;</strong><strong>Competency Statement 5:&n
 bsp\;&nbsp\;</strong>Ensuring a well-run purposeful program&nbsp\;</span><
 /div>\n<div style='text-align: justify\;'><span style='color: #333333\; fo
 nt-size: 14pt\;'><strong>&nbsp\; &nbsp\; &nbsp\; Unit 6:&nbsp\;&nbsp\; &nb
 sp\;Competency Statement 6:&nbsp\;&nbsp\;</strong>Maintaining a commitment
  to professionalism</span></div>\n<div style='padding-left: 60px\;'><span 
 style='color: #333333\; font-size: 14pt\;'></span></div>\n</div>\n<div sty
 le='padding-left: 60px\;'>\n<p><span style='font-size: 14pt\; color: #3333
 33\;'></span></p>\n<p><span style='color: #333333\; font-size: 14pt\;'></s
 pan></p>\n<p><span style='font-size: 14pt\; color: #333333\;'><span style=
 'font-family: Arial\;'><strong>Documenting Professional Education</strong>
 &nbsp\;- 8 CDA Subject Areas</span>&nbsp\;</span></p>\n</div>\n<div><span 
 style='font-size: 14pt\; color: #333333\;'><br /><span style='text-decorat
 ion: underline\;'><strong>Saturday\, May 18th\, 2024</strong></span></span
 ></div>\n<div style='padding-left: 30px\;'><span style='font-size: 14pt\; 
 color: #333333\;'></span></div>\n<div>&nbsp\;</div>\n<div style='padding-l
 eft: 30px\;'><span style='font-size: 14pt\; color: #333333\;'><strong>Clas
 s C</strong><strong>:&nbsp\;</strong>8:00am-3:00pm&nbsp\;(7 Contact Hours/
 .7 CEUs)</span></div>\n<div style='padding-left: 30px\;'><span style='font
 -size: 14pt\; color: #333333\;'>&nbsp\;(arrivals will be staggered\, stude
 nts will be scheduled in as early as 8:00am)</span></div>\n<div style='pad
 ding-left: 30px\;'><span style='font-size: 14pt\; color: #333333\;'><stron
 g><span style='font-family: Arial\;'>&nbsp\; &nbsp\; &nbsp\;</span></stron
 g></span></div>\n<div style='padding-left: 30px\;'><span style='font-size:
  14pt\; color: #333333\;'><strong>Class D:&nbsp\;</strong>4:00pm - 7:00pm 
 (3 Contact Hours/.3 CEUs)&nbsp\;</span></div>\n<div style='padding-left: 3
 0px\;'><span style='font-size: 14pt\; color: #333333\;'>&nbsp\;(dissmissal
  will be staggered\, students will be dismissed throughout the evening)</s
 pan></div>\n<div>\n<div><span style='font-size: 14pt\; color: #333333\;'><
 /span></div>\n<div>&nbsp\;</div>\n<div style='text-align: center\;'>&nbsp\
 ;<span style='font-size: 14pt\; color: #333333\;'><strong><span style='fon
 t-family: Arial\;'>C &amp\; D Class Content</span></strong></span>\n<div s
 tyle='padding-left: 60px\;'><span style='font-size: 14pt\; color: #333333\
 ;'></span></div>\n</div>\n<div>&nbsp\;<span style='color: #333333\;'><span
  style='font-size: 14pt\;'><strong><span style='font-family: Arial\;'>Dire
 cted Portfolio Lab:&nbsp\;</span></strong><span style='font-family: Arial\
 ;'>The Directed Portfolio Lab allows for individual consultation &amp\; on
 e-on-one time with</span><span style='font-family: Arial\;'>&nbsp\;the&nbs
 p\;</span></span><span style='font-size: 14pt\;'><span style='font-family:
  Arial\;'>instructor. &nbsp\;Participants will work on their portfolio and
  meet with the instructor to discuss their statements and</span><span styl
 e='font-family: Arial\;'>&nbsp\;the </span></span><span style='font-size: 
 14pt\;'><span style='font-family: Arial\;'>documentation within their prof
 essional portfolio.</span></span></span></div>\n<div><strong style='font-f
 amily: arial\, helvetica\, sans-serif\;'>&nbsp\; &nbsp\; &nbsp\; &nbsp\; &
 nbsp\; &nbsp\; &nbsp\; &nbsp\; &nbsp\;<span style='font-size: 14pt\; color
 : #000000\;'>The Professional Philosophy Statement</span></strong></div>\n
 </div>\n<div style='padding-left: 30px\;'>\n<div style='text-align: justif
 y\;'><span style='color: #333333\;'>&nbsp\; &nbsp\; &nbsp\; &nbsp\; &nbsp\
 ;</span><span style='font-family: arial\, helvetica\, sans-serif\; color: 
 #333333\; font-size: 14pt\;'><strong>Individual Consultations - allows one
  on one with instructors</strong></span></div>\n<div style='padding-left: 
 60px\;'><span style='font-family: arial\, helvetica\, sans-serif\; color: 
 #333333\; font-size: 14pt\;'></span></div>\n</div>\n<div style='padding-le
 ft: 60px\;'><span style='font-size: 14pt\; font-family: arial\, helvetica\
 , sans-serif\; color: #333333\;'></span></div>\n<div><span style='font-siz
 e: 14pt\; color: #333333\;'></span></div>\n<div>&nbsp\;</div>\n<div><span 
 style='font-size: 14pt\; color: #333333\;'><span style='text-decoration: u
 nderline\;'><strong>Sunday\, May 19th\, 2024</strong></span></span></div>
 \n<div style='margin-left: 30px\;'><span style='font-size: 14pt\; color: #
 333333\;'><strong><br /></strong><strong>Class E</strong><strong>:</strong
 >&nbsp\;8:00am-3:00pm&nbsp\;(7 Contact Hours/.7 CEUs)</span></div>\n<div s
 tyle='margin-left: 30px\;'>\n<p style='margin-left: 1in\; text-indent: -1i
 n\;'><span style='font-size: 14pt\; color: #333333\;'><strong>Class F:</st
 rong>&nbsp\;4:00pm-7:00pm&nbsp\;<span style='background-color: inherit\; f
 ont-family: inherit\; caret-color: auto\;'>(3 Contact Hours/.3 CEUs)</span
 ></span></p>\n<p><span style='font-size: 14pt\; color: #333333\;'></span><
 /p>\n</div>\n<div>&nbsp\;</div>\n<div style='padding-left: 30px\; text-ali
 gn: center\;'><span style='font-size: 14pt\; color: #333333\;'><strong><sp
 an style='font-family: Arial\;'>E &amp\; F Class Content<span style='font-
 family: Arial\;'></span>&nbsp\;&nbsp\;&nbsp\; &nbsp\; &nbsp\; </span></str
 ong></span></div>\n<div style='padding-left: 30px\;'><span style='font-siz
 e: 14pt\; color: #333333\;'><strong><span style='font-family: Arial\;'><sp
 an style='font-family: Arial\;'>&nbsp\; &nbsp\; &nbsp\; &nbsp\;Unit 7:<spa
 n style='font-family: Arial\;'>&nbsp\;CDA Practice Exam&nbsp\;</span>&nbsp
 \;</span>&nbsp\;</span></strong></span></div>\n<div style='padding-left: 3
 0px\;'><span style='font-size: 14pt\; color: #333333\;'><strong><span styl
 e='font-family: Arial\;'>&nbsp\; &nbsp\; &nbsp\; &nbsp\;</span></strong></
 span><span style='color: #333333\; font-size: 14pt\;'><strong><span style=
 'font-family: Arial\;'>Unit 8:&nbsp\;</span></strong><strong><span style='
 font-family: Arial\;'>I<strong>nstructions on completing the process</stro
 ng></span></strong></span></div>\n<div style='padding-left: 60px\;'>\n<p s
 tyle='margin-left: 1in\; text-indent: -1in\;'><span style='font-size: 14pt
 \; color: #333333\;'><strong><span style='font-family: Arial\;'>&nbsp\; &n
 bsp\; &nbsp\; &nbsp\; &nbsp\; &nbsp\; &nbsp\; &nbsp\; &nbsp\; &nbsp\; &nbs
 p\; &nbsp\; &nbsp\;&nbsp\;</span></strong><strong><span style='font-family
 : Arial\;'>Understanding the verification visit</span> </strong> </span></
 p>\n<p style='margin-left: 1in\; text-indent: -1in\;'><span style='font-si
 ze: 14pt\; color: #333333\;'><strong><span style='font-family: Arial\;'>&n
 bsp\; &nbsp\; &nbsp\; &nbsp\; &nbsp\; &nbsp\; &nbsp\; &nbsp\; &nbsp\; &nbs
 p\; &nbsp\; &nbsp\; &nbsp\;&nbsp\;<strong>The application process</strong>
 </span> </strong> </span></p>\n<p style='margin-left: 1in\; text-indent: -
 1in\;'><span style='font-size: 14pt\; color: #333333\;'><strong><span styl
 e='font-family: Arial\;'>&nbsp\; &nbsp\; &nbsp\; &nbsp\; &nbsp\; &nbsp\; &
 nbsp\; &nbsp\; &nbsp\; &nbsp\; &nbsp\; &nbsp\; &nbsp\; Choosing your PD Sp
 ecialist</span> </strong> </span></p>\n<p style='margin-left: 1in\; text-i
 ndent: -1in\;'><span style='font-size: 14pt\; color: #333333\;'><strong><s
 pan style='font-family: Arial\;'>&nbsp\; &nbsp\; &nbsp\; &nbsp\; &nbsp\; &
 nbsp\; &nbsp\; &nbsp\; &nbsp\; &nbsp\; &nbsp\; &nbsp\; &nbsp\;&nbsp\;</spa
 n></strong><strong><span style='font-family: Arial\;'>Finding a Pearson Vu
 e testing site&nbsp\;</span></strong></span></p>\n<p style='margin-left: 1
 in\; text-indent: -1in\;'><span style='font-size: 14pt\;'><strong><span st
 yle='font-family: Arial\;'>&nbsp\; &nbsp\; &nbsp\; </span></strong></span>
 </p>\n<p style='text-align: center\;'><span style='font-size: 14pt\;'><a h
 ref='http://handprint.niccm.com/products/cda-fast-track.html' title='Regis
 tration CDA Fast Track '><span style='margin: 0px\; padding: 0px\; border:
  0px\; outline: 0px\; background-color: transparent\; font-family: arial\,
  helvetica\, sans-serif\;'><span style='color: #ffffff\;'><span style='pad
 ding: 3px 10px 4px\; background-color: #7b3b3b\;'><strong>Click Here To Re
 gister Online Now!</strong></span></span></span></a></span></p>\n<p style=
 'text-align: center\;'>&nbsp\;</p>\n<p style='text-align: center\;'>&nbsp\
 ;</p>\n<footer></footer></div>\n<p style='text-align: center\;'><span styl
 e='font-size: 18pt\;'>&nbsp\; &nbsp\; &nbsp\; &nbsp\;Call (602) 476-1422 f
 or More Information&nbsp\;</span></p>\n<p>&nbsp\;&nbsp\;</p>
DTSTART:20240517T070000Z
DTEND:20240519T190000Z
SUMMARY:CDA Fast Track  - Dallas 524    
URL:https://niccm.com/71-cda-fast-track/861-cda-fast-track-dallas-524
END:VEVENT
END:VCALENDAR
