BEGIN:VCALENDAR
VERSION:2.0
PRODID:-//https://niccm.com//NONSGML kigkonsult.se iCalcreator 2.23.20//
METHOD:PUBLISH
X-WR-CALNAME:JCal Pro Calendar
X-WR-CALDESC:Your online events calendar
X-WR-TIMEZONE:UTC
BEGIN:VTIMEZONE
TZID:UTC
BEGIN:STANDARD
DTSTART:20260425T104148
TZOFFSETFROM:+0000
TZOFFSETTO:+0000
END:STANDARD
END:VTIMEZONE
BEGIN:VEVENT
UID:20240322T070000UTC-9269Mv2VUn@https://niccm.com/
DTSTAMP:20260425T104148Z
CATEGORIES:Past NICCM Events
DESCRIPTION:<h1 style='color: #000000\; visibility: visible\; text-align: c
 enter\;'><span style='font-family: arial\, helvetica\, sans-serif\; font-s
 ize: 18pt\;'>CDA Fast Track&nbsp\;</span></h1>\n<h2 style='color: #000000\
 ; visibility: visible\; text-align: justify\;'><span style='font-size: 12p
 t\; font-family: arial\, helvetica\, sans-serif\;'><strong style='font-siz
 e: 18pt\;'>Location/Hotel:</strong></span>&nbsp\;</h2>\n<p style='backgrou
 nd-color: transparent\; margin: 2px 0px\; padding: 0px\; border: 0px\; out
 line: 0px\; font-size: 12px\; color: #505f69\; font-family: Helvetica\, Ar
 ial\, FreeSans\, sans-serif\;'><span style='color: #000000\; font-family: 
 arial\, helvetica\, sans-serif\; font-size: 14pt\;'>Hilton Garden Inn - La
 ke Buena Vista&nbsp\;</span></p>\n<p><span style='color: #000000\; font-fa
 mily: arial\, helvetica\, sans-serif\; font-size: 14pt\;'>11400 Marabella 
 Palm Court</span></p>\n<p><span style='color: #000000\; font-family: arial
 \, helvetica\, sans-serif\; font-size: 14pt\;'>Orlando\, FL &nbsp\;32836</
 span></p>\n<p><span style='color: #000000\; font-family: arial\, helvetica
 \, sans-serif\; font-size: 14pt\;'>(407) 239- 9550</span></p>\n<p><span st
 yle='font-size: 14pt\; font-family: arial\, helvetica\, sans-serif\; color
 : #000000\;'>Reservations</span>&nbsp\;<a href='https://www.hilton.com/en/
 book/reservation/deeplink/?ctyhocn=MCOBVGI&amp\;groupCode=NIC3&amp\;arriva
 ldate=2024-05-21&amp\;departuredate=2024-05-27&amp\;cid=OM\,WW\,HILTONLINK
 \,EN\,DirectLink&amp\;fromId=HILTONLINKDIRECT'><span style='font-size: 14p
 t\;'>Hilton.com&nbsp\;</span></a></p>\n<p><span style='color: #0000ff\; fo
 nt-size: 14pt\;'><span style='color: #000000\;'>Call for assistance if the
 re aren't any available reservations on the link.</span>&nbsp\;</span></p>
 \n<address>&nbsp\;</address>\n<p>&nbsp\;</p>\n<p style='text-align: center
 \;'><a href='http://handprint.niccm.com/products/cda-fast-track.html' titl
 e='Registration CDA Fast Track '><span style='font-size: 18pt\;'><span sty
 le='margin: 0px\; padding: 0px\; border: 0px\; outline: 0px\; background-c
 olor: transparent\; font-family: arial\, helvetica\, sans-serif\;'><span s
 tyle='color: #ffffff\;'><span style='font-size: 19px\; padding: 3px 10px 4
 px\; background-color: #7b3b3b\;'><strong>Click Here To Register Online No
 w!</strong></span></span></span></span></a></p>\n<p style='text-align: cen
 ter\;'>&nbsp\;<span style='font-size: 18pt\;'><span style='margin: 0px\; p
 adding: 0px\; border: 0px\; outline: 0px\; background-color: transparent\;
  font-family: arial\, helvetica\, sans-serif\;'>&nbsp\; &nbsp\; &nbsp\; &n
 bsp\; &nbsp\; &nbsp\; &nbsp\; &nbsp\; &nbsp\; &nbsp\; &nbsp\; &nbsp\; &nbs
 p\;&nbsp\;</span></span>&nbsp\;</p>\n<p style='text-align: center\;'>&nbsp
 \;</p>\n<div style='text-align: center\;'>\n<p style='visibility: visible\
 ; text-align: justify\;'><span style='color: #333333\;'><span style='font-
 size: 12pt\; font-family: arial\, helvetica\, sans-serif\;'><strong style=
 'font-size: 18pt\;'>Course Content &amp\; Schedule:</strong></span>&nbsp\;
 </span></p>\n<p style='visibility: visible\; text-align: justify\;'><span 
 style='color: #333333\;'></span></p>\n</div>\n<div>&nbsp\;</div>\n<div sty
 le='text-align: justify\;'><span style='text-decoration: underline\; color
 : #333333\;'><span style='font-size: large\;'><strong><span style='font-si
 ze: 14pt\;'>Friday\, May 24th\, 2024</span></strong></span></span></div>\n
 <div><span style='color: #333333\;'></span></div>\n<div>&nbsp\;</div>\n<di
 v><span style='font-size: 14pt\; color: #333333\;'><strong>Arrival and Che
 ck-In</strong>: 6:45am -7:00am <span style='font-size: 12pt\;'>(students m
 ust arrive and check-in 15 minutes before class)</span></span></div>\n<div
  style='padding-left: 30px\;'><span style='color: #333333\;'><span style='
 font-size: large\;'><strong><br /></strong></span><span style='font-size: 
 14pt\;'><strong>C</strong><strong>lass A</strong>: 7:00am -12:00pm &nbsp\;
 (5 Contact Hours/.5 CEUs)</span></span></div>\n<div style='padding-left: 3
 0px\;'><span style='font-size: 14pt\; color: #333333\;'>&nbsp\; &nbsp\; &n
 bsp\;&nbsp\;</span><span style='font-size: 14pt\; color: #333333\;'><stron
 g><span style='font-family: Arial\;'>Introduction:&nbsp\;</span>&nbsp\;</s
 trong> <strong><span style='font-family: Arial\;'>Overview of the Course</
 span><span style='font-family: Arial\;'>&nbsp\; &nbsp\;</span></strong></s
 pan></div>\n<div style='margin-left: 60px\;'>\n<p><span style='font-size: 
 14pt\; color: #333333\;'><strong><span style='font-family: Arial\;'>Unit 1
 :&nbsp\; &nbsp\; </span></strong><strong><span style='font-family: Arial\;
 '>Keys to Writing Statements</span> </strong> </span></p>\n<p style='margi
 n-left: 31px\;'><span style='font-size: 14pt\; color: #333333\;'><strong><
 span style='font-family: Arial\;'>&nbsp\; &nbsp\; &nbsp\; &nbsp\; &nbsp\;C
 ompetency Statement 1:&nbsp\;&nbsp\;</span> </strong><span style='font-fam
 ily: Arial\;'>Planning a safe and healthy learning environment</span></spa
 n></p>\n<p><span style='font-size: 14pt\; color: #333333\;'><strong><span 
 style='font-family: Arial\;'>Unit 2:&nbsp\; &nbsp\; </span></strong><stron
 g><span style='font-family: Arial\;'>Competency Statement 2:&nbsp\;&nbsp\;
 </span> </strong><span style='font-family: Arial\;'>Advancing children’s p
 hysical and intellectual development</span></span></p>\n</div>\n<div style
 ='padding-left: 30px\;'><span style='font-size: 12pt\; color: #333333\;'><
 br /><span style='font-size: 14pt\;'><strong>Class B:</strong>&nbsp\;12:30
 pm- 5:30pm &nbsp\;(5 Contact Hours/.5 CEUs) </span></span></div>\n<div sty
 le='padding-left: 30px\;'><span style='font-size: 14pt\; color: #333333\;'
 ><strong><span style='font-family: Arial\;'>&nbsp\; &nbsp\; &nbsp\;</span>
 </strong></span>\n<div style='padding-left: 30px\; text-align: justify\;'>
 <span style='color: #333333\; font-size: 14pt\;'><strong><span style='font
 -family: Arial\;'>Unit 3:&nbsp\; &nbsp\;&nbsp\;</span></strong><strong>Com
 petency Statement 3:&nbsp\;&nbsp\;</strong>Supporting children’s social an
 d emotional development</span></div>\n<div style='text-align: justify\;'><
 span style='color: #333333\; font-size: 14pt\;'>&nbsp\; &nbsp\; &nbsp\; </
 span><span style='color: #333333\;'><strong style='font-family: arial\, he
 lvetica\, sans-serif\; font-size: 12pt\; text-indent: -1in\; color: inheri
 t\;'><span style='font-size: 14pt\;'>Unit 4:&nbsp\; &nbsp\;&nbsp\;Competen
 cy Statement 4:</span>&nbsp\;&nbsp\;</strong></span><span style='color: #3
 33333\; font-size: 14pt\;'>Establishing positive and productive relationsh
 ips with families</span></div>\n<div style='text-align: justify\;'><span s
 tyle='color: #333333\; font-size: 14pt\;'><strong>&nbsp\; &nbsp\; &nbsp\; 
 Unit 5:&nbsp\; &nbsp\;&nbsp\;</strong><strong>Competency Statement 5:&nbsp
 \;&nbsp\;</strong>Ensuring a well-run purposeful program&nbsp\;</span></di
 v>\n<div style='text-align: justify\;'><span style='color: #333333\; font-
 size: 14pt\;'><strong>&nbsp\; &nbsp\; &nbsp\; Unit 6:&nbsp\;&nbsp\; &nbsp\
 ;Competency Statement 6:&nbsp\;&nbsp\;</strong>Maintaining a commitment to
  professionalism</span></div>\n<div style='padding-left: 60px\;'><span sty
 le='color: #333333\; font-size: 14pt\;'></span></div>\n</div>\n<div style=
 'padding-left: 60px\;'>\n<p><span style='font-size: 14pt\; color: #333333\
 ;'></span></p>\n<p><span style='color: #333333\; font-size: 14pt\;'></span
 ></p>\n<p><span style='font-size: 14pt\; color: #333333\;'><span style='fo
 nt-family: Arial\;'><strong>Documenting Professional Education</strong>&nb
 sp\;- 8 CDA Subject Areas</span>&nbsp\;</span></p>\n</div>\n<div><span sty
 le='font-size: 14pt\; color: #333333\;'><br /><span style='text-decoration
 : underline\;'><strong>Saturday\, May 25th\, 2024</strong></span></span></
 div>\n<div style='padding-left: 30px\;'><span style='font-size: 14pt\; col
 or: #333333\;'></span></div>\n<div>&nbsp\;</div>\n<div style='padding-left
 : 30px\;'><span style='font-size: 14pt\; color: #333333\;'><strong>Class C
 </strong><strong>:&nbsp\;</strong>8:00am-3:00pm&nbsp\;(7 Contact Hours/.7 
 CEUs)</span></div>\n<div style='padding-left: 30px\;'><span style='font-si
 ze: 14pt\; color: #333333\;'>&nbsp\;(arrivals will be staggered\, students
  will be scheduled in as early as 8:00am)</span></div>\n<div style='paddin
 g-left: 30px\;'><span style='font-size: 14pt\; color: #333333\;'><strong><
 span style='font-family: Arial\;'>&nbsp\; &nbsp\; &nbsp\;</span></strong><
 /span></div>\n<div style='padding-left: 30px\;'><span style='font-size: 14
 pt\; color: #333333\;'><strong>Class D:&nbsp\;</strong>4:00pm - 7:00pm (3 
 Contact Hours/.3 CEUs)&nbsp\;</span></div>\n<div style='padding-left: 30px
 \;'><span style='font-size: 14pt\; color: #333333\;'>&nbsp\;(dissmissal wi
 ll be staggered\, students will be dismissed throughout the evening)</span
 ></div>\n<div>\n<div><span style='font-size: 14pt\; color: #333333\;'></sp
 an></div>\n<div>&nbsp\;</div>\n<div style='text-align: center\;'>&nbsp\;<s
 pan style='font-size: 14pt\; color: #333333\;'><strong><span style='font-f
 amily: Arial\;'>C &amp\; D Class Content</span></strong></span>\n<div styl
 e='padding-left: 60px\;'><span style='font-size: 14pt\; color: #333333\;'>
 </span></div>\n</div>\n<div>&nbsp\;<span style='color: #333333\;'><span st
 yle='font-size: 14pt\;'><strong><span style='font-family: Arial\;'>Directe
 d Portfolio Lab:&nbsp\;</span></strong><span style='font-family: Arial\;'>
 The Directed Portfolio Lab allows for individual consultation &amp\; one-o
 n-one time with</span><span style='font-family: Arial\;'>&nbsp\;the&nbsp\;
 </span></span><span style='font-size: 14pt\;'><span style='font-family: Ar
 ial\;'>instructor. &nbsp\;Participants will work on their portfolio and me
 et with the instructor to discuss their statements and</span><span style='
 font-family: Arial\;'>&nbsp\;the </span></span><span style='font-size: 14p
 t\;'><span style='font-family: Arial\;'>documentation within their profess
 ional portfolio.</span></span></span></div>\n<div><strong style='font-fami
 ly: arial\, helvetica\, sans-serif\;'>&nbsp\; &nbsp\; &nbsp\; &nbsp\; &nbs
 p\; &nbsp\; &nbsp\; &nbsp\; &nbsp\;<span style='font-size: 14pt\; color: #
 000000\;'>The Professional Philosophy Statement</span></strong></div>\n</d
 iv>\n<div style='padding-left: 30px\;'>\n<div style='text-align: justify\;
 '><span style='color: #333333\;'>&nbsp\; &nbsp\; &nbsp\; &nbsp\; &nbsp\;</
 span><span style='font-family: arial\, helvetica\, sans-serif\; color: #33
 3333\; font-size: 14pt\;'><strong>Individual Consultations - allows one on
  one with instructors</strong></span></div>\n<div style='padding-left: 60p
 x\;'><span style='font-family: arial\, helvetica\, sans-serif\; color: #33
 3333\; font-size: 14pt\;'></span></div>\n</div>\n<div style='padding-left:
  60px\;'><span style='font-size: 14pt\; font-family: arial\, helvetica\, s
 ans-serif\; color: #333333\;'></span></div>\n<div><span style='font-size: 
 14pt\; color: #333333\;'></span></div>\n<div>&nbsp\;</div>\n<div><span sty
 le='font-size: 14pt\; color: #333333\;'><span style='text-decoration: unde
 rline\;'><strong>Sunday\, May 26th\, 2024</strong></span></span></div>\n<d
 iv style='margin-left: 30px\;'><span style='font-size: 14pt\; color: #3333
 33\;'><strong><br /></strong><strong>Class E</strong><strong>:</strong>&nb
 sp\;8:00am-3:00pm&nbsp\;(7 Contact Hours/.7 CEUs)</span></div>\n<div style
 ='margin-left: 30px\;'>\n<p style='margin-left: 1in\; text-indent: -1in\;'
 ><span style='font-size: 14pt\; color: #333333\;'><strong>Class F:</strong
 >&nbsp\;4:00pm-7:00pm&nbsp\;<span style='background-color: inherit\; font-
 family: inherit\; caret-color: auto\;'>(3 Contact Hours/.3 CEUs)</span></s
 pan></p>\n<p><span style='font-size: 14pt\; color: #333333\;'></span></p>
 \n</div>\n<div>&nbsp\;</div>\n<div style='padding-left: 30px\; text-align:
  center\;'><span style='font-size: 14pt\; color: #333333\;'><strong><span 
 style='font-family: Arial\;'>E &amp\; F Class Content<span style='font-fam
 ily: Arial\;'></span>&nbsp\;&nbsp\;&nbsp\; &nbsp\; &nbsp\; </span></strong
 ></span></div>\n<div style='padding-left: 30px\;'><span style='font-size: 
 14pt\; color: #333333\;'><strong><span style='font-family: Arial\;'><span 
 style='font-family: Arial\;'>&nbsp\; &nbsp\; &nbsp\; &nbsp\;Unit 7:<span s
 tyle='font-family: Arial\;'>&nbsp\;CDA Practice Exam&nbsp\;</span>&nbsp\;<
 /span>&nbsp\;</span></strong></span></div>\n<div style='padding-left: 30px
 \;'><span style='font-size: 14pt\; color: #333333\;'><strong><span style='
 font-family: Arial\;'>&nbsp\; &nbsp\; &nbsp\; &nbsp\;</span></strong></spa
 n><span style='color: #333333\; font-size: 14pt\;'><strong><span style='fo
 nt-family: Arial\;'>Unit 8:&nbsp\;</span></strong><strong><span style='fon
 t-family: Arial\;'>I<strong>nstructions on completing the process</strong>
 </span></strong></span></div>\n<div style='padding-left: 60px\;'>\n<p styl
 e='margin-left: 1in\; text-indent: -1in\;'><span style='font-size: 14pt\; 
 color: #333333\;'><strong><span style='font-family: Arial\;'>&nbsp\; &nbsp
 \; &nbsp\; &nbsp\; &nbsp\; &nbsp\; &nbsp\; &nbsp\; &nbsp\; &nbsp\; &nbsp\;
  &nbsp\; &nbsp\;&nbsp\;</span></strong><strong><span style='font-family: A
 rial\;'>Understanding the verification visit</span> </strong> </span></p>
 \n<p style='margin-left: 1in\; text-indent: -1in\;'><span style='font-size
 : 14pt\; color: #333333\;'><strong><span style='font-family: Arial\;'>&nbs
 p\; &nbsp\; &nbsp\; &nbsp\; &nbsp\; &nbsp\; &nbsp\; &nbsp\; &nbsp\; &nbsp\
 ; &nbsp\; &nbsp\; &nbsp\;&nbsp\;<strong>The application process</strong></
 span> </strong> </span></p>\n<p style='margin-left: 1in\; text-indent: -1i
 n\;'><span style='font-size: 14pt\; color: #333333\;'><strong><span style=
 'font-family: Arial\;'>&nbsp\; &nbsp\; &nbsp\; &nbsp\; &nbsp\; &nbsp\; &nb
 sp\; &nbsp\; &nbsp\; &nbsp\; &nbsp\; &nbsp\; &nbsp\; Choosing your PD Spec
 ialist</span> </strong> </span></p>\n<p style='margin-left: 1in\; text-ind
 ent: -1in\;'><span style='font-size: 14pt\; color: #333333\;'><strong><spa
 n style='font-family: Arial\;'>&nbsp\; &nbsp\; &nbsp\; &nbsp\; &nbsp\; &nb
 sp\; &nbsp\; &nbsp\; &nbsp\; &nbsp\; &nbsp\; &nbsp\; &nbsp\;&nbsp\;</span>
 </strong><strong><span style='font-family: Arial\;'>Finding a Pearson Vue 
 testing site&nbsp\;</span></strong></span></p>\n<p style='margin-left: 1in
 \; text-indent: -1in\;'><span style='font-size: 14pt\;'><strong><span styl
 e='font-family: Arial\;'>&nbsp\; &nbsp\; &nbsp\; </span></strong></span></
 p>\n<p style='text-align: center\;'><span style='font-size: 14pt\;'><a hre
 f='http://handprint.niccm.com/products/cda-fast-track.html' title='Registr
 ation CDA Fast Track '><span style='margin: 0px\; padding: 0px\; border: 0
 px\; outline: 0px\; background-color: transparent\; font-family: arial\, h
 elvetica\, sans-serif\;'><span style='color: #ffffff\;'><span style='paddi
 ng: 3px 10px 4px\; background-color: #7b3b3b\;'><strong>Click Here To Regi
 ster Online Now!</strong></span></span></span></a></span></p>\n<p style='t
 ext-align: center\;'>&nbsp\;</p>\n<p style='text-align: center\;'>&nbsp\;<
 /p>\n<footer></footer></div>\n<p style='text-align: center\;'><span style=
 'font-size: 18pt\;'>&nbsp\; &nbsp\; &nbsp\; &nbsp\;Call (602) 476-1422 for
  More Information&nbsp\;</span></p>\n<p>&nbsp\;&nbsp\;</p>
DTSTART:20240524T070000Z
DTEND:20240526T190000Z
SUMMARY:CDA Fast Track  - Orlando 524  
URL:https://niccm.com/71-cda-fast-track/863-cda-fast-track-orlando-524
END:VEVENT
END:VCALENDAR
