BEGIN:VCALENDAR
VERSION:2.0
PRODID:-//https://niccm.com//NONSGML kigkonsult.se iCalcreator 2.23.20//
METHOD:PUBLISH
X-WR-CALNAME:JCal Pro Calendar
X-WR-CALDESC:Your online events calendar
X-WR-TIMEZONE:UTC
BEGIN:VTIMEZONE
TZID:UTC
BEGIN:STANDARD
DTSTART:20260425T021408
TZOFFSETFROM:+0000
TZOFFSETTO:+0000
END:STANDARD
END:VTIMEZONE
BEGIN:VEVENT
UID:20240726T070000UTC-2397xI2UPU@https://niccm.com/
DTSTAMP:20260425T021408Z
CATEGORIES:Past NICCM Events
DESCRIPTION:<h1 style='color: #000000\; visibility: visible\; text-align: c
 enter\;'><span style='font-family: arial\, helvetica\, sans-serif\; font-s
 ize: 18pt\;'>CDA Fast Track&nbsp\;</span></h1>\n<h2 style='color: #000000\
 ; visibility: visible\; text-align: justify\;'><span style='font-size: 12p
 t\; font-family: arial\, helvetica\, sans-serif\;'><strong style='font-siz
 e: 18pt\;'>Location/Hotel:</strong></span>&nbsp\;</h2>\n<p style='backgrou
 nd-color: transparent\; margin: 2px 0px\; padding: 0px\; border: 0px\; out
 line: 0px\; font-size: 12px\; color: #505f69\; font-family: Helvetica\, Ar
 ial\, FreeSans\, sans-serif\;'><span style='color: #000000\; font-family: 
 arial\, helvetica\, sans-serif\; font-size: 14pt\;'>Hilton Garden Inn - La
 ke Buena Vista&nbsp\;</span></p>\n<p><span style='color: #000000\; font-fa
 mily: arial\, helvetica\, sans-serif\; font-size: 14pt\;'>11400 Marabella 
 Palm Court</span></p>\n<p><span style='color: #000000\; font-family: arial
 \, helvetica\, sans-serif\; font-size: 14pt\;'>Orlando\, FL &nbsp\;32836</
 span></p>\n<p><span style='color: #000000\; font-family: arial\, helvetica
 \, sans-serif\; font-size: 14pt\;'>(407) 239- 9550</span></p>\n<p><span st
 yle='font-size: 14pt\; font-family: arial\, helvetica\, sans-serif\; color
 : #000000\;'>Reservations</span>&nbsp\;<span style='font-size: 14pt\;'><a 
 href='https://www.hilton.com/en/book/reservation/deeplink/?ctyhocn=MCOBVGI
 &amp\;groupCode=NIC5&amp\;arrivaldate=2024-09-10&amp\;departuredate=2024-0
 9-16&amp\;cid=OM\,WW\,HILTONLINK\,EN\,DirectLink&amp\;fromId=HILTONLINKDIR
 ECT'>Hilton.com</a><a href='https://www.hilton.com/en/book/reservation/dee
 plink/?ctyhocn=MCOBVGI&amp\;groupCode=NICCM6&amp\;arrivaldate=2023-11-14&a
 mp\;departuredate=2023-11-20&amp\;cid=OM\,WW\,HILTONLINK\,EN\,DirectLink&a
 mp\;fromId=HILTONLINKDIRECT'></a></span></p>\n<p><span style='color: #0000
 ff\; font-size: 14pt\;'><span style='color: #000000\;'>Call for assistance
  if there aren't any available reservations on the link.</span>&nbsp\;</sp
 an></p>\n<address>&nbsp\;</address>\n<p>&nbsp\;</p>\n<p style='text-align:
  center\;'><a href='http://handprint.niccm.com/products/cda-fast-track.htm
 l' title='Registration CDA Fast Track '><span style='font-size: 18pt\;'><s
 pan style='margin: 0px\; padding: 0px\; border: 0px\; outline: 0px\; backg
 round-color: transparent\; font-family: arial\, helvetica\, sans-serif\;'>
 <span style='color: #ffffff\;'><span style='font-size: 19px\; padding: 3px
  10px 4px\; background-color: #7b3b3b\;'><strong>Click Here To Register On
 line Now!</strong></span></span></span></span></a></p>\n<p style='text-ali
 gn: center\;'>&nbsp\;<span style='font-size: 18pt\;'><span style='margin: 
 0px\; padding: 0px\; border: 0px\; outline: 0px\; background-color: transp
 arent\; font-family: arial\, helvetica\, sans-serif\;'>&nbsp\; &nbsp\; &nb
 sp\; &nbsp\; &nbsp\; &nbsp\; &nbsp\; &nbsp\; &nbsp\; &nbsp\; &nbsp\; &nbsp
 \; &nbsp\;&nbsp\;</span></span>&nbsp\;</p>\n<p style='text-align: center\;
 '>&nbsp\;</p>\n<div style='text-align: center\;'>\n<p style='visibility: v
 isible\; text-align: justify\;'><span style='color: #333333\;'><span style
 ='font-size: 12pt\; font-family: arial\, helvetica\, sans-serif\;'><strong
  style='font-size: 18pt\;'>Course Content &amp\; Schedule:</strong></span>
 &nbsp\;</span></p>\n<p style='visibility: visible\; text-align: justify\;'
 ><span style='color: #333333\;'></span></p>\n</div>\n<div>&nbsp\;</div>\n<
 div style='text-align: justify\;'><span style='text-decoration: underline\
 ; color: #333333\;'><span style='font-size: large\;'><strong><span style='
 font-size: 14pt\;'>Friday\, September 13th\, 2024</span></strong></span></
 span></div>\n<div><span style='color: #333333\;'></span></div>\n<div>&nbsp
 \;</div>\n<div><span style='font-size: 14pt\; color: #333333\;'><strong>Ar
 rival and Check-In</strong>: 6:45am -7:00am <span style='font-size: 12pt\;
 '>(students must arrive and check-in 15 minutes before class)</span></span
 ></div>\n<div style='padding-left: 30px\;'><span style='color: #333333\;'>
 <span style='font-size: large\;'><strong><br /></strong></span><span style
 ='font-size: 14pt\;'><strong>C</strong><strong>lass A</strong>: 7:00am -12
 :00pm &nbsp\;(5 Contact Hours/.5 CEUs)</span></span></div>\n<div style='pa
 dding-left: 30px\;'><span style='font-size: 14pt\; color: #333333\;'>&nbsp
 \; &nbsp\; &nbsp\;&nbsp\;</span><span style='font-size: 14pt\; color: #333
 333\;'><strong><span style='font-family: Arial\;'>Introduction:&nbsp\;</sp
 an>&nbsp\;</strong> <strong><span style='font-family: Arial\;'>Overview of
  the Course</span><span style='font-family: Arial\;'>&nbsp\; &nbsp\;</span
 ></strong></span></div>\n<div style='margin-left: 60px\;'>\n<p><span style
 ='font-size: 14pt\; color: #333333\;'><strong><span style='font-family: Ar
 ial\;'>Unit 1:&nbsp\; &nbsp\; </span></strong><strong><span style='font-fa
 mily: Arial\;'>Keys to Writing Statements</span> </strong> </span></p>\n<p
  style='margin-left: 31px\;'><span style='font-size: 14pt\; color: #333333
 \;'><strong><span style='font-family: Arial\;'>&nbsp\; &nbsp\; &nbsp\; &nb
 sp\; &nbsp\;Competency Statement 1:&nbsp\;&nbsp\;</span> </strong><span st
 yle='font-family: Arial\;'>Planning a safe and healthy learning environmen
 t</span></span></p>\n<p><span style='font-size: 14pt\; color: #333333\;'><
 strong><span style='font-family: Arial\;'>Unit 2:&nbsp\; &nbsp\; </span></
 strong><strong><span style='font-family: Arial\;'>Competency Statement 2:&
 nbsp\;&nbsp\;</span> </strong><span style='font-family: Arial\;'>Advancing
  children’s physical and intellectual development</span></span></p>\n</div
 >\n<div style='padding-left: 30px\;'><span style='font-size: 12pt\; color:
  #333333\;'><br /><span style='font-size: 14pt\;'><strong>Class B:</strong
 >&nbsp\;12:30pm- 5:30pm &nbsp\;(5 Contact Hours/.5 CEUs) </span></span></d
 iv>\n<div style='padding-left: 30px\;'><span style='font-size: 14pt\; colo
 r: #333333\;'><strong><span style='font-family: Arial\;'>&nbsp\; &nbsp\; &
 nbsp\;</span></strong></span>\n<div style='padding-left: 30px\; text-align
 : justify\;'><span style='color: #333333\; font-size: 14pt\;'><strong><spa
 n style='font-family: Arial\;'>Unit 3:&nbsp\; &nbsp\;&nbsp\;</span></stron
 g><strong>Competency Statement 3:&nbsp\;&nbsp\;</strong>Supporting childre
 n’s social and emotional development</span></div>\n<div style='text-align:
  justify\;'><span style='color: #333333\; font-size: 14pt\;'>&nbsp\; &nbsp
 \; &nbsp\; </span><span style='color: #333333\;'><strong style='font-famil
 y: arial\, helvetica\, sans-serif\; font-size: 12pt\; text-indent: -1in\; 
 color: inherit\;'><span style='font-size: 14pt\;'>Unit 4:&nbsp\; &nbsp\;&n
 bsp\;Competency Statement 4:</span>&nbsp\;&nbsp\;</strong></span><span sty
 le='color: #333333\; font-size: 14pt\;'>Establishing positive and producti
 ve relationships with families</span></div>\n<div style='text-align: justi
 fy\;'><span style='color: #333333\; font-size: 14pt\;'><strong>&nbsp\; &nb
 sp\; &nbsp\; Unit 5:&nbsp\; &nbsp\;&nbsp\;</strong><strong>Competency Stat
 ement 5:&nbsp\;&nbsp\;</strong>Ensuring a well-run purposeful program&nbsp
 \;</span></div>\n<div style='text-align: justify\;'><span style='color: #3
 33333\; font-size: 14pt\;'><strong>&nbsp\; &nbsp\; &nbsp\; Unit 6:&nbsp\;&
 nbsp\; &nbsp\;Competency Statement 6:&nbsp\;&nbsp\;</strong>Maintaining a 
 commitment to professionalism</span></div>\n<div style='padding-left: 60px
 \;'><span style='color: #333333\; font-size: 14pt\;'></span></div>\n</div>
 \n<div style='padding-left: 60px\;'>\n<p><span style='font-size: 14pt\; co
 lor: #333333\;'></span></p>\n<p><span style='color: #333333\; font-size: 1
 4pt\;'></span></p>\n<p><span style='font-size: 14pt\; color: #333333\;'><s
 pan style='font-family: Arial\;'><strong>Documenting Professional Educatio
 n</strong>&nbsp\;- 8 CDA Subject Areas</span>&nbsp\;</span></p>\n</div>\n<
 div><span style='font-size: 14pt\; color: #333333\;'><br /><span style='te
 xt-decoration: underline\;'><strong>Saturday\, September 14th\, 2024</stro
 ng></span></span></div>\n<div style='padding-left: 30px\;'><span style='fo
 nt-size: 14pt\; color: #333333\;'></span></div>\n<div>&nbsp\;</div>\n<div 
 style='padding-left: 30px\;'><span style='font-size: 14pt\; color: #333333
 \;'><strong>Class C</strong><strong>:&nbsp\;</strong>8:00am-3:00pm&nbsp\;(
 7 Contact Hours/.7 CEUs)</span></div>\n<div style='padding-left: 30px\;'><
 span style='font-size: 14pt\; color: #333333\;'>&nbsp\;(arrivals will be s
 taggered\, students will be scheduled in as early as 8:00am)</span></div>
 \n<div style='padding-left: 30px\;'><span style='font-size: 14pt\; color: 
 #333333\;'><strong><span style='font-family: Arial\;'>&nbsp\; &nbsp\; &nbs
 p\;</span></strong></span></div>\n<div style='padding-left: 30px\;'><span 
 style='font-size: 14pt\; color: #333333\;'><strong>Class D:&nbsp\;</strong
 >4:00pm - 7:00pm (3 Contact Hours/.3 CEUs)&nbsp\;</span></div>\n<div style
 ='padding-left: 30px\;'><span style='font-size: 14pt\; color: #333333\;'>&
 nbsp\;(dissmissal will be staggered\, students will be dismissed throughou
 t the evening)</span></div>\n<div>\n<div><span style='font-size: 14pt\; co
 lor: #333333\;'></span></div>\n<div>&nbsp\;</div>\n<div style='text-align:
  center\;'>&nbsp\;<span style='font-size: 14pt\; color: #333333\;'><strong
 ><span style='font-family: Arial\;'>C &amp\; D Class Content</span></stron
 g></span>\n<div style='padding-left: 60px\;'><span style='font-size: 14pt\
 ; color: #333333\;'></span></div>\n</div>\n<div>&nbsp\;<span style='color:
  #333333\;'><span style='font-size: 14pt\;'><strong><span style='font-fami
 ly: Arial\;'>Directed Portfolio Lab:&nbsp\;</span></strong><span style='fo
 nt-family: Arial\;'>The Directed Portfolio Lab allows for individual consu
 ltation &amp\; one-on-one time with</span><span style='font-family: Arial\
 ;'>&nbsp\;the&nbsp\;</span></span><span style='font-size: 14pt\;'><span st
 yle='font-family: Arial\;'>instructor. &nbsp\;Participants will work on th
 eir portfolio and meet with the instructor to discuss their statements and
 </span><span style='font-family: Arial\;'>&nbsp\;the </span></span><span s
 tyle='font-size: 14pt\;'><span style='font-family: Arial\;'>documentation 
 within their professional portfolio.</span></span></span></div>\n<div><str
 ong style='font-family: arial\, helvetica\, sans-serif\;'>&nbsp\; &nbsp\; 
 &nbsp\; &nbsp\; &nbsp\; &nbsp\; &nbsp\; &nbsp\; &nbsp\;<span style='font-s
 ize: 14pt\; color: #000000\;'>The Professional Philosophy Statement</span>
 </strong></div>\n</div>\n<div style='padding-left: 30px\;'>\n<div style='t
 ext-align: justify\;'><span style='color: #333333\;'>&nbsp\; &nbsp\; &nbsp
 \; &nbsp\; &nbsp\;</span><span style='font-family: arial\, helvetica\, san
 s-serif\; color: #333333\; font-size: 14pt\;'><strong>Individual Consultat
 ions - allows one on one with instructors</strong></span></div>\n<div styl
 e='padding-left: 60px\;'><span style='font-family: arial\, helvetica\, san
 s-serif\; color: #333333\; font-size: 14pt\;'></span></div>\n</div>\n<div 
 style='padding-left: 60px\;'><span style='font-size: 14pt\; font-family: a
 rial\, helvetica\, sans-serif\; color: #333333\;'></span></div>\n<div><spa
 n style='font-size: 14pt\; color: #333333\;'></span></div>\n<div>&nbsp\;</
 div>\n<div><span style='font-size: 14pt\; color: #333333\;'><span style='t
 ext-decoration: underline\;'><strong>Sunday\, September 15th\, 2024</stron
 g></span></span></div>\n<div style='margin-left: 30px\;'><span style='font
 -size: 14pt\; color: #333333\;'><strong><br /></strong><strong>Class E</st
 rong><strong>:</strong>&nbsp\;8:00am-3:00pm&nbsp\;(7 Contact Hours/.7 CEUs
 )</span></div>\n<div style='margin-left: 30px\;'>\n<p style='margin-left: 
 1in\; text-indent: -1in\;'><span style='font-size: 14pt\; color: #333333\;
 '><strong>Class F:</strong>&nbsp\;4:00pm-7:00pm&nbsp\;<span style='backgro
 und-color: inherit\; font-family: inherit\; caret-color: auto\;'>(3 Contac
 t Hours/.3 CEUs)</span></span></p>\n<p><span style='font-size: 14pt\; colo
 r: #333333\;'></span></p>\n</div>\n<div>&nbsp\;</div>\n<div style='padding
 -left: 30px\; text-align: center\;'><span style='font-size: 14pt\; color: 
 #333333\;'><strong><span style='font-family: Arial\;'>E &amp\; F Class Con
 tent<span style='font-family: Arial\;'></span>&nbsp\;&nbsp\;&nbsp\; &nbsp\
 ; &nbsp\; </span></strong></span></div>\n<div style='padding-left: 30px\;'
 ><span style='font-size: 14pt\; color: #333333\;'><strong><span style='fon
 t-family: Arial\;'><span style='font-family: Arial\;'>&nbsp\; &nbsp\; &nbs
 p\; &nbsp\;Unit 7:<span style='font-family: Arial\;'>&nbsp\;CDA Practice E
 xam&nbsp\;</span>&nbsp\;</span>&nbsp\;</span></strong></span></div>\n<div 
 style='padding-left: 30px\;'><span style='font-size: 14pt\; color: #333333
 \;'><strong><span style='font-family: Arial\;'>&nbsp\; &nbsp\; &nbsp\; &nb
 sp\;</span></strong></span><span style='color: #333333\; font-size: 14pt\;
 '><strong><span style='font-family: Arial\;'>Unit 8:&nbsp\;</span></strong
 ><strong><span style='font-family: Arial\;'>I<strong>nstructions on comple
 ting the process</strong></span></strong></span></div>\n<div style='paddin
 g-left: 60px\;'>\n<p style='margin-left: 1in\; text-indent: -1in\;'><span 
 style='font-size: 14pt\; color: #333333\;'><strong><span style='font-famil
 y: Arial\;'>&nbsp\; &nbsp\; &nbsp\; &nbsp\; &nbsp\; &nbsp\; &nbsp\; &nbsp\
 ; &nbsp\; &nbsp\; &nbsp\; &nbsp\; &nbsp\;&nbsp\;</span></strong><strong><s
 pan style='font-family: Arial\;'>Understanding the verification visit</spa
 n> </strong> </span></p>\n<p style='margin-left: 1in\; text-indent: -1in\;
 '><span style='font-size: 14pt\; color: #333333\;'><strong><span style='fo
 nt-family: Arial\;'>&nbsp\; &nbsp\; &nbsp\; &nbsp\; &nbsp\; &nbsp\; &nbsp\
 ; &nbsp\; &nbsp\; &nbsp\; &nbsp\; &nbsp\; &nbsp\;&nbsp\;<strong>The applic
 ation process</strong></span> </strong> </span></p>\n<p style='margin-left
 : 1in\; text-indent: -1in\;'><span style='font-size: 14pt\; color: #333333
 \;'><strong><span style='font-family: Arial\;'>&nbsp\; &nbsp\; &nbsp\; &nb
 sp\; &nbsp\; &nbsp\; &nbsp\; &nbsp\; &nbsp\; &nbsp\; &nbsp\; &nbsp\; &nbsp
 \; Choosing your PD Specialist</span> </strong> </span></p>\n<p style='mar
 gin-left: 1in\; text-indent: -1in\;'><span style='font-size: 14pt\; color:
  #333333\;'><strong><span style='font-family: Arial\;'>&nbsp\; &nbsp\; &nb
 sp\; &nbsp\; &nbsp\; &nbsp\; &nbsp\; &nbsp\; &nbsp\; &nbsp\; &nbsp\; &nbsp
 \; &nbsp\;&nbsp\;</span></strong><strong><span style='font-family: Arial\;
 '>Finding a Pearson Vue testing site&nbsp\;</span></strong></span></p>\n<p
  style='margin-left: 1in\; text-indent: -1in\;'><span style='font-size: 14
 pt\;'><strong><span style='font-family: Arial\;'>&nbsp\; &nbsp\; &nbsp\; <
 /span></strong></span></p>\n<p style='text-align: center\;'><span style='f
 ont-size: 14pt\;'><a href='http://handprint.niccm.com/products/cda-fast-tr
 ack.html' title='Registration CDA Fast Track '><span style='margin: 0px\; 
 padding: 0px\; border: 0px\; outline: 0px\; background-color: transparent\
 ; font-family: arial\, helvetica\, sans-serif\;'><span style='color: #ffff
 ff\;'><span style='padding: 3px 10px 4px\; background-color: #7b3b3b\;'><s
 trong>Click Here To Register Online Now!</strong></span></span></span></a>
 </span></p>\n<p style='text-align: center\;'>&nbsp\;</p>\n<p style='text-a
 lign: center\;'>&nbsp\;</p>\n<footer></footer></div>\n<p style='text-align
 : center\;'><span style='font-size: 18pt\;'>&nbsp\; &nbsp\; &nbsp\; &nbsp\
 ;Call (602) 476-1422 for More Information&nbsp\;</span></p>\n<p>&nbsp\;&nb
 sp\;</p>
DTSTART:20240913T070000Z
DTEND:20240915T190000Z
SUMMARY:CDA Fast Track  - Orlando 924    
URL:https://niccm.com/71-cda-fast-track/879-cda-fast-track-orlando-924
END:VEVENT
END:VCALENDAR
