BEGIN:VCALENDAR
VERSION:2.0
PRODID:-//https://niccm.com//NONSGML kigkonsult.se iCalcreator 2.23.20//
METHOD:PUBLISH
X-WR-CALNAME:JCal Pro Calendar
X-WR-CALDESC:Your online events calendar
X-WR-TIMEZONE:UTC
BEGIN:VTIMEZONE
TZID:UTC
BEGIN:STANDARD
DTSTART:20260425T021408
TZOFFSETFROM:+0000
TZOFFSETTO:+0000
END:STANDARD
END:VTIMEZONE
BEGIN:VEVENT
UID:20240517T070000UTC-0411iOoCEv@https://niccm.com/
DTSTAMP:20260425T021408Z
CATEGORIES:Past NICCM Events
DESCRIPTION:<h1 style='color: #000000\; visibility: visible\; text-align: c
 enter\;'><span style='font-family: arial\, helvetica\, sans-serif\; font-s
 ize: 18pt\;'>CDA Fast Track&nbsp\;</span></h1>\n<h2 style='color: #000000\
 ; visibility: visible\; text-align: justify\;'><span style='font-size: 12p
 t\; font-family: arial\, helvetica\, sans-serif\;'><strong style='font-siz
 e: 18pt\;'>Location/Hotel:</strong></span>&nbsp\;</h2>\n<p style='backgrou
 nd-color: transparent\; margin: 2px 0px\; padding: 0px\; border: 0px\; out
 line: 0px\; font-size: 12px\; color: #505f69\; font-family: Helvetica\, Ar
 ial\, FreeSans\, sans-serif\;'><span style='color: #000000\; font-family: 
 arial\, helvetica\, sans-serif\; font-size: 14pt\;'>Embassy Suites Hotel- 
 Dallas Love Field</span></p>\n<p><span style='color: #000000\; font-family
 : arial\, helvetica\, sans-serif\; font-size: 14pt\;'>3880 W. Northwest Hi
 ghway</span></p>\n<p><span style='color: #000000\; font-family: arial\, he
 lvetica\, sans-serif\; font-size: 14pt\;'>Dallas\, TX&nbsp\; 75220</span><
 /p>\n<p><span style='color: #000000\; font-family: arial\, helvetica\, san
 s-serif\; font-size: 14pt\;'>(214) 357- 4500</span></p>\n<p><span style='f
 ont-size: 14pt\; font-family: arial\, helvetica\, sans-serif\; color: #000
 000\;'>Reservations</span>&nbsp\;<a href='https://www.hilton.com/en/book/r
 eservation/rooms/?ctyhocn=DALLFES&amp\;arrivalDate=2024-12-05&amp\;departu
 reDate=2024-12-09&amp\;groupCode=CESIC1&amp\;room1NumAdults=1&amp\;cid=OM%
 2CWW%2CHILTONLINK%2CEN%2CDirectLink'><span style='font-size: 14pt\;'>hilto
 n.com&nbsp\;</span></a></p>\n<p><span style='color: #0000ff\; font-size: 1
 4pt\;'><span style='color: #000000\;'>Call for assistance if there aren't 
 any available reservations on the link.</span>&nbsp\;</span></p>\n<address
 >&nbsp\;</address>\n<p>&nbsp\;</p>\n<p style='text-align: center\;'><a hre
 f='http://handprint.niccm.com/products/cda-fast-track.html' title='Registr
 ation CDA Fast Track '><span style='font-size: 18pt\;'><span style='margin
 : 0px\; padding: 0px\; border: 0px\; outline: 0px\; background-color: tran
 sparent\; font-family: arial\, helvetica\, sans-serif\;'><span style='colo
 r: #ffffff\;'><span style='font-size: 19px\; padding: 3px 10px 4px\; backg
 round-color: #7b3b3b\;'><strong>Click Here To Register Online Now!</strong
 ></span></span></span></span></a></p>\n<p style='text-align: center\;'>&nb
 sp\;<span style='font-size: 18pt\;'><span style='margin: 0px\; padding: 0p
 x\; border: 0px\; outline: 0px\; background-color: transparent\; font-fami
 ly: arial\, helvetica\, sans-serif\;'>&nbsp\; &nbsp\; &nbsp\; &nbsp\; &nbs
 p\; &nbsp\; &nbsp\; &nbsp\; &nbsp\; &nbsp\; &nbsp\; &nbsp\; &nbsp\;&nbsp\;
 </span></span>&nbsp\;</p>\n<p style='text-align: center\;'>&nbsp\;</p>\n<d
 iv style='text-align: center\;'>\n<p style='visibility: visible\; text-ali
 gn: justify\;'><span style='color: #333333\;'><span style='font-size: 12pt
 \; font-family: arial\, helvetica\, sans-serif\;'><strong style='font-size
 : 18pt\;'>Course Content &amp\; Schedule:</strong></span>&nbsp\;</span></p
 >\n<p style='visibility: visible\; text-align: justify\;'><span style='col
 or: #333333\;'></span></p>\n</div>\n<div>&nbsp\;</div>\n<div style='text-a
 lign: justify\;'><span style='text-decoration: underline\; color: #333333\
 ;'><span style='font-size: large\;'><strong><span style='font-size: 14pt\;
 '>Friday\, December 6th\, 2024</span></strong></span></span></div>\n<div><
 span style='color: #333333\;'></span></div>\n<div>&nbsp\;</div>\n<div><spa
 n style='font-size: 14pt\; color: #333333\;'><strong>Arrival and Check-In<
 /strong>: 6:45am -7:00am <span style='font-size: 12pt\;'>(students must ar
 rive and check-in 15 minutes before class)</span></span></div>\n<div style
 ='padding-left: 30px\;'><span style='color: #333333\;'><span style='font-s
 ize: large\;'><strong><br /></strong></span><span style='font-size: 14pt\;
 '><strong>C</strong><strong>lass A</strong>: 7:00am -12:00pm &nbsp\;(5 Con
 tact Hours/.5 CEUs)</span></span></div>\n<div style='padding-left: 30px\;'
 ><span style='font-size: 14pt\; color: #333333\;'>&nbsp\; &nbsp\; &nbsp\;&
 nbsp\;</span><span style='font-size: 14pt\; color: #333333\;'><strong><spa
 n style='font-family: Arial\;'>Introduction:&nbsp\;</span>&nbsp\;</strong>
  <strong><span style='font-family: Arial\;'>Overview of the Course</span><
 span style='font-family: Arial\;'>&nbsp\; &nbsp\;</span></strong></span></
 div>\n<div style='margin-left: 60px\;'>\n<p><span style='font-size: 14pt\;
  color: #333333\;'><strong><span style='font-family: Arial\;'>Unit 1:&nbsp
 \; &nbsp\; </span></strong><strong><span style='font-family: Arial\;'>Keys
  to Writing Statements</span> </strong> </span></p>\n<p style='margin-left
 : 31px\;'><span style='font-size: 14pt\; color: #333333\;'><strong><span s
 tyle='font-family: Arial\;'>&nbsp\; &nbsp\; &nbsp\; &nbsp\; &nbsp\;Compete
 ncy Statement 1:&nbsp\;&nbsp\;</span> </strong><span style='font-family: A
 rial\;'>Planning a safe and healthy learning environment</span></span></p>
 \n<p><span style='font-size: 14pt\; color: #333333\;'><strong><span style=
 'font-family: Arial\;'>Unit 2:&nbsp\; &nbsp\; </span></strong><strong><spa
 n style='font-family: Arial\;'>Competency Statement 2:&nbsp\;&nbsp\;</span
 > </strong><span style='font-family: Arial\;'>Advancing children’s physica
 l and intellectual development</span></span></p>\n</div>\n<div style='padd
 ing-left: 30px\;'><span style='font-size: 12pt\; color: #333333\;'><br /><
 span style='font-size: 14pt\;'><strong>Class B:</strong>&nbsp\;12:30pm- 5:
 30pm &nbsp\;(5 Contact Hours/.5 CEUs) </span></span></div>\n<div style='pa
 dding-left: 30px\;'><span style='font-size: 14pt\; color: #333333\;'><stro
 ng><span style='font-family: Arial\;'>&nbsp\; &nbsp\; &nbsp\;</span></stro
 ng></span>\n<div style='padding-left: 30px\; text-align: justify\;'><span 
 style='color: #333333\; font-size: 14pt\;'><strong><span style='font-famil
 y: Arial\;'>Unit 3:&nbsp\; &nbsp\;&nbsp\;</span></strong><strong>Competenc
 y Statement 3:&nbsp\;&nbsp\;</strong>Supporting children’s social and emot
 ional development</span></div>\n<div style='text-align: justify\;'><span s
 tyle='color: #333333\; font-size: 14pt\;'>&nbsp\; &nbsp\; &nbsp\; </span><
 span style='color: #333333\;'><strong style='font-family: arial\, helvetic
 a\, sans-serif\; font-size: 12pt\; text-indent: -1in\; color: inherit\;'><
 span style='font-size: 14pt\;'>Unit 4:&nbsp\; &nbsp\;&nbsp\;Competency Sta
 tement 4:</span>&nbsp\;&nbsp\;</strong></span><span style='color: #333333\
 ; font-size: 14pt\;'>Establishing positive and productive relationships wi
 th families</span></div>\n<div style='text-align: justify\;'><span style='
 color: #333333\; font-size: 14pt\;'><strong>&nbsp\; &nbsp\; &nbsp\; Unit 5
 :&nbsp\; &nbsp\;&nbsp\;</strong><strong>Competency Statement 5:&nbsp\;&nbs
 p\;</strong>Ensuring a well-run purposeful program&nbsp\;</span></div>\n<d
 iv style='text-align: justify\;'><span style='color: #333333\; font-size: 
 14pt\;'><strong>&nbsp\; &nbsp\; &nbsp\; Unit 6:&nbsp\;&nbsp\; &nbsp\;Compe
 tency Statement 6:&nbsp\;&nbsp\;</strong>Maintaining a commitment to profe
 ssionalism</span></div>\n<div style='padding-left: 60px\;'><span style='co
 lor: #333333\; font-size: 14pt\;'></span></div>\n</div>\n<div style='paddi
 ng-left: 60px\;'>\n<p><span style='font-size: 14pt\; color: #333333\;'></s
 pan></p>\n<p><span style='color: #333333\; font-size: 14pt\;'></span></p>
 \n<p><span style='font-size: 14pt\; color: #333333\;'><span style='font-fa
 mily: Arial\;'><strong>Documenting Professional Education</strong>&nbsp\;-
  8 CDA Subject Areas</span>&nbsp\;</span></p>\n</div>\n<div><span style='f
 ont-size: 14pt\; color: #333333\;'><br /><span style='text-decoration: und
 erline\;'><strong>Saturday\, December 7th\, 2024</strong></span></span></d
 iv>\n<div style='padding-left: 30px\;'><span style='font-size: 14pt\; colo
 r: #333333\;'></span></div>\n<div>&nbsp\;</div>\n<div style='padding-left:
  30px\;'><span style='font-size: 14pt\; color: #333333\;'><strong>Class C<
 /strong><strong>:&nbsp\;</strong>8:00am-3:00pm&nbsp\;(7 Contact Hours/.7 C
 EUs)</span></div>\n<div style='padding-left: 30px\;'><span style='font-siz
 e: 14pt\; color: #333333\;'>&nbsp\;(arrivals will be staggered\, students 
 will be scheduled in as early as 8:00am)</span></div>\n<div style='padding
 -left: 30px\;'><span style='font-size: 14pt\; color: #333333\;'><strong><s
 pan style='font-family: Arial\;'>&nbsp\; &nbsp\; &nbsp\;</span></strong></
 span></div>\n<div style='padding-left: 30px\;'><span style='font-size: 14p
 t\; color: #333333\;'><strong>Class D:&nbsp\;</strong>4:00pm - 7:00pm (3 C
 ontact Hours/.3 CEUs)&nbsp\;</span></div>\n<div style='padding-left: 30px\
 ;'><span style='font-size: 14pt\; color: #333333\;'>&nbsp\;(dissmissal wil
 l be staggered\, students will be dismissed throughout the evening)</span>
 </div>\n<div>\n<div><span style='font-size: 14pt\; color: #333333\;'></spa
 n></div>\n<div>&nbsp\;</div>\n<div style='text-align: center\;'>&nbsp\;<sp
 an style='font-size: 14pt\; color: #333333\;'><strong><span style='font-fa
 mily: Arial\;'>C &amp\; D Class Content</span></strong></span>\n<div style
 ='padding-left: 60px\;'><span style='font-size: 14pt\; color: #333333\;'><
 /span></div>\n</div>\n<div>&nbsp\;<span style='color: #333333\;'><span sty
 le='font-size: 14pt\;'><strong><span style='font-family: Arial\;'>Directed
  Portfolio Lab:&nbsp\;</span></strong><span style='font-family: Arial\;'>T
 he Directed Portfolio Lab allows for individual consultation &amp\; one-on
 -one time with</span><span style='font-family: Arial\;'>&nbsp\;the&nbsp\;<
 /span></span><span style='font-size: 14pt\;'><span style='font-family: Ari
 al\;'>instructor. &nbsp\;Participants will work on their portfolio and mee
 t with the instructor to discuss their statements and</span><span style='f
 ont-family: Arial\;'>&nbsp\;the </span></span><span style='font-size: 14pt
 \;'><span style='font-family: Arial\;'>documentation within their professi
 onal portfolio.</span></span></span></div>\n<div><strong style='font-famil
 y: arial\, helvetica\, sans-serif\;'>&nbsp\; &nbsp\; &nbsp\; &nbsp\; &nbsp
 \; &nbsp\; &nbsp\; &nbsp\; &nbsp\;<span style='font-size: 14pt\; color: #0
 00000\;'>The Professional Philosophy Statement</span></strong></div>\n</di
 v>\n<div style='padding-left: 30px\;'>\n<div style='text-align: justify\;'
 ><span style='color: #333333\;'>&nbsp\; &nbsp\; &nbsp\; &nbsp\; &nbsp\;</s
 pan><span style='font-family: arial\, helvetica\, sans-serif\; color: #333
 333\; font-size: 14pt\;'><strong>Individual Consultations - allows one on 
 one with instructors</strong></span></div>\n<div style='padding-left: 60px
 \;'><span style='font-family: arial\, helvetica\, sans-serif\; color: #333
 333\; font-size: 14pt\;'></span></div>\n</div>\n<div style='padding-left: 
 60px\;'><span style='font-size: 14pt\; font-family: arial\, helvetica\, sa
 ns-serif\; color: #333333\;'></span></div>\n<div><span style='font-size: 1
 4pt\; color: #333333\;'></span></div>\n<div>&nbsp\;</div>\n<div><span styl
 e='font-size: 14pt\; color: #333333\;'><span style='text-decoration: under
 line\;'><strong>Sunday\, December 8th\, 2024</strong></span></span></div>
 \n<div style='margin-left: 30px\;'><span style='font-size: 14pt\; color: #
 333333\;'><strong><br /></strong><strong>Class E</strong><strong>:</strong
 >&nbsp\;8:00am-3:00pm&nbsp\;(7 Contact Hours/.7 CEUs)</span></div>\n<div s
 tyle='margin-left: 30px\;'>\n<p style='margin-left: 1in\; text-indent: -1i
 n\;'><span style='font-size: 14pt\; color: #333333\;'><strong>Class F:</st
 rong>&nbsp\;4:00pm-7:00pm&nbsp\;<span style='background-color: inherit\; f
 ont-family: inherit\; caret-color: auto\;'>(3 Contact Hours/.3 CEUs)</span
 ></span></p>\n<p><span style='font-size: 14pt\; color: #333333\;'></span><
 /p>\n</div>\n<div>&nbsp\;</div>\n<div style='padding-left: 30px\; text-ali
 gn: center\;'><span style='font-size: 14pt\; color: #333333\;'><strong><sp
 an style='font-family: Arial\;'>E &amp\; F Class Content<span style='font-
 family: Arial\;'></span>&nbsp\;&nbsp\;&nbsp\; &nbsp\; &nbsp\; </span></str
 ong></span></div>\n<div style='padding-left: 30px\;'><span style='font-siz
 e: 14pt\; color: #333333\;'><strong><span style='font-family: Arial\;'><sp
 an style='font-family: Arial\;'>&nbsp\; &nbsp\; &nbsp\; &nbsp\;Unit 7:<spa
 n style='font-family: Arial\;'>&nbsp\;CDA Practice Exam&nbsp\;</span>&nbsp
 \;</span>&nbsp\;</span></strong></span></div>\n<div style='padding-left: 3
 0px\;'><span style='font-size: 14pt\; color: #333333\;'><strong><span styl
 e='font-family: Arial\;'>&nbsp\; &nbsp\; &nbsp\; &nbsp\;</span></strong></
 span><span style='color: #333333\; font-size: 14pt\;'><strong><span style=
 'font-family: Arial\;'>Unit 8:&nbsp\;</span></strong><strong><span style='
 font-family: Arial\;'>I<strong>nstructions on completing the process</stro
 ng></span></strong></span></div>\n<div style='padding-left: 60px\;'>\n<p s
 tyle='margin-left: 1in\; text-indent: -1in\;'><span style='font-size: 14pt
 \; color: #333333\;'><strong><span style='font-family: Arial\;'>&nbsp\; &n
 bsp\; &nbsp\; &nbsp\; &nbsp\; &nbsp\; &nbsp\; &nbsp\; &nbsp\; &nbsp\; &nbs
 p\; &nbsp\; &nbsp\;&nbsp\;</span></strong><strong><span style='font-family
 : Arial\;'>Understanding the verification visit</span> </strong> </span></
 p>\n<p style='margin-left: 1in\; text-indent: -1in\;'><span style='font-si
 ze: 14pt\; color: #333333\;'><strong><span style='font-family: Arial\;'>&n
 bsp\; &nbsp\; &nbsp\; &nbsp\; &nbsp\; &nbsp\; &nbsp\; &nbsp\; &nbsp\; &nbs
 p\; &nbsp\; &nbsp\; &nbsp\;&nbsp\;<strong>The application process</strong>
 </span> </strong> </span></p>\n<p style='margin-left: 1in\; text-indent: -
 1in\;'><span style='font-size: 14pt\; color: #333333\;'><strong><span styl
 e='font-family: Arial\;'>&nbsp\; &nbsp\; &nbsp\; &nbsp\; &nbsp\; &nbsp\; &
 nbsp\; &nbsp\; &nbsp\; &nbsp\; &nbsp\; &nbsp\; &nbsp\; Choosing your PD Sp
 ecialist</span> </strong> </span></p>\n<p style='margin-left: 1in\; text-i
 ndent: -1in\;'><span style='font-size: 14pt\; color: #333333\;'><strong><s
 pan style='font-family: Arial\;'>&nbsp\; &nbsp\; &nbsp\; &nbsp\; &nbsp\; &
 nbsp\; &nbsp\; &nbsp\; &nbsp\; &nbsp\; &nbsp\; &nbsp\; &nbsp\;&nbsp\;</spa
 n></strong><strong><span style='font-family: Arial\;'>Finding a Pearson Vu
 e testing site&nbsp\;</span></strong></span></p>\n<p style='margin-left: 1
 in\; text-indent: -1in\;'><span style='font-size: 14pt\;'><strong><span st
 yle='font-family: Arial\;'>&nbsp\; &nbsp\; &nbsp\; </span></strong></span>
 </p>\n<p style='text-align: center\;'><span style='font-size: 14pt\;'><a h
 ref='http://handprint.niccm.com/products/cda-fast-track.html' title='Regis
 tration CDA Fast Track '><span style='margin: 0px\; padding: 0px\; border:
  0px\; outline: 0px\; background-color: transparent\; font-family: arial\,
  helvetica\, sans-serif\;'><span style='color: #ffffff\;'><span style='pad
 ding: 3px 10px 4px\; background-color: #7b3b3b\;'><strong>Click Here To Re
 gister Online Now!</strong></span></span></span></a></span></p>\n<p style=
 'text-align: center\;'>&nbsp\;</p>\n<p style='text-align: center\;'>&nbsp\
 ;</p>\n<footer></footer></div>\n<p style='text-align: center\;'><span styl
 e='font-size: 18pt\;'>&nbsp\; &nbsp\; &nbsp\; &nbsp\;Call (602) 476-1422 f
 or More Information&nbsp\;</span></p>\n<p>&nbsp\;&nbsp\;</p>
DTSTART:20241206T070000Z
DTEND:20241208T190000Z
SUMMARY:CDA Fast Track  - Dallas 1224     
URL:https://niccm.com/71-cda-fast-track/886-cda-fast-track-dallas-1224
END:VEVENT
END:VCALENDAR
