BEGIN:VCALENDAR
VERSION:2.0
PRODID:-//https://niccm.com//NONSGML kigkonsult.se iCalcreator 2.23.20//
METHOD:PUBLISH
X-WR-CALNAME:JCal Pro Calendar
X-WR-CALDESC:Your online events calendar
X-WR-TIMEZONE:UTC
BEGIN:VTIMEZONE
TZID:UTC
BEGIN:STANDARD
DTSTART:20260425T023411
TZOFFSETFROM:+0000
TZOFFSETTO:+0000
END:STANDARD
END:VTIMEZONE
BEGIN:VEVENT
UID:20240126T070000UTC-7472VV4iFC@https://niccm.com/
DTSTAMP:20260425T023411Z
CATEGORIES:Past NICCM Events
DESCRIPTION:<h1 style='color: #000000\; visibility: visible\; text-align: c
 enter\;'><span style='font-family: arial\, helvetica\, sans-serif\; font-s
 ize: 18pt\;'>CDA Fast Track&nbsp\;</span></h1>\n<h2 style='color: #000000\
 ; visibility: visible\; text-align: justify\;'><span style='font-size: 12p
 t\; font-family: arial\, helvetica\, sans-serif\;'><strong style='font-siz
 e: 18pt\;'>Location/Hotel:</strong></span>&nbsp\;</h2>\n<p style='backgrou
 nd-color: transparent\; margin: 2px 0px\; padding: 0px\; border: 0px\; out
 line: 0px\; font-size: 12px\; color: #505f69\; font-family: Helvetica\, Ar
 ial\, FreeSans\, sans-serif\;'><span style='color: #000000\; font-family: 
 arial\, helvetica\, sans-serif\; font-size: 14pt\;'>Hilton Garden Inn - Mi
 ami Airport West&nbsp\;</span></p>\n<p><span style='color: #000000\; font-
 family: arial\, helvetica\, sans-serif\; font-size: 14pt\;'>3550 NW 74th A
 ve</span></p>\n<p><span style='color: #000000\; font-family: arial\, helve
 tica\, sans-serif\; font-size: 14pt\;'>Miami\, FL &nbsp\;33122</span></p>
 \n<p><span style='color: #000000\; font-family: arial\, helvetica\, sans-s
 erif\; font-size: 14pt\;'>(305) 629-7701</span></p>\n<p><span style='font-
 size: 14pt\; font-family: arial\, helvetica\, sans-serif\; color: #000000\
 ;'>Reservations</span>&nbsp\;<span style='font-size: 14pt\;'><a href='http
 s://www.hilton.com/en/book/reservation/rooms/?ctyhocn=MIAAIGI&amp\;arrival
 Date=2024-12-08&amp\;departureDate=2024-12-16&amp\;groupCode=GND&amp\;room
 1NumAdults=1&amp\;cid=OM%2CWW%2CHILTONLINK%2CEN%2CDirectLink'>Hilton.com</
 a><a href='https://www.hilton.com/en/book/reservation/deeplink/?ctyhocn=MC
 OBVGI&amp\;groupCode=NICCM6&amp\;arrivaldate=2023-11-14&amp\;departuredate
 =2023-11-20&amp\;cid=OM\,WW\,HILTONLINK\,EN\,DirectLink&amp\;fromId=HILTON
 LINKDIRECT'></a></span></p>\n<p><span style='color: #0000ff\; font-size: 1
 4pt\;'><span style='color: #000000\;'>(Call for assistance if there aren't
  any available reservations on the link.)</span>&nbsp\;</span></p>\n<p><sp
 an style='font-family: arial\, helvetica\, sans-serif\; font-size: 14pt\; 
 color: #333333\;'>*Be prepared to pay for parking at this hotel.</span></p
 >\n<address>&nbsp\;</address>\n<p>&nbsp\;</p>\n<p style='text-align: cente
 r\;'><a href='http://handprint.niccm.com/products/cda-fast-track.html' tit
 le='Registration CDA Fast Track '><span style='font-size: 18pt\;'><span st
 yle='margin: 0px\; padding: 0px\; border: 0px\; outline: 0px\; background-
 color: transparent\; font-family: arial\, helvetica\, sans-serif\;'><span 
 style='color: #ffffff\;'><span style='font-size: 19px\; padding: 3px 10px 
 4px\; background-color: #7b3b3b\;'><strong>Click Here To Register Online N
 ow!</strong></span></span></span></span></a></p>\n<p style='text-align: ce
 nter\;'>&nbsp\;<span style='font-size: 18pt\;'><span style='margin: 0px\; 
 padding: 0px\; border: 0px\; outline: 0px\; background-color: transparent\
 ; font-family: arial\, helvetica\, sans-serif\;'>&nbsp\; &nbsp\; &nbsp\; &
 nbsp\; &nbsp\; &nbsp\; &nbsp\; &nbsp\; &nbsp\; &nbsp\; &nbsp\; &nbsp\; &nb
 sp\;&nbsp\;</span></span>&nbsp\;</p>\n<p style='text-align: center\;'>&nbs
 p\;</p>\n<div style='text-align: center\;'>\n<p style='visibility: visible
 \; text-align: justify\;'><span style='color: #333333\;'><span style='font
 -size: 12pt\; font-family: arial\, helvetica\, sans-serif\;'><strong style
 ='font-size: 18pt\;'>Course Content &amp\; Schedule:</strong></span>&nbsp\
 ;</span></p>\n<p style='visibility: visible\; text-align: justify\;'><span
  style='color: #333333\;'></span></p>\n</div>\n<div>&nbsp\;</div>\n<div st
 yle='text-align: justify\;'><span style='text-decoration: underline\; colo
 r: #333333\;'><span style='font-size: large\;'><strong><span style='font-s
 ize: 14pt\;'>Friday\, December 13th\, 2024</span></strong></span></span></
 div>\n<div><span style='color: #333333\;'></span></div>\n<div>&nbsp\;</div
 >\n<div><span style='font-size: 14pt\; color: #333333\;'><strong>Arrival a
 nd Check-In</strong>: 6:45am -7:00am <span style='font-size: 12pt\;'>(stud
 ents must arrive and check-in 15 minutes before class)</span></span></div>
 \n<div style='padding-left: 30px\;'><span style='color: #333333\;'><span s
 tyle='font-size: large\;'><strong><br /></strong></span><span style='font-
 size: 14pt\;'><strong>C</strong><strong>lass A</strong>: 7:00am -12:00pm &
 nbsp\;(5 Contact Hours/.5 CEUs)</span></span></div>\n<div style='padding-l
 eft: 30px\;'><span style='font-size: 14pt\; color: #333333\;'>&nbsp\; &nbs
 p\; &nbsp\;&nbsp\;</span><span style='font-size: 14pt\; color: #333333\;'>
 <strong><span style='font-family: Arial\;'>Introduction:&nbsp\;</span>&nbs
 p\;</strong> <strong><span style='font-family: Arial\;'>Overview of the Co
 urse</span><span style='font-family: Arial\;'>&nbsp\; &nbsp\;</span></stro
 ng></span></div>\n<div style='margin-left: 60px\;'>\n<p><span style='font-
 size: 14pt\; color: #333333\;'><strong><span style='font-family: Arial\;'>
 Unit 1:&nbsp\; &nbsp\; </span></strong><strong><span style='font-family: A
 rial\;'>Keys to Writing Statements</span> </strong> </span></p>\n<p style=
 'margin-left: 31px\;'><span style='font-size: 14pt\; color: #333333\;'><st
 rong><span style='font-family: Arial\;'>&nbsp\; &nbsp\; &nbsp\; &nbsp\; &n
 bsp\;Competency Statement 1:&nbsp\;&nbsp\;</span> </strong><span style='fo
 nt-family: Arial\;'>Planning a safe and healthy learning environment</span
 ></span></p>\n<p><span style='font-size: 14pt\; color: #333333\;'><strong>
 <span style='font-family: Arial\;'>Unit 2:&nbsp\; &nbsp\; </span></strong>
 <strong><span style='font-family: Arial\;'>Competency Statement 2:&nbsp\;&
 nbsp\;</span> </strong><span style='font-family: Arial\;'>Advancing childr
 en’s physical and intellectual development</span></span></p>\n</div>\n<div
  style='padding-left: 30px\;'><span style='font-size: 12pt\; color: #33333
 3\;'><br /><span style='font-size: 14pt\;'><strong>Class B:</strong>&nbsp\
 ;12:30pm- 5:30pm &nbsp\;(5 Contact Hours/.5 CEUs) </span></span></div>\n<d
 iv style='padding-left: 30px\;'><span style='font-size: 14pt\; color: #333
 333\;'><strong><span style='font-family: Arial\;'>&nbsp\; &nbsp\; &nbsp\;<
 /span></strong></span>\n<div style='padding-left: 30px\; text-align: justi
 fy\;'><span style='color: #333333\; font-size: 14pt\;'><strong><span style
 ='font-family: Arial\;'>Unit 3:&nbsp\; &nbsp\;&nbsp\;</span></strong><stro
 ng>Competency Statement 3:&nbsp\;&nbsp\;</strong>Supporting children’s soc
 ial and emotional development</span></div>\n<div style='text-align: justif
 y\;'><span style='color: #333333\; font-size: 14pt\;'>&nbsp\; &nbsp\; &nbs
 p\; </span><span style='color: #333333\;'><strong style='font-family: aria
 l\, helvetica\, sans-serif\; font-size: 12pt\; text-indent: -1in\; color: 
 inherit\;'><span style='font-size: 14pt\;'>Unit 4:&nbsp\; &nbsp\;&nbsp\;Co
 mpetency Statement 4:</span>&nbsp\;&nbsp\;</strong></span><span style='col
 or: #333333\; font-size: 14pt\;'>Establishing positive and productive rela
 tionships with families</span></div>\n<div style='text-align: justify\;'><
 span style='color: #333333\; font-size: 14pt\;'><strong>&nbsp\; &nbsp\; &n
 bsp\; Unit 5:&nbsp\; &nbsp\;&nbsp\;</strong><strong>Competency Statement 5
 :&nbsp\;&nbsp\;</strong>Ensuring a well-run purposeful program&nbsp\;</spa
 n></div>\n<div style='text-align: justify\;'><span style='color: #333333\;
  font-size: 14pt\;'><strong>&nbsp\; &nbsp\; &nbsp\; Unit 6:&nbsp\;&nbsp\; 
 &nbsp\;Competency Statement 6:&nbsp\;&nbsp\;</strong>Maintaining a commitm
 ent to professionalism</span></div>\n<div style='padding-left: 60px\;'><sp
 an style='color: #333333\; font-size: 14pt\;'></span></div>\n</div>\n<div 
 style='padding-left: 60px\;'>\n<p><span style='font-size: 14pt\; color: #3
 33333\;'></span></p>\n<p><span style='color: #333333\; font-size: 14pt\;'>
 </span></p>\n<p><span style='font-size: 14pt\; color: #333333\;'><span sty
 le='font-family: Arial\;'><strong>Documenting Professional Education</stro
 ng>&nbsp\;- 8 CDA Subject Areas</span>&nbsp\;</span></p>\n</div>\n<div><sp
 an style='font-size: 14pt\; color: #333333\;'><br /><span style='text-deco
 ration: underline\;'><strong>Saturday\, December 14th\, 2024</strong></spa
 n></span></div>\n<div style='padding-left: 30px\;'><span style='font-size:
  14pt\; color: #333333\;'></span></div>\n<div>&nbsp\;</div>\n<div style='p
 adding-left: 30px\;'><span style='font-size: 14pt\; color: #333333\;'><str
 ong>Class C</strong><strong>:&nbsp\;</strong>8:00am-3:00pm&nbsp\;(7 Contac
 t Hours/.7 CEUs)</span></div>\n<div style='padding-left: 30px\;'><span sty
 le='font-size: 14pt\; color: #333333\;'>&nbsp\;(arrivals will be staggered
 \, students will be scheduled in as early as 8:00am)</span></div>\n<div st
 yle='padding-left: 30px\;'><span style='font-size: 14pt\; color: #333333\;
 '><strong><span style='font-family: Arial\;'>&nbsp\; &nbsp\; &nbsp\;</span
 ></strong></span></div>\n<div style='padding-left: 30px\;'><span style='fo
 nt-size: 14pt\; color: #333333\;'><strong>Class D:&nbsp\;</strong>4:00pm -
  7:00pm (3 Contact Hours/.3 CEUs)&nbsp\;</span></div>\n<div style='padding
 -left: 30px\;'><span style='font-size: 14pt\; color: #333333\;'>&nbsp\;(di
 ssmissal will be staggered\, students will be dismissed throughout the eve
 ning)</span></div>\n<div>\n<div><span style='font-size: 14pt\; color: #333
 333\;'></span></div>\n<div>&nbsp\;</div>\n<div style='text-align: center\;
 '>&nbsp\;<span style='font-size: 14pt\; color: #333333\;'><strong><span st
 yle='font-family: Arial\;'>C &amp\; D Class Content</span></strong></span>
 \n<div style='padding-left: 60px\;'><span style='font-size: 14pt\; color: 
 #333333\;'></span></div>\n</div>\n<div>&nbsp\;<span style='color: #333333\
 ;'><span style='font-size: 14pt\;'><strong><span style='font-family: Arial
 \;'>Directed Portfolio Lab:&nbsp\;</span></strong><span style='font-family
 : Arial\;'>The Directed Portfolio Lab allows for individual consultation &
 amp\; one-on-one time with</span><span style='font-family: Arial\;'>&nbsp\
 ;the&nbsp\;</span></span><span style='font-size: 14pt\;'><span style='font
 -family: Arial\;'>instructor. &nbsp\;Participants will work on their portf
 olio and meet with the instructor to discuss their statements and</span><s
 pan style='font-family: Arial\;'>&nbsp\;the </span></span><span style='fon
 t-size: 14pt\;'><span style='font-family: Arial\;'>documentation within th
 eir professional portfolio.</span></span></span></div>\n<div><strong style
 ='font-family: arial\, helvetica\, sans-serif\;'>&nbsp\; &nbsp\; &nbsp\; &
 nbsp\; &nbsp\; &nbsp\; &nbsp\; &nbsp\; &nbsp\;<span style='font-size: 14pt
 \; color: #000000\;'>The Professional Philosophy Statement</span></strong>
 </div>\n</div>\n<div style='padding-left: 30px\;'>\n<div style='text-align
 : justify\;'><span style='color: #333333\;'>&nbsp\; &nbsp\; &nbsp\; &nbsp\
 ; &nbsp\;</span><span style='font-family: arial\, helvetica\, sans-serif\;
  color: #333333\; font-size: 14pt\;'><strong>Individual Consultations - al
 lows one on one with instructors</strong></span></div>\n<div style='paddin
 g-left: 60px\;'><span style='font-family: arial\, helvetica\, sans-serif\;
  color: #333333\; font-size: 14pt\;'></span></div>\n</div>\n<div style='pa
 dding-left: 60px\;'><span style='font-size: 14pt\; font-family: arial\, he
 lvetica\, sans-serif\; color: #333333\;'></span></div>\n<div><span style='
 font-size: 14pt\; color: #333333\;'></span></div>\n<div>&nbsp\;</div>\n<di
 v><span style='font-size: 14pt\; color: #333333\;'><span style='text-decor
 ation: underline\;'><strong>Sunday\, December 15th\, 2024</strong></span><
 /span></div>\n<div style='margin-left: 30px\;'><span style='font-size: 14p
 t\; color: #333333\;'><strong><br /></strong><strong>Class E</strong><stro
 ng>:</strong>&nbsp\;8:00am-3:00pm&nbsp\;(7 Contact Hours/.7 CEUs)</span></
 div>\n<div style='margin-left: 30px\;'>\n<p style='margin-left: 1in\; text
 -indent: -1in\;'><span style='font-size: 14pt\; color: #333333\;'><strong>
 Class F:</strong>&nbsp\;4:00pm-7:00pm&nbsp\;<span style='background-color:
  inherit\; font-family: inherit\; caret-color: auto\;'>(3 Contact Hours/.3
  CEUs)</span></span></p>\n<p><span style='font-size: 14pt\; color: #333333
 \;'></span></p>\n</div>\n<div>&nbsp\;</div>\n<div style='padding-left: 30p
 x\; text-align: center\;'><span style='font-size: 14pt\; color: #333333\;'
 ><strong><span style='font-family: Arial\;'>E &amp\; F Class Content<span 
 style='font-family: Arial\;'></span>&nbsp\;&nbsp\;&nbsp\; &nbsp\; &nbsp\; 
 </span></strong></span></div>\n<div style='padding-left: 30px\;'><span sty
 le='font-size: 14pt\; color: #333333\;'><strong><span style='font-family: 
 Arial\;'><span style='font-family: Arial\;'>&nbsp\; &nbsp\; &nbsp\; &nbsp\
 ;Unit 7:<span style='font-family: Arial\;'>&nbsp\;CDA Practice Exam&nbsp\;
 </span>&nbsp\;</span>&nbsp\;</span></strong></span></div>\n<div style='pad
 ding-left: 30px\;'><span style='font-size: 14pt\; color: #333333\;'><stron
 g><span style='font-family: Arial\;'>&nbsp\; &nbsp\; &nbsp\; &nbsp\;</span
 ></strong></span><span style='color: #333333\; font-size: 14pt\;'><strong>
 <span style='font-family: Arial\;'>Unit 8:&nbsp\;</span></strong><strong><
 span style='font-family: Arial\;'>I<strong>nstructions on completing the p
 rocess</strong></span></strong></span></div>\n<div style='padding-left: 60
 px\;'>\n<p style='margin-left: 1in\; text-indent: -1in\;'><span style='fon
 t-size: 14pt\; color: #333333\;'><strong><span style='font-family: Arial\;
 '>&nbsp\; &nbsp\; &nbsp\; &nbsp\; &nbsp\; &nbsp\; &nbsp\; &nbsp\; &nbsp\; 
 &nbsp\; &nbsp\; &nbsp\; &nbsp\;&nbsp\;</span></strong><strong><span style=
 'font-family: Arial\;'>Understanding the verification visit</span> </stron
 g> </span></p>\n<p style='margin-left: 1in\; text-indent: -1in\;'><span st
 yle='font-size: 14pt\; color: #333333\;'><strong><span style='font-family:
  Arial\;'>&nbsp\; &nbsp\; &nbsp\; &nbsp\; &nbsp\; &nbsp\; &nbsp\; &nbsp\; 
 &nbsp\; &nbsp\; &nbsp\; &nbsp\; &nbsp\;&nbsp\;<strong>The application proc
 ess</strong></span> </strong> </span></p>\n<p style='margin-left: 1in\; te
 xt-indent: -1in\;'><span style='font-size: 14pt\; color: #333333\;'><stron
 g><span style='font-family: Arial\;'>&nbsp\; &nbsp\; &nbsp\; &nbsp\; &nbsp
 \; &nbsp\; &nbsp\; &nbsp\; &nbsp\; &nbsp\; &nbsp\; &nbsp\; &nbsp\; Choosin
 g your PD Specialist</span> </strong> </span></p>\n<p style='margin-left: 
 1in\; text-indent: -1in\;'><span style='font-size: 14pt\; color: #333333\;
 '><strong><span style='font-family: Arial\;'>&nbsp\; &nbsp\; &nbsp\; &nbsp
 \; &nbsp\; &nbsp\; &nbsp\; &nbsp\; &nbsp\; &nbsp\; &nbsp\; &nbsp\; &nbsp\;
 &nbsp\;</span></strong><strong><span style='font-family: Arial\;'>Finding 
 a Pearson Vue testing site&nbsp\;</span></strong></span></p>\n<p style='ma
 rgin-left: 1in\; text-indent: -1in\;'><span style='font-size: 14pt\;'><str
 ong><span style='font-family: Arial\;'>&nbsp\; &nbsp\; &nbsp\; </span></st
 rong></span></p>\n<p style='text-align: center\;'><span style='font-size: 
 14pt\;'><a href='http://handprint.niccm.com/products/cda-fast-track.html' 
 title='Registration CDA Fast Track '><span style='margin: 0px\; padding: 0
 px\; border: 0px\; outline: 0px\; background-color: transparent\; font-fam
 ily: arial\, helvetica\, sans-serif\;'><span style='color: #ffffff\;'><spa
 n style='padding: 3px 10px 4px\; background-color: #7b3b3b\;'><strong>Clic
 k Here To Register Online Now!</strong></span></span></span></a></span></p
 >\n<p style='text-align: center\;'>&nbsp\;</p>\n<p style='text-align: cent
 er\;'>&nbsp\;</p>\n<footer></footer></div>\n<p style='text-align: center\;
 '><span style='font-size: 18pt\;'>&nbsp\; &nbsp\; &nbsp\; &nbsp\;Call (602
 ) 476-1422 for More Information&nbsp\;</span></p>\n<p>&nbsp\;&nbsp\;</p>
DTSTART:20241213T070000Z
DTEND:20241215T190000Z
SUMMARY:CDA Fast Track  - Miami 1224  
URL:https://niccm.com/71-cda-fast-track/888-cda-fast-track-miami-1224
END:VEVENT
END:VCALENDAR
