BEGIN:VCALENDAR
VERSION:2.0
PRODID:-//https://niccm.com//NONSGML kigkonsult.se iCalcreator 2.23.20//
METHOD:PUBLISH
X-WR-CALNAME:JCal Pro Calendar
X-WR-CALDESC:Your online events calendar
X-WR-TIMEZONE:UTC
BEGIN:VTIMEZONE
TZID:UTC
BEGIN:STANDARD
DTSTART:20260419T171138
TZOFFSETFROM:+0000
TZOFFSETTO:+0000
END:STANDARD
END:VTIMEZONE
BEGIN:VEVENT
UID:20250425T064500UTC-6184VZxf7H@https://niccm.com/
DTSTAMP:20260419T171138Z
CATEGORIES:Past NICCM Events
DESCRIPTION:<h1 style='color: #000000\; visibility: visible\; text-align: c
 enter\;'><span style='font-family: arial\, helvetica\, sans-serif\; font-s
 ize: 18pt\;'>CDA Fast Track&nbsp\;</span></h1>\n<h2 style='color: #000000\
 ; visibility: visible\; text-align: justify\;'><span style='font-size: 12p
 t\; font-family: arial\, helvetica\, sans-serif\;'><strong style='font-siz
 e: 18pt\;'>Location/Hotel:</strong></span>&nbsp\;</h2>\n<p style='backgrou
 nd-color: transparent\; margin: 2px 0px\; padding: 0px\; border: 0px\; out
 line: 0px\; font-size: 12px\; color: #505f69\; font-family: Helvetica\, Ar
 ial\, FreeSans\, sans-serif\;'><span style='color: #000000\; font-family: 
 arial\, helvetica\, sans-serif\; font-size: 14pt\;'>Holiday Inn I-295 E Ba
 ymeadows&nbsp\;</span></p>\n<p><span style='color: #000000\; font-family: 
 arial\, helvetica\, sans-serif\; font-size: 14pt\;'>11083 Nurseryfields Dr
 ive</span></p>\n<p><span style='color: #000000\; font-family: arial\, helv
 etica\, sans-serif\; font-size: 14pt\;'>Jacksonville\, FL &nbsp\;32256</sp
 an></p>\n<p><span style='color: #000000\; font-family: arial\, helvetica\,
  sans-serif\; font-size: 14pt\;'>(904) 854- 8000</span></p>\n<p><span styl
 e='font-size: 14pt\; font-family: arial\, helvetica\, sans-serif\; color: 
 #000000\;'>Reservations</span>&nbsp\;<a href='https://www.ihg.com/holidayi
 nn/hotels/us/en/find-hotels/select-roomrate?fromRedirect=true&amp\;qSrt=sB
 R&amp\;qIta=99801505&amp\;icdv=99801505&amp\;qSlH=JAXES&amp\;qCiD=22&amp\;
 qCiMy=092025&amp\;qCoD=26&amp\;qCoMy=092025&amp\;qGrpCd=NCM&amp\;setPMCook
 ies=true&amp\;qSHBrC=HI&amp\;qDest=11083%20Nurseryfields%20Drive%2C%20Jack
 sonville%2C%20FL%2C%20US&amp\;srb_u=1'><span style='font-size: 14pt\;'>Hol
 idayinn.com&nbsp\;</span></a></p>\n<p><span style='color: #0000ff\; font-s
 ize: 14pt\;'><span style='color: #000000\;'>Call for assistance if there a
 ren't any available reservations on the link.</span>&nbsp\;</span></p>\n<a
 ddress>&nbsp\;</address>\n<p>&nbsp\;</p>\n<p style='text-align: center\;'>
 <a href='http://handprint.niccm.com/products/cda-fast-track.html' title='R
 egistration CDA Fast Track '><span style='font-size: 18pt\;'><span style='
 margin: 0px\; padding: 0px\; border: 0px\; outline: 0px\; background-color
 : transparent\; font-family: arial\, helvetica\, sans-serif\;'><span style
 ='color: #ffffff\;'><span style='font-size: 19px\; padding: 3px 10px 4px\;
  background-color: #7b3b3b\;'><strong>Click Here To Register Online Now!</
 strong></span></span></span></span></a></p>\n<p style='text-align: center\
 ;'>&nbsp\;<span style='font-size: 18pt\;'><span style='margin: 0px\; paddi
 ng: 0px\; border: 0px\; outline: 0px\; background-color: transparent\; fon
 t-family: arial\, helvetica\, sans-serif\;'>&nbsp\; &nbsp\; &nbsp\; &nbsp\
 ; &nbsp\; &nbsp\; &nbsp\; &nbsp\; &nbsp\; &nbsp\; &nbsp\; &nbsp\; &nbsp\;&
 nbsp\;</span></span>&nbsp\;</p>\n<p style='text-align: center\;'>&nbsp\;</
 p>\n<div style='text-align: center\;'>\n<p style='visibility: visible\; te
 xt-align: justify\;'><span style='color: #333333\;'><span style='font-size
 : 12pt\; font-family: arial\, helvetica\, sans-serif\;'><strong style='fon
 t-size: 18pt\;'>Course Content &amp\; Schedule:</strong></span>&nbsp\;</sp
 an></p>\n<p style='visibility: visible\; text-align: justify\;'><span styl
 e='color: #333333\;'></span></p>\n</div>\n<div>&nbsp\;</div>\n<div style='
 text-align: justify\;'><span style='text-decoration: underline\; color: #3
 33333\;'><span style='font-size: large\;'><strong><span style='font-size: 
 14pt\;'>Friday\, October 24th\, 2025</span></strong></span></span></div>\n
 <div><span style='color: #333333\;'></span></div>\n<div>&nbsp\;</div>\n<di
 v><span style='font-size: 14pt\; color: #333333\;'><strong>Arrival and Che
 ck-In</strong>: 6:45am -7:00am <span style='font-size: 12pt\;'>(students m
 ust arrive and check-in 15 minutes before class)</span></span></div>\n<div
  style='padding-left: 30px\;'><span style='color: #333333\;'><span style='
 font-size: large\;'><strong><br /></strong></span><span style='font-size: 
 14pt\;'><strong>C</strong><strong>lass A</strong>: 7:00am -12:00pm &nbsp\;
 (5 Contact Hours/.5 CEUs)</span></span></div>\n<div style='padding-left: 3
 0px\;'><span style='font-size: 14pt\; color: #333333\;'>&nbsp\; &nbsp\; &n
 bsp\;&nbsp\;</span><span style='font-size: 14pt\; color: #333333\;'><stron
 g><span style='font-family: Arial\;'>Introduction:&nbsp\;</span>&nbsp\;</s
 trong> <strong><span style='font-family: Arial\;'>Overview of the Course</
 span><span style='font-family: Arial\;'>&nbsp\; &nbsp\;</span></strong></s
 pan></div>\n<div style='margin-left: 60px\;'>\n<p><span style='font-size: 
 14pt\; color: #333333\;'><strong><span style='font-family: Arial\;'>Unit 1
 :&nbsp\; &nbsp\; </span></strong><strong><span style='font-family: Arial\;
 '>Keys to Writing Statements</span> </strong> </span></p>\n<p style='margi
 n-left: 31px\;'><span style='font-size: 14pt\; color: #333333\;'><strong><
 span style='font-family: Arial\;'>&nbsp\; &nbsp\; &nbsp\; &nbsp\; &nbsp\;C
 ompetency Statement 1:&nbsp\;&nbsp\;</span> </strong><span style='font-fam
 ily: Arial\;'>Planning a safe and healthy learning environment</span></spa
 n></p>\n<p><span style='font-size: 14pt\; color: #333333\;'><strong><span 
 style='font-family: Arial\;'>Unit 2:&nbsp\; &nbsp\; </span></strong><stron
 g><span style='font-family: Arial\;'>Competency Statement 2:&nbsp\;&nbsp\;
 </span> </strong><span style='font-family: Arial\;'>Advancing children’s p
 hysical and intellectual development</span></span></p>\n</div>\n<div style
 ='padding-left: 30px\;'><span style='font-size: 12pt\; color: #333333\;'><
 br /><span style='font-size: 14pt\;'><strong>Class B:</strong>&nbsp\;12:30
 pm- 5:30pm &nbsp\;(5 Contact Hours/.5 CEUs) </span></span></div>\n<div sty
 le='padding-left: 30px\;'><span style='font-size: 14pt\; color: #333333\;'
 ><strong><span style='font-family: Arial\;'>&nbsp\; &nbsp\; &nbsp\;</span>
 </strong></span>\n<div style='padding-left: 30px\; text-align: justify\;'>
 <span style='color: #333333\; font-size: 14pt\;'><strong><span style='font
 -family: Arial\;'>Unit 3:&nbsp\; &nbsp\;&nbsp\;</span></strong><strong>Com
 petency Statement 3:&nbsp\;&nbsp\;</strong>Supporting children’s social an
 d emotional development</span></div>\n<div style='text-align: justify\;'><
 span style='color: #333333\; font-size: 14pt\;'>&nbsp\; &nbsp\; &nbsp\; </
 span><span style='color: #333333\;'><strong style='font-family: arial\, he
 lvetica\, sans-serif\; font-size: 12pt\; text-indent: -1in\; color: inheri
 t\;'><span style='font-size: 14pt\;'>Unit 4:&nbsp\; &nbsp\;&nbsp\;Competen
 cy Statement 4:</span>&nbsp\;&nbsp\;</strong></span><span style='color: #3
 33333\; font-size: 14pt\;'>Establishing positive and productive relationsh
 ips with families</span></div>\n<div style='text-align: justify\;'><span s
 tyle='color: #333333\; font-size: 14pt\;'><strong>&nbsp\; &nbsp\; &nbsp\; 
 Unit 5:&nbsp\; &nbsp\;&nbsp\;</strong><strong>Competency Statement 5:&nbsp
 \;&nbsp\;</strong>Ensuring a well-run purposeful program&nbsp\;</span></di
 v>\n<div style='text-align: justify\;'><span style='color: #333333\; font-
 size: 14pt\;'><strong>&nbsp\; &nbsp\; &nbsp\; Unit 6:&nbsp\;&nbsp\; &nbsp\
 ;Competency Statement 6:&nbsp\;&nbsp\;</strong>Maintaining a commitment to
  professionalism</span></div>\n<div style='padding-left: 60px\;'><span sty
 le='color: #333333\; font-size: 14pt\;'></span></div>\n</div>\n<div style=
 'padding-left: 60px\;'>\n<p><span style='font-size: 14pt\; color: #333333\
 ;'></span></p>\n<p><span style='color: #333333\; font-size: 14pt\;'></span
 ></p>\n<p><span style='font-size: 14pt\; color: #333333\;'><span style='fo
 nt-family: Arial\;'><strong>Documenting Professional Education</strong>&nb
 sp\;- 8 CDA Subject Areas</span>&nbsp\;</span></p>\n</div>\n<div><span sty
 le='font-size: 14pt\; color: #333333\;'><br /><span style='text-decoration
 : underline\;'><strong>Saturday\, October 25th\, 2025</strong></span></spa
 n></div>\n<div style='padding-left: 30px\;'><span style='font-size: 14pt\;
  color: #333333\;'></span></div>\n<div>&nbsp\;</div>\n<div style='padding-
 left: 30px\;'><span style='font-size: 14pt\; color: #333333\;'><strong>Cla
 ss C</strong><strong>:&nbsp\;</strong>8:00am-3:00pm&nbsp\;(7 Contact Hours
 /.7 CEUs)</span></div>\n<div style='padding-left: 30px\;'><span style='fon
 t-size: 14pt\; color: #333333\;'>&nbsp\;(arrivals will be staggered\, stud
 ents will be scheduled in as early as 8:00am)</span></div>\n<div style='pa
 dding-left: 30px\;'><span style='font-size: 14pt\; color: #333333\;'><stro
 ng><span style='font-family: Arial\;'>&nbsp\; &nbsp\; &nbsp\;</span></stro
 ng></span></div>\n<div style='padding-left: 30px\;'><span style='font-size
 : 14pt\; color: #333333\;'><strong>Class D:&nbsp\;</strong>4:00pm - 7:00pm
  (3 Contact Hours/.3 CEUs)&nbsp\;</span></div>\n<div style='padding-left: 
 30px\;'><span style='font-size: 14pt\; color: #333333\;'>&nbsp\;(dissmissa
 l will be staggered\, students will be dismissed throughout the evening)</
 span></div>\n<div>\n<div><span style='font-size: 14pt\; color: #333333\;'>
 </span></div>\n<div>&nbsp\;</div>\n<div style='text-align: center\;'>&nbsp
 \;<span style='font-size: 14pt\; color: #333333\;'><strong><span style='fo
 nt-family: Arial\;'>C &amp\; D Class Content</span></strong></span>\n<div 
 style='padding-left: 60px\;'><span style='font-size: 14pt\; color: #333333
 \;'></span></div>\n</div>\n<div>&nbsp\;<span style='color: #333333\;'><spa
 n style='font-size: 14pt\;'><strong><span style='font-family: Arial\;'>Dir
 ected Portfolio Lab:&nbsp\;</span></strong><span style='font-family: Arial
 \;'>The Directed Portfolio Lab allows for individual consultation &amp\; o
 ne-on-one time with</span><span style='font-family: Arial\;'>&nbsp\;the&nb
 sp\;</span></span><span style='font-size: 14pt\;'><span style='font-family
 : Arial\;'>instructor. &nbsp\;Participants will work on their portfolio an
 d meet with the instructor to discuss their statements and</span><span sty
 le='font-family: Arial\;'>&nbsp\;the </span></span><span style='font-size:
  14pt\;'><span style='font-family: Arial\;'>documentation within their pro
 fessional portfolio.</span></span></span></div>\n<div><strong style='font-
 family: arial\, helvetica\, sans-serif\;'>&nbsp\; &nbsp\; &nbsp\; &nbsp\; 
 &nbsp\; &nbsp\; &nbsp\; &nbsp\; &nbsp\;<span style='font-size: 14pt\; colo
 r: #000000\;'>The Professional Philosophy Statement</span></strong></div>
 \n</div>\n<div style='padding-left: 30px\;'>\n<div style='text-align: just
 ify\;'><span style='color: #333333\;'>&nbsp\; &nbsp\; &nbsp\; &nbsp\; &nbs
 p\;</span><span style='font-family: arial\, helvetica\, sans-serif\; color
 : #333333\; font-size: 14pt\;'><strong>Individual Consultations - allows o
 ne on one with instructors</strong></span></div>\n<div style='padding-left
 : 60px\;'><span style='font-family: arial\, helvetica\, sans-serif\; color
 : #333333\; font-size: 14pt\;'></span></div>\n</div>\n<div style='padding-
 left: 60px\;'><span style='font-size: 14pt\; font-family: arial\, helvetic
 a\, sans-serif\; color: #333333\;'></span></div>\n<div><span style='font-s
 ize: 14pt\; color: #333333\;'></span></div>\n<div>&nbsp\;</div>\n<div><spa
 n style='font-size: 14pt\; color: #333333\;'><span style='text-decoration:
  underline\;'><strong>Sunday\, October 26th\, 2025</strong></span></span><
 /div>\n<div style='margin-left: 30px\;'><span style='font-size: 14pt\; col
 or: #333333\;'><strong><br /></strong><strong>Class E</strong><strong>:</s
 trong>&nbsp\;8:00am-3:00pm&nbsp\;(7 Contact Hours/.7 CEUs)</span></div>\n<
 div style='margin-left: 30px\;'>\n<p style='margin-left: 1in\; text-indent
 : -1in\;'><span style='font-size: 14pt\; color: #333333\;'><strong>Class F
 :</strong>&nbsp\;4:00pm-7:00pm&nbsp\;<span style='background-color: inheri
 t\; font-family: inherit\; caret-color: auto\;'>(3 Contact Hours/.3 CEUs)<
 /span></span></p>\n<p><span style='font-size: 14pt\; color: #333333\;'></s
 pan></p>\n</div>\n<div>&nbsp\;</div>\n<div style='padding-left: 30px\; tex
 t-align: center\;'><span style='font-size: 14pt\; color: #333333\;'><stron
 g><span style='font-family: Arial\;'>E &amp\; F Class Content<span style='
 font-family: Arial\;'></span>&nbsp\;&nbsp\;&nbsp\; &nbsp\; &nbsp\; </span>
 </strong></span></div>\n<div style='padding-left: 30px\;'><span style='fon
 t-size: 14pt\; color: #333333\;'><strong><span style='font-family: Arial\;
 '><span style='font-family: Arial\;'>&nbsp\; &nbsp\; &nbsp\; &nbsp\;Unit 7
 :<span style='font-family: Arial\;'>&nbsp\;CDA Practice Exam&nbsp\;</span>
 &nbsp\;</span>&nbsp\;</span></strong></span></div>\n<div style='padding-le
 ft: 30px\;'><span style='font-size: 14pt\; color: #333333\;'><strong><span
  style='font-family: Arial\;'>&nbsp\; &nbsp\; &nbsp\; &nbsp\;</span></stro
 ng></span><span style='color: #333333\; font-size: 14pt\;'><strong><span s
 tyle='font-family: Arial\;'>Unit 8:&nbsp\;</span></strong><strong><span st
 yle='font-family: Arial\;'>I<strong>nstructions on completing the process<
 /strong></span></strong></span></div>\n<div style='padding-left: 60px\;'>
 \n<p style='margin-left: 1in\; text-indent: -1in\;'><span style='font-size
 : 14pt\; color: #333333\;'><strong><span style='font-family: Arial\;'>&nbs
 p\; &nbsp\; &nbsp\; &nbsp\; &nbsp\; &nbsp\; &nbsp\; &nbsp\; &nbsp\; &nbsp\
 ; &nbsp\; &nbsp\; &nbsp\;&nbsp\;</span></strong><strong><span style='font-
 family: Arial\;'>Understanding the verification visit</span> </strong> </s
 pan></p>\n<p style='margin-left: 1in\; text-indent: -1in\;'><span style='f
 ont-size: 14pt\; color: #333333\;'><strong><span style='font-family: Arial
 \;'>&nbsp\; &nbsp\; &nbsp\; &nbsp\; &nbsp\; &nbsp\; &nbsp\; &nbsp\; &nbsp\
 ; &nbsp\; &nbsp\; &nbsp\; &nbsp\;&nbsp\;<strong>The application process</s
 trong></span> </strong> </span></p>\n<p style='margin-left: 1in\; text-ind
 ent: -1in\;'><span style='font-size: 14pt\; color: #333333\;'><strong><spa
 n style='font-family: Arial\;'>&nbsp\; &nbsp\; &nbsp\; &nbsp\; &nbsp\; &nb
 sp\; &nbsp\; &nbsp\; &nbsp\; &nbsp\; &nbsp\; &nbsp\; &nbsp\; Choosing your
  PD Specialist</span> </strong> </span></p>\n<p style='margin-left: 1in\; 
 text-indent: -1in\;'><span style='font-size: 14pt\; color: #333333\;'><str
 ong><span style='font-family: Arial\;'>&nbsp\; &nbsp\; &nbsp\; &nbsp\; &nb
 sp\; &nbsp\; &nbsp\; &nbsp\; &nbsp\; &nbsp\; &nbsp\; &nbsp\; &nbsp\;&nbsp\
 ;</span></strong><strong><span style='font-family: Arial\;'>Finding a Pear
 son Vue testing site&nbsp\;</span></strong></span></p>\n<p style='margin-l
 eft: 1in\; text-indent: -1in\;'><span style='font-size: 14pt\;'><strong><s
 pan style='font-family: Arial\;'>&nbsp\; &nbsp\; &nbsp\; </span></strong><
 /span></p>\n<p style='text-align: center\;'><span style='font-size: 14pt\;
 '><a href='http://handprint.niccm.com/products/cda-fast-track.html' title=
 'Registration CDA Fast Track '><span style='margin: 0px\; padding: 0px\; b
 order: 0px\; outline: 0px\; background-color: transparent\; font-family: a
 rial\, helvetica\, sans-serif\;'><span style='color: #ffffff\;'><span styl
 e='padding: 3px 10px 4px\; background-color: #7b3b3b\;'><strong>Click Here
  To Register Online Now!</strong></span></span></span></a></span></p>\n<p 
 style='text-align: center\;'>&nbsp\;</p>\n<p style='text-align: center\;'>
 &nbsp\;</p>\n<footer></footer></div>\n<p style='text-align: center\;'><spa
 n style='font-size: 18pt\;'>&nbsp\; &nbsp\; &nbsp\; &nbsp\;Call (602) 476-
 1422 for More Information&nbsp\;</span></p>\n<p>&nbsp\;&nbsp\;</p>
DTSTART:20251024T064500Z
DTEND:20251026T190000Z
SUMMARY:CDA Fast Track  - Jacksonville 1025 
URL:https://niccm.com/71-cda-fast-track/905-cda-fast-track-jacksonville-102
 5
END:VEVENT
END:VCALENDAR
