BEGIN:VCALENDAR
VERSION:2.0
PRODID:-//https://niccm.com//NONSGML kigkonsult.se iCalcreator 2.23.20//
METHOD:PUBLISH
X-WR-CALNAME:JCal Pro Calendar
X-WR-CALDESC:Your online events calendar
X-WR-TIMEZONE:UTC
BEGIN:VTIMEZONE
TZID:UTC
BEGIN:STANDARD
DTSTART:20260425T022405
TZOFFSETFROM:+0000
TZOFFSETTO:+0000
END:STANDARD
END:VTIMEZONE
BEGIN:VEVENT
UID:20250530T064500UTC-2638UUu9sZ@https://niccm.com/
DTSTAMP:20260425T022405Z
CATEGORIES:Past NICCM Events
DESCRIPTION:<h1 style='color: #000000\; visibility: visible\; text-align: c
 enter\;'><span style='font-family: arial\, helvetica\, sans-serif\; font-s
 ize: 18pt\;'>CDA Fast Track&nbsp\;</span></h1>\n<h2 style='color: #000000\
 ; visibility: visible\; text-align: justify\;'><span style='font-size: 12p
 t\; font-family: arial\, helvetica\, sans-serif\;'><strong style='font-siz
 e: 18pt\;'>Location/Hotel:</strong></span>&nbsp\;</h2>\n<p style='backgrou
 nd-color: transparent\; margin: 2px 0px\; padding: 0px\; border: 0px\; out
 line: 0px\; font-size: 12px\; color: #505f69\; font-family: Helvetica\, Ar
 ial\, FreeSans\, sans-serif\;'><span style='color: #000000\; font-family: 
 arial\, helvetica\, sans-serif\; font-size: 14pt\;'>Hilton Garden Inn - La
 ke Buena Vista&nbsp\;</span></p>\n<p><span style='color: #000000\; font-fa
 mily: arial\, helvetica\, sans-serif\; font-size: 14pt\;'>11400 Marabella 
 Palm Court</span></p>\n<p><span style='color: #000000\; font-family: arial
 \, helvetica\, sans-serif\; font-size: 14pt\;'>Orlando\, FL &nbsp\;32836</
 span></p>\n<p><span style='color: #000000\; font-family: arial\, helvetica
 \, sans-serif\; font-size: 14pt\;'>(407) 239- 9550</span></p>\n<p><span st
 yle='font-size: 14pt\; font-family: arial\, helvetica\, sans-serif\; color
 : #000000\;'>Reservations</span>&nbsp\;<a href='https://www.hilton.com/en/
 book/reservation/deeplink/?ctyhocn=MCOBVGI&amp\;groupCode=NICJ&amp\;arriva
 ldate=2025-06-26&amp\;departuredate=2025-06-30&amp\;cid=OM\,WW\,HILTONLINK
 \,EN\,DirectLink&amp\;fromId=HILTONLINKDIRECT'><span style='font-size: 14p
 t\;'>Hilton.com&nbsp\;</span></a></p>\n<p><span style='color: #0000ff\; fo
 nt-size: 14pt\;'><span style='color: #000000\;'>Call for assistance if the
 re aren't any available reservations on the link.</span>&nbsp\;</span></p>
 \n<p class='p1'><span style='font-family: arial\, helvetica\, sans-serif\;
  font-size: 14pt\; color: #000000\;'>*Free parking available if you regist
 er your car upon arrival.&nbsp\;</span></p>\n<address>&nbsp\;</address>\n<
 p>&nbsp\;</p>\n<p style='text-align: center\;'><a href='http://handprint.n
 iccm.com/products/cda-fast-track.html' title='Registration CDA Fast Track 
 '><span style='font-size: 18pt\;'><span style='margin: 0px\; padding: 0px\
 ; border: 0px\; outline: 0px\; background-color: transparent\; font-family
 : arial\, helvetica\, sans-serif\;'><span style='color: #ffffff\;'><span s
 tyle='font-size: 19px\; padding: 3px 10px 4px\; background-color: #7b3b3b\
 ;'><strong>Click Here To Register Online Now!</strong></span></span></span
 ></span></a></p>\n<p style='text-align: center\;'>&nbsp\;<span style='font
 -size: 18pt\;'><span style='margin: 0px\; padding: 0px\; border: 0px\; out
 line: 0px\; background-color: transparent\; font-family: arial\, helvetica
 \, sans-serif\;'>&nbsp\; &nbsp\; &nbsp\; &nbsp\; &nbsp\; &nbsp\; &nbsp\; &
 nbsp\; &nbsp\; &nbsp\; &nbsp\; &nbsp\; &nbsp\;&nbsp\;</span></span>&nbsp\;
 </p>\n<p style='text-align: center\;'>&nbsp\;</p>\n<div style='text-align:
  center\;'>\n<p style='visibility: visible\; text-align: justify\;'><span 
 style='color: #333333\;'><span style='font-size: 12pt\; font-family: arial
 \, helvetica\, sans-serif\;'><strong style='font-size: 18pt\;'>Course Cont
 ent &amp\; Schedule:</strong></span>&nbsp\;</span></p>\n<p style='visibili
 ty: visible\; text-align: justify\;'><span style='color: #333333\;'></span
 ></p>\n</div>\n<div>&nbsp\;</div>\n<div style='text-align: justify\;'><spa
 n style='text-decoration: underline\; color: #333333\;'><span style='font-
 size: large\;'><strong><span style='font-size: 14pt\;'>Friday\, June 27th\
 , 2025</span></strong></span></span></div>\n<div><span style='color: #3333
 33\;'></span></div>\n<div>&nbsp\;</div>\n<div><span style='font-size: 14pt
 \; color: #333333\;'><strong>Arrival and Check-In</strong>: 6:45am -7:00am
  <span style='font-size: 12pt\;'>(students must arrive and check-in 15 min
 utes before class)</span></span></div>\n<div style='padding-left: 30px\;'>
 <span style='color: #333333\;'><span style='font-size: large\;'><strong><b
 r /></strong></span><span style='font-size: 14pt\;'><strong>C</strong><str
 ong>lass A</strong>: 7:00am -12:00pm &nbsp\;(5 Contact Hours/.5 CEUs)</spa
 n></span></div>\n<div style='padding-left: 30px\;'><span style='font-size:
  14pt\; color: #333333\;'>&nbsp\; &nbsp\; &nbsp\;&nbsp\;</span><span style
 ='font-size: 14pt\; color: #333333\;'><strong><span style='font-family: Ar
 ial\;'>Introduction:&nbsp\;</span>&nbsp\;</strong> <strong><span style='fo
 nt-family: Arial\;'>Overview of the Course</span><span style='font-family:
  Arial\;'>&nbsp\; &nbsp\;</span></strong></span></div>\n<div style='margin
 -left: 60px\;'>\n<p><span style='font-size: 14pt\; color: #333333\;'><stro
 ng><span style='font-family: Arial\;'>Unit 1:&nbsp\; &nbsp\; </span></stro
 ng><strong><span style='font-family: Arial\;'>Keys to Writing Statements</
 span> </strong> </span></p>\n<p style='margin-left: 31px\;'><span style='f
 ont-size: 14pt\; color: #333333\;'><strong><span style='font-family: Arial
 \;'>&nbsp\; &nbsp\; &nbsp\; &nbsp\; &nbsp\;Competency Statement 1:&nbsp\;&
 nbsp\;</span> </strong><span style='font-family: Arial\;'>Planning a safe 
 and healthy learning environment</span></span></p>\n<p><span style='font-s
 ize: 14pt\; color: #333333\;'><strong><span style='font-family: Arial\;'>U
 nit 2:&nbsp\; &nbsp\; </span></strong><strong><span style='font-family: Ar
 ial\;'>Competency Statement 2:&nbsp\;&nbsp\;</span> </strong><span style='
 font-family: Arial\;'>Advancing children’s physical and intellectual devel
 opment</span></span></p>\n</div>\n<div style='padding-left: 30px\;'><span 
 style='font-size: 12pt\; color: #333333\;'><br /><span style='font-size: 1
 4pt\;'><strong>Class B:</strong>&nbsp\;12:30pm- 5:30pm &nbsp\;(5 Contact H
 ours/.5 CEUs) </span></span></div>\n<div style='padding-left: 30px\;'><spa
 n style='font-size: 14pt\; color: #333333\;'><strong><span style='font-fam
 ily: Arial\;'>&nbsp\; &nbsp\; &nbsp\;</span></strong></span>\n<div style='
 padding-left: 30px\; text-align: justify\;'><span style='color: #333333\; 
 font-size: 14pt\;'><strong><span style='font-family: Arial\;'>Unit 3:&nbsp
 \; &nbsp\;&nbsp\;</span></strong><strong>Competency Statement 3:&nbsp\;&nb
 sp\;</strong>Supporting children’s social and emotional development</span>
 </div>\n<div style='text-align: justify\;'><span style='color: #333333\; f
 ont-size: 14pt\;'>&nbsp\; &nbsp\; &nbsp\; </span><span style='color: #3333
 33\;'><strong style='font-family: arial\, helvetica\, sans-serif\; font-si
 ze: 12pt\; text-indent: -1in\; color: inherit\;'><span style='font-size: 1
 4pt\;'>Unit 4:&nbsp\; &nbsp\;&nbsp\;Competency Statement 4:</span>&nbsp\;&
 nbsp\;</strong></span><span style='color: #333333\; font-size: 14pt\;'>Est
 ablishing positive and productive relationships with families</span></div>
 \n<div style='text-align: justify\;'><span style='color: #333333\; font-si
 ze: 14pt\;'><strong>&nbsp\; &nbsp\; &nbsp\; Unit 5:&nbsp\; &nbsp\;&nbsp\;<
 /strong><strong>Competency Statement 5:&nbsp\;&nbsp\;</strong>Ensuring a w
 ell-run purposeful program&nbsp\;</span></div>\n<div style='text-align: ju
 stify\;'><span style='color: #333333\; font-size: 14pt\;'><strong>&nbsp\; 
 &nbsp\; &nbsp\; Unit 6:&nbsp\;&nbsp\; &nbsp\;Competency Statement 6:&nbsp\
 ;&nbsp\;</strong>Maintaining a commitment to professionalism</span></div>
 \n<div style='padding-left: 60px\;'><span style='color: #333333\; font-siz
 e: 14pt\;'></span></div>\n</div>\n<div style='padding-left: 60px\;'>\n<p><
 span style='font-size: 14pt\; color: #333333\;'></span></p>\n<p><span styl
 e='color: #333333\; font-size: 14pt\;'></span></p>\n<p><span style='font-s
 ize: 14pt\; color: #333333\;'><span style='font-family: Arial\;'><strong>D
 ocumenting Professional Education</strong>&nbsp\;- 8 CDA Subject Areas</sp
 an>&nbsp\;</span></p>\n</div>\n<div><span style='font-size: 14pt\; color: 
 #333333\;'><br /><span style='text-decoration: underline\;'><strong>Saturd
 ay\, June 28th\, 2025</strong></span></span></div>\n<div style='padding-le
 ft: 30px\;'><span style='font-size: 14pt\; color: #333333\;'></span></div>
 \n<div>&nbsp\;</div>\n<div style='padding-left: 30px\;'><span style='font-
 size: 14pt\; color: #333333\;'><strong>Class C</strong><strong>:&nbsp\;</s
 trong>8:00am-3:00pm&nbsp\;(7 Contact Hours/.7 CEUs)</span></div>\n<div sty
 le='padding-left: 30px\;'><span style='font-size: 14pt\; color: #333333\;'
 >&nbsp\;(arrivals will be staggered\, students will be scheduled in as ear
 ly as 8:00am)</span></div>\n<div style='padding-left: 30px\;'><span style=
 'font-size: 14pt\; color: #333333\;'><strong><span style='font-family: Ari
 al\;'>&nbsp\; &nbsp\; &nbsp\;</span></strong></span></div>\n<div style='pa
 dding-left: 30px\;'><span style='font-size: 14pt\; color: #333333\;'><stro
 ng>Class D:&nbsp\;</strong>4:00pm - 7:00pm (3 Contact Hours/.3 CEUs)&nbsp\
 ;</span></div>\n<div style='padding-left: 30px\;'><span style='font-size: 
 14pt\; color: #333333\;'>&nbsp\;(dissmissal will be staggered\, students w
 ill be dismissed throughout the evening)</span></div>\n<div>\n<div><span s
 tyle='font-size: 14pt\; color: #333333\;'></span></div>\n<div>&nbsp\;</div
 >\n<div style='text-align: center\;'>&nbsp\;<span style='font-size: 14pt\;
  color: #333333\;'><strong><span style='font-family: Arial\;'>C &amp\; D C
 lass Content</span></strong></span>\n<div style='padding-left: 60px\;'><sp
 an style='font-size: 14pt\; color: #333333\;'></span></div>\n</div>\n<div>
 &nbsp\;<span style='color: #333333\;'><span style='font-size: 14pt\;'><str
 ong><span style='font-family: Arial\;'>Directed Portfolio Lab:&nbsp\;</spa
 n></strong><span style='font-family: Arial\;'>The Directed Portfolio Lab a
 llows for individual consultation &amp\; one-on-one time with</span><span 
 style='font-family: Arial\;'>&nbsp\;the&nbsp\;</span></span><span style='f
 ont-size: 14pt\;'><span style='font-family: Arial\;'>instructor. &nbsp\;Pa
 rticipants will work on their portfolio and meet with the instructor to di
 scuss their statements and</span><span style='font-family: Arial\;'>&nbsp\
 ;the </span></span><span style='font-size: 14pt\;'><span style='font-famil
 y: Arial\;'>documentation within their professional portfolio.</span></spa
 n></span></div>\n<div><strong style='font-family: arial\, helvetica\, sans
 -serif\;'>&nbsp\; &nbsp\; &nbsp\; &nbsp\; &nbsp\; &nbsp\; &nbsp\; &nbsp\; 
 &nbsp\;<span style='font-size: 14pt\; color: #000000\;'>The Professional P
 hilosophy Statement</span></strong></div>\n</div>\n<div style='padding-lef
 t: 30px\;'>\n<div style='text-align: justify\;'><span style='color: #33333
 3\;'>&nbsp\; &nbsp\; &nbsp\; &nbsp\; &nbsp\;</span><span style='font-famil
 y: arial\, helvetica\, sans-serif\; color: #333333\; font-size: 14pt\;'><s
 trong>Individual Consultations - allows one on one with instructors</stron
 g></span></div>\n<div style='padding-left: 60px\;'><span style='font-famil
 y: arial\, helvetica\, sans-serif\; color: #333333\; font-size: 14pt\;'></
 span></div>\n</div>\n<div style='padding-left: 60px\;'><span style='font-s
 ize: 14pt\; font-family: arial\, helvetica\, sans-serif\; color: #333333\;
 '></span></div>\n<div><span style='font-size: 14pt\; color: #333333\;'></s
 pan></div>\n<div>&nbsp\;</div>\n<div><span style='font-size: 14pt\; color:
  #333333\;'><span style='text-decoration: underline\;'><strong>Sunday\, Ju
 ne 29th\, 2025</strong></span></span></div>\n<div style='margin-left: 30px
 \;'><span style='font-size: 14pt\; color: #333333\;'><strong><br /></stron
 g><strong>Class E</strong><strong>:</strong>&nbsp\;8:00am-3:00pm&nbsp\;(7 
 Contact Hours/.7 CEUs)</span></div>\n<div style='margin-left: 30px\;'>\n<p
  style='margin-left: 1in\; text-indent: -1in\;'><span style='font-size: 14
 pt\; color: #333333\;'><strong>Class F:</strong>&nbsp\;4:00pm-7:00pm&nbsp\
 ;<span style='background-color: inherit\; font-family: inherit\; caret-col
 or: auto\;'>(3 Contact Hours/.3 CEUs)</span></span></p>\n<p><span style='f
 ont-size: 14pt\; color: #333333\;'></span></p>\n</div>\n<div>&nbsp\;</div>
 \n<div style='padding-left: 30px\; text-align: center\;'><span style='font
 -size: 14pt\; color: #333333\;'><strong><span style='font-family: Arial\;'
 >E &amp\; F Class Content<span style='font-family: Arial\;'></span>&nbsp\;
 &nbsp\;&nbsp\; &nbsp\; &nbsp\; </span></strong></span></div>\n<div style='
 padding-left: 30px\;'><span style='font-size: 14pt\; color: #333333\;'><st
 rong><span style='font-family: Arial\;'><span style='font-family: Arial\;'
 >&nbsp\; &nbsp\; &nbsp\; &nbsp\;Unit 7:<span style='font-family: Arial\;'>
 &nbsp\;CDA Practice Exam&nbsp\;</span>&nbsp\;</span>&nbsp\;</span></strong
 ></span></div>\n<div style='padding-left: 30px\;'><span style='font-size: 
 14pt\; color: #333333\;'><strong><span style='font-family: Arial\;'>&nbsp\
 ; &nbsp\; &nbsp\; &nbsp\;</span></strong></span><span style='color: #33333
 3\; font-size: 14pt\;'><strong><span style='font-family: Arial\;'>Unit 8:&
 nbsp\;</span></strong><strong><span style='font-family: Arial\;'>I<strong>
 nstructions on completing the process</strong></span></strong></span></div
 >\n<div style='padding-left: 60px\;'>\n<p style='margin-left: 1in\; text-i
 ndent: -1in\;'><span style='font-size: 14pt\; color: #333333\;'><strong><s
 pan style='font-family: Arial\;'>&nbsp\; &nbsp\; &nbsp\; &nbsp\; &nbsp\; &
 nbsp\; &nbsp\; &nbsp\; &nbsp\; &nbsp\; &nbsp\; &nbsp\; &nbsp\;&nbsp\;</spa
 n></strong><strong><span style='font-family: Arial\;'>Understanding the ve
 rification visit</span> </strong> </span></p>\n<p style='margin-left: 1in\
 ; text-indent: -1in\;'><span style='font-size: 14pt\; color: #333333\;'><s
 trong><span style='font-family: Arial\;'>&nbsp\; &nbsp\; &nbsp\; &nbsp\; &
 nbsp\; &nbsp\; &nbsp\; &nbsp\; &nbsp\; &nbsp\; &nbsp\; &nbsp\; &nbsp\;&nbs
 p\;<strong>The application process</strong></span> </strong> </span></p>\n
 <p style='margin-left: 1in\; text-indent: -1in\;'><span style='font-size: 
 14pt\; color: #333333\;'><strong><span style='font-family: Arial\;'>&nbsp\
 ; &nbsp\; &nbsp\; &nbsp\; &nbsp\; &nbsp\; &nbsp\; &nbsp\; &nbsp\; &nbsp\; 
 &nbsp\; &nbsp\; &nbsp\; Choosing your PD Specialist</span> </strong> </spa
 n></p>\n<p style='margin-left: 1in\; text-indent: -1in\;'><span style='fon
 t-size: 14pt\; color: #333333\;'><strong><span style='font-family: Arial\;
 '>&nbsp\; &nbsp\; &nbsp\; &nbsp\; &nbsp\; &nbsp\; &nbsp\; &nbsp\; &nbsp\; 
 &nbsp\; &nbsp\; &nbsp\; &nbsp\;&nbsp\;</span></strong><strong><span style=
 'font-family: Arial\;'>Finding a Pearson Vue testing site&nbsp\;</span></s
 trong></span></p>\n<p style='margin-left: 1in\; text-indent: -1in\;'><span
  style='font-size: 14pt\;'><strong><span style='font-family: Arial\;'>&nbs
 p\; &nbsp\; &nbsp\; </span></strong></span></p>\n<p style='text-align: cen
 ter\;'><span style='font-size: 14pt\;'><a href='http://handprint.niccm.com
 /products/cda-fast-track.html' title='Registration CDA Fast Track '><span 
 style='margin: 0px\; padding: 0px\; border: 0px\; outline: 0px\; backgroun
 d-color: transparent\; font-family: arial\, helvetica\, sans-serif\;'><spa
 n style='color: #ffffff\;'><span style='padding: 3px 10px 4px\; background
 -color: #7b3b3b\;'><strong>Click Here To Register Online Now!</strong></sp
 an></span></span></a></span></p>\n<p style='text-align: center\;'>&nbsp\;<
 /p>\n<p style='text-align: center\;'>&nbsp\;</p>\n<footer></footer></div>
 \n<p style='text-align: center\;'><span style='font-size: 18pt\;'>&nbsp\; 
 &nbsp\; &nbsp\; &nbsp\;Call (602) 476-1422 for More Information&nbsp\;</sp
 an></p>\n<p>&nbsp\;&nbsp\;</p>
DTSTART:20250627T064500Z
DTEND:20250629T190000Z
SUMMARY:CDA Fast Track  - Orlando 625  
URL:https://niccm.com/71-cda-fast-track/915-cda-fast-track-orlando-625
END:VEVENT
END:VCALENDAR
