BEGIN:VCALENDAR
VERSION:2.0
PRODID:-//https://niccm.com//NONSGML kigkonsult.se iCalcreator 2.23.20//
METHOD:PUBLISH
X-WR-CALNAME:JCal Pro Calendar
X-WR-CALDESC:Your online events calendar
X-WR-TIMEZONE:UTC
BEGIN:VTIMEZONE
TZID:UTC
BEGIN:STANDARD
DTSTART:20260422T092251
TZOFFSETFROM:+0000
TZOFFSETTO:+0000
END:STANDARD
END:VTIMEZONE
BEGIN:VEVENT
UID:20250214T064500UTC-3553vLUi8P@https://niccm.com/
DTSTAMP:20260422T092251Z
CATEGORIES:Past NICCM Events
DESCRIPTION:<h1 style='color: #000000\; visibility: visible\; text-align: c
 enter\;'><span style='font-family: arial\, helvetica\, sans-serif\; font-s
 ize: 18pt\;'>CDA Fast Track&nbsp\;</span></h1>\n<h2 style='color: #000000\
 ; visibility: visible\; text-align: justify\;'><span style='font-size: 12p
 t\; font-family: arial\, helvetica\, sans-serif\;'><strong style='font-siz
 e: 18pt\;'>Location/Hotel:</strong></span>&nbsp\;</h2>\n<p style='backgrou
 nd-color: transparent\; margin: 2px 0px\; padding: 0px\; border: 0px\; out
 line: 0px\; font-size: 12px\; color: #505f69\; font-family: Helvetica\, Ar
 ial\, FreeSans\, sans-serif\;'><span style='color: #000000\; font-family: 
 arial\, helvetica\, sans-serif\; font-size: 14pt\;'>Drury Inn &amp\; Suite
 s San Antonio North Stone Oak</span></p>\n<p><span style='color: #000000\;
  font-family: arial\, helvetica\, sans-serif\; font-size: 14pt\;'>801 Nort
 h Loop 1604 East</span></p>\n<p><span style='color: #000000\; font-family:
  arial\, helvetica\, sans-serif\; font-size: 14pt\;'>San Antonio\, TX&nbsp
 \; 78258</span></p>\n<p><span style='color: #000000\; font-family: arial\,
  helvetica\, sans-serif\; font-size: 14pt\;'>(210) 404-1600</span></p>\n<p
 ><span style='font-size: 14pt\; font-family: arial\, helvetica\, sans-seri
 f\; color: #000000\;'>Reservations</span>&nbsp\;<a href='https://www.drury
 hotels.com/bookandstay/newreservation/?groupno=10111955'><span style='font
 -size: 14pt\;'>Drury.com&nbsp\;</span></a></p>\n<p><span style='color: #00
 00ff\; font-size: 14pt\;'><span style='color: #000000\;'>Call for assistan
 ce if there aren't any available reservations on the link.</span>&nbsp\;</
 span></p>\n<p><span style='font-family: arial\, helvetica\, sans-serif\; f
 ont-size: 14pt\; color: #000000\;'>Group Number&nbsp\;10111955</span></p>
 \n<blockquote>\n<div class='WordSection1'>\n<blockquote>\n<p class='xmsono
 rmal'>&nbsp\;</p>\n</blockquote>\n</div>\n</blockquote>\n<address>&nbsp\;<
 /address>\n<p>&nbsp\;</p>\n<p style='text-align: center\;'><a href='http:/
 /handprint.niccm.com/products/cda-fast-track.html' title='Registration CDA
  Fast Track '><span style='font-size: 18pt\;'><span style='margin: 0px\; p
 adding: 0px\; border: 0px\; outline: 0px\; background-color: transparent\;
  font-family: arial\, helvetica\, sans-serif\;'><span style='color: #fffff
 f\;'><span style='font-size: 19px\; padding: 3px 10px 4px\; background-col
 or: #7b3b3b\;'><strong>Click Here To Register Online Now!</strong></span><
 /span></span></span></a></p>\n<p style='text-align: center\;'>&nbsp\;<span
  style='font-size: 18pt\;'><span style='margin: 0px\; padding: 0px\; borde
 r: 0px\; outline: 0px\; background-color: transparent\; font-family: arial
 \, helvetica\, sans-serif\;'>&nbsp\; &nbsp\; &nbsp\; &nbsp\; &nbsp\; &nbsp
 \; &nbsp\; &nbsp\; &nbsp\; &nbsp\; &nbsp\; &nbsp\; &nbsp\;&nbsp\;</span></
 span>&nbsp\;</p>\n<p style='text-align: center\;'>&nbsp\;</p>\n<div style=
 'text-align: center\;'>\n<p style='visibility: visible\; text-align: justi
 fy\;'><span style='color: #333333\;'><span style='font-size: 12pt\; font-f
 amily: arial\, helvetica\, sans-serif\;'><strong style='font-size: 18pt\;'
 >Course Content &amp\; Schedule:</strong></span>&nbsp\;</span></p>\n<p sty
 le='visibility: visible\; text-align: justify\;'><span style='color: #3333
 33\;'></span></p>\n</div>\n<div>&nbsp\;</div>\n<div style='text-align: jus
 tify\;'><span style='text-decoration: underline\; color: #333333\;'><span 
 style='font-size: large\;'><strong><span style='font-size: 14pt\;'>Friday\
 , July 11th\, 2025</span></strong></span></span></div>\n<div><span style='
 color: #333333\;'></span></div>\n<div>&nbsp\;</div>\n<div><span style='fon
 t-size: 14pt\; color: #333333\;'><strong>Arrival and Check-In</strong>: 6:
 45am -7:00am <span style='font-size: 12pt\;'>(students must arrive and che
 ck-in 15 minutes before class)</span></span></div>\n<div style='padding-le
 ft: 30px\;'><span style='color: #333333\;'><span style='font-size: large\;
 '><strong><br /></strong></span><span style='font-size: 14pt\;'><strong>C<
 /strong><strong>lass A</strong>: 7:00am -12:00pm &nbsp\;(5 Contact Hours/.
 5 CEUs)</span></span></div>\n<div style='padding-left: 30px\;'><span style
 ='font-size: 14pt\; color: #333333\;'>&nbsp\; &nbsp\; &nbsp\;&nbsp\;</span
 ><span style='font-size: 14pt\; color: #333333\;'><strong><span style='fon
 t-family: Arial\;'>Introduction:&nbsp\;</span>&nbsp\;</strong> <strong><sp
 an style='font-family: Arial\;'>Overview of the Course</span><span style='
 font-family: Arial\;'>&nbsp\; &nbsp\;</span></strong></span></div>\n<div s
 tyle='margin-left: 60px\;'>\n<p><span style='font-size: 14pt\; color: #333
 333\;'><strong><span style='font-family: Arial\;'>Unit 1:&nbsp\; &nbsp\; <
 /span></strong><strong><span style='font-family: Arial\;'>Keys to Writing 
 Statements</span> </strong> </span></p>\n<p style='margin-left: 31px\;'><s
 pan style='font-size: 14pt\; color: #333333\;'><strong><span style='font-f
 amily: Arial\;'>&nbsp\; &nbsp\; &nbsp\; &nbsp\; &nbsp\;Competency Statemen
 t 1:&nbsp\;&nbsp\;</span> </strong><span style='font-family: Arial\;'>Plan
 ning a safe and healthy learning environment</span></span></p>\n<p><span s
 tyle='font-size: 14pt\; color: #333333\;'><strong><span style='font-family
 : Arial\;'>Unit 2:&nbsp\; &nbsp\; </span></strong><strong><span style='fon
 t-family: Arial\;'>Competency Statement 2:&nbsp\;&nbsp\;</span> </strong><
 span style='font-family: Arial\;'>Advancing children’s physical and intell
 ectual development</span></span></p>\n</div>\n<div style='padding-left: 30
 px\;'><span style='font-size: 12pt\; color: #333333\;'><br /><span style='
 font-size: 14pt\;'><strong>Class B:</strong>&nbsp\;12:30pm- 5:30pm &nbsp\;
 (5 Contact Hours/.5 CEUs) </span></span></div>\n<div style='padding-left: 
 30px\;'><span style='font-size: 14pt\; color: #333333\;'><strong><span sty
 le='font-family: Arial\;'>&nbsp\; &nbsp\; &nbsp\;</span></strong></span>\n
 <div style='padding-left: 30px\; text-align: justify\;'><span style='color
 : #333333\; font-size: 14pt\;'><strong><span style='font-family: Arial\;'>
 Unit 3:&nbsp\; &nbsp\;&nbsp\;</span></strong><strong>Competency Statement 
 3:&nbsp\;&nbsp\;</strong>Supporting children’s social and emotional develo
 pment</span></div>\n<div style='text-align: justify\;'><span style='color:
  #333333\; font-size: 14pt\;'>&nbsp\; &nbsp\; &nbsp\; </span><span style='
 color: #333333\;'><strong style='font-family: arial\, helvetica\, sans-ser
 if\; font-size: 12pt\; text-indent: -1in\; color: inherit\;'><span style='
 font-size: 14pt\;'>Unit 4:&nbsp\; &nbsp\;&nbsp\;Competency Statement 4:</s
 pan>&nbsp\;&nbsp\;</strong></span><span style='color: #333333\; font-size:
  14pt\;'>Establishing positive and productive relationships with families<
 /span></div>\n<div style='text-align: justify\;'><span style='color: #3333
 33\; font-size: 14pt\;'><strong>&nbsp\; &nbsp\; &nbsp\; Unit 5:&nbsp\; &nb
 sp\;&nbsp\;</strong><strong>Competency Statement 5:&nbsp\;&nbsp\;</strong>
 Ensuring a well-run purposeful program&nbsp\;</span></div>\n<div style='te
 xt-align: justify\;'><span style='color: #333333\; font-size: 14pt\;'><str
 ong>&nbsp\; &nbsp\; &nbsp\; Unit 6:&nbsp\;&nbsp\; &nbsp\;Competency Statem
 ent 6:&nbsp\;&nbsp\;</strong>Maintaining a commitment to professionalism</
 span></div>\n<div style='padding-left: 60px\;'><span style='color: #333333
 \; font-size: 14pt\;'></span></div>\n</div>\n<div style='padding-left: 60p
 x\;'>\n<p><span style='font-size: 14pt\; color: #333333\;'></span></p>\n<p
 ><span style='color: #333333\; font-size: 14pt\;'></span></p>\n<p><span st
 yle='font-size: 14pt\; color: #333333\;'><span style='font-family: Arial\;
 '><strong>Documenting Professional Education</strong>&nbsp\;- 8 CDA Subjec
 t Areas</span>&nbsp\;</span></p>\n</div>\n<div><span style='font-size: 14p
 t\; color: #333333\;'><br /><span style='text-decoration: underline\;'><st
 rong>Saturday\, July 12th\, 2025</strong></span></span></div>\n<div style=
 'padding-left: 30px\;'><span style='font-size: 14pt\; color: #333333\;'></
 span></div>\n<div>&nbsp\;</div>\n<div style='padding-left: 30px\;'><span s
 tyle='font-size: 14pt\; color: #333333\;'><strong>Class C</strong><strong>
 :&nbsp\;</strong>8:00am-3:00pm&nbsp\;(7 Contact Hours/.7 CEUs)</span></div
 >\n<div style='padding-left: 30px\;'><span style='font-size: 14pt\; color:
  #333333\;'>&nbsp\;(arrivals will be staggered\, students will be schedule
 d in as early as 8:00am)</span></div>\n<div style='padding-left: 30px\;'><
 span style='font-size: 14pt\; color: #333333\;'><strong><span style='font-
 family: Arial\;'>&nbsp\; &nbsp\; &nbsp\;</span></strong></span></div>\n<di
 v style='padding-left: 30px\;'><span style='font-size: 14pt\; color: #3333
 33\;'><strong>Class D:&nbsp\;</strong>4:00pm - 7:00pm (3 Contact Hours/.3 
 CEUs)&nbsp\;</span></div>\n<div style='padding-left: 30px\;'><span style='
 font-size: 14pt\; color: #333333\;'>&nbsp\;(dissmissal will be staggered\,
  students will be dismissed throughout the evening)</span></div>\n<div>\n<
 div><span style='font-size: 14pt\; color: #333333\;'></span></div>\n<div>&
 nbsp\;</div>\n<div style='text-align: center\;'>&nbsp\;<span style='font-s
 ize: 14pt\; color: #333333\;'><strong><span style='font-family: Arial\;'>C
  &amp\; D Class Content</span></strong></span>\n<div style='padding-left: 
 60px\;'><span style='font-size: 14pt\; color: #333333\;'></span></div>\n</
 div>\n<div>&nbsp\;<span style='color: #333333\;'><span style='font-size: 1
 4pt\;'><strong><span style='font-family: Arial\;'>Directed Portfolio Lab:&
 nbsp\;</span></strong><span style='font-family: Arial\;'>The Directed Port
 folio Lab allows for individual consultation &amp\; one-on-one time with</
 span><span style='font-family: Arial\;'>&nbsp\;the&nbsp\;</span></span><sp
 an style='font-size: 14pt\;'><span style='font-family: Arial\;'>instructor
 . &nbsp\;Participants will work on their portfolio and meet with the instr
 uctor to discuss their statements and</span><span style='font-family: Aria
 l\;'>&nbsp\;the </span></span><span style='font-size: 14pt\;'><span style=
 'font-family: Arial\;'>documentation within their professional portfolio.<
 /span></span></span></div>\n<div><strong style='font-family: arial\, helve
 tica\, sans-serif\;'>&nbsp\; &nbsp\; &nbsp\; &nbsp\; &nbsp\; &nbsp\; &nbsp
 \; &nbsp\; &nbsp\;<span style='font-size: 14pt\; color: #000000\;'>The Pro
 fessional Philosophy Statement</span></strong></div>\n</div>\n<div style='
 padding-left: 30px\;'>\n<div style='text-align: justify\;'><span style='co
 lor: #333333\;'>&nbsp\; &nbsp\; &nbsp\; &nbsp\; &nbsp\;</span><span style=
 'font-family: arial\, helvetica\, sans-serif\; color: #333333\; font-size:
  14pt\;'><strong>Individual Consultations - allows one on one with instruc
 tors</strong></span></div>\n<div style='padding-left: 60px\;'><span style=
 'font-family: arial\, helvetica\, sans-serif\; color: #333333\; font-size:
  14pt\;'></span></div>\n</div>\n<div style='padding-left: 60px\;'><span st
 yle='font-size: 14pt\; font-family: arial\, helvetica\, sans-serif\; color
 : #333333\;'></span></div>\n<div><span style='font-size: 14pt\; color: #33
 3333\;'></span></div>\n<div>&nbsp\;</div>\n<div><span style='font-size: 14
 pt\; color: #333333\;'><span style='text-decoration: underline\;'><strong>
 Sunday\, July 13th\, 2025</strong></span></span></div>\n<div style='margin
 -left: 30px\;'><span style='font-size: 14pt\; color: #333333\;'><strong><b
 r /></strong><strong>Class E</strong><strong>:</strong>&nbsp\;8:00am-3:00p
 m&nbsp\;(7 Contact Hours/.7 CEUs)</span></div>\n<div style='margin-left: 3
 0px\;'>\n<p style='margin-left: 1in\; text-indent: -1in\;'><span style='fo
 nt-size: 14pt\; color: #333333\;'><strong>Class F:</strong>&nbsp\;4:00pm-7
 :00pm&nbsp\;<span style='background-color: inherit\; font-family: inherit\
 ; caret-color: auto\;'>(3 Contact Hours/.3 CEUs)</span></span></p>\n<p><sp
 an style='font-size: 14pt\; color: #333333\;'></span></p>\n</div>\n<div>&n
 bsp\;</div>\n<div style='padding-left: 30px\; text-align: center\;'><span 
 style='font-size: 14pt\; color: #333333\;'><strong><span style='font-famil
 y: Arial\;'>E &amp\; F Class Content<span style='font-family: Arial\;'></s
 pan>&nbsp\;&nbsp\;&nbsp\; &nbsp\; &nbsp\; </span></strong></span></div>\n<
 div style='padding-left: 30px\;'><span style='font-size: 14pt\; color: #33
 3333\;'><strong><span style='font-family: Arial\;'><span style='font-famil
 y: Arial\;'>&nbsp\; &nbsp\; &nbsp\; &nbsp\;Unit 7:<span style='font-family
 : Arial\;'>&nbsp\;CDA Practice Exam&nbsp\;</span>&nbsp\;</span>&nbsp\;</sp
 an></strong></span></div>\n<div style='padding-left: 30px\;'><span style='
 font-size: 14pt\; color: #333333\;'><strong><span style='font-family: Aria
 l\;'>&nbsp\; &nbsp\; &nbsp\; &nbsp\;</span></strong></span><span style='co
 lor: #333333\; font-size: 14pt\;'><strong><span style='font-family: Arial\
 ;'>Unit 8:&nbsp\;</span></strong><strong><span style='font-family: Arial\;
 '>I<strong>nstructions on completing the process</strong></span></strong><
 /span></div>\n<div style='padding-left: 60px\;'>\n<p style='margin-left: 1
 in\; text-indent: -1in\;'><span style='font-size: 14pt\; color: #333333\;'
 ><strong><span style='font-family: Arial\;'>&nbsp\; &nbsp\; &nbsp\; &nbsp\
 ; &nbsp\; &nbsp\; &nbsp\; &nbsp\; &nbsp\; &nbsp\; &nbsp\; &nbsp\; &nbsp\;&
 nbsp\;</span></strong><strong><span style='font-family: Arial\;'>Understan
 ding the verification visit</span> </strong> </span></p>\n<p style='margin
 -left: 1in\; text-indent: -1in\;'><span style='font-size: 14pt\; color: #3
 33333\;'><strong><span style='font-family: Arial\;'>&nbsp\; &nbsp\; &nbsp\
 ; &nbsp\; &nbsp\; &nbsp\; &nbsp\; &nbsp\; &nbsp\; &nbsp\; &nbsp\; &nbsp\; 
 &nbsp\;&nbsp\;<strong>The application process</strong></span> </strong> </
 span></p>\n<p style='margin-left: 1in\; text-indent: -1in\;'><span style='
 font-size: 14pt\; color: #333333\;'><strong><span style='font-family: Aria
 l\;'>&nbsp\; &nbsp\; &nbsp\; &nbsp\; &nbsp\; &nbsp\; &nbsp\; &nbsp\; &nbsp
 \; &nbsp\; &nbsp\; &nbsp\; &nbsp\; Choosing your PD Specialist</span> </st
 rong> </span></p>\n<p style='margin-left: 1in\; text-indent: -1in\;'><span
  style='font-size: 14pt\; color: #333333\;'><strong><span style='font-fami
 ly: Arial\;'>&nbsp\; &nbsp\; &nbsp\; &nbsp\; &nbsp\; &nbsp\; &nbsp\; &nbsp
 \; &nbsp\; &nbsp\; &nbsp\; &nbsp\; &nbsp\;&nbsp\;</span></strong><strong><
 span style='font-family: Arial\;'>Finding a Pearson Vue testing site&nbsp\
 ;</span></strong></span></p>\n<p style='margin-left: 1in\; text-indent: -1
 in\;'><span style='font-size: 14pt\;'><strong><span style='font-family: Ar
 ial\;'>&nbsp\; &nbsp\; &nbsp\; </span></strong></span></p>\n<p style='text
 -align: center\;'><span style='font-size: 14pt\;'><a href='http://handprin
 t.niccm.com/products/cda-fast-track.html' title='Registration CDA Fast Tra
 ck '><span style='margin: 0px\; padding: 0px\; border: 0px\; outline: 0px\
 ; background-color: transparent\; font-family: arial\, helvetica\, sans-se
 rif\;'><span style='color: #ffffff\;'><span style='padding: 3px 10px 4px\;
  background-color: #7b3b3b\;'><strong>Click Here To Register Online Now!</
 strong></span></span></span></a></span></p>\n<p style='text-align: center\
 ;'>&nbsp\;</p>\n<p style='text-align: center\;'>&nbsp\;</p>\n<footer></foo
 ter></div>\n<p style='text-align: center\;'><span style='font-size: 18pt\;
 '>&nbsp\; &nbsp\; &nbsp\; &nbsp\;Call (602) 476-1422 for More Information&
 nbsp\;</span></p>\n<p>&nbsp\;&nbsp\;</p>
DTSTART:20250711T064500Z
DTEND:20250713T190000Z
SUMMARY:CDA Fast Track  - San Antonio 725 
URL:https://niccm.com/71-cda-fast-track/924-cda-fast-track-san-antonio-725
END:VEVENT
END:VCALENDAR
