BEGIN:VCALENDAR
VERSION:2.0
PRODID:-//https://niccm.com//NONSGML kigkonsult.se iCalcreator 2.23.20//
METHOD:PUBLISH
X-WR-CALNAME:JCal Pro Calendar
X-WR-CALDESC:Your online events calendar
X-WR-TIMEZONE:UTC
BEGIN:VTIMEZONE
TZID:UTC
BEGIN:STANDARD
DTSTART:20260425T035211
TZOFFSETFROM:+0000
TZOFFSETTO:+0000
END:STANDARD
END:VTIMEZONE
BEGIN:VEVENT
UID:20220325T080000UTC-1958hzlugc@https://niccm.com/
DTSTAMP:20260425T035211Z
CATEGORIES:Past NICCM Events
DESCRIPTION:<h1 style='color: #000000\; visibility: visible\; text-align: c
 enter\;'><span style='font-family: arial\, helvetica\, sans-serif\; font-s
 ize: 18pt\;'>CDA Fast Track&nbsp\;</span></h1>\n<h2 style='color: #000000\
 ; visibility: visible\; text-align: justify\;'><span style='font-size: 12p
 t\; font-family: arial\, helvetica\, sans-serif\;'><strong style='font-siz
 e: 18pt\;'>Location/Hotel:</strong></span>&nbsp\;</h2>\n<p style='backgrou
 nd-color: transparent\; margin: 2px 0px\; padding: 0px\; border: 0px\; out
 line: 0px\; font-size: 12px\; color: #505f69\; font-family: Helvetica\, Ar
 ial\, FreeSans\, sans-serif\;'><span style='margin: 0px\; padding: 0px\; b
 order: 0px\; outline: 0px\; font-size: 14pt\; background-color: transparen
 t\; color: #000000\;'>Embassy Suites - Palm Beach Gardens</span></p>\n<p s
 tyle='background-color: transparent\; margin: 2px 0px\; padding: 0px\; bor
 der: 0px\; outline: 0px\; font-size: 12px\; color: #505f69\; font-family: 
 Helvetica\, Arial\, FreeSans\, sans-serif\;'><span style='margin: 0px\; pa
 dding: 0px\; border: 0px\; outline: 0px\; font-size: 14pt\; background-col
 or: transparent\; color: #000000\;'>4350 PGA Blvd.&nbsp\;</span></p>\n<p s
 tyle='background-color: transparent\; margin: 2px 0px\; padding: 0px\; bor
 der: 0px\; outline: 0px\; font-size: 12px\; color: #505f69\; font-family: 
 Helvetica\, Arial\, FreeSans\, sans-serif\;'><span style='margin: 0px\; pa
 dding: 0px\; border: 0px\; outline: 0px\; font-size: 14pt\; background-col
 or: transparent\; color: #000000\;'>Palm Beach Gardens\, FL &nbsp\;33410</
 span></p>\n<p style='background-color: transparent\; margin: 2px 0px\; pad
 ding: 0px\; border: 0px\; outline: 0px\; font-size: 12px\; color: #505f69\
 ; font-family: Helvetica\, Arial\, FreeSans\, sans-serif\;'><span style='m
 argin: 0px\; padding: 0px\; border: 0px\; outline: 0px\; font-size: 14pt\;
  background-color: transparent\; color: #000000\;'>(561) 691-3165</span></
 p>\n<p><span style='font-family: arial\, helvetica\, sans-serif\; font-siz
 e: 14pt\;'>Reservations <a href='https://www.hilton.com/en/book/reservatio
 n/deeplink/?&amp\;ctyhocn=MCOBVGI&amp\;groupCode=NICM2&amp\;arrival=202105
 19&amp\;departure=20210523&amp\;cid=OM\,WW\,HILTONLINK\,en\,DirectLink&amp
 \;fromId=HILTONLINKDIRECT'></a><a href='https://www.hilton.com/en/book/res
 ervation/rooms/?ctyhocn=PBIPGES&amp\;arrivalDate=2022-04-19&amp\;departure
 Date=2022-04-25&amp\;room1NumAdults=1&amp\;cid=OM%2CWW%2CHILTONLINK%2CEN%2
 CDirectLink'>Hilton.com</a></span></p>\n<p style='background-color: transp
 arent\; margin: 2px 0px\; padding: 0px\; border: 0px\; outline: 0px\; font
 -size: 12px\; color: #505f69\; font-family: Helvetica\, Arial\, FreeSans\,
  sans-serif\;'><span style='margin: 0px\; padding: 0px\; border: 0px\; out
 line: 0px\; font-size: 14pt\; background-color: transparent\; font-family:
  arial\, helvetica\, sans-serif\;'></span>&nbsp\;<strong><span style='font
 -size: 14pt\;'> &nbsp\; &nbsp\; &nbsp\; &nbsp\; &nbsp\; &nbsp\; Call Hotel
  If No Rooms Available On The Link</span><span style='margin: 0px\; paddin
 g: 0px\; border: 0px\; outline: 0px\; font-size: 14pt\; background-color: 
 transparent\; font-family: arial\, helvetica\, sans-serif\;'></span>&nbsp\
 ;</strong></p>\n<address>&nbsp\;</address>\n<p style='text-align: center\;
 '><a href='http://handprint.niccm.com/products/cda-fast-track.html' title=
 'Registration CDA Fast Track '><span style='font-size: 18pt\;'><span style
 ='margin: 0px\; padding: 0px\; border: 0px\; outline: 0px\; background-col
 or: transparent\; font-family: arial\, helvetica\, sans-serif\;'><span sty
 le='color: #ffffff\;'><span style='font-size: 19px\; padding: 3px 10px 4px
 \; background-color: #7b3b3b\;'><strong>Click Here To Register Online Now!
 </strong></span></span></span></span></a></p>\n<p style='text-align: cente
 r\;'>&nbsp\;<span style='font-size: 18pt\;'><span style='margin: 0px\; pad
 ding: 0px\; border: 0px\; outline: 0px\; background-color: transparent\; f
 ont-family: arial\, helvetica\, sans-serif\;'>&nbsp\; &nbsp\; &nbsp\; &nbs
 p\; &nbsp\; &nbsp\; &nbsp\; &nbsp\; &nbsp\; &nbsp\; &nbsp\; &nbsp\; &nbsp\
 ;&nbsp\;</span></span>&nbsp\;</p>\n<p style='text-align: center\;'>&nbsp\;
 </p>\n<div style='text-align: center\;'>\n<p style='visibility: visible\; 
 text-align: justify\;'><span style='font-size: 12pt\; font-family: arial\,
  helvetica\, sans-serif\;'><strong style='font-size: 18pt\;'>Course Conten
 t &amp\; Schedule:</strong></span>&nbsp\;</p>\n<p style='visibility: visib
 le\; text-align: justify\;'>&nbsp\;</p>\n</div>\n<div style='text-align: j
 ustify\;'><span style='text-decoration: underline\;'><span style='font-siz
 e: large\;'><strong><span style='font-size: 14pt\;'>Friday\, April 22nd\, 
 2022</span></strong></span></span></div>\n<div>&nbsp\;</div>\n<div><span s
 tyle='font-size: 14pt\;'><strong>Arrival and Check-In</strong>: 7:00am -7:
 15am <span style='font-size: 12pt\;'>(students must arrive and check-in 45
  min before class)</span></span></div>\n<div style='padding-left: 30px\;'>
 <span style='font-size: large\;'><strong><br /></strong></span><span style
 ='font-size: 14pt\;'><strong>C</strong></span><span style='font-size: 14pt
 \;'><strong>lass A</strong></span><span style='font-size: 14pt\;'>: 8:00am
  -12:00pm &nbsp\;<span style='font-size: 12pt\;'>(4 Contact Hours/.4 CEUs)
 </span></span></div>\n<div style='padding-left: 30px\;'>&nbsp\; &nbsp\; &n
 bsp\; &nbsp\; &nbsp\;<span style='font-size: 12pt\;'><strong><span style='
 font-family: Arial\;'><span style='font-size: 14pt\;'>Introduction:</span>
 &nbsp\;</span>&nbsp\;</strong> </span><span style='font-size: 12pt\;'><str
 ong><span style='font-family: Arial\;'>CDA and the NICCM 3-Day CDA Fast Tr
 ack</span><span style='font-family: Arial\;'>&nbsp\; &nbsp\;</span></stron
 g></span></div>\n<div style='margin-left: 60px\;'>\n<p><span style='font-s
 ize: 14pt\;'><strong><span style='font-family: Arial\;'>Unit 1: &nbsp\; &n
 bsp\; &nbsp\; &nbsp\; &nbsp\; &nbsp\;</span>&nbsp\;&nbsp\;</strong></span>
 <span style='font-size: 12pt\;'><strong><span style='font-family: Arial\;'
 >Keys to Writing Statements</span> </strong> </span></p>\n<p style='margin
 -left: 31px\;'><span style='font-size: 12pt\;'><strong><span style='font-f
 amily: Arial\;'>&nbsp\; &nbsp\; &nbsp\; &nbsp\; &nbsp\; &nbsp\; &nbsp\; &n
 bsp\; &nbsp\; &nbsp\; &nbsp\; &nbsp\;Competency Statement 1:&nbsp\;&nbsp\;
 </span> </strong><span style='font-family: Arial\;'>Planning a safe and he
 althy learning environment</span></span></p>\n<p><span style='font-size: 1
 4pt\;'><strong><span style='font-family: Arial\;'>Unit 2: &nbsp\; &nbsp\; 
 &nbsp\; &nbsp\; &nbsp\; &nbsp\; </span><span>&nbsp\;</span></strong></span
 ><span style='font-size: 12pt\;'><strong><span style='font-family: Arial\;
 '>Competency Statement 2:&nbsp\;&nbsp\;</span> </strong><span style='font-
 family: Arial\;'>Advancing children’s physical and intellectual developmen
 t</span></span></p>\n<p style='margin-left: 1in\; text-indent: -1in\;'><sp
 an style='font-size: 14pt\;'><strong><span style='font-family: Arial\;'>Un
 it 3:&nbsp\; &nbsp\; &nbsp\; &nbsp\; &nbsp\; &nbsp\;&nbsp\;</span>&nbsp\;<
 /strong> </span><span style='font-size: 12pt\;'><strong><span style='font-
 family: Arial\;'>Competency Statement 3:&nbsp\;&nbsp\;</span> </strong><sp
 an style='font-family: Arial\;'>Supporting children’s social and emotional
  development</span></span></p>\n</div>\n<div style='padding-left: 30px\;'>
 <span style='font-size: 12pt\;'><br /><span style='font-size: 14pt\;'><str
 ong>Class B:</strong>&nbsp\;12:30pm- 5:30pm &nbsp\;<span style='font-size:
  12pt\;'>(5 Contact Hours/.5 CEUs)</span></span> </span></div>\n<div style
 ='padding-left: 30px\;'>&nbsp\; &nbsp\; &nbsp\; &nbsp\; &nbsp\;<strong sty
 le='font-family: arial\, helvetica\, sans-serif\; font-size: 12pt\; text-i
 ndent: -1in\; color: inherit\;'><span style='font-size: 14pt\;'>Unit 4:&nb
 sp\;</span>&nbsp\; &nbsp\; &nbsp\; &nbsp\; &nbsp\; &nbsp\; &nbsp\; &nbsp\;
 Competency Statement 4:&nbsp\;<span style='font-size: 14pt\;'></span></str
 ong><span style='font-size: 12pt\;'>Establishing positive and productive r
 elationships with families</span></div>\n<div style='padding-left: 60px\;'
 >\n<p style='margin-left: 1in\; text-indent: -1in\;'><span style='font-fam
 ily: arial\, helvetica\, sans-serif\; font-size: 12pt\;'><span style='font
 -size: 14pt\;'><strong>Unit 5: &nbsp\; &nbsp\; &nbsp\; &nbsp\; &nbsp\; &nb
 sp\; &nbsp\;<span style='font-size: 12pt\;'>Competency Statement 5:</span>
 &nbsp\;&nbsp\;</strong></span>Ensuring a well-run purposeful program</span
 ></p>\n<p style='margin-left: 1in\; text-indent: -1in\;'><span style='font
 -family: arial\, helvetica\, sans-serif\; font-size: 12pt\;'><strong><span
  style='font-size: 14pt\;'>Unit 6:&nbsp\;</span>&nbsp\; &nbsp\; &nbsp\; &n
 bsp\; &nbsp\; &nbsp\; &nbsp\; &nbsp\;Competency Statement 6:&nbsp\;&nbsp\;
 </strong>Maintaining a commitment to professionalism</span></p>\n<p><span 
 style='font-family: Arial\; font-size: 12pt\;'><strong>Documenting Profess
 ional Education</strong>&nbsp\;- 8 CDA Subject Areas</span><span style='fo
 nt-size: 12pt\;'></span></p>\n</div>\n<div><span style='font-size: 12pt\;'
 ><br /></span><span style='text-decoration: underline\;'><span style='font
 -size: large\;'><strong><span style='font-size: 14pt\;'>Saturday\, April 2
 3rd\, 2022</span></strong></span></span></div>\n<div style='padding-left: 
 30px\;'>&nbsp\;</div>\n<div style='padding-left: 30px\;'><span style='font
 -size: 14pt\;'><strong>Class C</strong><strong>:</strong>12:00pm-4:30pm&nb
 sp\;</span><span style='font-size: 12pt\;'>&nbsp\;(arrivals will be stagga
 rd\, students will be scheduled in as early as 8:00am)</span></div>\n<div 
 style='padding-left: 30px\;'><span style='font-size: 10pt\;'>(13 Hours/1.3
  CEUs&nbsp\;will be awarded for sessions C &amp\; E upon completion of the
  course)</span></div>\n<div style='padding-left: 30px\;'><span style='font
 -size: 12pt\;'><strong><span style='font-family: Arial\;'><span style='fon
 t-size: 14pt\;'>&nbsp\; &nbsp\; &nbsp\; Directed Portfolio Lab:</span>&nbs
 p\;&nbsp\;</span> </strong><span style='font-family: Arial\;'>The Directed
  Portfolio Lab allows for individual consultation &amp\; one-on-one time w
 ith</span></span><span style='font-size: 12pt\;'><span style='font-family:
  Arial\;'>&nbsp\;the &nbsp\; &nbsp\;</span></span></div>\n<div style='padd
 ing-left: 30px\;'><span style='font-size: 12pt\;'><span style='font-family
 : Arial\;'>&nbsp\; &nbsp\; &nbsp\; &nbsp\;presenter. &nbsp\;Participants w
 ill work on their portfolio and meet with the presenter to discuss their s
 tatements and</span></span><span style='font-size: 12pt\;'><span style='fo
 nt-family: Arial\;'>&nbsp\;the </span></span></div>\n<div style='padding-l
 eft: 30px\;'><span style='font-size: 12pt\;'><span style='font-family: Ari
 al\;'>&nbsp\; &nbsp\; &nbsp\; &nbsp\;documentation within their profession
 al portfolio.</span></span></div>\n<div style='padding-left: 30px\;'><span
  style='font-size: 12pt\;'><br /></span><span style='font-size: 14pt\;'><s
 trong>Class D:&nbsp\;</strong>5:30pm - 9:30pm <span style='font-size: 12pt
 \;'>(dissmissal will be staggard\, students will be dismissed throughout t
 he evening)</span></span></div>\n<div style='padding-left: 30px\;'><span s
 tyle='font-size: 14pt\;'><span style='font-size: 12pt\;'>(4 Contact Hours/
 .4 CEUs)</span></span></div>\n<div style='padding-left: 30px\;'>&nbsp\; &n
 bsp\; &nbsp\; &nbsp\; &nbsp\;<strong style='font-size: 12pt\; text-indent:
  -1in\; color: inherit\; font-family: inherit\;'><span style='font-family:
  Arial\;'><span style='font-size: 14pt\;'>Unit 7:&nbsp\;&nbsp\;</span>&nbs
 p\; &nbsp\; The Professional Philosophy Statement</span></strong></div>\n<
 div style='padding-left: 60px\;'>\n<p style='margin-left: 1in\; text-inden
 t: -1in\;'><span style='font-size: 12pt\;'><strong><span style='font-famil
 y: Arial\;'>&nbsp\; &nbsp\; &nbsp\; &nbsp\; &nbsp\; &nbsp\; &nbsp\; &nbsp\
 ; &nbsp\; &nbsp\; Individual consultations</span> </strong> </span></p>\n<
 p style='margin-left: 151px\; text-indent: -1in\;'><span style='font-size:
  12pt\;'><strong><span style='font-family: Arial\;'>&nbsp\; &nbsp\; &nbsp\
 ; &nbsp\;</span><strong><span style='font-family: Arial\;'><strong>CDA pra
 ctice Exam&nbsp\;</strong> </span> </strong> </strong> </span></p>\n</div>
 \n<div><span style='font-size: 12pt\;'>&nbsp\;<br /><span style='text-deco
 ration: underline\;'><span style='font-size: 14pt\;'><strong>Sunday\, Apri
 l 24th\, 2022</strong></span></span></span></div>\n<div style='margin-left
 : 30px\;'><span style='font-size: large\;'><strong><br /></strong></span><
 span style='font-size: 14pt\;'><strong>Class E</strong><strong>:</strong>&
 nbsp\;12:00pm-4:30pm</span><span style='font-size: 12pt\;'>&nbsp\;<span st
 yle='font-size: 10pt\;'>(13 Hours/1.3 CEU's will be awarded for sessions C
  &amp\; E &nbsp\;upon completion of the course)</span></span></div>\n<div 
 style='margin-left: 30px\;'>\n<p style='margin-left: 1in\; text-indent: -1
 in\;'><span style='font-size: 12pt\;'><strong><span style='font-family: Ar
 ial\;'>&nbsp\; &nbsp\; &nbsp\; &nbsp\; &nbsp\; &nbsp\; &nbsp\; &nbsp\; &nb
 sp\; &nbsp\; &nbsp\; &nbsp\; &nbsp\; Understanding the verification visit<
 /span> </strong> </span></p>\n<p style='margin-left: 1in\; text-indent: -1
 in\;'><span style='font-size: 12pt\;'><strong><span style='font-family: Ar
 ial\;'>&nbsp\; &nbsp\; &nbsp\; &nbsp\; &nbsp\; &nbsp\; &nbsp\; &nbsp\; &nb
 sp\; &nbsp\; &nbsp\; &nbsp\; &nbsp\;&nbsp\;<strong>The application process
 </strong></span> </strong> </span></p>\n<p style='margin-left: 1in\; text-
 indent: -1in\;'><span style='font-size: 12pt\;'><strong><span style='font-
 family: Arial\;'>&nbsp\; &nbsp\; &nbsp\; &nbsp\; &nbsp\; &nbsp\; &nbsp\; &
 nbsp\; &nbsp\; &nbsp\; &nbsp\; &nbsp\; &nbsp\; Choosing your PD Specialist
 </span> </strong> </span></p>\n<p style='margin-left: 1in\; text-indent: -
 1in\;'><span style='font-size: 12pt\;'><strong><span style='font-family: A
 rial\;'>&nbsp\; &nbsp\; &nbsp\; &nbsp\; &nbsp\; &nbsp\; &nbsp\; &nbsp\; &n
 bsp\; &nbsp\; &nbsp\; &nbsp\; &nbsp\;&nbsp\;</span></strong></span><span s
 tyle='font-size: 12pt\;'><strong><span style='font-family: Arial\;'>Findin
 g a Pearson Vue testing site&nbsp\;</span></strong></span></p>\n</div>\n<d
 iv>&nbsp\;</div>\n<div style='padding-left: 30px\;'><span style='font-size
 : 12pt\;'><span style='font-size: 14pt\;'><strong>Class F:</strong>&nbsp\;
 5:30pm-9:30pm&nbsp\;<span style='font-size: 12pt\;'>(4 Contact Hours/.4 CE
 Us)</span></span></span></div>\n<div style='padding-left: 30px\;'><span st
 yle='font-size: 12pt\;'><strong><span style='font-family: Arial\;'><span s
 tyle='font-size: 14pt\;'>&nbsp\; &nbsp\; &nbsp\; Unit 8:</span>&nbsp\; &nb
 sp\; &nbsp\;</span></strong></span><span style='font-size: 12pt\;'><strong
 ><span style='font-family: Arial\;'>I<strong>nstructions on completing the
  process</strong></span></strong></span></div>\n<div style='padding-left: 
 60px\;'>\n<p style='margin-left: 1in\; text-indent: -1in\;'><span style='f
 ont-size: 12pt\;'><strong><span style='font-family: Arial\;'>&nbsp\; &nbsp
 \; &nbsp\; &nbsp\; &nbsp\; &nbsp\; &nbsp\; &nbsp\; &nbsp\; &nbsp\; &nbsp\;
  &nbsp\; &nbsp\; </span></strong></span></p>\n<p>&nbsp\;</p>\n<p>&nbsp\;</
 p>\n<footer></footer></div>\n<p style='text-align: center\;'><span style='
 font-size: 24pt\;'>Call (602) 476-1422 for More Information&nbsp\;</span><
 /p>\n<p>&nbsp\;&nbsp\;</p>
DTSTART:20220422T080000Z
DTEND:20220424T160000Z
SUMMARY:CDA Fast Track  - West Palm Beach 422
URL:https://niccm.com/71-cda-fast-track/764-cda-fast-track-orlando-321-2
END:VEVENT
BEGIN:VEVENT
UID:20220422T170000UTC-3152XDFSZm@https://niccm.com/
DTSTAMP:20260425T035211Z
CATEGORIES:Past NICCM Events
DESCRIPTION:<h1 style='color: #000000\; visibility: visible\; text-align: c
 enter\;'>N.A.C. (National Administrator's Credential)</h1>\n<h2 style='col
 or: #000000\; visibility: visible\; text-align: justify\;'><span style='fo
 nt-size: 18pt\;'>Location/Hotel:</span>&nbsp\;&nbsp\;</h2>\n<p style='back
 ground-color: transparent\; margin: 2px 0px\; padding: 0px\; border: 0px\;
  outline: 0px\; font-size: 12px\; color: #505f69\; font-family: Helvetica\
 , Arial\, FreeSans\, sans-serif\;'><span style='margin: 0px\; padding: 0px
 \; border: 0px\; outline: 0px\; font-size: 14pt\; background-color: transp
 arent\; color: #000000\;'>Embassy Suites - Palm Beach Gardens</span></p>\n
 <p style='background-color: transparent\; margin: 2px 0px\; padding: 0px\;
  border: 0px\; outline: 0px\; font-size: 12px\; color: #505f69\; font-fami
 ly: Helvetica\, Arial\, FreeSans\, sans-serif\;'><span style='margin: 0px\
 ; padding: 0px\; border: 0px\; outline: 0px\; font-size: 14pt\; background
 -color: transparent\; color: #000000\;'>4350 PGA Blvd.&nbsp\;</span></p>\n
 <p style='background-color: transparent\; margin: 2px 0px\; padding: 0px\;
  border: 0px\; outline: 0px\; font-size: 12px\; color: #505f69\; font-fami
 ly: Helvetica\, Arial\, FreeSans\, sans-serif\;'><span style='margin: 0px\
 ; padding: 0px\; border: 0px\; outline: 0px\; font-size: 14pt\; background
 -color: transparent\; color: #000000\;'>Palm Beach Gardens\, FL &nbsp\;334
 10</span></p>\n<p style='background-color: transparent\; margin: 2px 0px\;
  padding: 0px\; border: 0px\; outline: 0px\; font-size: 12px\; color: #505
 f69\; font-family: Helvetica\, Arial\, FreeSans\, sans-serif\;'><span styl
 e='margin: 0px\; padding: 0px\; border: 0px\; outline: 0px\; font-size: 14
 pt\; background-color: transparent\; color: #000000\;'>(561) 691-3165</spa
 n></p>\n<p><span style='font-family: arial\, helvetica\, sans-serif\; font
 -size: 14pt\;'>Reservations <a href='https://www.hilton.com/en/book/reserv
 ation/deeplink/?&amp\;ctyhocn=MCOBVGI&amp\;groupCode=NICM2&amp\;arrival=20
 210519&amp\;departure=20210523&amp\;cid=OM\,WW\,HILTONLINK\,en\,DirectLink
 &amp\;fromId=HILTONLINKDIRECT'></a><a href='https://www.hilton.com/en/book
 /reservation/rooms/?ctyhocn=PBIPGES&amp\;arrivalDate=2022-04-19&amp\;depar
 tureDate=2022-04-25&amp\;room1NumAdults=1&amp\;cid=OM%2CWW%2CHILTONLINK%2C
 EN%2CDirectLink'>Hilton.com</a></span></p>\n<h2 style='color: #000000\; vi
 sibility: visible\;'><strong><span style='font-size: 14pt\;'> &nbsp\; &nbs
 p\; &nbsp\; &nbsp\; &nbsp\; &nbsp\; Call Hotel If No Rooms Available On Th
 e Link</span><span style='margin: 0px\; padding: 0px\; border: 0px\; outli
 ne: 0px\; font-size: 14pt\; background-color: transparent\; font-family: a
 rial\, helvetica\, sans-serif\;'></span>&nbsp\;</strong>&nbsp\;</h2>\n<p s
 tyle='text-align: center\;'><a href='http://handprint.niccm.com/products/n
 ational-florida-and-texas-director-credential-n-a-c.html' title='Registrat
 ion NAC '><span style='color: #ffffff\;'><span style='font-size: 19px\; pa
 dding: 3px 10px 4px\; background-color: #7b3b3b\;'><strong>Click Here To R
 egister Online Now!</strong></span></span></a></p>\n<p><span style='color:
  #000000\;'><strong style='font-size: 14pt\;'><span style='font-size: 18pt
 \;'>Schedule:</span></strong></span></p>\n<div><span style='color: #000000
 \;'><span style='text-decoration: underline\;'><strong><span style='font-s
 ize: 14pt\;'>Friday\, April 22nd\, 2022</span></strong></span><strong><spa
 n style='font-size: 14pt\;'>&nbsp\; &nbsp\;</span></strong></span></div>\n
 <div>&nbsp\;</div>\n<div><span style='font-size: 12pt\; color: #000000\;'>
 <strong>Arrival and Check-In: &nbsp\;</strong>4:00pm-4:15pm &nbsp\;</span>
 <span style='color: #000000\;'><span style='color: #000000\;'>(Students mu
 st arrive and check-in at least 45 min before class starts)</span></span><
 /div>\n<div>&nbsp\;</div>\n<div><span style='color: #000000\;'></span></di
 v>\n<div><span style='font-size: 12pt\; color: #000000\;'><strong>Session 
 A: &nbsp\;</strong>5:00pm-9:00pm&nbsp\;<span style='font-size: 10.66666698
 4558105px\;'>4</span><span style='font-size: 10.666666984558105px\;'>&nbsp
 \;Contact Hours / .4 CEUs</span>&nbsp\;<span style='font-size: 8pt\;'>(For
  Sessions taken individually earn up to 5 Contact Hours / .5 CEUs by compl
 eting 1 Praxis question)</span></span></div>\n<div style='padding-left: 30
 px\;'><span style='font-size: 12pt\; color: #000000\;'>Unit 1: Fiscal Mana
 gement&nbsp\;</span></div>\n<div style='padding-left: 30px\;'><span style=
 'font-size: 12pt\; color: #000000\;'>Unit 2: Insurance for Your Center</sp
 an></div>\n<div>&nbsp\;</div>\n<div style='padding-left: 30px\;'><span sty
 le='color: #000000\;'></span></div>\n<div><span style='color: #000000\;'><
 span style='text-decoration: underline\;'><strong><span style='font-size: 
 14pt\;'>Saturday\, April 23rd\, 2022</span></strong></span><span style='fo
 nt-size: 8pt\;'>&nbsp\; &nbsp\;&nbsp\;</span></span></div>\n<div>&nbsp\;</
 div>\n<div><span style='color: #000000\;'></span></div>\n<div><span style=
 'font-size: 12pt\; color: #000000\;'><strong>Session B:</strong>&nbsp\;&nb
 sp\;8:00am-12:00pm&nbsp\;<span style='font-size: 10.666666984558105px\;'>4
 </span><span style='font-size: 10.666666984558105px\;'>&nbsp\;Contact Hour
 s / .4 CEUs&nbsp\;</span><span style='font-size: 8pt\;'>(For Sessions take
 n individually earn up to 5 Contact Hours / .5 CEUs by completing 1 Praxis
  question)</span></span></div>\n<div style='padding-left: 30px\;'><span st
 yle='font-size: 12pt\; color: #000000\;'>Unit 3: Hiring &amp\; Teacher Ori
 entation</span></div>\n<div style='padding-left: 30px\;'><span style='font
 -size: 12pt\; color: #000000\;'>Unit 4: Employee Handbooks &amp\; Evals</s
 pan></div>\n<div style='padding-left: 30px\;'><span style='color: #000000\
 ;'></span></div>\n<div><span style='font-size: 12pt\; color: #000000\;'><s
 trong>Session C:</strong>&nbsp\;&nbsp\;1:00pm-5:00pm &nbsp\;<span style='f
 ont-size: 10.666666984558105px\;'>4</span><span style='font-size: 10.66666
 6984558105px\;'>&nbsp\;Contact Hours / .4 CEUs&nbsp\;</span><span style='f
 ont-size: 8pt\;'>(For Sessions taken individually earn up to 5 Contact Hou
 rs / .5 CEUs by completing 1 Praxis question)</span></span></div>\n<div st
 yle='padding-left: 30px\;'><span style='font-size: 12pt\; color: #000000\;
 '>Unit 5: Center Management</span></div>\n<div style='padding-left: 30px\;
 '><span style='font-size: 12pt\; color: #000000\;'>Unit 6: Child Developme
 nt - The Essentials</span></div>\n<div>&nbsp\;</div>\n<div style='padding-
 left: 30px\;'><span style='color: #000000\;'></span></div>\n<div><span sty
 le='color: #000000\;'><span style='text-decoration: underline\;'><strong><
 span style='font-size: 14pt\;'>Sunday\, April 24th\, 2022</span></strong><
 /span><strong><span style='font-size: 14pt\;'>&nbsp\; &nbsp\;</span></stro
 ng></span></div>\n<div>&nbsp\;</div>\n<div><span style='color: #000000\;'>
 </span></div>\n<div><span style='font-size: 12pt\; color: #000000\;'><stro
 ng>Session D: &nbsp\;</strong>8:00am-12:00pm&nbsp\;<span style='font-size:
  10.666666984558105px\;'>4</span><span style='font-size: 10.66666698455810
 5px\;'>&nbsp\;Contact Hours / .4 CEUs&nbsp\;</span><span style='font-size:
  8pt\;'>(For Sessions taken individually earn up to 5 Contact Hours / .5 C
 EUs by completing 1 Praxis question)</span></span></div>\n<div style='padd
 ing-left: 30px\;'><span style='font-size: 12pt\; color: #000000\;'>Unit 7:
  Dealing with Difficult Employees</span></div>\n<div style='padding-left: 
 30px\;'><span style='font-size: 12pt\; color: #000000\;'>Unit 8: Administr
 ative Leadership</span></div>\n<div style='padding-left: 30px\;'><span sty
 le='color: #000000\;'></span></div>\n<div>\n<div><span style='font-size: 1
 2pt\; color: #000000\;'><strong>Session E: &nbsp\;</strong>1:00pm-5:00pm&n
 bsp\;<span style='font-size: 10.666666984558105px\;'>4</span><span style='
 font-size: 10.666666984558105px\;'>&nbsp\;Contact Hours / .4 CEUs&nbsp\;</
 span><span style='font-size: 8pt\;'>(For Sessions taken individually earn 
 up to 5 Contact Hours / .5 CEUs by completing 1 Praxis question)</span></s
 pan></div>\n<div style='padding-left: 30px\;'><span style='font-size: 12pt
 \; color: #000000\;'>Unit 9: The New Economy</span></div>\n<div style='pad
 ding-left: 30px\;'><span style='font-size: 12pt\; color: #000000\;'>Unit 1
 0: Train the Trainer</span></div>\n<div>&nbsp\;</div>\n<div style='padding
 -left: 30px\;'><span style='color: #000000\;'></span></div>\n<div style='p
 adding-left: 30px\;'><span style='color: #000000\;'>&nbsp\;&nbsp\;</span><
 /div>\n</div>\n<div>\n<div><span style='font-size: 12pt\; color: #000000\;
 '><strong>Session F: &nbsp\;Credential Praxis&nbsp\;</strong><span style='
 font-size: 8pt\;'>(25 Contact Hours / 2.5 CEUs)</span></span></div>\n<div>
 <span style='color: #000000\;'>&nbsp\;<span style='font-size: medium\;'>Wh
 en attending the full conference\, each Session is worth 4 Hours/ .4 CEUs 
 for a total of 20 hours for sessions A-E. &nbsp\;Convert the 20 contact ho
 urs / 2 CEUs from attendance in sessions A-E into the NAC (which is worth 
 45 contact hours/4.5 CEUs) by completing the Praxis. &nbsp\;Students will 
 be assigned a mentor/instructor to advise them during the completion of th
 eir project from home if they have questions. Students also have the optio
 n of registering for tutoring to complete their praxis during the event\, 
 at a future event or to get additional help from home on their praxis.&nbs
 p\;</span></span></div>\n<div>&nbsp\;</div>\n</div>\n<div><span style='col
 or: #000000\;'></span></div>\n<div style='padding-left: 30px\;'><span styl
 e='color: #000000\;'></span></div>\n<div><span style='color: #000000\;'><s
 pan style='color: #993300\;'><strong style='font-family: arial\, helvetica
 \, sans-serif\; font-size: 16px\;'><a href='http://handprint.niccm.com/pro
 ducts/national-administrators-credential-n-a-c-tutoring.html' title='NAC T
 utoring Registration '><span style='font-size: 12pt\; color: #993300\;'>Op
 tional Tutoring ($160)</span></a>&nbsp\;&nbsp\;</strong></span><span style
 ='font-family: arial\, helvetica\, sans-serif\; font-size: 16px\;'>Student
 s who elect to stay for tutoring will receive a list of materials to bring
  with them. &nbsp\;The presenter will provide individualized assistance to
  each tutoring participant in order to help them put together and complete
  their Praxis. Tutoring allows students the&nbsp\;<strong>opportunity</str
 ong>&nbsp\;of completing their test and praxis at the event and&nbsp\;<str
 ong>leave having earned their certificate</strong>. &nbsp\;Those who wish 
 to participate in tutoring are advised to register for this service at lea
 st 3 days prior to the event to obtain a list of suggested documentation. 
 Tutoring is usually offered on Saturday and Sunday of each event from appr
 oximately 5:15 pm - 8:15 pm.</span></span></div>
DTSTART:20220422T170000Z
DTEND:20220424T210000Z
SUMMARY:NAC - West Palm Beach 422
URL:https://niccm.com/70-upcoming-credential-courses/741-nac-west-palm-beac
 h-422
END:VEVENT
END:VCALENDAR
