BEGIN:VCALENDAR
VERSION:2.0
PRODID:-//https://niccm.com//NONSGML kigkonsult.se iCalcreator 2.23.20//
METHOD:PUBLISH
X-WR-CALNAME:JCal Pro Calendar
X-WR-CALDESC:Your online events calendar
X-WR-TIMEZONE:UTC
BEGIN:VTIMEZONE
TZID:UTC
BEGIN:STANDARD
DTSTART:20260425T103113
TZOFFSETFROM:+0000
TZOFFSETTO:+0000
END:STANDARD
END:VTIMEZONE
BEGIN:VEVENT
UID:20230120T070000UTC-9944mZo1tV@https://niccm.com/
DTSTAMP:20260425T103113Z
CATEGORIES:Past NICCM Events
DESCRIPTION:<h1 style='color: #000000\; visibility: visible\; text-align: c
 enter\;'><span style='font-family: arial\, helvetica\, sans-serif\; font-s
 ize: 18pt\;'>CDA Fast Track&nbsp\;</span><a href='https://www.hilton.com/e
 n/book/reservation/rooms/?ctyhocn=PBIPGES&amp\;arrivalDate=2022-12-06&amp\
 ;departureDate=2022-12-12&amp\;room1NumAdults=1&amp\;cid=OM%2CWW%2CHILTONL
 INK%2CEN%2CDirectLink' style='font-size: 14pt\; background-color: inherit\
 ; font-family: inherit\;'></a></h1>\n<h2 style='color: #000000\; visibilit
 y: visible\; text-align: justify\;'><span style='font-size: 12pt\; font-fa
 mily: arial\, helvetica\, sans-serif\;'><strong style='font-size: 18pt\;'>
 Location/Hotel:</strong></span>&nbsp\;</h2>\n<p style='letter-spacing: 0px
 \; background-color: transparent\; margin: 15px 0px\; padding: 0px\; borde
 r: 0px\; outline: 0px\; font-size: 12px\; color: #505f69\; font-family: He
 lvetica\, Arial\, FreeSans\, sans-serif\; text-align: justify\;'><span sty
 le='margin: 0px\; padding: 0px\; border: 0px\; outline: 0px\; font-size: 1
 4pt\; background-color: transparent\; display: block\;'><a href='https://w
 ww.hilton.com/en/book/reservation/rooms/?ctyhocn=PBIPGES&amp\;arrivalDate=
 2022-12-06&amp\;departureDate=2022-12-12&amp\;room1NumAdults=1&amp\;cid=OM
 %2CWW%2CHILTONLINK%2CEN%2CDirectLink' style='font-size: 14pt\; background-
 color: inherit\; font-family: inherit\;'>Drury Inn &amp\; Suites</a></span
 ></p>\n<p style='letter-spacing: 0px\; background-color: transparent\; mar
 gin: 15px 0px\; padding: 0px\; border: 0px\; outline: 0px\; font-size: 12p
 x\; color: #505f69\; font-family: Helvetica\, Arial\, FreeSans\, sans-seri
 f\; text-align: justify\;'><span style='margin: 0px\; padding: 0px\; borde
 r: 0px\; outline: 0px\; font-size: 14pt\; background-color: transparent\; 
 display: block\;'><a href='https://www.hilton.com/en/book/reservation/room
 s/?ctyhocn=PBIPGES&amp\;arrivalDate=2022-12-06&amp\;departureDate=2022-12-
 12&amp\;room1NumAdults=1&amp\;cid=OM%2CWW%2CHILTONLINK%2CEN%2CDirectLink' 
 style='font-size: 14pt\; background-color: inherit\; font-family: inherit\
 ;'>801 N. Loop 1604 East</a></span></p>\n<p style='letter-spacing: 0px\; b
 ackground-color: transparent\; margin: 15px 0px\; padding: 0px\; border: 0
 px\; outline: 0px\; font-size: 12px\; color: #505f69\; font-family: Helvet
 ica\, Arial\, FreeSans\, sans-serif\; text-align: justify\;'><span style='
 margin: 0px\; padding: 0px\; border: 0px\; outline: 0px\; font-size: 14pt\
 ; background-color: transparent\; display: block\;'><a href='https://www.h
 ilton.com/en/book/reservation/rooms/?ctyhocn=PBIPGES&amp\;arrivalDate=2022
 -12-06&amp\;departureDate=2022-12-12&amp\;room1NumAdults=1&amp\;cid=OM%2CW
 W%2CHILTONLINK%2CEN%2CDirectLink' style='font-size: 14pt\; background-colo
 r: inherit\; font-family: inherit\;'>San Antonio\, TX 78232</a></span></p>
 \n<p style='letter-spacing: 0px\; background-color: transparent\; margin: 
 15px 0px\; padding: 0px\; border: 0px\; outline: 0px\; font-size: 12px\; c
 olor: #505f69\; font-family: Helvetica\, Arial\, FreeSans\, sans-serif\; t
 ext-align: justify\;'><span style='margin: 0px\; padding: 0px\; border: 0p
 x\; outline: 0px\; font-size: 14pt\; background-color: transparent\; displ
 ay: block\;'><a href='https://www.hilton.com/en/book/reservation/rooms/?ct
 yhocn=PBIPGES&amp\;arrivalDate=2022-12-06&amp\;departureDate=2022-12-12&am
 p\;room1NumAdults=1&amp\;cid=OM%2CWW%2CHILTONLINK%2CEN%2CDirectLink' style
 ='font-size: 14pt\; background-color: inherit\; font-family: inherit\;'>T.
  (210) 404-1600</a></span></p>\n<address>&nbsp\;</address>\n<p style='text
 -align: center\;'><a href='http://handprint.niccm.com/products/cda-fast-tr
 ack.html' title='Registration CDA Fast Track '><span style='font-size: 18p
 t\;'><span style='margin: 0px\; padding: 0px\; border: 0px\; outline: 0px\
 ; background-color: transparent\; font-family: arial\, helvetica\, sans-se
 rif\;'><span style='color: #ffffff\;'><span style='font-size: 19px\; paddi
 ng: 3px 10px 4px\; background-color: #7b3b3b\;'><strong>Click Here To Regi
 ster Online Now!</strong></span></span></span></span></a></p>\n<p style='t
 ext-align: center\;'>&nbsp\;<span style='font-size: 18pt\;'><span style='m
 argin: 0px\; padding: 0px\; border: 0px\; outline: 0px\; background-color:
  transparent\; font-family: arial\, helvetica\, sans-serif\;'>&nbsp\; &nbs
 p\; &nbsp\; &nbsp\; &nbsp\; &nbsp\; &nbsp\; &nbsp\; &nbsp\; &nbsp\; &nbsp\
 ; &nbsp\; &nbsp\;&nbsp\;</span></span>&nbsp\;</p>\n<p style='text-align: c
 enter\;'>&nbsp\;</p>\n<div style='text-align: center\;'>\n<p style='visibi
 lity: visible\; text-align: justify\;'><span style='font-size: 12pt\; font
 -family: arial\, helvetica\, sans-serif\;'><strong style='font-size: 18pt\
 ;'>Course Content &amp\; Schedule:</strong></span>&nbsp\;</p>\n<p style='v
 isibility: visible\; text-align: justify\;'>&nbsp\;</p>\n</div>\n<div styl
 e='text-align: justify\;'><span style='text-decoration: underline\;'><span
  style='font-size: large\;'><strong><span style='font-size: 14pt\;'>Friday
 \, November 4th\, 2022</span></strong></span></span></div>\n<div>&nbsp\;</
 div>\n<div><span style='font-size: 14pt\;'><strong>Arrival and Check-In</s
 trong>: 6:45am -7:00am <span style='font-size: 12pt\;'>(students must arri
 ve and check-in <span style='font-size: 12pt\;'>15 minutes </span><span st
 yle='font-size: 14pt\;'></span> before class)</span></span></div>\n<div st
 yle='padding-left: 30px\;'><span style='font-size: large\;'><strong><br />
 </strong></span><span style='font-size: 14pt\;'><strong>C</strong></span><
 span style='font-size: 14pt\;'><strong>lass A</strong></span><span style='
 font-size: 14pt\;'>: 7:00am -12:00pm &nbsp\;<span style='font-size: 12pt\;
 '>(5 Contact Hours/.5 CEUs)</span></span></div>\n<div style='padding-left:
  30px\;'>&nbsp\; &nbsp\; &nbsp\; &nbsp\; &nbsp\;<span style='font-size: 12
 pt\;'><strong><span style='font-family: Arial\;'><span style='font-size: 1
 4pt\;'>Introduction:</span>&nbsp\;</span>&nbsp\;</strong> </span><span sty
 le='font-size: 12pt\;'><strong><span style='font-family: Arial\;'>Overview
  of the Course</span><span style='font-family: Arial\;'>&nbsp\; &nbsp\;</s
 pan></strong></span></div>\n<div style='margin-left: 60px\;'>\n<p><span st
 yle='font-size: 14pt\;'><strong><span style='font-family: Arial\;'>Unit 1:
  &nbsp\; &nbsp\; &nbsp\; &nbsp\; &nbsp\; &nbsp\;</span>&nbsp\;&nbsp\;</str
 ong></span><span style='font-size: 12pt\;'><strong><span style='font-famil
 y: Arial\;'>Keys to Writing Statements</span> </strong> </span></p>\n<p st
 yle='margin-left: 31px\;'><span style='font-size: 12pt\;'><strong><span st
 yle='font-family: Arial\;'>&nbsp\; &nbsp\; &nbsp\; &nbsp\; &nbsp\; &nbsp\;
  &nbsp\; &nbsp\; &nbsp\; &nbsp\; &nbsp\; &nbsp\;Competency Statement 1:&nb
 sp\;&nbsp\;</span> </strong><span style='font-family: Arial\;'>Planning a 
 safe and healthy learning environment</span></span></p>\n<p><span style='f
 ont-size: 14pt\;'><strong><span style='font-family: Arial\;'>Unit 2: &nbsp
 \; &nbsp\; &nbsp\; &nbsp\; &nbsp\; &nbsp\; </span><span>&nbsp\;</span></st
 rong></span><span style='font-size: 12pt\;'><strong><span style='font-fami
 ly: Arial\;'>Competency Statement 2:&nbsp\;&nbsp\;</span> </strong><span s
 tyle='font-family: Arial\;'>Advancing children’s physical and intellectual
  development</span></span></p>\n</div>\n<div style='padding-left: 30px\;'>
 <span style='font-size: 12pt\;'><br /><span style='font-size: 14pt\;'><str
 ong>Class B:</strong>&nbsp\;12:30pm- 5:30pm &nbsp\;<span style='font-size:
  12pt\;'>(5 Contact Hours/.5 CEUs)</span></span> </span></div>\n<div style
 ='padding-left: 30px\;'><span style='font-size: 14pt\;'><strong><span styl
 e='font-family: Arial\;'>&nbsp\; &nbsp\; &nbsp\; Unit 3:&nbsp\; &nbsp\; &n
 bsp\; &nbsp\; &nbsp\; &nbsp\;&nbsp\;</span>&nbsp\;</strong> </span><span s
 tyle='font-size: 12pt\;'><strong><span style='font-family: Arial\;'>Compet
 ency Statement 3:&nbsp\;&nbsp\;</span> </strong><span style='font-family: 
 Arial\;'>Supporting children’s social and emotional development</span></sp
 an></div>\n<div>&nbsp\; &nbsp\; &nbsp\; &nbsp\; &nbsp\; &nbsp\; &nbsp\; &n
 bsp\; &nbsp\;&nbsp\;<strong style='font-family: arial\, helvetica\, sans-s
 erif\; font-size: 12pt\; text-indent: -1in\; color: inherit\;'><span style
 ='font-size: 14pt\;'>Unit 4:&nbsp\;</span>&nbsp\; &nbsp\; &nbsp\; &nbsp\; 
 &nbsp\; &nbsp\; &nbsp\; &nbsp\;Competency Statement 4:&nbsp\;<span style='
 font-size: 14pt\;'></span></strong><span style='font-size: 12pt\;'>Establi
 shing positive and productive relationships with families</span></div>\n<d
 iv style='padding-left: 60px\;'>\n<p style='margin-left: 1in\; text-indent
 : -1in\;'><span style='font-family: arial\, helvetica\, sans-serif\; font-
 size: 12pt\;'><span style='font-size: 14pt\;'><strong>Unit 5: &nbsp\; &nbs
 p\; &nbsp\; &nbsp\; &nbsp\; &nbsp\; &nbsp\;<span style='font-size: 12pt\;'
 >Competency Statement 5:</span>&nbsp\;&nbsp\;</strong></span>Ensuring a we
 ll-run purposeful program</span></p>\n<p style='margin-left: 1in\; text-in
 dent: -1in\;'><span style='font-family: arial\, helvetica\, sans-serif\; f
 ont-size: 12pt\;'><strong><span style='font-size: 14pt\;'>Unit 6:&nbsp\;</
 span>&nbsp\; &nbsp\; &nbsp\; &nbsp\; &nbsp\; &nbsp\; &nbsp\; &nbsp\;Compet
 ency Statement 6:&nbsp\;&nbsp\;</strong>Maintaining a commitment to profes
 sionalism</span></p>\n<p>&nbsp\;</p>\n<p style='margin-left: 1in\; text-in
 dent: -1in\;'><span style='font-family: Arial\; font-size: 12pt\;'><strong
 >Documenting Professional Education</strong>&nbsp\;- 8 CDA Subject Areas</
 span><span style='font-size: 12pt\;'></span></p>\n</div>\n<div><span style
 ='font-size: 12pt\;'><br /></span><span style='text-decoration: underline\
 ;'><span style='font-size: large\;'><strong><span style='font-size: 14pt\;
 '>Saturday\, November 5th\, 2022</span></strong></span></span></div>\n<div
  style='padding-left: 30px\;'>&nbsp\;</div>\n<div style='padding-left: 30p
 x\;'><span style='font-size: 14pt\;'><strong>Class C</strong><strong>:&nbs
 p\;</strong>8:00am-3:00pm&nbsp\;<span style='font-size: 12pt\;'>(7 Contact
  Hours/.7 CEUs)</span></span></div>\n<div style='padding-left: 30px\;'><sp
 an style='font-size: 12pt\;'>&nbsp\;(arrivals will be staggered\, students
  will be scheduled in as early as 8:00am)</span></div>\n<div style='paddin
 g-left: 30px\;'><span style='font-size: 12pt\;'><strong><span style='font-
 family: Arial\;'><span style='font-size: 14pt\;'>&nbsp\; &nbsp\; &nbsp\;</
 span></span></strong></span></div>\n<div style='padding-left: 30px\;'><spa
 n style='font-size: 14pt\;'><strong>Class D:&nbsp\;</strong>4:00pm - 7:00p
 m <span style='font-size: 12pt\;'>(3 Contact Hours/.3 CEUs)&nbsp\;</span><
 /span></div>\n<div style='padding-left: 30px\;'><span style='font-size: 14
 pt\;'><span style='font-size: 14pt\;'></span><span style='font-size: 12pt\
 ;'>(dissmissal will be staggard\, students will be dismissed throughout th
 e evening)</span></span></div>\n<div>\n<div>&nbsp\;</div>\n<div style='pad
 ding-left: 30px\; text-align: center\;'><span style='font-size: 12pt\;'><s
 pan style='font-size: 12pt\;'><strong><span style='font-family: Arial\;'><
 span style='font-size: 14pt\;'>C &amp\; D Class Content</span></span></str
 ong></span></span>\n<div style='padding-left: 60px\;'>&nbsp\;</div>\n</div
 >\n<div style='padding-left: 30px\;'><span style='font-size: 12pt\;'><stro
 ng><span style='font-family: Arial\;'><span style='font-size: 14pt\;'>&nbs
 p\; &nbsp\; &nbsp\; Directed Portfolio Lab:</span>&nbsp\;&nbsp\;</span> </
 strong><span style='font-family: Arial\;'>The Directed Portfolio Lab allow
 s for individual consultation &amp\; one-on-one time with</span></span><sp
 an style='font-size: 12pt\;'><span style='font-family: Arial\;'>&nbsp\;the
  &nbsp\; &nbsp\;</span></span></div>\n<div style='padding-left: 30px\;'><s
 pan style='font-size: 12pt\;'><span style='font-family: Arial\;'>&nbsp\; &
 nbsp\; &nbsp\; &nbsp\;instructor. &nbsp\;Participants will work on their p
 ortfolio and meet with the instructor to discuss their statements and</spa
 n></span><span style='font-size: 12pt\;'><span style='font-family: Arial\;
 '>&nbsp\;the </span></span></div>\n<div style='padding-left: 30px\;'><span
  style='font-size: 12pt\;'><span style='font-family: Arial\;'>&nbsp\; &nbs
 p\; &nbsp\; &nbsp\;documentation within their professional portfolio.</spa
 n></span></div>\n</div>\n<div style='padding-left: 30px\;'>\n<div style='p
 adding-left: 30px\;'>&nbsp\;</div>\n<div style='padding-left: 30px\;'><str
 ong style='font-size: 12pt\; text-indent: -1in\; color: inherit\; font-fam
 ily: inherit\;'><span style='font-family: Arial\;'><span style='font-size:
  12pt\;'>The Professional Philosophy Statement</span></span></strong></div
 >\n<div>&nbsp\;</div>\n<div style='padding-left: 30px\;'><span style='font
 -size: 12pt\;'><strong>Individual Consultations - allows one on one with i
 nstructors</strong></span></div>\n<div style='padding-left: 60px\;'>&nbsp\
 ;</div>\n</div>\n<div style='padding-left: 60px\;'>&nbsp\;</div>\n<div><sp
 an style='font-size: 12pt\;'>&nbsp\;<span style='text-decoration: underlin
 e\;'><span style='font-size: 14pt\;'><strong>Sunday\, November 6th\, 2022<
 /strong></span></span></span></div>\n<div style='margin-left: 30px\;'><spa
 n style='font-size: large\;'><strong><br /></strong></span><span style='fo
 nt-size: 14pt\;'><strong>Class E</strong><strong>:</strong>&nbsp\;8:00am-3
 :00pm</span><span style='font-size: 12pt\;'>&nbsp\;<span style='font-size:
  12pt\;'>(7 Contact Hours/.7 CEUs)</span></span></div>\n<div style='margin
 -left: 30px\;'>\n<p style='margin-left: 1in\; text-indent: -1in\;'><span s
 tyle='font-size: 14pt\;'><strong>Class F:</strong>&nbsp\;4:00pm-7:00pm&nbs
 p\;<span style='background-color: inherit\; color: inherit\; font-family: 
 inherit\; caret-color: auto\;'>(3 Contact Hours/.3 CEUs)</span></span></p>
 \n<p>&nbsp\;</p>\n</div>\n<div style='padding-left: 30px\; text-align: cen
 ter\;'><span style='font-size: 12pt\;'><strong><span style='font-family: A
 rial\;'><span style='font-size: 14pt\;'><span style='font-size: 14pt\;'>E 
 &amp\; F Class Content</span><span style='font-family: Arial\;'></span><sp
 an style='font-size: 12pt\;'></span><span style='font-size: 12pt\;'></span
 >&nbsp\; &nbsp\; &nbsp\; </span></span></strong></span></div>\n<div style=
 'padding-left: 30px\;'><span style='font-size: 12pt\;'><strong><span style
 ='font-family: Arial\;'><span style='font-size: 14pt\;'><span style='font-
 family: Arial\;'>&nbsp\; &nbsp\; &nbsp\; &nbsp\;<span style='font-size: 14
 pt\;'>Unit 7:</span><span style='font-family: Arial\;'>&nbsp\;CDA Practice
  Exam&nbsp\;</span>&nbsp\;</span><span style='font-size: 12pt\;'></span></
 span></span></strong></span></div>\n<div style='padding-left: 30px\;'><spa
 n style='font-size: 12pt\;'><strong><span style='font-family: Arial\;'><sp
 an style='font-size: 14pt\;'>&nbsp\; &nbsp\; &nbsp\; &nbsp\;Unit 8:</span>
 &nbsp\;</span></strong></span><span style='font-size: 14pt\;'><strong><spa
 n style='font-family: Arial\;'>I<strong>nstructions on completing the proc
 ess</strong></span></strong></span></div>\n<div style='padding-left: 60px\
 ;'>\n<p style='margin-left: 1in\; text-indent: -1in\;'><span style='font-s
 ize: 12pt\;'><strong><span style='font-family: Arial\;'>&nbsp\; &nbsp\; &n
 bsp\; &nbsp\; &nbsp\; &nbsp\; &nbsp\; &nbsp\; &nbsp\; &nbsp\; &nbsp\; &nbs
 p\; &nbsp\;&nbsp\;</span></strong></span><span style='font-size: 12pt\;'><
 strong><span style='font-family: Arial\;'>Understanding the verification v
 isit</span> </strong> </span></p>\n<p style='margin-left: 1in\; text-inden
 t: -1in\;'><span style='font-size: 12pt\;'><strong><span style='font-famil
 y: Arial\;'>&nbsp\; &nbsp\; &nbsp\; &nbsp\; &nbsp\; &nbsp\; &nbsp\; &nbsp\
 ; &nbsp\; &nbsp\; &nbsp\; &nbsp\; &nbsp\;&nbsp\;<strong>The application pr
 ocess</strong></span> </strong> </span></p>\n<p style='margin-left: 1in\; 
 text-indent: -1in\;'><span style='font-size: 12pt\;'><strong><span style='
 font-family: Arial\;'>&nbsp\; &nbsp\; &nbsp\; &nbsp\; &nbsp\; &nbsp\; &nbs
 p\; &nbsp\; &nbsp\; &nbsp\; &nbsp\; &nbsp\; &nbsp\; Choosing your PD Speci
 alist</span> </strong> </span></p>\n<p style='margin-left: 1in\; text-inde
 nt: -1in\;'><span style='font-size: 12pt\;'><strong><span style='font-fami
 ly: Arial\;'>&nbsp\; &nbsp\; &nbsp\; &nbsp\; &nbsp\; &nbsp\; &nbsp\; &nbsp
 \; &nbsp\; &nbsp\; &nbsp\; &nbsp\; &nbsp\;&nbsp\;</span></strong></span><s
 pan style='font-size: 12pt\;'><strong><span style='font-family: Arial\;'>F
 inding a Pearson Vue testing site&nbsp\;</span></strong></span></p>\n<p st
 yle='margin-left: 1in\; text-indent: -1in\;'><span style='font-size: 12pt\
 ;'><strong><span style='font-family: Arial\;'>&nbsp\; &nbsp\; &nbsp\; </sp
 an></strong></span></p>\n<p style='text-align: center\;'><a href='http://h
 andprint.niccm.com/products/cda-fast-track.html' title='Registration CDA F
 ast Track '><span style='font-size: 18pt\;'><span style='margin: 0px\; pad
 ding: 0px\; border: 0px\; outline: 0px\; background-color: transparent\; f
 ont-family: arial\, helvetica\, sans-serif\;'><span style='color: #ffffff\
 ;'><span style='font-size: 19px\; padding: 3px 10px 4px\; background-color
 : #7b3b3b\;'><strong>Click Here To Register Online Now!</strong></span></s
 pan></span></span></a></p>\n<p style='text-align: center\;'>&nbsp\;</p>\n<
 p style='text-align: center\;'>&nbsp\;</p>\n<footer></footer></div>\n<p st
 yle='text-align: center\;'><span style='font-size: 18pt\;'>&nbsp\; &nbsp\;
  &nbsp\; &nbsp\;Call (602) 476-1422 for More Information&nbsp\;</span></p>
 \n<p>&nbsp\;&nbsp\;</p>
DTSTART:20221104T070000Z
DTEND:20221106T150000Z
SUMMARY:CDA Fast Track  - San Antonio 1122
URL:https://niccm.com/71-cda-fast-track/837-cda-fast-track-orlando-123-2
END:VEVENT
BEGIN:VEVENT
UID:20221021T170000UTC-3086Asdugi@https://niccm.com/
DTSTAMP:20260425T103113Z
CATEGORIES:Past NICCM Events
DESCRIPTION:<h1 style='color: #000000\; visibility: visible\; text-align: c
 enter\;'>N.A.C. (National Administrator's Credential)</h1>\n<h2 style='col
 or: #000000\; visibility: visible\; text-align: justify\;'><span style='fo
 nt-size: 18pt\;'>Location/Hotel:</span>&nbsp\;&nbsp\;</h2>\n<p style='lett
 er-spacing: 0px\; background-color: transparent\; margin: 15px 0px\; paddi
 ng: 0px\; border: 0px\; outline: 0px\; font-size: 12px\; color: #505f69\; 
 font-family: Helvetica\, Arial\, FreeSans\, sans-serif\; text-align: justi
 fy\;'><span style='margin: 0px\; padding: 0px\; border: 0px\; outline: 0px
 \; font-size: 14pt\; background-color: transparent\; display: block\;'>Dru
 ry Inn &amp\; Suites</span></p>\n<p style='letter-spacing: 0px\; backgroun
 d-color: transparent\; margin: 15px 0px\; padding: 0px\; border: 0px\; out
 line: 0px\; font-size: 12px\; color: #505f69\; font-family: Helvetica\, Ar
 ial\, FreeSans\, sans-serif\; text-align: justify\;'><span style='margin: 
 0px\; padding: 0px\; border: 0px\; outline: 0px\; font-size: 14pt\; backgr
 ound-color: transparent\; display: block\;'>801 N. Loop 1604 East</span></
 p>\n<p style='letter-spacing: 0px\; background-color: transparent\; margin
 : 15px 0px\; padding: 0px\; border: 0px\; outline: 0px\; font-size: 12px\;
  color: #505f69\; font-family: Helvetica\, Arial\, FreeSans\, sans-serif\;
  text-align: justify\;'><span style='margin: 0px\; padding: 0px\; border: 
 0px\; outline: 0px\; font-size: 14pt\; background-color: transparent\; dis
 play: block\;'>San Antonio\, TX 78232</span></p>\n<p style='letter-spacing
 : 0px\; background-color: transparent\; margin: 15px 0px\; padding: 0px\; 
 border: 0px\; outline: 0px\; font-size: 12px\; color: #505f69\; font-famil
 y: Helvetica\, Arial\, FreeSans\, sans-serif\; text-align: justify\;'><spa
 n style='margin: 0px\; padding: 0px\; border: 0px\; outline: 0px\; font-si
 ze: 14pt\; background-color: transparent\; display: block\;'>T. (210) 404-
 1600</span></p>\n<h2 style='color: #000000\; visibility: visible\;'>&nbsp\
 ;</h2>\n<p style='text-align: center\;'><a href='http://handprint.niccm.co
 m/products/national-florida-and-texas-director-credential-n-a-c.html' titl
 e='Registration NAC '><span style='color: #ffffff\;'><span style='font-siz
 e: 19px\; padding: 3px 10px 4px\; background-color: #7b3b3b\;'><strong>Cli
 ck Here To Register Online Now!</strong></span></span></a></p>\n<p><span s
 tyle='color: #000000\;'><strong style='font-size: 14pt\;'><span style='fon
 t-size: 18pt\;'>Schedule:</span></strong></span></p>\n<div><span style='co
 lor: #000000\;'><span style='text-decoration: underline\;'><strong><span s
 tyle='font-size: 14pt\;'>Friday\, November 4th\, 2022</span></strong></spa
 n><strong><span style='font-size: 14pt\;'>&nbsp\; &nbsp\;</span></strong><
 /span></div>\n<div>&nbsp\;</div>\n<div><span style='font-size: 12pt\; colo
 r: #000000\;'><strong>Arrival and Check-In: &nbsp\;</strong>4:00pm-4:15pm 
 &nbsp\;</span><span style='color: #000000\;'><span style='color: #000000\;
 '>(Students must arrive and check-in at least 45 min before class starts)<
 /span></span></div>\n<div>&nbsp\;</div>\n<div><span style='color: #000000\
 ;'></span></div>\n<div><span style='font-size: 12pt\; color: #000000\;'><s
 trong>Session A: &nbsp\;</strong>5:00pm-9:00pm&nbsp\;<span style='font-siz
 e: 10.666666984558105px\;'>4</span><span style='font-size: 10.666666984558
 105px\;'>&nbsp\;Contact Hours / .4 CEUs</span>&nbsp\;<span style='font-siz
 e: 8pt\;'>(For Sessions taken individually earn up to 5 Contact Hours / .5
  CEUs by completing 1 Praxis question)</span></span></div>\n<div style='pa
 dding-left: 30px\;'><span style='font-size: 12pt\; color: #000000\;'>Unit 
 1: Fiscal Management&nbsp\;</span></div>\n<div style='padding-left: 30px\;
 '><span style='font-size: 12pt\; color: #000000\;'>Unit 2: Insurance for Y
 our Center</span></div>\n<div>&nbsp\;</div>\n<div style='padding-left: 30p
 x\;'><span style='color: #000000\;'></span></div>\n<div><span style='color
 : #000000\;'><span style='text-decoration: underline\;'><strong><span styl
 e='font-size: 14pt\;'>Saturday\, November 5th\, 2022</span></strong></span
 ><span style='font-size: 8pt\;'>&nbsp\; &nbsp\;&nbsp\;</span></span></div>
 \n<div>&nbsp\;</div>\n<div><span style='color: #000000\;'></span></div>\n<
 div><span style='font-size: 12pt\; color: #000000\;'><strong>Session B:</s
 trong>&nbsp\;&nbsp\;8:00am-12:00pm&nbsp\;<span style='font-size: 10.666666
 984558105px\;'>4</span><span style='font-size: 10.666666984558105px\;'>&nb
 sp\;Contact Hours / .4 CEUs&nbsp\;</span><span style='font-size: 8pt\;'>(F
 or Sessions taken individually earn up to 5 Contact Hours / .5 CEUs by com
 pleting 1 Praxis question)</span></span></div>\n<div style='padding-left: 
 30px\;'><span style='font-size: 12pt\; color: #000000\;'>Unit 3: Hiring &a
 mp\; Teacher Orientation</span></div>\n<div style='padding-left: 30px\;'><
 span style='font-size: 12pt\; color: #000000\;'>Unit 4: Employee Handbooks
  &amp\; Evals</span></div>\n<div style='padding-left: 30px\;'><span style=
 'color: #000000\;'></span></div>\n<div><span style='font-size: 12pt\; colo
 r: #000000\;'><strong>Session C:</strong>&nbsp\;&nbsp\;1:00pm-5:00pm &nbsp
 \;<span style='font-size: 10.666666984558105px\;'>4</span><span style='fon
 t-size: 10.666666984558105px\;'>&nbsp\;Contact Hours / .4 CEUs&nbsp\;</spa
 n><span style='font-size: 8pt\;'>(For Sessions taken individually earn up 
 to 5 Contact Hours / .5 CEUs by completing 1 Praxis question)</span></span
 ></div>\n<div style='padding-left: 30px\;'><span style='font-size: 12pt\; 
 color: #000000\;'>Unit 5: Center Management</span></div>\n<div style='padd
 ing-left: 30px\;'><span style='font-size: 12pt\; color: #000000\;'>Unit 6:
  Child Development - The Essentials</span></div>\n<div>&nbsp\;</div>\n<div
  style='padding-left: 30px\;'><span style='color: #000000\;'></span></div>
 \n<div><span style='color: #000000\;'><span style='text-decoration: underl
 ine\;'><strong><span style='font-size: 14pt\;'>Sunday\, November 6th\, 202
 2</span></strong></span><strong><span style='font-size: 14pt\;'>&nbsp\; &n
 bsp\;</span></strong></span></div>\n<div>&nbsp\;</div>\n<div><span style='
 color: #000000\;'></span></div>\n<div><span style='font-size: 12pt\; color
 : #000000\;'><strong>Session D: &nbsp\;</strong>8:00am-12:00pm&nbsp\;<span
  style='font-size: 10.666666984558105px\;'>4</span><span style='font-size:
  10.666666984558105px\;'>&nbsp\;Contact Hours / .4 CEUs&nbsp\;</span><span
  style='font-size: 8pt\;'>(For Sessions taken individually earn up to 5 Co
 ntact Hours / .5 CEUs by completing 1 Praxis question)</span></span></div>
 \n<div style='padding-left: 30px\;'><span style='font-size: 12pt\; color: 
 #000000\;'>Unit 7: Dealing with Difficult Employees</span></div>\n<div sty
 le='padding-left: 30px\;'><span style='font-size: 12pt\; color: #000000\;'
 >Unit 8: Administrative Leadership</span></div>\n<div style='padding-left:
  30px\;'><span style='color: #000000\;'></span></div>\n<div>\n<div><span s
 tyle='font-size: 12pt\; color: #000000\;'><strong>Session E: &nbsp\;</stro
 ng>1:00pm-5:00pm&nbsp\;<span style='font-size: 10.666666984558105px\;'>4</
 span><span style='font-size: 10.666666984558105px\;'>&nbsp\;Contact Hours 
 / .4 CEUs&nbsp\;</span><span style='font-size: 8pt\;'>(For Sessions taken 
 individually earn up to 5 Contact Hours / .5 CEUs by completing 1 Praxis q
 uestion)</span></span></div>\n<div style='padding-left: 30px\;'><span styl
 e='font-size: 12pt\; color: #000000\;'>Unit 9: The New Economy</span></div
 >\n<div style='padding-left: 30px\;'><span style='font-size: 12pt\; color:
  #000000\;'>Unit 10: Train the Trainer</span></div>\n<div>&nbsp\;</div>\n<
 div style='padding-left: 30px\;'><span style='color: #000000\;'></span></d
 iv>\n<div style='padding-left: 30px\;'><span style='color: #000000\;'>&nbs
 p\;&nbsp\;</span></div>\n</div>\n<div>\n<div><span style='font-size: 12pt\
 ; color: #000000\;'><strong>Session F: &nbsp\;Credential Praxis&nbsp\;</st
 rong><span style='font-size: 8pt\;'>(25 Contact Hours / 2.5 CEUs)</span></
 span></div>\n<div><span style='color: #000000\;'>&nbsp\;<span style='font-
 size: medium\;'>When attending the full conference\, each Session is worth
  4 Hours/ .4 CEUs for a total of 20 hours for sessions A-E. &nbsp\;Convert
  the 20 contact hours / 2 CEUs from attendance in sessions A-E into the NA
 C (which is worth 45 contact hours/4.5 CEUs) by completing the Praxis. &nb
 sp\;Students will be assigned a mentor/instructor to advise them during th
 e completion of their project from home if they have questions. Students a
 lso have the option of registering for tutoring to complete their praxis d
 uring the event\, at a future event or to get additional help from home on
  their praxis.&nbsp\;</span></span></div>\n<div>&nbsp\;</div>\n</div>\n<di
 v><span style='color: #000000\;'></span></div>\n<div style='padding-left: 
 30px\;'><span style='color: #000000\;'></span></div>\n<div><span style='co
 lor: #000000\;'><span style='color: #993300\;'><strong style='font-family:
  arial\, helvetica\, sans-serif\; font-size: 16px\;'><a href='http://handp
 rint.niccm.com/products/national-administrators-credential-n-a-c-tutoring.
 html' title='NAC Tutoring Registration '><span style='font-size: 12pt\; co
 lor: #993300\;'>Optional Tutoring ($160)</span></a>&nbsp\;&nbsp\;</strong>
 </span><span style='font-family: arial\, helvetica\, sans-serif\; font-siz
 e: 16px\;'>Students who elect to stay for tutoring will receive a list of 
 materials to bring with them. &nbsp\;The presenter will provide individual
 ized assistance to each tutoring participant in order to help them put tog
 ether and complete their Praxis. Tutoring allows students the&nbsp\;<stron
 g>opportunity</strong>&nbsp\;of completing their test and praxis at the ev
 ent and&nbsp\;<strong>leave having earned their certificate</strong>. &nbs
 p\;Those who wish to participate in tutoring are advised to register for t
 his service at least 3 days prior to the event to obtain a list of suggest
 ed documentation. Tutoring is usually offered on Saturday and Sunday of ea
 ch event from approximately 5:15 pm - 8:15 pm.</span></span></div>
DTSTART:20221104T170000Z
DTEND:20221106T210000Z
SUMMARY:NAC - San Antonio 1122
URL:https://niccm.com/70-upcoming-credential-courses/754-nac-deerfield-beac
 h-1022-2
END:VEVENT
END:VCALENDAR
