BEGIN:VCALENDAR
VERSION:2.0
PRODID:-//https://niccm.com//NONSGML kigkonsult.se iCalcreator 2.23.20//
METHOD:PUBLISH
X-WR-CALNAME:JCal Pro Calendar
X-WR-CALDESC:Your online events calendar
X-WR-TIMEZONE:UTC
BEGIN:VTIMEZONE
TZID:UTC
BEGIN:STANDARD
DTSTART:20260425T102432
TZOFFSETFROM:+0000
TZOFFSETTO:+0000
END:STANDARD
END:VTIMEZONE
BEGIN:VEVENT
UID:20230616T070000UTC-1818z4DIln@https://niccm.com/
DTSTAMP:20260425T102432Z
CATEGORIES:Past NICCM Events
DESCRIPTION:<h1 style='color: #000000\; visibility: visible\; text-align: c
 enter\;'><span style='font-family: arial\, helvetica\, sans-serif\; font-s
 ize: 18pt\;'>CDA Fast Track&nbsp\;</span></h1>\n<h2 style='color: #000000\
 ; visibility: visible\; text-align: justify\;'><span style='font-size: 12p
 t\; font-family: arial\, helvetica\, sans-serif\;'><strong style='font-siz
 e: 18pt\;'>Location/Hotel:</strong></span>&nbsp\;</h2>\n<p style='backgrou
 nd-color: transparent\; margin: 2px 0px\; padding: 0px\; border: 0px\; out
 line: 0px\; font-size: 12px\; color: #505f69\; font-family: Helvetica\, Ar
 ial\, FreeSans\, sans-serif\;'><span style='color: #000000\; font-size: 14
 pt\; font-family: arial\, helvetica\, sans-serif\;'>Hyatt House Tampa Airp
 ort Westshore&nbsp\;</span></p>\n<p><span style='font-family: arial\, helv
 etica\, sans-serif\; font-size: 14pt\; color: #000000\;'>5308 Avion Park D
 rive&nbsp\;</span></p>\n<p><span style='font-family: arial\, helvetica\, s
 ans-serif\; font-size: 14pt\; color: #000000\;'>Tampa\, FL&nbsp\; 33607</s
 pan></p>\n<p><span style='font-size: 14pt\; font-family: arial\, helvetica
 \, sans-serif\; color: #000000\;'>(844) 209-0749</span></p>\n<p style='tex
 t-align: left\;'><span style='font-size: 14pt\; font-family: arial\, helve
 tica\, sans-serif\;'><span style='color: #000000\;'>Reservations</span>&nb
 sp\;<a href='https://www.hyatt.com/en-US/hotel/florida/hyatt-house-tampa-a
 irport-westshore/tpaxw?corp_id=G-YDW6' style='font-size: 14pt\; background
 -color: inherit\; font-family: inherit\;'>Hyatt.com</a><a href='https://ww
 w.hilton.com/en/book/reservation/rooms/?ctyhocn=PBIPGES&amp\;arrivalDate=2
 022-12-06&amp\;departureDate=2022-12-12&amp\;room1NumAdults=1&amp\;cid=OM%
 2CWW%2CHILTONLINK%2CEN%2CDirectLink' style='font-size: 14pt\; background-c
 olor: inherit\; font-family: inherit\;'></a></span></p>\n<p><span style='c
 olor: #0000ff\; font-size: 14pt\;'><span style='color: #000000\;'>Call for
  assistance if there aren't any available reservations on the link.</span>
 &nbsp\;</span></p>\n<address>&nbsp\;</address>\n<p style='text-align: cent
 er\;'><a href='http://handprint.niccm.com/products/cda-fast-track.html' ti
 tle='Registration CDA Fast Track '><span style='font-size: 18pt\;'><span s
 tyle='margin: 0px\; padding: 0px\; border: 0px\; outline: 0px\; background
 -color: transparent\; font-family: arial\, helvetica\, sans-serif\;'><span
  style='color: #ffffff\;'><span style='font-size: 19px\; padding: 3px 10px
  4px\; background-color: #7b3b3b\;'><strong>Click Here To Register Online 
 Now!</strong></span></span></span></span></a></p>\n<p style='text-align: c
 enter\;'>&nbsp\;<span style='font-size: 18pt\;'><span style='margin: 0px\;
  padding: 0px\; border: 0px\; outline: 0px\; background-color: transparent
 \; font-family: arial\, helvetica\, sans-serif\;'>&nbsp\; &nbsp\; &nbsp\; 
 &nbsp\; &nbsp\; &nbsp\; &nbsp\; &nbsp\; &nbsp\; &nbsp\; &nbsp\; &nbsp\; &n
 bsp\;&nbsp\;</span></span>&nbsp\;</p>\n<p style='text-align: center\;'>&nb
 sp\;</p>\n<div style='text-align: center\;'>\n<p style='visibility: visibl
 e\; text-align: justify\;'><span style='font-size: 12pt\; font-family: ari
 al\, helvetica\, sans-serif\;'><strong style='font-size: 18pt\;'>Course Co
 ntent &amp\; Schedule:</strong></span>&nbsp\;</p>\n<p style='visibility: v
 isible\; text-align: justify\;'>&nbsp\;</p>\n</div>\n<div style='text-alig
 n: justify\;'><span style='text-decoration: underline\;'><span style='font
 -size: large\;'><strong><span style='font-size: 14pt\;'>Friday\, June 23rd
 \, 2023</span></strong></span></span></div>\n<div>&nbsp\;</div>\n<div><spa
 n style='font-size: 14pt\;'><strong>Arrival and Check-In</strong>: 6:45am 
 -7:00am <span style='font-size: 12pt\;'>(students must arrive and check-in
  15 minutes before class)</span></span></div>\n<div style='padding-left: 3
 0px\;'><span style='font-size: large\;'><strong><br /></strong></span><spa
 n style='font-size: 14pt\;'><strong>C</strong></span><span style='font-siz
 e: 14pt\;'><strong>lass A</strong></span><span style='font-size: 14pt\;'>:
  7:00am -12:00pm &nbsp\;<span style='font-size: 12pt\;'>(5 Contact Hours/.
 5 CEUs)</span></span></div>\n<div style='padding-left: 30px\;'>&nbsp\; &nb
 sp\; &nbsp\; &nbsp\; &nbsp\;<span style='font-size: 12pt\;'><strong><span 
 style='font-family: Arial\;'><span style='font-size: 14pt\;'>Introduction:
 </span>&nbsp\;</span>&nbsp\;</strong> </span><span style='font-size: 12pt\
 ;'><strong><span style='font-family: Arial\;'>Overview of the Course</span
 ><span style='font-family: Arial\;'>&nbsp\; &nbsp\;</span></strong></span>
 </div>\n<div style='margin-left: 60px\;'>\n<p><span style='font-size: 14pt
 \;'><strong><span style='font-family: Arial\;'>Unit 1: &nbsp\; &nbsp\; &nb
 sp\; &nbsp\; &nbsp\; &nbsp\;</span>&nbsp\;&nbsp\;</strong></span><span sty
 le='font-size: 12pt\;'><strong><span style='font-family: Arial\;'>Keys to 
 Writing Statements</span> </strong> </span></p>\n<p style='margin-left: 31
 px\;'><span style='font-size: 12pt\;'><strong><span style='font-family: Ar
 ial\;'>&nbsp\; &nbsp\; &nbsp\; &nbsp\; &nbsp\; &nbsp\; &nbsp\; &nbsp\; &nb
 sp\; &nbsp\; &nbsp\; &nbsp\;Competency Statement 1:&nbsp\;&nbsp\;</span> <
 /strong><span style='font-family: Arial\;'>Planning a safe and healthy lea
 rning environment</span></span></p>\n<p><span style='font-size: 14pt\;'><s
 trong><span style='font-family: Arial\;'>Unit 2: &nbsp\; &nbsp\; &nbsp\; &
 nbsp\; &nbsp\; &nbsp\; </span><span>&nbsp\;</span></strong></span><span st
 yle='font-size: 12pt\;'><strong><span style='font-family: Arial\;'>Compete
 ncy Statement 2:&nbsp\;&nbsp\;</span> </strong><span style='font-family: A
 rial\;'>Advancing children’s physical and intellectual development</span><
 /span></p>\n</div>\n<div style='padding-left: 30px\;'><span style='font-si
 ze: 12pt\;'><br /><span style='font-size: 14pt\;'><strong>Class B:</strong
 >&nbsp\;12:30pm- 5:30pm &nbsp\;<span style='font-size: 12pt\;'>(5 Contact 
 Hours/.5 CEUs)</span></span> </span></div>\n<div style='padding-left: 30px
 \;'><span style='font-size: 14pt\;'><span style='font-size: 14pt\;'><stron
 g><span style='font-family: Arial\;'>&nbsp\; &nbsp\; &nbsp\;</span></stron
 g></span></span>\n<div style='padding-left: 30px\; text-align: justify\;'>
 <span style='font-size: 14pt\;'><strong><span style='font-family: Arial\;'
 ><span style='font-family: arial\, helvetica\, sans-serif\; font-size: 14p
 t\;'>Unit 3:&nbsp\; &nbsp\;&nbsp\;</span></span></strong></span><span styl
 e='font-size: 14pt\; font-family: arial\, helvetica\, sans-serif\;'><stron
 g>Competency Statement 3:&nbsp\;&nbsp\;</strong>Supporting children’s soci
 al and emotional development</span></div>\n<div style='text-align: justify
 \;'><span style='font-family: arial\, helvetica\, sans-serif\; font-size: 
 14pt\;'>&nbsp\; &nbsp\; &nbsp\; </span><span style='font-family: arial\, h
 elvetica\, sans-serif\;'><strong style='font-family: arial\, helvetica\, s
 ans-serif\; font-size: 12pt\; text-indent: -1in\; color: inherit\;'><span 
 style='font-size: 14pt\;'>Unit 4:&nbsp\; &nbsp\;&nbsp\;</span><span style=
 'font-size: 14pt\;'>Competency Statement 4:&nbsp\;&nbsp\;</span></strong><
 /span><span style='font-family: arial\, helvetica\, sans-serif\; font-size
 : 14pt\;'>Establishing positive and productive relationships with families
 </span></div>\n<div style='text-align: justify\;'><span style='font-family
 : arial\, helvetica\, sans-serif\; font-size: 14pt\;'><strong>&nbsp\; &nbs
 p\; &nbsp\; Unit 5:&nbsp\; &nbsp\;&nbsp\;</strong></span><span style='font
 -size: 14pt\;'><span style='font-family: arial\, helvetica\, sans-serif\;'
 ><strong>Competency Statement 5:&nbsp\;&nbsp\;</strong></span><span style=
 'font-family: arial\, helvetica\, sans-serif\;'>Ensuring a well-run purpos
 eful program&nbsp\;</span></span></div>\n<div style='text-align: justify\;
 '><span style='font-family: arial\, helvetica\, sans-serif\;'><strong><spa
 n style='font-family: arial\, helvetica\, sans-serif\; font-size: 14pt\;'>
 &nbsp\; &nbsp\; &nbsp\; Unit 6:&nbsp\;&nbsp\; &nbsp\;</span><span style='f
 ont-size: 14pt\;'>Competency Statement 6:&nbsp\;&nbsp\;</span></strong><sp
 an style='font-size: 14pt\;'>Maintaining a commitment to professionalism</
 span></span></div>\n<div style='padding-left: 60px\;'>&nbsp\;</div>\n<span
  style='background-color: inherit\; color: inherit\; font-family: inherit\
 ; font-size: 1rem\; caret-color: auto\;'></span></div>\n<div style='paddin
 g-left: 60px\;'>\n<p style='margin-left: 1in\; text-indent: -1in\;'><span 
 style='font-family: Arial\; font-size: 12pt\;'><strong>Documenting Profess
 ional Education</strong>&nbsp\;- 8 CDA Subject Areas</span><span style='fo
 nt-size: 12pt\;'></span></p>\n</div>\n<div><span style='font-size: 12pt\;'
 ><br /></span><span style='text-decoration: underline\;'><span style='font
 -size: large\;'><strong><span style='font-size: 14pt\;'>Saturday\, June 24
 th\, 2023</span></strong></span></span></div>\n<div style='padding-left: 3
 0px\;'>&nbsp\;</div>\n<div style='padding-left: 30px\;'><span style='font-
 size: 14pt\;'><strong>Class C</strong><strong>:&nbsp\;</strong>8:00am-3:00
 pm&nbsp\;<span style='font-size: 12pt\;'>(7 Contact Hours/.7 CEUs)</span><
 /span></div>\n<div style='padding-left: 30px\;'><span style='font-size: 12
 pt\;'>&nbsp\;(arrivals will be staggered\, students will be scheduled in a
 s early as 8:00am)</span></div>\n<div style='padding-left: 30px\;'><span s
 tyle='font-size: 12pt\;'><strong><span style='font-family: Arial\;'><span 
 style='font-size: 14pt\;'>&nbsp\; &nbsp\; &nbsp\;</span></span></strong></
 span></div>\n<div style='padding-left: 30px\;'><span style='font-size: 14p
 t\;'><strong>Class D:&nbsp\;</strong>4:00pm - 7:00pm <span style='font-siz
 e: 12pt\;'>(3 Contact Hours/.3 CEUs)&nbsp\;</span></span></div>\n<div styl
 e='padding-left: 30px\;'><span style='font-size: 14pt\;'><span style='font
 -size: 14pt\;'></span><span style='font-size: 12pt\;'>(dissmissal will be 
 staggard\, students will be dismissed throughout the evening)</span></span
 ></div>\n<div>\n<div>&nbsp\;</div>\n<div style='padding-left: 30px\; text-
 align: center\;'><span style='font-size: 12pt\;'><span style='font-size: 1
 2pt\;'><strong><span style='font-family: Arial\;'><span style='font-size: 
 14pt\;'>C &amp\; D Class Content</span></span></strong></span></span>\n<di
 v style='padding-left: 60px\;'>&nbsp\;</div>\n</div>\n<div style='padding-
 left: 30px\;'><span style='font-size: 12pt\;'><strong><span style='font-fa
 mily: Arial\;'><span style='font-size: 14pt\;'>Directed Portfolio Lab:</sp
 an>&nbsp\;&nbsp\;</span> </strong><span style='font-family: Arial\;'>The D
 irected Portfolio Lab allows for individual consultation &amp\; one-on-one
  time with</span></span><span style='font-size: 12pt\;'><span style='font-
 family: Arial\;'>&nbsp\;the &nbsp\; &nbsp\;</span></span></div>\n<div styl
 e='padding-left: 30px\;'><span style='font-size: 12pt\;'><span style='font
 -family: Arial\;'>instructor. &nbsp\;Participants will work on their portf
 olio and meet with the instructor to discuss their statements and</span></
 span><span style='font-size: 12pt\;'><span style='font-family: Arial\;'>&n
 bsp\;the </span></span></div>\n<div style='padding-left: 30px\;'><span sty
 le='font-size: 12pt\;'><span style='font-family: Arial\;'>documentation wi
 thin their professional portfolio.</span></span></div>\n</div>\n<div style
 ='padding-left: 30px\;'>\n<div style='padding-left: 30px\;'>&nbsp\;</div>
 \n<div style='padding-left: 30px\;'><strong style='font-size: 12pt\; text-
 indent: -1in\; color: inherit\; font-family: inherit\;'><span style='font-
 family: Arial\;'><span style='font-size: 12pt\;'>The Professional Philosop
 hy Statement</span></span></strong></div>\n<div>&nbsp\;</div>\n<div style=
 'padding-left: 30px\;'><span style='font-size: 12pt\;'><strong>Individual 
 Consultations - allows one on one with instructors</strong></span></div>\n
 <div style='padding-left: 60px\;'>&nbsp\;</div>\n</div>\n<div style='paddi
 ng-left: 60px\;'>&nbsp\;</div>\n<div><span style='font-size: 12pt\;'>&nbsp
 \;<span style='text-decoration: underline\;'><span style='font-size: 14pt\
 ;'><strong>Sunday\, June 25th\, 2023</strong></span></span></span></div>\n
 <div style='margin-left: 30px\;'><span style='font-size: large\;'><strong>
 <br /></strong></span><span style='font-size: 14pt\;'><strong>Class E</str
 ong><strong>:</strong>&nbsp\;8:00am-3:00pm</span><span style='font-size: 1
 2pt\;'>&nbsp\;<span style='font-size: 12pt\;'>(7 Contact Hours/.7 CEUs)</s
 pan></span></div>\n<div style='margin-left: 30px\;'>\n<p style='margin-lef
 t: 1in\; text-indent: -1in\;'><span style='font-size: 14pt\;'><strong>Clas
 s F:</strong>&nbsp\;4:00pm-7:00pm&nbsp\;<span style='background-color: inh
 erit\; color: inherit\; font-family: inherit\; caret-color: auto\;'>(3 Con
 tact Hours/.3 CEUs)</span></span></p>\n<p>&nbsp\;</p>\n</div>\n<div style=
 'padding-left: 30px\; text-align: center\;'><span style='font-size: 12pt\;
 '><strong><span style='font-family: Arial\;'><span style='font-size: 14pt\
 ;'><span style='font-size: 14pt\;'>E &amp\; F Class Content</span><span st
 yle='font-family: Arial\;'></span><span style='font-size: 12pt\;'></span><
 span style='font-size: 12pt\;'></span>&nbsp\; &nbsp\; &nbsp\; </span></spa
 n></strong></span></div>\n<div style='padding-left: 30px\;'><span style='f
 ont-size: 12pt\;'><strong><span style='font-family: Arial\;'><span style='
 font-size: 14pt\;'><span style='font-family: Arial\;'>&nbsp\; &nbsp\; &nbs
 p\; &nbsp\;<span style='font-size: 14pt\;'>Unit 7:</span><span style='font
 -family: Arial\;'>&nbsp\;CDA Practice Exam&nbsp\;</span>&nbsp\;</span><spa
 n style='font-size: 12pt\;'></span></span></span></strong></span></div>\n<
 div style='padding-left: 30px\;'><span style='font-size: 12pt\;'><strong><
 span style='font-family: Arial\;'><span style='font-size: 14pt\;'>&nbsp\; 
 &nbsp\; &nbsp\; &nbsp\;Unit 8:</span>&nbsp\;</span></strong></span><span s
 tyle='font-size: 14pt\;'><strong><span style='font-family: Arial\;'>I<stro
 ng>nstructions on completing the process</strong></span></strong></span></
 div>\n<div style='padding-left: 60px\;'>\n<p style='margin-left: 1in\; tex
 t-indent: -1in\;'><span style='font-size: 12pt\;'><strong><span style='fon
 t-family: Arial\;'>&nbsp\; &nbsp\; &nbsp\; &nbsp\; &nbsp\; &nbsp\; &nbsp\;
  &nbsp\; &nbsp\; &nbsp\; &nbsp\; &nbsp\; &nbsp\;&nbsp\;</span></strong></s
 pan><span style='font-size: 12pt\;'><strong><span style='font-family: Aria
 l\;'>Understanding the verification visit</span> </strong> </span></p>\n<p
  style='margin-left: 1in\; text-indent: -1in\;'><span style='font-size: 12
 pt\;'><strong><span style='font-family: Arial\;'>&nbsp\; &nbsp\; &nbsp\; &
 nbsp\; &nbsp\; &nbsp\; &nbsp\; &nbsp\; &nbsp\; &nbsp\; &nbsp\; &nbsp\; &nb
 sp\;&nbsp\;<strong>The application process</strong></span> </strong> </spa
 n></p>\n<p style='margin-left: 1in\; text-indent: -1in\;'><span style='fon
 t-size: 12pt\;'><strong><span style='font-family: Arial\;'>&nbsp\; &nbsp\;
  &nbsp\; &nbsp\; &nbsp\; &nbsp\; &nbsp\; &nbsp\; &nbsp\; &nbsp\; &nbsp\; &
 nbsp\; &nbsp\; Choosing your PD Specialist</span> </strong> </span></p>\n<
 p style='margin-left: 1in\; text-indent: -1in\;'><span style='font-size: 1
 2pt\;'><strong><span style='font-family: Arial\;'>&nbsp\; &nbsp\; &nbsp\; 
 &nbsp\; &nbsp\; &nbsp\; &nbsp\; &nbsp\; &nbsp\; &nbsp\; &nbsp\; &nbsp\; &n
 bsp\;&nbsp\;</span></strong></span><span style='font-size: 12pt\;'><strong
 ><span style='font-family: Arial\;'>Finding a Pearson Vue testing site&nbs
 p\;</span></strong></span></p>\n<p style='margin-left: 1in\; text-indent: 
 -1in\;'><span style='font-size: 12pt\;'><strong><span style='font-family: 
 Arial\;'>&nbsp\; &nbsp\; &nbsp\; </span></strong></span></p>\n<p style='te
 xt-align: center\;'><a href='http://handprint.niccm.com/products/cda-fast-
 track.html' title='Registration CDA Fast Track '><span style='font-size: 1
 8pt\;'><span style='margin: 0px\; padding: 0px\; border: 0px\; outline: 0p
 x\; background-color: transparent\; font-family: arial\, helvetica\, sans-
 serif\;'><span style='color: #ffffff\;'><span style='font-size: 19px\; pad
 ding: 3px 10px 4px\; background-color: #7b3b3b\;'><strong>Click Here To Re
 gister Online Now!</strong></span></span></span></span></a></p>\n<p style=
 'text-align: center\;'>&nbsp\;</p>\n<p style='text-align: center\;'>&nbsp\
 ;</p>\n<footer></footer></div>\n<p style='text-align: center\;'><span styl
 e='font-size: 18pt\;'>&nbsp\; &nbsp\; &nbsp\; &nbsp\;Call (602) 476-1422 f
 or More Information&nbsp\;</span></p>\n<p>&nbsp\;&nbsp\;</p>
DTSTART:20230623T070000Z
DTEND:20230625T150000Z
SUMMARY:CDA Fast Track  - Tampa 623
URL:https://niccm.com/71-cda-fast-track/805-cda-fast-track-tampa-623
END:VEVENT
BEGIN:VEVENT
UID:20230616T160000UTC-4731kTuvUl@https://niccm.com/
DTSTAMP:20260425T102432Z
CATEGORIES:Past NICCM Events
DESCRIPTION:<h1 style='color: #000000\; visibility: visible\; text-align: c
 enter\;'>N.A.C. (National Administrator's Credential)</h1>\n<h2 style='col
 or: #000000\; visibility: visible\; text-align: justify\;'><span style='fo
 nt-size: 18pt\;'>Location/Hotel:</span>&nbsp\;&nbsp\;</h2>\n<p style='back
 ground-color: transparent\; margin: 2px 0px\; padding: 0px\; border: 0px\;
  outline: 0px\; font-size: 12px\; color: #505f69\; font-family: Helvetica\
 , Arial\, FreeSans\, sans-serif\;'>&nbsp\;</p>\n<p style='background-color
 : transparent\; margin: 2px 0px\; padding: 0px\; border: 0px\; outline: 0p
 x\; font-size: 12px\; color: #505f69\; font-family: Helvetica\, Arial\, Fr
 eeSans\, sans-serif\;'><span style='color: #000000\; font-family: arial\, 
 helvetica\, sans-serif\; font-size: 14pt\;'>Hyatt House Tampa Airport West
 shore&nbsp\;</span></p>\n<p><span style='font-family: arial\, helvetica\, 
 sans-serif\; color: #000000\; font-size: 14pt\;'>5308 Avion Park Drive&nbs
 p\;</span></p>\n<p><span style='font-family: arial\, helvetica\, sans-seri
 f\; color: #000000\; font-size: 14pt\;'>Tampa\, FL&nbsp\; 33607</span></p>
 \n<p><span style='color: #000000\; font-family: arial\, helvetica\, sans-s
 erif\; font-size: 14pt\;'>(844) 209-0749</span></p>\n<p style='text-align:
  left\;'><span style='font-family: arial\, helvetica\, sans-serif\; font-s
 ize: 14pt\;'><span style='color: #000000\;'>Reservations</span>&nbsp\;<a h
 ref='https://www.hyatt.com/en-US/hotel/florida/hyatt-house-tampa-airport-w
 estshore/tpaxw?corp_id=G-YDW6' style='font-size: 14pt\; background-color: 
 inherit\; font-family: inherit\;'>Hyatt.com</a>&nbsp\;<a href='https://www
 .hilton.com/en/book/reservation/rooms/?ctyhocn=PBIPGES&amp\;arrivalDate=20
 22-12-06&amp\;departureDate=2022-12-12&amp\;room1NumAdults=1&amp\;cid=OM%2
 CWW%2CHILTONLINK%2CEN%2CDirectLink' style='font-size: 14pt\; background-co
 lor: inherit\; font-family: inherit\;'></a></span></p>\n<p><span style='co
 lor: #0000ff\; font-size: 14pt\;'><span style='color: #000000\;'>Call for 
 assistance if there aren't any available reservations on the link.</span>&
 nbsp\;</span></p>\n&nbsp\;\n<p><span style='font-size: 14pt\; background-c
 olor: inherit\; color: inherit\; font-family: inherit\; caret-color: auto\
 ;'>&nbsp\;&nbsp\;</span></p>\n<p>&nbsp\;</p>\n<p style='text-align: center
 \;'><a href='http://handprint.niccm.com/products/national-florida-and-texa
 s-director-credential-n-a-c.html' title='Registration NAC '><span style='c
 olor: #ffffff\;'><span style='font-size: 19px\; padding: 3px 10px 4px\; ba
 ckground-color: #7b3b3b\;'><strong>Click Here To Register Online Now!</str
 ong></span></span></a></p>\n<p><span style='color: #000000\;'><strong styl
 e='font-size: 14pt\;'><span style='font-size: 18pt\;'>Schedule:</span></st
 rong></span></p>\n<div><span style='color: #000000\;'><span style='text-de
 coration: underline\;'><strong><span style='font-size: 14pt\;'>Friday\, Ju
 ne 23rd\, 2023</span></strong></span><strong><span style='font-size: 14pt\
 ;'>&nbsp\; &nbsp\;</span></strong></span></div>\n<div>&nbsp\;</div>\n<div>
 <span style='font-size: 12pt\; color: #000000\;'><strong>Arrival and Check
 -In:&nbsp\; </strong>3:45pm-4:00pm &nbsp\;</span><span style='color: #0000
 00\;'><span style='color: #000000\;'>(Students must arrive and check-in at
  least 1 hour before class starts)</span></span></div>\n<div>&nbsp\;</div>
 \n<div><span style='color: #000000\;'></span></div>\n<div><span style='fon
 t-size: 12pt\; color: #000000\;'><strong>Session A: &nbsp\;</strong>5:00pm
 -9:00pm&nbsp\;<span style='font-size: 10.6667px\;'>4</span><span style='fo
 nt-size: 10.6667px\;'>&nbsp\;Contact Hours / .4 CEUs</span>&nbsp\;<span st
 yle='font-size: 8pt\;'>(For Sessions taken individually earn up to 5 Conta
 ct Hours / .5 CEUs by completing 1 Praxis question)</span></span></div>\n<
 div style='padding-left: 30px\;'><span style='font-size: 12pt\; color: #00
 0000\;'>Unit 1: Fiscal Management&nbsp\;</span></div>\n<div style='padding
 -left: 30px\;'><span style='font-size: 12pt\; color: #000000\;'>Unit 2: In
 surance for Your Center</span></div>\n<div>&nbsp\;</div>\n<div style='padd
 ing-left: 30px\;'><span style='color: #000000\;'></span></div>\n<div><span
  style='color: #000000\;'><span style='text-decoration: underline\;'><stro
 ng><span style='font-size: 14pt\;'>Saturday\, June 24th\, 2023</span></str
 ong></span><span style='font-size: 8pt\;'>&nbsp\; &nbsp\;</span></span></d
 iv>\n<div>&nbsp\;</div>\n<div><span style='color: #000000\;'></span></div>
 \n<div><span style='font-size: 12pt\; color: #000000\;'><strong>Session B:
 </strong>&nbsp\;&nbsp\;8:00am-12:00pm&nbsp\;<span style='font-size: 10.666
 7px\;'>4</span><span style='font-size: 10.6667px\;'>&nbsp\;Contact Hours /
  .4 CEUs&nbsp\;</span><span style='font-size: 8pt\;'>(For Sessions taken i
 ndividually earn up to 5 Contact Hours / .5 CEUs by completing 1 Praxis qu
 estion)</span></span></div>\n<div style='padding-left: 30px\;'><span style
 ='font-size: 12pt\; color: #000000\;'>Unit 3: Hiring &amp\; Teacher Orient
 ation</span></div>\n<div style='padding-left: 30px\;'><span style='font-si
 ze: 12pt\; color: #000000\;'>Unit 4: Employee Handbooks &amp\; Evals</span
 ></div>\n<div style='padding-left: 30px\;'><span style='color: #000000\;'>
 </span></div>\n<div><span style='font-size: 12pt\; color: #000000\;'><stro
 ng>Session C:</strong>&nbsp\;&nbsp\;1:00pm-5:00pm &nbsp\;<span style='font
 -size: 10.6667px\;'>4</span><span style='font-size: 10.6667px\;'>&nbsp\;Co
 ntact Hours / .4 CEUs&nbsp\;</span><span style='font-size: 8pt\;'>(For Ses
 sions taken individually earn up to 5 Contact Hours / .5 CEUs by completin
 g 1 Praxis question)</span></span></div>\n<div style='padding-left: 30px\;
 '><span style='font-size: 12pt\; color: #000000\;'>Unit 5: Center Manageme
 nt</span></div>\n<div style='padding-left: 30px\;'><span style='font-size:
  12pt\; color: #000000\;'>Unit 6: Child Development - The Essentials</span
 ></div>\n<div>&nbsp\;</div>\n<div style='padding-left: 30px\;'><span style
 ='color: #000000\;'></span></div>\n<div><span style='color: #000000\;'><sp
 an style='text-decoration: underline\;'><strong><span style='font-size: 14
 pt\;'>Sunday\, June 25th\, 2023</span></strong></span><strong><span style=
 'font-size: 14pt\;'>&nbsp\; &nbsp\;</span></strong></span></div>\n<div>&nb
 sp\;</div>\n<div><span style='color: #000000\;'></span></div>\n<div><span 
 style='font-size: 12pt\; color: #000000\;'><strong>Session D: &nbsp\;</str
 ong>8:00am-12:00pm&nbsp\;<span style='font-size: 10.6667px\;'>4</span><spa
 n style='font-size: 10.6667px\;'>&nbsp\;Contact Hours / .4 CEUs&nbsp\;</sp
 an><span style='font-size: 8pt\;'>(For Sessions taken individually earn up
  to 5 Contact Hours / .5 CEUs by completing 1 Praxis question)</span></spa
 n></div>\n<div style='padding-left: 30px\;'><span style='font-size: 12pt\;
  color: #000000\;'>Unit 7: Dealing with Difficult Employees</span></div>\n
 <div style='padding-left: 30px\;'><span style='font-size: 12pt\; color: #0
 00000\;'>Unit 8: Administrative Leadership</span></div>\n<div style='paddi
 ng-left: 30px\;'><span style='color: #000000\;'></span></div>\n<div>\n<div
 ><span style='font-size: 12pt\; color: #000000\;'><strong>Session E: &nbsp
 \;</strong>1:00pm-5:00pm&nbsp\;<span style='font-size: 10.6667px\;'>4</spa
 n><span style='font-size: 10.6667px\;'>&nbsp\;Contact Hours / .4 CEUs&nbsp
 \;</span><span style='font-size: 8pt\;'>(For Sessions taken individually e
 arn up to 5 Contact Hours / .5 CEUs by completing 1 Praxis question)</span
 ></span></div>\n<div style='padding-left: 30px\;'><span style='font-size: 
 12pt\; color: #000000\;'>Unit 9: The New Economy</span></div>\n<div style=
 'padding-left: 30px\;'><span style='font-size: 12pt\; color: #000000\;'>Un
 it 10: Train the Trainer</span></div>\n<div>&nbsp\;</div>\n<div style='pad
 ding-left: 30px\;'><span style='color: #000000\;'></span></div>\n<div styl
 e='padding-left: 30px\;'><span style='color: #000000\;'>&nbsp\;&nbsp\;</sp
 an></div>\n</div>\n<div>\n<div>\n<div><span style='color: #000000\; font-f
 amily: arial\, helvetica\, sans-serif\; font-size: 12pt\;'><strong>Session
  F: &nbsp\;Credential Praxis&nbsp\;</strong>(25 Contact Hours / 2.5 CEUs)<
 /span></div>\n<div><span style='color: #000000\; font-family: arial\, helv
 etica\, sans-serif\; font-size: 12pt\;'>When attending the full conference
 \, each Session is worth 4 Hours/ .4 CEUs for a total of 20 hours for sess
 ions A-E. &nbsp\;Convert the 20 contact hours / 2 CEUs from attendance in 
 sessions A-E into the NAC (which is worth 45 contact hours/4.5 CEUs) by co
 mpleting the Praxis. &nbsp\;Students will be assigned an instructor to adv
 ise them during the completion of their project from home if they have que
 stions. Students also have the option of registering for tutoring to compl
 ete their praxis during the event\, at a future event or to get additional
  help from home on their praxis.&nbsp\;</span></div>\n</div>\n<div>&nbsp\;
 </div>\n</div>\n<div><span style='color: #000000\;'></span></div>\n<div st
 yle='padding-left: 30px\;'><span style='color: #000000\;'></span></div>\n<
 div><span style='color: #000000\;'><span style='color: #993300\;'><strong 
 style='font-family: arial\, helvetica\, sans-serif\; font-size: 16px\;'><a
  href='http://handprint.niccm.com/products/national-administrators-credent
 ial-n-a-c-tutoring.html' title='NAC Tutoring Registration '><span style='f
 ont-size: 12pt\; color: #993300\;'>Optional Tutoring ($160)</span></a>&nbs
 p\;&nbsp\;</strong></span><span style='font-family: arial\, helvetica\, sa
 ns-serif\; font-size: 16px\;'>Students who elect to stay for tutoring will
  receive a list of materials to bring with them. &nbsp\;The presenter will
  provide individualized assistance to each tutoring participant in order t
 o help them put together and complete their Praxis. Tutoring allows studen
 ts the&nbsp\;<strong>opportunity</strong>&nbsp\;of completing their test a
 nd praxis at the event and&nbsp\;<strong>leave having earned their certifi
 cate</strong>. &nbsp\;Those who wish to participate in tutoring are advise
 d to register for this service at least 3 days prior to the event to obtai
 n a list of suggested documentation. Tutoring is usually offered on Saturd
 ay and Sunday of each event from approximately 5:15 pm - 8:15 pm.</span></
 span></div>
DTSTART:20230623T160000Z
DTEND:20230625T210000Z
SUMMARY:NAC - Tampa 623
URL:https://niccm.com/70-upcoming-credential-courses/820-nac-orlando-miami-
 623-2
END:VEVENT
END:VCALENDAR
