BEGIN:VCALENDAR
VERSION:2.0
PRODID:-//https://niccm.com//NONSGML kigkonsult.se iCalcreator 2.23.20//
METHOD:PUBLISH
X-WR-CALNAME:JCal Pro Calendar
X-WR-CALDESC:Your online events calendar
X-WR-TIMEZONE:UTC
BEGIN:VTIMEZONE
TZID:UTC
BEGIN:STANDARD
DTSTART:20260425T114844
TZOFFSETFROM:+0000
TZOFFSETTO:+0000
END:STANDARD
END:VTIMEZONE
BEGIN:VEVENT
UID:20230623T070000UTC-9553NK7sAo@https://niccm.com/
DTSTAMP:20260425T114844Z
CATEGORIES:Past NICCM Events
DESCRIPTION:<h1 style='color: #000000\; visibility: visible\; text-align: c
 enter\;'><span style='font-family: arial\, helvetica\, sans-serif\; font-s
 ize: 18pt\;'>CDA Fast Track&nbsp\;</span></h1>\n<h2 style='color: #000000\
 ; visibility: visible\; text-align: justify\;'><span style='font-size: 12p
 t\; font-family: arial\, helvetica\, sans-serif\;'><strong style='font-siz
 e: 18pt\;'>Location/Hotel:</strong></span>&nbsp\;</h2>\n<p style='letter-s
 pacing: 0px\; background-color: transparent\; margin: 15px 0px\; padding: 
 0px\; border: 0px\; outline: 0px\; font-size: 12px\; color: #505f69\; font
 -family: Helvetica\, Arial\, FreeSans\, sans-serif\; text-align: justify\;
 '><span style='margin: 0px\; padding: 0px\; border: 0px\; outline: 0px\; b
 ackground-color: transparent\; display: block\; font-family: arial\, helve
 tica\, sans-serif\; color: #505f69\; font-size: 14pt\;'>Drury Inn &amp\; S
 uites</span></p>\n<p style='letter-spacing: 0px\; background-color: transp
 arent\; margin: 15px 0px\; padding: 0px\; border: 0px\; outline: 0px\; fon
 t-size: 12px\; color: #505f69\; font-family: Helvetica\, Arial\, FreeSans\
 , sans-serif\; text-align: justify\;'><span style='margin: 0px\; padding: 
 0px\; border: 0px\; outline: 0px\; background-color: transparent\; display
 : block\; font-family: arial\, helvetica\, sans-serif\; color: #505f69\; f
 ont-size: 14pt\;'>801 N. Loop 1604 East</span></p>\n<p style='letter-spaci
 ng: 0px\; background-color: transparent\; margin: 15px 0px\; padding: 0px\
 ; border: 0px\; outline: 0px\; font-size: 12px\; color: #505f69\; font-fam
 ily: Helvetica\, Arial\, FreeSans\, sans-serif\; text-align: justify\;'><s
 pan style='margin: 0px\; padding: 0px\; border: 0px\; outline: 0px\; backg
 round-color: transparent\; display: block\; font-family: arial\, helvetica
 \, sans-serif\; color: #505f69\; font-size: 14pt\;'>San Antonio\, TX 78232
 </span></p>\n<p><span style='font-family: arial\, helvetica\, sans-serif\;
  font-size: 14pt\;'><span style='color: #505f69\;'>Reservations&nbsp\;</sp
 an><a href='https://www.druryhotels.com/bookandstay/newreservation/?groupn
 o=10018761'>Druryhotels.com</a></span></p>\n<address>&nbsp\;</address>\n<p
  style='text-align: center\;'><a href='http://handprint.niccm.com/products
 /cda-fast-track.html' title='Registration CDA Fast Track '><span style='fo
 nt-size: 18pt\;'><span style='margin: 0px\; padding: 0px\; border: 0px\; o
 utline: 0px\; background-color: transparent\; font-family: arial\, helveti
 ca\, sans-serif\;'><span style='color: #ffffff\;'><span style='font-size: 
 19px\; padding: 3px 10px 4px\; background-color: #7b3b3b\;'><strong>Click 
 Here To Register Online Now!</strong></span></span></span></span></a></p>
 \n<p style='text-align: center\;'>&nbsp\;<span style='font-size: 18pt\;'><
 span style='margin: 0px\; padding: 0px\; border: 0px\; outline: 0px\; back
 ground-color: transparent\; font-family: arial\, helvetica\, sans-serif\;'
 >&nbsp\; &nbsp\; &nbsp\; &nbsp\; &nbsp\; &nbsp\; &nbsp\; &nbsp\; &nbsp\; &
 nbsp\; &nbsp\; &nbsp\; &nbsp\;&nbsp\;</span></span>&nbsp\;</p>\n<p style='
 text-align: center\;'>&nbsp\;</p>\n<div style='text-align: center\;'>\n<p 
 style='visibility: visible\; text-align: justify\;'><span style='font-size
 : 12pt\; font-family: arial\, helvetica\, sans-serif\;'><strong style='fon
 t-size: 18pt\;'>Course Content &amp\; Schedule:</strong></span>&nbsp\;</p>
 \n<p style='visibility: visible\; text-align: justify\;'>&nbsp\;</p>\n</di
 v>\n<div style='text-align: justify\;'><span style='text-decoration: under
 line\;'><span style='font-size: large\;'><strong><span style='font-size: 1
 4pt\;'>Friday\, July 14th\, 2023</span></strong></span></span></div>\n<div
 >&nbsp\;</div>\n<div><span style='font-size: 14pt\;'><strong>Arrival and C
 heck-In</strong>: 6:45am -7:00am <span style='font-size: 12pt\;'>(students
  must arrive and check-in 15 minutes before class)</span></span></div>\n<d
 iv style='padding-left: 30px\;'><span style='font-size: large\;'><strong><
 br /></strong></span><span style='font-size: 14pt\;'><strong>C</strong></s
 pan><span style='font-size: 14pt\;'><strong>lass A</strong></span><span st
 yle='font-size: 14pt\;'>: 7:00am -12:00pm &nbsp\;<span style='font-size: 1
 2pt\;'>(5 Contact Hours/.5 CEUs)</span></span></div>\n<div style='padding-
 left: 30px\;'>&nbsp\; &nbsp\; &nbsp\; &nbsp\; &nbsp\;<span style='font-siz
 e: 12pt\;'><strong><span style='font-family: Arial\;'><span style='font-si
 ze: 14pt\;'>Introduction:</span>&nbsp\;</span>&nbsp\;</strong> </span><spa
 n style='font-size: 12pt\;'><strong><span style='font-family: Arial\;'>Ove
 rview of the Course</span><span style='font-family: Arial\;'>&nbsp\; &nbsp
 \;</span></strong></span></div>\n<div style='margin-left: 60px\;'>\n<p><sp
 an style='font-size: 14pt\;'><strong><span style='font-family: Arial\;'>Un
 it 1: &nbsp\; &nbsp\; &nbsp\; &nbsp\; &nbsp\; &nbsp\;</span>&nbsp\;&nbsp\;
 </strong></span><span style='font-size: 12pt\;'><strong><span style='font-
 family: Arial\;'>Keys to Writing Statements</span> </strong> </span></p>\n
 <p style='margin-left: 31px\;'><span style='font-size: 12pt\;'><strong><sp
 an style='font-family: Arial\;'>&nbsp\; &nbsp\; &nbsp\; &nbsp\; &nbsp\; &n
 bsp\; &nbsp\; &nbsp\; &nbsp\; &nbsp\; &nbsp\; &nbsp\;Competency Statement 
 1:&nbsp\;&nbsp\;</span> </strong><span style='font-family: Arial\;'>Planni
 ng a safe and healthy learning environment</span></span></p>\n<p><span sty
 le='font-size: 14pt\;'><strong><span style='font-family: Arial\;'>Unit 2: 
 &nbsp\; &nbsp\; &nbsp\; &nbsp\; &nbsp\; &nbsp\; </span><span>&nbsp\;</span
 ></strong></span><span style='font-size: 12pt\;'><strong><span style='font
 -family: Arial\;'>Competency Statement 2:&nbsp\;&nbsp\;</span> </strong><s
 pan style='font-family: Arial\;'>Advancing children’s physical and intelle
 ctual development</span></span></p>\n</div>\n<div style='padding-left: 30p
 x\;'><span style='font-size: 12pt\;'><br /><span style='font-size: 14pt\;'
 ><strong>Class B:</strong>&nbsp\;12:30pm- 5:30pm &nbsp\;<span style='font-
 size: 12pt\;'>(5 Contact Hours/.5 CEUs)</span></span> </span></div>\n<div 
 style='padding-left: 30px\;'><span style='font-size: 14pt\;'><span style='
 font-size: 14pt\;'><strong><span style='font-family: Arial\;'>&nbsp\; &nbs
 p\; &nbsp\;</span></strong></span></span>\n<div style='padding-left: 30px\
 ; text-align: justify\;'><span style='font-size: 14pt\;'><strong><span sty
 le='font-family: Arial\;'><span style='font-family: arial\, helvetica\, sa
 ns-serif\; font-size: 14pt\;'>Unit 3:&nbsp\; &nbsp\;&nbsp\;</span></span><
 /strong></span><span style='font-size: 14pt\; font-family: arial\, helveti
 ca\, sans-serif\;'><strong>Competency Statement 3:&nbsp\;&nbsp\;</strong>S
 upporting children’s social and emotional development</span></div>\n<div s
 tyle='text-align: justify\;'><span style='font-family: arial\, helvetica\,
  sans-serif\; font-size: 14pt\;'>&nbsp\; &nbsp\; &nbsp\; </span><span styl
 e='font-family: arial\, helvetica\, sans-serif\;'><strong style='font-fami
 ly: arial\, helvetica\, sans-serif\; font-size: 12pt\; text-indent: -1in\;
  color: inherit\;'><span style='font-size: 14pt\;'>Unit 4:&nbsp\; &nbsp\;&
 nbsp\;</span><span style='font-size: 14pt\;'>Competency Statement 4:&nbsp\
 ;&nbsp\;</span></strong></span><span style='font-family: arial\, helvetica
 \, sans-serif\; font-size: 14pt\;'>Establishing positive and productive re
 lationships with families</span></div>\n<div style='text-align: justify\;'
 ><span style='font-family: arial\, helvetica\, sans-serif\; font-size: 14p
 t\;'><strong>&nbsp\; &nbsp\; &nbsp\; Unit 5:&nbsp\; &nbsp\;&nbsp\;</strong
 ></span><span style='font-size: 14pt\;'><span style='font-family: arial\, 
 helvetica\, sans-serif\;'><strong>Competency Statement 5:&nbsp\;&nbsp\;</s
 trong></span><span style='font-family: arial\, helvetica\, sans-serif\;'>E
 nsuring a well-run purposeful program&nbsp\;</span></span></div>\n<div sty
 le='text-align: justify\;'><span style='font-family: arial\, helvetica\, s
 ans-serif\;'><strong><span style='font-family: arial\, helvetica\, sans-se
 rif\; font-size: 14pt\;'>&nbsp\; &nbsp\; &nbsp\; Unit 6:&nbsp\;&nbsp\; &nb
 sp\;</span><span style='font-size: 14pt\;'>Competency Statement 6:&nbsp\;&
 nbsp\;</span></strong><span style='font-size: 14pt\;'>Maintaining a commit
 ment to professionalism</span></span></div>\n<div style='padding-left: 60p
 x\;'>&nbsp\;</div>\n</div>\n<div style='padding-left: 60px\;'>\n<p>&nbsp\;
 </p>\n<p style='margin-left: 1in\; text-indent: -1in\;'><span style='font-
 family: Arial\; font-size: 12pt\;'><strong>Documenting Professional Educat
 ion</strong>&nbsp\;- 8 CDA Subject Areas</span><span style='font-size: 12p
 t\;'></span></p>\n</div>\n<div><span style='font-size: 12pt\;'><br /></spa
 n><span style='text-decoration: underline\;'><span style='font-size: large
 \;'><strong><span style='font-size: 14pt\;'>Saturday\, July 15th\, 2023</s
 pan></strong></span></span></div>\n<div style='padding-left: 30px\;'>&nbsp
 \;</div>\n<div style='padding-left: 30px\;'><span style='font-size: 14pt\;
 '><strong>Class C</strong><strong>:&nbsp\;</strong>8:00am-3:00pm&nbsp\;<sp
 an style='font-size: 12pt\;'>(7 Contact Hours/.7 CEUs)</span></span></div>
 \n<div style='padding-left: 30px\;'><span style='font-size: 12pt\;'>&nbsp\
 ;(arrivals will be staggered\, students will be scheduled in as early as 8
 :00am)</span></div>\n<div style='padding-left: 30px\;'><span style='font-s
 ize: 12pt\;'><strong><span style='font-family: Arial\;'><span style='font-
 size: 14pt\;'>&nbsp\; &nbsp\; &nbsp\;</span></span></strong></span></div>
 \n<div style='padding-left: 30px\;'><span style='font-size: 14pt\;'><stron
 g>Class D:&nbsp\;</strong>4:00pm - 7:00pm <span style='font-size: 12pt\;'>
 (3 Contact Hours/.3 CEUs)&nbsp\;</span></span></div>\n<div style='padding-
 left: 30px\;'><span style='font-size: 14pt\;'><span style='font-size: 14pt
 \;'></span><span style='font-size: 12pt\;'>(dissmissal will be staggard\, 
 students will be dismissed throughout the evening)</span></span></div>\n<d
 iv>\n<div>&nbsp\;</div>\n<div style='padding-left: 30px\; text-align: cent
 er\;'><span style='font-size: 12pt\;'><span style='font-size: 12pt\;'><str
 ong><span style='font-family: Arial\;'><span style='font-size: 14pt\;'>C &
 amp\; D Class Content</span></span></strong></span></span>\n<div style='pa
 dding-left: 60px\;'>&nbsp\;</div>\n</div>\n<div style='padding-left: 30px\
 ;'><span style='font-size: 12pt\;'><strong><span style='font-family: Arial
 \;'><span style='font-size: 14pt\;'>Directed Portfolio Lab:</span>&nbsp\;&
 nbsp\;</span> </strong><span style='font-family: Arial\;'>The Directed Por
 tfolio Lab allows for individual consultation &amp\; one-on-one time with<
 /span></span><span style='font-size: 12pt\;'><span style='font-family: Ari
 al\;'>&nbsp\;the &nbsp\; &nbsp\;</span></span></div>\n<div style='padding-
 left: 30px\;'><span style='font-size: 12pt\;'><span style='font-family: Ar
 ial\;'>instructor. &nbsp\;Participants will work on their portfolio and me
 et with the instructor to discuss their statements and</span></span><span 
 style='font-size: 12pt\;'><span style='font-family: Arial\;'>&nbsp\;the </
 span></span></div>\n<div style='padding-left: 30px\;'><span style='font-si
 ze: 12pt\;'><span style='font-family: Arial\;'>documentation within their 
 professional portfolio.</span></span></div>\n</div>\n<div style='padding-l
 eft: 30px\;'>\n<div style='padding-left: 30px\;'>&nbsp\;</div>\n<div style
 ='padding-left: 30px\;'><strong style='font-size: 12pt\; text-indent: -1in
 \; color: inherit\; font-family: inherit\;'><span style='font-family: Aria
 l\;'><span style='font-size: 12pt\;'>The Professional Philosophy Statement
 </span></span></strong></div>\n<div>&nbsp\;</div>\n<div style='padding-lef
 t: 30px\;'><span style='font-size: 12pt\;'><strong>Individual Consultation
 s - allows one on one with instructors</strong></span></div>\n<div style='
 padding-left: 60px\;'>&nbsp\;</div>\n</div>\n<div style='padding-left: 60p
 x\;'>&nbsp\;</div>\n<div><span style='font-size: 12pt\;'>&nbsp\;<span styl
 e='text-decoration: underline\;'><span style='font-size: 14pt\;'><strong>S
 unday\, July 16th\, 2023</strong></span></span></span></div>\n<div style='
 margin-left: 30px\;'><span style='font-size: large\;'><strong><br /></stro
 ng></span><span style='font-size: 14pt\;'><strong>Class E</strong><strong>
 :</strong>&nbsp\;8:00am-3:00pm</span><span style='font-size: 12pt\;'>&nbsp
 \;<span style='font-size: 12pt\;'>(7 Contact Hours/.7 CEUs)</span></span><
 /div>\n<div style='margin-left: 30px\;'>\n<p style='margin-left: 1in\; tex
 t-indent: -1in\;'><span style='font-size: 14pt\;'><strong>Class F:</strong
 >&nbsp\;4:00pm-7:00pm&nbsp\;<span style='background-color: inherit\; color
 : inherit\; font-family: inherit\; caret-color: auto\;'>(3 Contact Hours/.
 3 CEUs)</span></span></p>\n<p>&nbsp\;</p>\n</div>\n<div style='padding-lef
 t: 30px\; text-align: center\;'><span style='font-size: 12pt\;'><strong><s
 pan style='font-family: Arial\;'><span style='font-size: 14pt\;'><span sty
 le='font-size: 14pt\;'>E &amp\; F Class Content</span><span style='font-fa
 mily: Arial\;'></span><span style='font-size: 12pt\;'></span><span style='
 font-size: 12pt\;'></span>&nbsp\; &nbsp\; &nbsp\; </span></span></strong><
 /span></div>\n<div style='padding-left: 30px\;'><span style='font-size: 12
 pt\;'><strong><span style='font-family: Arial\;'><span style='font-size: 1
 4pt\;'><span style='font-family: Arial\;'>&nbsp\; &nbsp\; &nbsp\; &nbsp\;<
 span style='font-size: 14pt\;'>Unit 7:</span><span style='font-family: Ari
 al\;'>&nbsp\;CDA Practice Exam&nbsp\;</span>&nbsp\;</span><span style='fon
 t-size: 12pt\;'></span></span></span></strong></span></div>\n<div style='p
 adding-left: 30px\;'><span style='font-size: 12pt\;'><strong><span style='
 font-family: Arial\;'><span style='font-size: 14pt\;'>&nbsp\; &nbsp\; &nbs
 p\; &nbsp\;Unit 8:</span>&nbsp\;</span></strong></span><span style='font-s
 ize: 14pt\;'><strong><span style='font-family: Arial\;'>I<strong>nstructio
 ns on completing the process</strong></span></strong></span></div>\n<div s
 tyle='padding-left: 60px\;'>\n<p style='margin-left: 1in\; text-indent: -1
 in\;'><span style='font-size: 12pt\;'><strong><span style='font-family: Ar
 ial\;'>&nbsp\; &nbsp\; &nbsp\; &nbsp\; &nbsp\; &nbsp\; &nbsp\; &nbsp\; &nb
 sp\; &nbsp\; &nbsp\; &nbsp\; &nbsp\;&nbsp\;</span></strong></span><span st
 yle='font-size: 12pt\;'><strong><span style='font-family: Arial\;'>Underst
 anding the verification visit</span> </strong> </span></p>\n<p style='marg
 in-left: 1in\; text-indent: -1in\;'><span style='font-size: 12pt\;'><stron
 g><span style='font-family: Arial\;'>&nbsp\; &nbsp\; &nbsp\; &nbsp\; &nbsp
 \; &nbsp\; &nbsp\; &nbsp\; &nbsp\; &nbsp\; &nbsp\; &nbsp\; &nbsp\;&nbsp\;<
 strong>The application process</strong></span> </strong> </span></p>\n<p s
 tyle='margin-left: 1in\; text-indent: -1in\;'><span style='font-size: 12pt
 \;'><strong><span style='font-family: Arial\;'>&nbsp\; &nbsp\; &nbsp\; &nb
 sp\; &nbsp\; &nbsp\; &nbsp\; &nbsp\; &nbsp\; &nbsp\; &nbsp\; &nbsp\; &nbsp
 \; Choosing your PD Specialist</span> </strong> </span></p>\n<p style='mar
 gin-left: 1in\; text-indent: -1in\;'><span style='font-size: 12pt\;'><stro
 ng><span style='font-family: Arial\;'>&nbsp\; &nbsp\; &nbsp\; &nbsp\; &nbs
 p\; &nbsp\; &nbsp\; &nbsp\; &nbsp\; &nbsp\; &nbsp\; &nbsp\; &nbsp\;&nbsp\;
 </span></strong></span><span style='font-size: 12pt\;'><strong><span style
 ='font-family: Arial\;'>Finding a Pearson Vue testing site&nbsp\;</span></
 strong></span></p>\n<p style='margin-left: 1in\; text-indent: -1in\;'><spa
 n style='font-size: 12pt\;'><strong><span style='font-family: Arial\;'>&nb
 sp\; &nbsp\; &nbsp\; </span></strong></span></p>\n<p style='text-align: ce
 nter\;'><a href='http://handprint.niccm.com/products/cda-fast-track.html' 
 title='Registration CDA Fast Track '><span style='font-size: 18pt\;'><span
  style='margin: 0px\; padding: 0px\; border: 0px\; outline: 0px\; backgrou
 nd-color: transparent\; font-family: arial\, helvetica\, sans-serif\;'><sp
 an style='color: #ffffff\;'><span style='font-size: 19px\; padding: 3px 10
 px 4px\; background-color: #7b3b3b\;'><strong>Click Here To Register Onlin
 e Now!</strong></span></span></span></span></a></p>\n<p style='text-align:
  center\;'>&nbsp\;</p>\n<p style='text-align: center\;'>&nbsp\;</p>\n<foot
 er></footer></div>\n<p style='text-align: center\;'><span style='font-size
 : 18pt\;'>&nbsp\; &nbsp\; &nbsp\; &nbsp\;Call (602) 476-1422 for More Info
 rmation&nbsp\;</span></p>\n<p>&nbsp\;&nbsp\;</p>
DTSTART:20230714T070000Z
DTEND:20230716T150000Z
SUMMARY:CDA Fast Track  - San Antonio 723
URL:https://niccm.com/71-cda-fast-track/806-cda-fast-track-san-antonio-723
END:VEVENT
BEGIN:VEVENT
UID:20230623T160000UTC-674586TBlE@https://niccm.com/
DTSTAMP:20260425T114844Z
CATEGORIES:Past NICCM Events
DESCRIPTION:<h1 style='color: #000000\; visibility: visible\; text-align: c
 enter\;'>N.A.C. (National Administrator's Credential)</h1>\n<h2 style='col
 or: #000000\; visibility: visible\; text-align: justify\;'><span style='fo
 nt-size: 18pt\;'>Location/Hotel:</span>&nbsp\;&nbsp\;</h2>\n<p style='lett
 er-spacing: 0px\; background-color: transparent\; margin: 15px 0px\; paddi
 ng: 0px\; border: 0px\; outline: 0px\; font-size: 12px\; color: #505f69\; 
 font-family: Helvetica\, Arial\, FreeSans\, sans-serif\; text-align: justi
 fy\;'><span style='margin: 0px\; padding: 0px\; border: 0px\; outline: 0px
 \; background-color: transparent\; display: block\; font-family: arial\, h
 elvetica\, sans-serif\; color: #505f69\; font-size: 14pt\;'>Drury Inn &amp
 \; Suites</span></p>\n<p style='letter-spacing: 0px\; background-color: tr
 ansparent\; margin: 15px 0px\; padding: 0px\; border: 0px\; outline: 0px\;
  font-size: 12px\; color: #505f69\; font-family: Helvetica\, Arial\, FreeS
 ans\, sans-serif\; text-align: justify\;'><span style='margin: 0px\; paddi
 ng: 0px\; border: 0px\; outline: 0px\; background-color: transparent\; dis
 play: block\; font-family: arial\, helvetica\, sans-serif\; color: #505f69
 \; font-size: 14pt\;'>801 N. Loop 1604 East</span></p>\n<p style='letter-s
 pacing: 0px\; background-color: transparent\; margin: 15px 0px\; padding: 
 0px\; border: 0px\; outline: 0px\; font-size: 12px\; color: #505f69\; font
 -family: Helvetica\, Arial\, FreeSans\, sans-serif\; text-align: justify\;
 '><span style='margin: 0px\; padding: 0px\; border: 0px\; outline: 0px\; b
 ackground-color: transparent\; display: block\; font-family: arial\, helve
 tica\, sans-serif\; color: #505f69\; font-size: 14pt\;'>San Antonio\, TX 7
 8232</span></p>\n<p><span style='font-family: arial\, helvetica\, sans-ser
 if\; font-size: 14pt\;'><span style='color: #505f69\;'>Reservations</span>
 <span style='background-color: inherit\; color: inherit\; caret-color: aut
 o\;'> <a href='https://www.druryhotels.com/bookandstay/newreservation/?gro
 upno=10018761'>Druryhotels.com</a></span></span><a href='https://www.hilto
 n.com/en/book/reservation/deeplink/?ctyhocn=PBIPGES&amp\;groupCode=CESCCM&
 amp\;arrivaldate=2022-12-06&amp\;departuredate=2022-12-12&amp\;cid=OM\,WW\
 ,HILTONLINK\,EN\,DirectLink&amp\;fromId=HILTONLINKDIRECT' style='font-size
 : 14pt\; background-color: inherit\; font-family: inherit\;'><span style='
 font-family: arial\, helvetica\, sans-serif\; font-size: 14pt\;'></span> &
 nbsp\;</a><span style='font-size: 14pt\; background-color: inherit\; color
 : inherit\; font-family: inherit\; caret-color: auto\;'>&nbsp\;&nbsp\;</sp
 an></p>\n<p style='text-align: center\;'><a href='http://handprint.niccm.c
 om/products/national-florida-and-texas-director-credential-n-a-c.html' tit
 le='Registration NAC '><span style='color: #ffffff\;'><span style='font-si
 ze: 19px\; padding: 3px 10px 4px\; background-color: #7b3b3b\;'><strong>Cl
 ick Here To Register Online Now!</strong></span></span></a></p>\n<p>&nbsp\
 ;</p>\n<p>&nbsp\;</p>\n<p><span style='font-size: 12pt\; font-family: aria
 l\, helvetica\, sans-serif\;'><strong style='font-size: 18pt\;'>Course Con
 tent &amp\; Schedule:</strong></span>&nbsp\;</p>\n<p>&nbsp\;</p>\n<div><sp
 an style='color: #000000\;'><span style='text-decoration: underline\;'><st
 rong><span style='font-size: 14pt\;'>Friday\, July 14th\, 2023</span></str
 ong></span><strong><span style='font-size: 14pt\;'>&nbsp\; &nbsp\;</span><
 /strong></span></div>\n<div>&nbsp\;</div>\n<div><span style='font-size: 12
 pt\; color: #000000\;'><strong>Arrival and Check-In:&nbsp\; </strong>3:45p
 m-4:00pm &nbsp\;</span><span style='color: #000000\;'><span style='color: 
 #000000\;'>(Students must arrive and check-in at least 1 hour before class
  starts)</span></span></div>\n<div>&nbsp\;</div>\n<div><span style='color:
  #000000\;'></span></div>\n<div><span style='font-size: 12pt\; color: #000
 000\;'><strong>Session A: &nbsp\;</strong>5:00pm-9:00pm&nbsp\;<span style=
 'font-size: 10.6667px\;'>4</span><span style='font-size: 10.6667px\;'>&nbs
 p\;Contact Hours / .4 CEUs</span>&nbsp\;<span style='font-size: 8pt\;'>(Fo
 r Sessions taken individually earn up to 5 Contact Hours / .5 CEUs by comp
 leting 1 Praxis question)</span></span></div>\n<div style='padding-left: 3
 0px\;'><span style='font-size: 12pt\; color: #000000\;'>Unit 1: Fiscal Man
 agement&nbsp\;</span></div>\n<div style='padding-left: 30px\;'><span style
 ='font-size: 12pt\; color: #000000\;'>Unit 2: Insurance for Your Center</s
 pan></div>\n<div>&nbsp\;</div>\n<div style='padding-left: 30px\;'><span st
 yle='color: #000000\;'></span></div>\n<div><span style='color: #000000\;'>
 <span style='text-decoration: underline\;'><strong><span style='font-size:
  14pt\;'>Saturday\, July 15th\, 2023</span></strong></span><span style='fo
 nt-size: 8pt\;'>&nbsp\; &nbsp\;</span></span></div>\n<div>&nbsp\;</div>\n<
 div><span style='color: #000000\;'></span></div>\n<div><span style='font-s
 ize: 12pt\; color: #000000\;'><strong>Session B:</strong>&nbsp\;&nbsp\;8:0
 0am-12:00pm&nbsp\;<span style='font-size: 10.6667px\;'>4</span><span style
 ='font-size: 10.6667px\;'>&nbsp\;Contact Hours / .4 CEUs&nbsp\;</span><spa
 n style='font-size: 8pt\;'>(For Sessions taken individually earn up to 5 C
 ontact Hours / .5 CEUs by completing 1 Praxis question)</span></span></div
 >\n<div style='padding-left: 30px\;'><span style='font-size: 12pt\; color:
  #000000\;'>Unit 3: Hiring &amp\; Teacher Orientation</span></div>\n<div s
 tyle='padding-left: 30px\;'><span style='font-size: 12pt\; color: #000000\
 ;'>Unit 4: Employee Handbooks &amp\; Evals</span></div>\n<div style='paddi
 ng-left: 30px\;'><span style='color: #000000\;'></span></div>\n<div><span 
 style='font-size: 12pt\; color: #000000\;'><strong>Session C:</strong>&nbs
 p\;&nbsp\;1:00pm-5:00pm &nbsp\;<span style='font-size: 10.6667px\;'>4</spa
 n><span style='font-size: 10.6667px\;'>&nbsp\;Contact Hours / .4 CEUs&nbsp
 \;</span><span style='font-size: 8pt\;'>(For Sessions taken individually e
 arn up to 5 Contact Hours / .5 CEUs by completing 1 Praxis question)</span
 ></span></div>\n<div style='padding-left: 30px\;'><span style='font-size: 
 12pt\; color: #000000\;'>Unit 5: Center Management</span></div>\n<div styl
 e='padding-left: 30px\;'><span style='font-size: 12pt\; color: #000000\;'>
 Unit 6: Child Development - The Essentials</span></div>\n<div>&nbsp\;</div
 >\n<div style='padding-left: 30px\;'><span style='color: #000000\;'></span
 ></div>\n<div><span style='color: #000000\;'><span style='text-decoration:
  underline\;'><strong><span style='font-size: 14pt\;'>Sunday\, July 16th\,
  2023</span></strong></span><strong><span style='font-size: 14pt\;'>&nbsp\
 ; &nbsp\;</span></strong></span></div>\n<div>&nbsp\;</div>\n<div><span sty
 le='color: #000000\;'></span></div>\n<div><span style='font-size: 12pt\; c
 olor: #000000\;'><strong>Session D: &nbsp\;</strong>8:00am-12:00pm&nbsp\;<
 span style='font-size: 10.6667px\;'>4</span><span style='font-size: 10.666
 7px\;'>&nbsp\;Contact Hours / .4 CEUs&nbsp\;</span><span style='font-size:
  8pt\;'>(For Sessions taken individually earn up to 5 Contact Hours / .5 C
 EUs by completing 1 Praxis question)</span></span></div>\n<div style='padd
 ing-left: 30px\;'><span style='font-size: 12pt\; color: #000000\;'>Unit 7:
  Dealing with Difficult Employees</span></div>\n<div style='padding-left: 
 30px\;'><span style='font-size: 12pt\; color: #000000\;'>Unit 8: Administr
 ative Leadership</span></div>\n<div style='padding-left: 30px\;'><span sty
 le='color: #000000\;'></span></div>\n<div>\n<div><span style='font-size: 1
 2pt\; color: #000000\;'><strong>Session E: &nbsp\;</strong>1:00pm-5:00pm&n
 bsp\;<span style='font-size: 10.6667px\;'>4</span><span style='font-size: 
 10.6667px\;'>&nbsp\;Contact Hours / .4 CEUs&nbsp\;</span><span style='font
 -size: 8pt\;'>(For Sessions taken individually earn up to 5 Contact Hours 
 / .5 CEUs by completing 1 Praxis question)</span></span></div>\n<div style
 ='padding-left: 30px\;'><span style='font-size: 12pt\; color: #000000\;'>U
 nit 9: The New Economy</span></div>\n<div style='padding-left: 30px\;'><sp
 an style='font-size: 12pt\; color: #000000\;'>Unit 10: Train the Trainer</
 span></div>\n<div>&nbsp\;</div>\n<div style='padding-left: 30px\;'><span s
 tyle='color: #000000\;'></span></div>\n<div style='padding-left: 30px\;'><
 span style='color: #000000\;'>&nbsp\;&nbsp\;</span></div>\n</div>\n<div>\n
 <div><span style='color: #000000\; font-family: arial\, helvetica\, sans-s
 erif\; font-size: 12pt\;'><strong>Session F: &nbsp\;Credential Praxis&nbsp
 \;</strong>(25 Contact Hours / 2.5 CEUs)</span></div>\n<div><span style='c
 olor: #000000\; font-family: arial\, helvetica\, sans-serif\; font-size: 1
 2pt\;'>When attending the full conference\, each Session is worth 4 Hours/
  .4 CEUs for a total of 20 hours for sessions A-E. &nbsp\;Convert the 20 c
 ontact hours / 2 CEUs from attendance in sessions A-E into the NAC (which 
 is worth 45 contact hours/4.5 CEUs) by completing the Praxis. &nbsp\;Stude
 nts will be assigned an instructor to advise them during the completion of
  their project from home if they have questions. Students also have the op
 tion of registering for tutoring to complete their praxis during the event
 \, at a future event or to get additional help from home on their praxis.&
 nbsp\;</span></div>\n</div>\n<div><span style='color: #000000\;'></span></
 div>\n<div style='padding-left: 30px\;'><span style='color: #000000\;'></s
 pan></div>\n<div><span style='color: #000000\;'><span style='color: #99330
 0\;'><strong style='font-family: arial\, helvetica\, sans-serif\; font-siz
 e: 16px\;'><a href='http://handprint.niccm.com/products/national-administr
 ators-credential-n-a-c-tutoring.html' title='NAC Tutoring Registration '><
 span style='font-size: 12pt\; color: #993300\;'>Optional Tutoring ($160)</
 span></a>&nbsp\;&nbsp\;</strong></span><span style='font-family: arial\, h
 elvetica\, sans-serif\; font-size: 16px\;'>Students who elect to stay for 
 tutoring will receive a list of materials to bring with them. &nbsp\;The p
 resenter will provide individualized assistance to each tutoring participa
 nt in order to help them put together and complete their Praxis. Tutoring 
 allows students the&nbsp\;<strong>opportunity</strong>&nbsp\;of completing
  their test and praxis at the event and&nbsp\;<strong>leave having earned 
 their certificate</strong>. &nbsp\;Those who wish to participate in tutori
 ng are advised to register for this service at least 3 days prior to the e
 vent to obtain a list of suggested documentation. Tutoring is usually offe
 red on Saturday and Sunday of each event from approximately 5:15 pm - 8:15
  pm.</span></span></div>
DTSTART:20230714T160000Z
DTEND:20230716T210000Z
SUMMARY:NAC - San Antonio 723
URL:https://niccm.com/70-upcoming-credential-courses/821-nac-san-antonio-72
 3
END:VEVENT
END:VCALENDAR
