BEGIN:VCALENDAR
VERSION:2.0
PRODID:-//https://niccm.com//NONSGML kigkonsult.se iCalcreator 2.23.20//
METHOD:PUBLISH
X-WR-CALNAME:JCal Pro Calendar
X-WR-CALDESC:Your online events calendar
X-WR-TIMEZONE:UTC
BEGIN:VTIMEZONE
TZID:UTC
BEGIN:STANDARD
DTSTART:20260425T120315
TZOFFSETFROM:+0000
TZOFFSETTO:+0000
END:STANDARD
END:VTIMEZONE
BEGIN:VEVENT
UID:20220728T080000UTC-6987XIummU@https://niccm.com/
DTSTAMP:20260425T120315Z
CATEGORIES:Past NICCM Events
DESCRIPTION:<p style='text-align: center\;'><span style='color: #000000\;'>
 &nbsp\;<span class='font-family-helvetica' style='font-size: small\;'><spa
 n style='font-size: 70pt\;'><strong><span style='font-size: 36pt\;'>$129</
 span></strong></span></span><strong style='color: #000000\; font-family: a
 rial\, helvetica\, sans-serif\; text-align: center\; font-size: 1rem\;'><s
 pan style='font-size: x-small\;'>&nbsp\; <span style='font-size: 24pt\;'>&
 nbsp\;<span style='font-size: 24pt\;'>Exclusive&nbsp\;</span><span style='
 font-size: x-small\;'></span><span style='color: #000000\;'></span>One Day
 </span></span><span style='font-size: 24pt\;'></span></strong><strong styl
 e='color: #000000\; font-family: arial\, helvetica\, sans-serif\; text-ali
 gn: center\; font-size: 1rem\;'><span style='font-size: 24pt\;'>Leadership
  Retreat</span></strong></span></p>\n<h2 style='text-align: center\;'><spa
 n style='font-size: 18pt\;'>with Bradley Smith</span></h2>\n<p>&nbsp\;</p>
 \n<p><span style='font-family: arial\, helvetica\, sans-serif\; color: #00
 0000\;'></span></p>\n<h4 style='text-align: center\;'><span style='font-fa
 mily: arial\, helvetica\, sans-serif\; color: #000000\;'><strong style='fo
 nt-size: 26pt\;'>July 27th\, 2023 - Orlando\, FL&nbsp\;</strong></span></h
 4>\n<h4 style='text-align: center\;'><span style='font-size: 18pt\; color:
  #000000\;'>(8am - 5pm)&nbsp\;</span></h4>\n<p>&nbsp\;</p>\n<p style='text
 -align: center\;'><span style='color: #000000\;'></span></p>\n<div><span s
 tyle='color: #000000\;'></span></div>\n<div><span style='font-size: 18pt\;
  font-family: arial\, helvetica\, sans-serif\; color: #000000\;'><strong>L
 ocation/Hotel:</strong></span></div>\n<div><span style='color: #000000\;'>
 </span></div>\n<div>\n<p style='background-color: transparent\; margin: 2p
 x 0px\; padding: 0px\; border: 0px\; outline: 0px\; font-size: 12px\; colo
 r: #505f69\; font-family: Helvetica\, Arial\, FreeSans\, sans-serif\;'><sp
 an style='color: #000000\; font-family: arial\, helvetica\, sans-serif\; f
 ont-size: 14pt\;'>Hilton Garden Inn - Lake Buena Vista</span></p>\n<p styl
 e='background-color: transparent\; margin: 2px 0px\; padding: 0px\; border
 : 0px\; outline: 0px\; font-size: 12px\; color: #505f69\; font-family: Hel
 vetica\, Arial\, FreeSans\, sans-serif\;'><span style='color: #000000\; fo
 nt-family: arial\, helvetica\, sans-serif\; font-size: 14pt\;'>11400 Marab
 ella Palm Court</span></p>\n<p style='background-color: transparent\; marg
 in: 2px 0px\; padding: 0px\; border: 0px\; outline: 0px\; font-size: 12px\
 ; color: #505f69\; font-family: Helvetica\, Arial\, FreeSans\, sans-serif\
 ;'><span style='color: #000000\; font-family: arial\, helvetica\, sans-ser
 if\; font-size: 14pt\;'>Orlando\, FL &nbsp\;32836</span></p>\n<p style='ba
 ckground-color: transparent\; margin: 2px 0px\; padding: 0px\; border: 0px
 \; outline: 0px\; font-size: 12px\; color: #505f69\; font-family: Helvetic
 a\, Arial\, FreeSans\, sans-serif\;'><span style='color: #000000\; font-fa
 mily: arial\, helvetica\, sans-serif\; font-size: 14pt\;'>(407) 239- 9550<
 /span></p>\n<p style='background-color: transparent\; margin: 2px 0px\; pa
 dding: 0px\; border: 0px\; outline: 0px\; font-size: 12px\; color: #505f69
 \; font-family: Helvetica\, Arial\, FreeSans\, sans-serif\;'><span style='
 font-family: arial\, helvetica\, sans-serif\; font-size: 14pt\;'><span sty
 le='color: #000000\;'>Reservations <a href='https://www.hilton.com/en/book
 /reservation/deeplink/?ctyhocn=MCOBVGI&amp\;groupCode=NICCM4&amp\;arrivald
 ate=2023-07-25&amp\;departuredate=2023-07-31&amp\;cid=OM\,WW\,HILTONLINK\,
 EN\,DirectLink&amp\;fromId=HILTONLINKDIRECT'>Hilton.com</a><span style='fo
 nt-family: arial\, helvetica\, sans-serif\; font-size: 14pt\;'></span></sp
 an><a href='https://www.hilton.com/en/book/reservation/deeplink/?ctyhocn=M
 COBVGI&amp\;groupCode=NICCM4&amp\;arrivaldate=2023-07-18&amp\;departuredat
 e=2023-07-24&amp\;cid=OM\,WW\,HILTONLINK\,EN\,DirectLink&amp\;fromId=HILTO
 NLINKDIRECT'></a>&nbsp\;</span></p>\n<p style='background-color: transpare
 nt\; margin: 2px 0px\; padding: 0px\; border: 0px\; outline: 0px\; font-si
 ze: 12px\; color: #505f69\; font-family: Helvetica\, Arial\, FreeSans\, sa
 ns-serif\;'><span style='color: #0000ff\; font-size: 14pt\;'><span style='
 color: #000000\;'>Call for assistance if there aren't any available reserv
 ations on the link.</span>&nbsp\;</span></p>\n</div>\n<div><span style='co
 lor: #000000\;'></span></div>\n<div style='text-align: center\;'><span sty
 le='color: #000000\;'>&nbsp\;<span style='font-family: arial\, helvetica\,
  sans-serif\;'>&nbsp\;&nbsp\;</span><span style='font-family: arial\, helv
 etica\, sans-serif\; font-size: 12pt\;'><span style='font-family: inherit\
 ; font-size: 1rem\; background-color: inherit\;'></span></span></span></di
 v>\n<article>\n<p style='text-align: justify\;'><span style='font-family: 
 Arial\; font-size: 12pt\; color: #000000\;'><strong>THE NICCM 2023 LEADERS
 HIP RETREAT</strong> is structured to be a vision casting and TEAM buildin
 g event.&nbsp\; Whether attending solo or with a group\, this day is guara
 nteed to be highly motivational and provide all participants with numerous
  takeaways that will positively impact their program.&nbsp\;</span></p>\n<
 p><span style='color: #000000\;'></span></p>\n</article>\n<article>\n<p><s
 pan style='font-family: arial\, helvetica\, sans-serif\; color: #000000\;'
 ><span style='font-size: small\;'><strong><span style='font-size: 12pt\;'>
 <span style='font-size: 18pt\;'>LEARN:&nbsp\;</span></span></strong><span 
 style='font-family: Arial\; font-size: 12pt\; background-color: inherit\;'
 >Learning is essesntial to continued success in an early education program
 . Early Education is a quickly changing industrly with evershiftling chall
 enges. The successful administrator is also constantly learning and adapti
 ng to meet these challenges. &nbsp\;</span></span></span></p>\n<p><span st
 yle='color: #000000\;'></span></p>\n</article>\n<p><span style='color: #00
 0000\;'><span style='font-size: 12pt\; font-family: Arial\;'><strong style
 ='font-size: 14pt\; font-family: arial\, helvetica\, sans-serif\;'><span s
 tyle='font-size: 18pt\;'>LEAD:</span>&nbsp\;</strong><span style='font-siz
 e: 12pt\; font-family: Arial\;'>A&nbsp\;</span>collaborative TEAM environm
 ent is imperative to a continued successful program.&nbsp\; The LEAD sessi
 on will focus on methods of leadership that will minimize turnover and inc
 rease TEAM and staff morale.&nbsp\; Topics covered will include:&nbsp\; Un
 derstanding the Nature of Influence in order to create “buy-in” and using 
 these concepts to build your very own Leadership team that will behave lik
 e leaders.</span><span style='font-family: Arial\; font-size: 12pt\; backg
 round-color: inherit\;'>&nbsp\;&nbsp\;</span></span></p>\n<p><span style='
 color: #000000\;'></span></p>\n<div><span style='font-family: arial\, helv
 etica\, sans-serif\; color: #000000\;'><span style='font-family: arial\, h
 elvetica\, sans-serif\;'><strong><strong><span style='font-size: 12pt\;'><
 span style='font-size: 18pt\;'>Grow:</span> </span> </strong> </strong><sp
 an style='font-size: 12pt\;'>&nbsp\;<span style='font-size: 12pt\; font-fa
 mily: Arial\;'>Center growth and continued program growth are vital for th
 e 21st century program. This session will highlight and target organizatio
 nal growth. The focus will be on strategies to remove the attendance highs
  and lows of the program and bring consistent stability to enrollment and 
 staffing.</span></span></span></span></div>\n<div><span style='color: #000
 000\;'></span></div>\n<div><span style='color: #000000\;'></span></div>\n<
 div><span style='font-family: arial\, helvetica\, sans-serif\; color: #000
 000\;'><span style='font-family: arial\, helvetica\, sans-serif\;'><strong
 ><strong><span style='font-size: 12pt\;'><span style='font-size: 18pt\;'>R
 EPEAT:</span> </span> </strong> </strong><span style='font-size: 12pt\;'>&
 nbsp\;<span style='font-size: 12pt\; font-family: Arial\;'>This session is
  at the foundation of what NICCM stands for\, which is having a personal c
 ommitment to continued growth and excellence.&nbsp\; This session will out
 line methods for establishing a personal growth plan and how to coach your
  staff to develop their own personal growth plan.&nbsp\;&nbsp\;</span></sp
 an> </span> </span></div>\n<div>&nbsp\;</div>\n<div>&nbsp\;</div>\n<p>&nbs
 p\;</p>\n<div>&nbsp\;</div>\n<div>&nbsp\;</div>\n<div>\n<h4 style='font-si
 ze: 11px\; color: #000000\; text-align: center\;'><span style='font-size: 
 xx-large\;'>Participants may earn up to 10 hours.&nbsp\;</span></h4>\n<p><
 span style='font-size: xx-large\;'></span></p>\n</div>\n<div>&nbsp\;&nbsp\
 ;</div>\n<p style='text-align: center\;'><span style='color: #719603\; fon
 t-size: 24pt\;'><a href='http://handprint.niccm.com/products/leadership-re
 treat.html' target='_self' title='Director Credential Registration'><span 
 style='color: #719603\;'><strong>Click Here To Register Online</strong></s
 pan></a></span></p>\n<p style='text-align: center\;'><span style='color: #
 719603\;'></span></p>\n<p style='text-align: center\;'><span style='color:
  #719603\;'><strong><span style='font-size: 14pt\;'><a href='images/storie
 s/Leadership%20Registration%20Form.pdf'><span style='color: #719603\;'></s
 pan></a></span></strong></span></p>\n<p><span style='color: #719603\;'><st
 rong>&nbsp\;</strong></span></p>\n<p>&nbsp\;</p>\n<p><span style='font-siz
 e: 12pt\;'><span style='font-weight: normal\;'><span style='font-size: 18p
 t\;'></span></span></span></p>
DTSTART:20230727T080000Z
DTEND:20230727T170000Z
SUMMARY:Leadership Retreat - Orlando\, FL  2023
URL:https://niccm.com/all-upcoming-events/782-leadership-retreat-orlando-fl
 -2023
END:VEVENT
END:VCALENDAR
