BEGIN:VCALENDAR
VERSION:2.0
PRODID:-//https://niccm.com//NONSGML kigkonsult.se iCalcreator 2.23.20//
METHOD:PUBLISH
X-WR-CALNAME:JCal Pro Calendar
X-WR-CALDESC:Your online events calendar
X-WR-TIMEZONE:UTC
BEGIN:VTIMEZONE
TZID:UTC
BEGIN:STANDARD
DTSTART:20260425T131443
TZOFFSETFROM:+0000
TZOFFSETTO:+0000
END:STANDARD
END:VTIMEZONE
BEGIN:VEVENT
UID:20230727T080000UTC-9121LXNHH0@https://niccm.com/
DTSTAMP:20260425T131443Z
CATEGORIES:Past NICCM Events
DESCRIPTION:<p style='text-align: center\;'><span style='color: #000000\;'>
 &nbsp\;<span class='font-family-helvetica' style='font-size: small\;'><spa
 n style='font-size: 70pt\;'><strong><span style='font-size: 36pt\;'>$129</
 span></strong></span></span><strong style='color: #000000\; font-family: a
 rial\, helvetica\, sans-serif\; text-align: center\; font-size: 1rem\;'><s
 pan style='font-size: x-small\;'>&nbsp\; <span style='font-size: 24pt\;'>&
 nbsp\;<span style='font-size: 24pt\;'>Exclusive&nbsp\;</span><span style='
 font-size: x-small\;'></span><span style='color: #000000\;'></span>One Day
 </span></span><span style='font-size: 24pt\;'></span></strong><strong styl
 e='color: #000000\; font-family: arial\, helvetica\, sans-serif\; text-ali
 gn: center\; font-size: 1rem\;'><span style='font-size: 24pt\;'>Leadership
  Retreat</span></strong></span></p>\n<h2 style='text-align: center\;'><spa
 n style='font-size: 18pt\;'>with Bradley Smith</span></h2>\n<p>&nbsp\;</p>
 \n<p><span style='font-family: arial\, helvetica\, sans-serif\; color: #00
 0000\;'></span></p>\n<h4 style='text-align: center\;'><span style='font-fa
 mily: arial\, helvetica\, sans-serif\; color: #000000\;'><strong style='fo
 nt-size: 26pt\;'>August 3rd\, 2023 - Dallas\, TX&nbsp\;</strong></span></h
 4>\n<h4 style='text-align: center\;'><span style='font-size: 18pt\; color:
  #000000\;'>(8am - 5pm)&nbsp\;</span></h4>\n<p>&nbsp\;</p>\n<p style='text
 -align: center\;'><span style='color: #000000\;'></span></p>\n<div><span s
 tyle='color: #000000\;'></span></div>\n<div><span style='font-size: 18pt\;
  font-family: arial\, helvetica\, sans-serif\; color: #000000\;'><strong>L
 ocation/Hotel:</strong></span></div>\n<div><span style='color: #000000\;'>
 </span></div>\n<div>\n<p style='background-color: transparent\; margin: 2p
 x 0px\; padding: 0px\; border: 0px\; outline: 0px\; font-size: 12px\; colo
 r: #505f69\; font-family: Helvetica\, Arial\, FreeSans\, sans-serif\;'><sp
 an style='font-family: arial\, helvetica\, sans-serif\; font-size: large\;
  color: #505f69\;'>Embassy Suites Hotel - Dallas Love Field </span></p>\n<
 p style='background-color: transparent\; margin: 2px 0px\; padding: 0px\; 
 border: 0px\; outline: 0px\; font-size: 12px\; color: #505f69\; font-famil
 y: Helvetica\, Arial\, FreeSans\, sans-serif\;'><span style='font-family: 
 arial\, helvetica\, sans-serif\; font-size: large\; color: #505f69\;'>3880
  W. Northwest Highway </span></p>\n<p style='background-color: transparent
 \; margin: 2px 0px\; padding: 0px\; border: 0px\; outline: 0px\; font-size
 : 12px\; color: #505f69\; font-family: Helvetica\, Arial\, FreeSans\, sans
 -serif\;'><span style='font-family: arial\, helvetica\, sans-serif\; font-
 size: large\; color: #505f69\;'>Dallas\, TX &nbsp\;75220</span></p>\n<p st
 yle='background-color: transparent\; margin: 2px 0px\; padding: 0px\; bord
 er: 0px\; outline: 0px\; font-size: 12px\; color: #505f69\; font-family: H
 elvetica\, Arial\, FreeSans\, sans-serif\;'><span style='margin: 0px\; pad
 ding: 0px\; border: 0px\; outline: 0px\; font-size: 14pt\; background-colo
 r: transparent\; font-family: arial\, helvetica\, sans-serif\; color: #505
 f69\;'>(214) 357-4500</span></p>\n<address><span style='color: #505f69\; f
 ont-family: arial\, helvetica\, sans-serif\; font-size: 14pt\;'>Reservatio
 ns&nbsp\;<a href='https://www.hilton.com/en/book/reservation/deeplink/?cty
 hocn=DALLFES&amp\;groupCode=CESNC1&amp\;arrivaldate=2023-08-04&amp\;depart
 uredate=2023-08-08&amp\;cid=OM\,WW\,HILTONLINK\,EN\,DirectLink&amp\;fromId
 =HILTONLINKDIRECT'>Hilton.com&nbsp\;</a></span></address><address>&nbsp\;<
 /address></div>\n<div style='text-align: center\;'><span style='color: #33
 3333\; font-size: 14pt\;'> <span style='font-family: arial\, helvetica\, s
 ans-serif\;'>&nbsp\;&nbsp\;</span><span style='font-family: arial\, helvet
 ica\, sans-serif\;'><span style='font-family: inherit\; background-color: 
 inherit\;'></span></span></span></div>\n<article>\n<p style='text-align: j
 ustify\;'><span style='font-family: Arial\; font-size: 14pt\; color: #3333
 33\;'><strong>THE NICCM 2023 LEADERSHIP RETREAT</strong> is structured to 
 be a vision casting and TEAM building event.&nbsp\; Whether attending solo
  or with a group\, this day is guaranteed to be highly motivational and pr
 ovide all participants with numerous takeaways that will positively impact
  their program.&nbsp\;</span></p>\n<p><span style='color: #333333\; font-s
 ize: 14pt\;'></span></p>\n</article>\n<article>\n<p><span style='font-fami
 ly: arial\, helvetica\, sans-serif\; color: #000000\;'><span style='font-s
 ize: small\;'><strong><span style='font-size: 12pt\;'><span style='font-si
 ze: 18pt\;'>LEARN:&nbsp\;</span></span></strong><span style='font-family: 
 Arial\; font-size: 12pt\; background-color: inherit\;'>Learning is essesnt
 ial to continued success in an early education program. Early Education is
  a quickly changing industrly with evershiftling challenges. The successfu
 l administrator is also constantly learning and adapting to meet these cha
 llenges. &nbsp\;</span></span></span></p>\n<p><span style='color: #000000\
 ;'></span></p>\n</article>\n<p><span style='color: #000000\;'><span style=
 'font-size: 12pt\; font-family: Arial\;'><strong style='font-size: 14pt\; 
 font-family: arial\, helvetica\, sans-serif\;'><span style='font-size: 18p
 t\;'>LEAD:</span>&nbsp\;</strong><span style='font-size: 12pt\; font-famil
 y: Arial\;'>A&nbsp\;</span>collaborative TEAM environment is imperative to
  a continued successful program.&nbsp\; The LEAD session will focus on met
 hods of leadership that will minimize turnover and increase TEAM and staff
  morale.&nbsp\; Topics covered will include:&nbsp\; Understanding the Natu
 re of Influence in order to create “buy-in” and using these concepts to bu
 ild your very own Leadership team that will behave like leaders.</span><sp
 an style='font-family: Arial\; font-size: 12pt\; background-color: inherit
 \;'>&nbsp\;&nbsp\;</span></span></p>\n<p><span style='color: #000000\;'></
 span></p>\n<div><span style='font-family: arial\, helvetica\, sans-serif\;
  color: #000000\;'><span style='font-family: arial\, helvetica\, sans-seri
 f\;'><strong><strong><span style='font-size: 12pt\;'><span style='font-siz
 e: 18pt\;'>Grow:</span> </span> </strong> </strong><span style='font-size:
  12pt\;'>&nbsp\;<span style='font-size: 12pt\; font-family: Arial\;'>Cente
 r growth and continued program growth are vital for the 21st century progr
 am. This session will highlight and target organizational growth. The focu
 s will be on strategies to remove the attendance highs and lows of the pro
 gram and bring consistent stability to enrollment and staffing.</span></sp
 an></span></span></div>\n<div><span style='color: #000000\;'></span></div>
 \n<div><span style='color: #000000\;'></span></div>\n<div><span style='fon
 t-family: arial\, helvetica\, sans-serif\; color: #000000\;'><span style='
 font-family: arial\, helvetica\, sans-serif\;'><strong><strong><span style
 ='font-size: 12pt\;'><span style='font-size: 18pt\;'>REPEAT:</span> </span
 > </strong> </strong><span style='font-size: 12pt\;'>&nbsp\;<span style='f
 ont-size: 12pt\; font-family: Arial\;'>This session is at the foundation o
 f what NICCM stands for\, which is having a personal commitment to continu
 ed growth and excellence.&nbsp\; This session will outline methods for est
 ablishing a personal growth plan and how to coach your staff to develop th
 eir own personal growth plan.&nbsp\;&nbsp\;</span></span> </span> </span><
 /div>\n<div>&nbsp\;</div>\n<div>&nbsp\;</div>\n<p>&nbsp\;</p>\n<div>&nbsp\
 ;</div>\n<div>&nbsp\;</div>\n<div>\n<h4 style='font-size: 11px\; color: #0
 00000\; text-align: center\;'><span style='font-size: xx-large\;'>Particip
 ants may earn up to 10 hours.&nbsp\;</span></h4>\n<p><span style='font-siz
 e: xx-large\;'></span></p>\n</div>\n<div>&nbsp\;&nbsp\;</div>\n<p style='t
 ext-align: center\;'><span style='color: #719603\; font-size: 24pt\;'><a h
 ref='http://handprint.niccm.com/products/leadership-retreat.html' target='
 _self' title='Director Credential Registration'><span style='color: #71960
 3\;'><strong>Click Here To Register Online</strong></span></a></span></p>
 \n<p style='text-align: center\;'><span style='color: #719603\;'></span></
 p>\n<p style='text-align: center\;'><span style='color: #719603\;'><strong
 ><span style='font-size: 14pt\;'><a href='images/stories/Leadership%20Regi
 stration%20Form.pdf'><span style='color: #719603\;'></span></a></span></st
 rong></span></p>\n<p><span style='color: #719603\;'><strong>&nbsp\;</stron
 g></span></p>\n<p>&nbsp\;</p>\n<p><span style='font-size: 12pt\;'><span st
 yle='font-weight: normal\;'><span style='font-size: 18pt\;'></span></span>
 </span></p>
DTSTART:20230803T080000Z
DTEND:20230803T170000Z
SUMMARY:Leadership Retreat - Dallas\, TX  2023
URL:https://niccm.com/all-upcoming-events/783-leadership-retreat-dallas-tx-
 2023
END:VEVENT
END:VCALENDAR
