BEGIN:VCALENDAR
VERSION:2.0
PRODID:-//https://niccm.com//NONSGML kigkonsult.se iCalcreator 2.23.20//
METHOD:PUBLISH
X-WR-CALNAME:JCal Pro Calendar
X-WR-CALDESC:Your online events calendar
X-WR-TIMEZONE:UTC
BEGIN:VTIMEZONE
TZID:UTC
BEGIN:STANDARD
DTSTART:20260425T131411
TZOFFSETFROM:+0000
TZOFFSETTO:+0000
END:STANDARD
END:VTIMEZONE
BEGIN:VEVENT
UID:20230728T070000UTC-8583ZrIxVh@https://niccm.com/
DTSTAMP:20260425T131411Z
CATEGORIES:Past NICCM Events
DESCRIPTION:<h1 style='color: #000000\; visibility: visible\; text-align: c
 enter\;'><span style='font-family: arial\, helvetica\, sans-serif\; font-s
 ize: 18pt\;'>CDA Fast Track&nbsp\;</span></h1>\n<h2 style='color: #000000\
 ; visibility: visible\; text-align: justify\;'><span style='font-size: 12p
 t\; font-family: arial\, helvetica\, sans-serif\;'><strong style='font-siz
 e: 18pt\;'>Location/Hotel:</strong></span>&nbsp\;</h2>\n<p style='backgrou
 nd-color: transparent\; margin: 2px 0px\; padding: 0px\; border: 0px\; out
 line: 0px\; font-size: 12px\; color: #505f69\; font-family: Helvetica\, Ar
 ial\, FreeSans\, sans-serif\;'><span style='font-family: arial\, helvetica
 \, sans-serif\; font-size: large\; color: #505f69\;'>Embassy Suites Hotel 
 - Dallas Love Field </span></p>\n<p style='background-color: transparent\;
  margin: 2px 0px\; padding: 0px\; border: 0px\; outline: 0px\; font-size: 
 12px\; color: #505f69\; font-family: Helvetica\, Arial\, FreeSans\, sans-s
 erif\;'><span style='font-family: arial\, helvetica\, sans-serif\; font-si
 ze: large\; color: #505f69\;'>3880 W. Northwest Highway </span></p>\n<p st
 yle='background-color: transparent\; margin: 2px 0px\; padding: 0px\; bord
 er: 0px\; outline: 0px\; font-size: 12px\; color: #505f69\; font-family: H
 elvetica\, Arial\, FreeSans\, sans-serif\;'><span style='font-family: aria
 l\, helvetica\, sans-serif\; font-size: large\; color: #505f69\;'>Dallas\,
  TX &nbsp\;75220</span></p>\n<p style='background-color: transparent\; mar
 gin: 2px 0px\; padding: 0px\; border: 0px\; outline: 0px\; font-size: 12px
 \; color: #505f69\; font-family: Helvetica\, Arial\, FreeSans\, sans-serif
 \;'><span style='margin: 0px\; padding: 0px\; border: 0px\; outline: 0px\;
  font-size: 14pt\; background-color: transparent\; font-family: arial\, he
 lvetica\, sans-serif\; color: #505f69\;'>(214) 357-4500</span></p>\n<addre
 ss><span style='color: #505f69\; font-family: arial\, helvetica\, sans-ser
 if\; font-size: 14pt\;'>Reservations&nbsp\;<a href='https://www.hilton.com
 /en/book/reservation/deeplink/?ctyhocn=DALLFES&amp\;groupCode=CESNC1&amp\;
 arrivaldate=2023-08-04&amp\;departuredate=2023-08-08&amp\;cid=OM\,WW\,HILT
 ONLINK\,EN\,DirectLink&amp\;fromId=HILTONLINKDIRECT'>Hilton.com&nbsp\; </a
 ></span></address>\n<p style='text-align: center\;'><a href='http://handpr
 int.niccm.com/products/cda-fast-track.html' title='Registration CDA Fast T
 rack '><span style='font-size: 18pt\;'><span style='margin: 0px\; padding:
  0px\; border: 0px\; outline: 0px\; background-color: transparent\; font-f
 amily: arial\, helvetica\, sans-serif\;'><span style='color: #ffffff\;'><s
 pan style='font-size: 19px\; padding: 3px 10px 4px\; background-color: #7b
 3b3b\;'><strong>Click Here To Register Online Now!</strong></span></span><
 /span></span></a></p>\n<p style='text-align: center\;'>&nbsp\;<span style=
 'font-size: 18pt\;'><span style='margin: 0px\; padding: 0px\; border: 0px\
 ; outline: 0px\; background-color: transparent\; font-family: arial\, helv
 etica\, sans-serif\;'>&nbsp\; &nbsp\; &nbsp\; &nbsp\; &nbsp\; &nbsp\; &nbs
 p\; &nbsp\; &nbsp\; &nbsp\; &nbsp\; &nbsp\; &nbsp\;&nbsp\;</span></span>&n
 bsp\;</p>\n<p style='text-align: center\;'>&nbsp\;</p>\n<div style='text-a
 lign: center\;'>\n<p style='visibility: visible\; text-align: justify\;'><
 span style='font-size: 12pt\; font-family: arial\, helvetica\, sans-serif\
 ;'><strong style='font-size: 18pt\;'>Course Content &amp\; Schedule:</stro
 ng></span>&nbsp\;</p>\n<p style='visibility: visible\; text-align: justify
 \;'>&nbsp\;</p>\n</div>\n<div style='text-align: justify\;'><span style='t
 ext-decoration: underline\;'><span style='font-size: large\;'><strong><spa
 n style='font-size: 14pt\;'>Friday\, August 4th\, 2023</span></strong></sp
 an></span></div>\n<div>&nbsp\;</div>\n<div><span style='font-size: 14pt\;'
 ><strong>Arrival and Check-In</strong>: 6:45am -7:00am <span style='font-s
 ize: 12pt\;'>(students must arrive and check-in 15 minutes before class)</
 span></span></div>\n<div style='padding-left: 30px\;'><span style='font-si
 ze: large\;'><strong><br /></strong></span><span style='font-size: 14pt\;'
 ><strong>C</strong></span><span style='font-size: 14pt\;'><strong>lass A</
 strong></span><span style='font-size: 14pt\;'>: 7:00am -12:00pm &nbsp\;<sp
 an style='font-size: 12pt\;'>(5 Contact Hours/.5 CEUs)</span></span></div>
 \n<div style='padding-left: 30px\;'>&nbsp\; &nbsp\; &nbsp\; &nbsp\; &nbsp\
 ;<span style='font-size: 12pt\;'><strong><span style='font-family: Arial\;
 '><span style='font-size: 14pt\;'>Introduction:</span>&nbsp\;</span>&nbsp\
 ;</strong> </span><span style='font-size: 12pt\;'><strong><span style='fon
 t-family: Arial\;'>Overview of the Course</span><span style='font-family: 
 Arial\;'>&nbsp\; &nbsp\;</span></strong></span></div>\n<div style='margin-
 left: 60px\;'>\n<p><span style='font-size: 14pt\;'><strong><span style='fo
 nt-family: Arial\;'>Unit 1: &nbsp\; &nbsp\; &nbsp\; &nbsp\; &nbsp\; &nbsp\
 ;</span>&nbsp\;&nbsp\;</strong></span><span style='font-size: 12pt\;'><str
 ong><span style='font-family: Arial\;'>Keys to Writing Statements</span> <
 /strong> </span></p>\n<p style='margin-left: 31px\;'><span style='font-siz
 e: 12pt\;'><strong><span style='font-family: Arial\;'>&nbsp\; &nbsp\; &nbs
 p\; &nbsp\; &nbsp\; &nbsp\; &nbsp\; &nbsp\; &nbsp\; &nbsp\; &nbsp\; &nbsp\
 ;Competency Statement 1:&nbsp\;&nbsp\;</span> </strong><span style='font-f
 amily: Arial\;'>Planning a safe and healthy learning environment</span></s
 pan></p>\n<p><span style='font-size: 14pt\;'><strong><span style='font-fam
 ily: Arial\;'>Unit 2: &nbsp\; &nbsp\; &nbsp\; &nbsp\; &nbsp\; &nbsp\; </sp
 an><span>&nbsp\;</span></strong></span><span style='font-size: 12pt\;'><st
 rong><span style='font-family: Arial\;'>Competency Statement 2:&nbsp\;&nbs
 p\;</span> </strong><span style='font-family: Arial\;'>Advancing children’
 s physical and intellectual development</span></span></p>\n</div>\n<div st
 yle='padding-left: 30px\;'><span style='font-size: 12pt\;'><br /><span sty
 le='font-size: 14pt\;'><strong>Class B:</strong>&nbsp\;12:30pm- 5:30pm &nb
 sp\;<span style='font-size: 12pt\;'>(5 Contact Hours/.5 CEUs)</span></span
 > </span></div>\n<div style='padding-left: 30px\;'><span style='font-size:
  14pt\;'><span style='font-size: 14pt\;'><strong><span style='font-family:
  Arial\;'>&nbsp\; &nbsp\; &nbsp\;</span></strong></span></span>\n<div styl
 e='padding-left: 30px\; text-align: justify\;'><span style='font-size: 14p
 t\;'><strong><span style='font-family: Arial\;'><span style='font-family: 
 arial\, helvetica\, sans-serif\; font-size: 14pt\;'>Unit 3:&nbsp\; &nbsp\;
 &nbsp\;</span></span></strong></span><span style='font-size: 14pt\; font-f
 amily: arial\, helvetica\, sans-serif\;'><strong>Competency Statement 3:&n
 bsp\;&nbsp\;</strong>Supporting children’s social and emotional developmen
 t</span></div>\n<div style='text-align: justify\;'><span style='font-famil
 y: arial\, helvetica\, sans-serif\; font-size: 14pt\;'>&nbsp\; &nbsp\; &nb
 sp\; </span><span style='font-family: arial\, helvetica\, sans-serif\;'><s
 trong style='font-family: arial\, helvetica\, sans-serif\; font-size: 12pt
 \; text-indent: -1in\; color: inherit\;'><span style='font-size: 14pt\;'>U
 nit 4:&nbsp\; &nbsp\;&nbsp\;</span><span style='font-size: 14pt\;'>Compete
 ncy Statement 4:&nbsp\;&nbsp\;</span></strong></span><span style='font-fam
 ily: arial\, helvetica\, sans-serif\; font-size: 14pt\;'>Establishing posi
 tive and productive relationships with families</span></div>\n<div style='
 text-align: justify\;'><span style='font-family: arial\, helvetica\, sans-
 serif\; font-size: 14pt\;'><strong>&nbsp\; &nbsp\; &nbsp\; Unit 5:&nbsp\; 
 &nbsp\;&nbsp\;</strong></span><span style='font-size: 14pt\;'><span style=
 'font-family: arial\, helvetica\, sans-serif\;'><strong>Competency Stateme
 nt 5:&nbsp\;&nbsp\;</strong></span><span style='font-family: arial\, helve
 tica\, sans-serif\;'>Ensuring a well-run purposeful program&nbsp\;</span><
 /span></div>\n<div style='text-align: justify\;'><span style='font-family:
  arial\, helvetica\, sans-serif\;'><strong><span style='font-family: arial
 \, helvetica\, sans-serif\; font-size: 14pt\;'>&nbsp\; &nbsp\; &nbsp\; Uni
 t 6:&nbsp\;&nbsp\; &nbsp\;</span><span style='font-size: 14pt\;'>Competenc
 y Statement 6:&nbsp\;&nbsp\;</span></strong><span style='font-size: 14pt\;
 '>Maintaining a commitment to professionalism</span></span></div>\n<div st
 yle='padding-left: 60px\;'>&nbsp\;</div>\n</div>\n<div style='padding-left
 : 60px\;'>\n<p style='margin-left: 1in\; text-indent: -1in\;'><span style=
 'font-family: Arial\; font-size: 12pt\;'><strong>Documenting Professional 
 Education</strong>&nbsp\;- 8 CDA Subject Areas</span><span style='font-siz
 e: 12pt\;'></span></p>\n</div>\n<div><span style='font-size: 12pt\;'><br /
 ></span><span style='text-decoration: underline\;'><span style='font-size:
  large\;'><strong><span style='font-size: 14pt\;'>Saturday\, August 5th\, 
 2023</span></strong></span></span></div>\n<div style='padding-left: 30px\;
 '>&nbsp\;</div>\n<div style='padding-left: 30px\;'><span style='font-size:
  14pt\;'><strong>Class C</strong><strong>:&nbsp\;</strong>8:00am-3:00pm&nb
 sp\;<span style='font-size: 12pt\;'>(7 Contact Hours/.7 CEUs)</span></span
 ></div>\n<div style='padding-left: 30px\;'><span style='font-size: 12pt\;'
 >&nbsp\;(arrivals will be staggered\, students will be scheduled in as ear
 ly as 8:00am)</span></div>\n<div style='padding-left: 30px\;'><span style=
 'font-size: 12pt\;'><strong><span style='font-family: Arial\;'><span style
 ='font-size: 14pt\;'>&nbsp\; &nbsp\; &nbsp\;</span></span></strong></span>
 </div>\n<div style='padding-left: 30px\;'><span style='font-size: 14pt\;'>
 <strong>Class D:&nbsp\;</strong>4:00pm - 7:00pm <span style='font-size: 12
 pt\;'>(3 Contact Hours/.3 CEUs)&nbsp\;</span></span></div>\n<div style='pa
 dding-left: 30px\;'><span style='font-size: 14pt\;'><span style='font-size
 : 14pt\;'></span><span style='font-size: 12pt\;'>(dissmissal will be stagg
 ered\, students will be dismissed throughout the evening)</span></span></d
 iv>\n<div>\n<div>&nbsp\;</div>\n<div style='padding-left: 30px\; text-alig
 n: center\;'><span style='font-size: 12pt\;'><span style='font-size: 12pt\
 ;'><strong><span style='font-family: Arial\;'><span style='font-size: 14pt
 \;'>C &amp\; D Class Content</span></span></strong></span></span>\n<div st
 yle='padding-left: 60px\;'>&nbsp\;</div>\n</div>\n<div style='padding-left
 : 30px\;'><span style='font-size: 12pt\;'><strong><span style='font-family
 : Arial\;'><span style='font-size: 14pt\;'>Directed Portfolio Lab:</span>&
 nbsp\;&nbsp\;</span> </strong><span style='font-family: Arial\;'>The Direc
 ted Portfolio Lab allows for individual consultation &amp\; one-on-one tim
 e with</span></span><span style='font-size: 12pt\;'><span style='font-fami
 ly: Arial\;'>&nbsp\;the &nbsp\; &nbsp\;</span></span></div>\n<div style='p
 adding-left: 30px\;'><span style='font-size: 12pt\;'><span style='font-fam
 ily: Arial\;'>instructor. &nbsp\;Participants will work on their portfolio
  and meet with the instructor to discuss their statements and</span></span
 ><span style='font-size: 12pt\;'><span style='font-family: Arial\;'>&nbsp\
 ;the </span></span><span style='font-size: 12pt\;'><span style='font-famil
 y: Arial\;'>documentation within their professional portfolio.</span></spa
 n></div>\n</div>\n<div style='padding-left: 30px\;'>\n<div style='padding-
 left: 30px\;'>&nbsp\;</div>\n<div style='padding-left: 30px\;'><strong sty
 le='font-size: 12pt\; text-indent: -1in\; color: inherit\; font-family: in
 herit\;'><span style='font-family: Arial\;'><span style='font-size: 12pt\;
 '>The Professional Philosophy Statement</span></span></strong></div>\n<div
 >&nbsp\;</div>\n<div style='padding-left: 30px\;'><span style='font-size: 
 12pt\;'><strong>Individual Consultations - allows one on one with instruct
 ors</strong></span></div>\n<div style='padding-left: 60px\;'>&nbsp\;</div>
 \n</div>\n<div style='padding-left: 60px\;'>&nbsp\;</div>\n<div><span styl
 e='font-size: 12pt\;'>&nbsp\;<span style='text-decoration: underline\;'><s
 pan style='font-size: 14pt\;'><strong>Sunday\, August 6th\, 2023</strong><
 /span></span></span></div>\n<div style='margin-left: 30px\;'><span style='
 font-size: large\;'><strong><br /></strong></span><span style='font-size: 
 14pt\;'><strong>Class E</strong><strong>:</strong>&nbsp\;8:00am-3:00pm</sp
 an><span style='font-size: 12pt\;'>&nbsp\;<span style='font-size: 12pt\;'>
 (7 Contact Hours/.7 CEUs)</span></span></div>\n<div style='margin-left: 30
 px\;'>\n<p style='margin-left: 1in\; text-indent: -1in\;'><span style='fon
 t-size: 14pt\;'><strong>Class F:</strong>&nbsp\;4:00pm-7:00pm&nbsp\;<span 
 style='background-color: inherit\; color: inherit\; font-family: inherit\;
  caret-color: auto\;'>(3 Contact Hours/.3 CEUs)</span></span></p>\n<p>&nbs
 p\;</p>\n</div>\n<div style='padding-left: 30px\; text-align: center\;'><s
 pan style='font-size: 12pt\;'><strong><span style='font-family: Arial\;'><
 span style='font-size: 14pt\;'><span style='font-size: 14pt\;'>E &amp\; F 
 Class Content</span><span style='font-family: Arial\;'></span><span style=
 'font-size: 12pt\;'></span><span style='font-size: 12pt\;'></span>&nbsp\; 
 &nbsp\; &nbsp\; </span></span></strong></span></div>\n<div style='padding-
 left: 30px\;'><span style='font-size: 12pt\;'><strong><span style='font-fa
 mily: Arial\;'><span style='font-size: 14pt\;'><span style='font-family: A
 rial\;'>&nbsp\; &nbsp\; &nbsp\; &nbsp\;<span style='font-size: 14pt\;'>Uni
 t 7:</span><span style='font-family: Arial\;'>&nbsp\;CDA Practice Exam&nbs
 p\;</span>&nbsp\;</span><span style='font-size: 12pt\;'></span></span></sp
 an></strong></span></div>\n<div style='padding-left: 30px\;'><span style='
 font-size: 12pt\;'><strong><span style='font-family: Arial\;'><span style=
 'font-size: 14pt\;'>&nbsp\; &nbsp\; &nbsp\; &nbsp\;Unit 8:</span>&nbsp\;</
 span></strong></span><span style='font-size: 14pt\;'><strong><span style='
 font-family: Arial\;'>I<strong>nstructions on completing the process</stro
 ng></span></strong></span></div>\n<div style='padding-left: 60px\;'>\n<p s
 tyle='margin-left: 1in\; text-indent: -1in\;'><span style='font-size: 12pt
 \;'><strong><span style='font-family: Arial\;'>&nbsp\; &nbsp\; &nbsp\; &nb
 sp\; &nbsp\; &nbsp\; &nbsp\; &nbsp\; &nbsp\; &nbsp\; &nbsp\; &nbsp\; &nbsp
 \;&nbsp\;</span></strong></span><span style='font-size: 12pt\;'><strong><s
 pan style='font-family: Arial\;'>Understanding the verification visit</spa
 n> </strong> </span></p>\n<p style='margin-left: 1in\; text-indent: -1in\;
 '><span style='font-size: 12pt\;'><strong><span style='font-family: Arial\
 ;'>&nbsp\; &nbsp\; &nbsp\; &nbsp\; &nbsp\; &nbsp\; &nbsp\; &nbsp\; &nbsp\;
  &nbsp\; &nbsp\; &nbsp\; &nbsp\;&nbsp\;<strong>The application process</st
 rong></span> </strong> </span></p>\n<p style='margin-left: 1in\; text-inde
 nt: -1in\;'><span style='font-size: 12pt\;'><strong><span style='font-fami
 ly: Arial\;'>&nbsp\; &nbsp\; &nbsp\; &nbsp\; &nbsp\; &nbsp\; &nbsp\; &nbsp
 \; &nbsp\; &nbsp\; &nbsp\; &nbsp\; &nbsp\; Choosing your PD Specialist</sp
 an> </strong> </span></p>\n<p style='margin-left: 1in\; text-indent: -1in\
 ;'><span style='font-size: 12pt\;'><strong><span style='font-family: Arial
 \;'>&nbsp\; &nbsp\; &nbsp\; &nbsp\; &nbsp\; &nbsp\; &nbsp\; &nbsp\; &nbsp\
 ; &nbsp\; &nbsp\; &nbsp\; &nbsp\;&nbsp\;</span></strong></span><span style
 ='font-size: 12pt\;'><strong><span style='font-family: Arial\;'>Finding a 
 Pearson Vue testing site&nbsp\;</span></strong></span></p>\n<p style='marg
 in-left: 1in\; text-indent: -1in\;'><span style='font-size: 12pt\;'><stron
 g><span style='font-family: Arial\;'>&nbsp\; &nbsp\; &nbsp\; </span></stro
 ng></span></p>\n<p style='text-align: center\;'><a href='http://handprint.
 niccm.com/products/cda-fast-track.html' title='Registration CDA Fast Track
  '><span style='font-size: 18pt\;'><span style='margin: 0px\; padding: 0px
 \; border: 0px\; outline: 0px\; background-color: transparent\; font-famil
 y: arial\, helvetica\, sans-serif\;'><span style='color: #ffffff\;'><span 
 style='font-size: 19px\; padding: 3px 10px 4px\; background-color: #7b3b3b
 \;'><strong>Click Here To Register Online Now!</strong></span></span></spa
 n></span></a></p>\n<p style='text-align: center\;'>&nbsp\;</p>\n<p style='
 text-align: center\;'>&nbsp\;</p>\n<footer></footer></div>\n<p style='text
 -align: center\;'><span style='font-size: 18pt\;'>&nbsp\; &nbsp\; &nbsp\; 
 &nbsp\;Call (602) 476-1422 for More Information&nbsp\;</span></p>\n<p>&nbs
 p\;&nbsp\;</p>
DTSTART:20230804T070000Z
DTEND:20230806T150000Z
SUMMARY:CDA Fast Track  - Dallas 823
URL:https://niccm.com/71-cda-fast-track/809-cda-fast-track-dallas-823
END:VEVENT
BEGIN:VEVENT
UID:20230728T160000UTC-0692dK5kLr@https://niccm.com/
DTSTAMP:20260425T131411Z
CATEGORIES:Past NICCM Events
DESCRIPTION:<h1 style='color: #000000\; visibility: visible\; text-align: c
 enter\;'>N.A.C. (National Administrator's Credential)</h1>\n<h2 style='col
 or: #000000\; visibility: visible\; text-align: justify\;'><span style='fo
 nt-size: 18pt\;'>Location/Hotel:</span>&nbsp\;&nbsp\;</h2>\n<p style='back
 ground-color: transparent\; margin: 2px 0px\; padding: 0px\; border: 0px\;
  outline: 0px\; font-size: 12px\; color: #505f69\; font-family: Helvetica\
 , Arial\, FreeSans\, sans-serif\;'><span style='font-family: arial\, helve
 tica\, sans-serif\; font-size: large\; color: #505f69\;'>Embassy Suites Ho
 tel - Dallas Love Field </span></p>\n<p style='background-color: transpare
 nt\; margin: 2px 0px\; padding: 0px\; border: 0px\; outline: 0px\; font-si
 ze: 12px\; color: #505f69\; font-family: Helvetica\, Arial\, FreeSans\, sa
 ns-serif\;'><span style='font-family: arial\, helvetica\, sans-serif\; fon
 t-size: large\; color: #505f69\;'>3880 W. Northwest Highway </span></p>\n<
 p style='background-color: transparent\; margin: 2px 0px\; padding: 0px\; 
 border: 0px\; outline: 0px\; font-size: 12px\; color: #505f69\; font-famil
 y: Helvetica\, Arial\, FreeSans\, sans-serif\;'><span style='font-family: 
 arial\, helvetica\, sans-serif\; font-size: large\; color: #505f69\;'>Dall
 as\, TX &nbsp\;75220</span></p>\n<p style='background-color: transparent\;
  margin: 2px 0px\; padding: 0px\; border: 0px\; outline: 0px\; font-size: 
 12px\; color: #505f69\; font-family: Helvetica\, Arial\, FreeSans\, sans-s
 erif\;'><span style='margin: 0px\; padding: 0px\; border: 0px\; outline: 0
 px\; font-size: 14pt\; background-color: transparent\; font-family: arial\
 , helvetica\, sans-serif\; color: #505f69\;'>(214) 357-4500</span></p>\n<p
  style='background-color: transparent\; margin: 2px 0px\; padding: 0px\; b
 order: 0px\; outline: 0px\; font-size: 12px\; color: #505f69\; font-family
 : Helvetica\, Arial\, FreeSans\, sans-serif\;'><span style='font-family: a
 rial\, helvetica\, sans-serif\; font-size: 14pt\;'>Reservations&nbsp\;<a h
 ref='https://www.hilton.com/en/book/reservation/deeplink/?ctyhocn=DALLFES&
 amp\;groupCode=CESNC1&amp\;arrivaldate=2023-08-04&amp\;departuredate=2023-
 08-08&amp\;cid=OM\,WW\,HILTONLINK\,EN\,DirectLink&amp\;fromId=HILTONLINKDI
 RECT'>Hilton.com&nbsp\; </a></span></p>\n<p style='text-align: center\;'><
 a href='http://handprint.niccm.com/products/national-florida-and-texas-dir
 ector-credential-n-a-c.html' title='Registration NAC '><span style='color:
  #ffffff\;'><span style='font-size: 19px\; padding: 3px 10px 4px\; backgro
 und-color: #7b3b3b\;'><strong>Click Here To Register Online Now!</strong><
 /span></span></a></p>\n<p>&nbsp\;</p>\n<p><span style='color: #000000\;'><
 strong style='font-size: 14pt\;'><span style='font-size: 18pt\;'>Schedule:
 </span></strong></span></p>\n<div><span style='color: #000000\;'><span sty
 le='text-decoration: underline\;'><strong><span style='font-size: 14pt\;'>
 Friday\, August 4th\, 2023</span></strong></span><strong><span style='font
 -size: 14pt\;'>&nbsp\; &nbsp\;</span></strong></span></div>\n<div>&nbsp\;<
 /div>\n<div><span style='font-size: 12pt\; color: #000000\;'><strong>Arriv
 al and Check-In:&nbsp\; </strong>3:45pm-4:00pm &nbsp\;</span><span style='
 color: #000000\;'><span style='color: #000000\;'>(Students must arrive and
  check-in at least 1 hour before class starts)</span></span></div>\n<div>&
 nbsp\;</div>\n<div><span style='color: #000000\;'></span></div>\n<div><spa
 n style='font-size: 12pt\; color: #000000\;'><strong>Session A: &nbsp\;</s
 trong>5:00pm-9:00pm&nbsp\;<span style='font-size: 10.6667px\;'>4</span><sp
 an style='font-size: 10.6667px\;'>&nbsp\;Contact Hours / .4 CEUs</span>&nb
 sp\;<span style='font-size: 8pt\;'>(For Sessions taken individually earn u
 p to 5 Contact Hours / .5 CEUs by completing 1 Praxis question)</span></sp
 an></div>\n<div style='padding-left: 30px\;'><span style='font-size: 12pt\
 ; color: #000000\;'>Unit 1: Fiscal Management&nbsp\;</span></div>\n<div st
 yle='padding-left: 30px\;'><span style='font-size: 12pt\; color: #000000\;
 '>Unit 2: Insurance for Your Center</span></div>\n<div>&nbsp\;</div>\n<div
  style='padding-left: 30px\;'><span style='color: #000000\;'></span></div>
 \n<div><span style='color: #000000\;'><span style='text-decoration: underl
 ine\;'><strong><span style='font-size: 14pt\;'>Saturday\, August 5th\, 202
 3</span></strong></span><span style='font-size: 8pt\;'>&nbsp\; &nbsp\;</sp
 an></span></div>\n<div>&nbsp\;</div>\n<div><span style='color: #000000\;'>
 </span></div>\n<div><span style='font-size: 12pt\; color: #000000\;'><stro
 ng>Session B:</strong>&nbsp\;&nbsp\;8:00am-12:00pm&nbsp\;<span style='font
 -size: 10.6667px\;'>4</span><span style='font-size: 10.6667px\;'>&nbsp\;Co
 ntact Hours / .4 CEUs&nbsp\;</span><span style='font-size: 8pt\;'>(For Ses
 sions taken individually earn up to 5 Contact Hours / .5 CEUs by completin
 g 1 Praxis question)</span></span></div>\n<div style='padding-left: 30px\;
 '><span style='font-size: 12pt\; color: #000000\;'>Unit 3: Hiring &amp\; T
 eacher Orientation</span></div>\n<div style='padding-left: 30px\;'><span s
 tyle='font-size: 12pt\; color: #000000\;'>Unit 4: Employee Handbooks &amp\
 ; Evals</span></div>\n<div style='padding-left: 30px\;'><span style='color
 : #000000\;'></span></div>\n<div><span style='font-size: 12pt\; color: #00
 0000\;'><strong>Session C:</strong>&nbsp\;&nbsp\;1:00pm-5:00pm &nbsp\;<spa
 n style='font-size: 10.6667px\;'>4</span><span style='font-size: 10.6667px
 \;'>&nbsp\;Contact Hours / .4 CEUs&nbsp\;</span><span style='font-size: 8p
 t\;'>(For Sessions taken individually earn up to 5 Contact Hours / .5 CEUs
  by completing 1 Praxis question)</span></span></div>\n<div style='padding
 -left: 30px\;'><span style='font-size: 12pt\; color: #000000\;'>Unit 5: Ce
 nter Management</span></div>\n<div style='padding-left: 30px\;'><span styl
 e='font-size: 12pt\; color: #000000\;'>Unit 6: Child Development - The Ess
 entials</span></div>\n<div>&nbsp\;</div>\n<div style='padding-left: 30px\;
 '><span style='color: #000000\;'></span></div>\n<div><span style='color: #
 000000\;'><span style='text-decoration: underline\;'><strong><span style='
 font-size: 14pt\;'>Sunday\, August 6th\, 2023</span></strong></span><stron
 g><span style='font-size: 14pt\;'>&nbsp\; &nbsp\;</span></strong></span></
 div>\n<div>&nbsp\;</div>\n<div><span style='color: #000000\;'></span></div
 >\n<div><span style='font-size: 12pt\; color: #000000\;'><strong>Session D
 : &nbsp\;</strong>8:00am-12:00pm&nbsp\;<span style='font-size: 10.6667px\;
 '>4</span><span style='font-size: 10.6667px\;'>&nbsp\;Contact Hours / .4 C
 EUs&nbsp\;</span><span style='font-size: 8pt\;'>(For Sessions taken indivi
 dually earn up to 5 Contact Hours / .5 CEUs by completing 1 Praxis questio
 n)</span></span></div>\n<div style='padding-left: 30px\;'><span style='fon
 t-size: 12pt\; color: #000000\;'>Unit 7: Dealing with Difficult Employees<
 /span></div>\n<div style='padding-left: 30px\;'><span style='font-size: 12
 pt\; color: #000000\;'>Unit 8: Administrative Leadership</span></div>\n<di
 v style='padding-left: 30px\;'><span style='color: #000000\;'></span></div
 >\n<div>\n<div><span style='font-size: 12pt\; color: #000000\;'><strong>Se
 ssion E: &nbsp\;</strong>1:00pm-5:00pm&nbsp\;<span style='font-size: 10.66
 67px\;'>4</span><span style='font-size: 10.6667px\;'>&nbsp\;Contact Hours 
 / .4 CEUs&nbsp\;</span><span style='font-size: 8pt\;'>(For Sessions taken 
 individually earn up to 5 Contact Hours / .5 CEUs by completing 1 Praxis q
 uestion)</span></span></div>\n<div style='padding-left: 30px\;'><span styl
 e='font-size: 12pt\; color: #000000\;'>Unit 9: The New Economy</span></div
 >\n<div style='padding-left: 30px\;'><span style='font-size: 12pt\; color:
  #000000\;'>Unit 10: Train the Trainer</span></div>\n<div>&nbsp\;</div>\n<
 div style='padding-left: 30px\;'><span style='color: #000000\;'></span></d
 iv>\n<div style='padding-left: 30px\;'><span style='color: #000000\;'>&nbs
 p\;&nbsp\;</span></div>\n</div>\n<div>\n<div><span style='color: #000000\;
  font-family: arial\, helvetica\, sans-serif\; font-size: 12pt\;'><strong>
 Session F: &nbsp\;Credential Praxis&nbsp\;</strong>(25 Contact Hours / 2.5
  CEUs)</span></div>\n<div><span style='color: #000000\; font-family: arial
 \, helvetica\, sans-serif\; font-size: 12pt\;'>When attending the full con
 ference\, each Session is worth 4 Hours/ .4 CEUs for a total of 20 hours f
 or sessions A-E. &nbsp\;Convert the 20 contact hours / 2 CEUs from attenda
 nce in sessions A-E into the NAC (which is worth 45 contact hours/4.5 CEUs
 ) by completing the Praxis. &nbsp\;Students will be assigned an instructor
  to advise them during the completion of their project from home if they h
 ave questions. Students also have the option of registering for tutoring t
 o complete their praxis during the event\, at a future event or to get add
 itional help from home on their praxis.&nbsp\;</span></div>\n</div>\n<div>
 <span style='color: #000000\;'></span></div>\n<div style='padding-left: 30
 px\;'><span style='color: #000000\;'></span></div>\n<div><span style='colo
 r: #000000\;'><span style='color: #993300\;'><strong style='font-family: a
 rial\, helvetica\, sans-serif\; font-size: 16px\;'><a href='http://handpri
 nt.niccm.com/products/national-administrators-credential-n-a-c-tutoring.ht
 ml' title='NAC Tutoring Registration '><span style='font-size: 12pt\; colo
 r: #993300\;'>Optional Tutoring ($160)</span></a>&nbsp\;&nbsp\;</strong></
 span><span style='font-family: arial\, helvetica\, sans-serif\; font-size:
  16px\;'>Students who elect to stay for tutoring will receive a list of ma
 terials to bring with them. &nbsp\;The presenter will provide individualiz
 ed assistance to each tutoring participant in order to help them put toget
 her and complete their Praxis. Tutoring allows students the&nbsp\;<strong>
 opportunity</strong>&nbsp\;of completing their test and praxis at the even
 t and&nbsp\;<strong>leave having earned their certificate</strong>. &nbsp\
 ;Those who wish to participate in tutoring are advised to register for thi
 s service at least 3 days prior to the event to obtain a list of suggested
  documentation. Tutoring is usually offered on Saturday and Sunday of each
  event from approximately 5:15 pm - 8:15 pm.</span></span></div>
DTSTART:20230804T160000Z
DTEND:20230806T210000Z
SUMMARY:NAC - Dallas 823
URL:https://niccm.com/70-upcoming-credential-courses/825-nac-dallas-823
END:VEVENT
END:VCALENDAR
