BEGIN:VCALENDAR
VERSION:2.0
PRODID:-//https://niccm.com//NONSGML kigkonsult.se iCalcreator 2.23.20//
METHOD:PUBLISH
X-WR-CALNAME:JCal Pro Calendar
X-WR-CALDESC:Your online events calendar
X-WR-TIMEZONE:UTC
BEGIN:VTIMEZONE
TZID:UTC
BEGIN:STANDARD
DTSTART:20260425T143454
TZOFFSETFROM:+0000
TZOFFSETTO:+0000
END:STANDARD
END:VTIMEZONE
BEGIN:VEVENT
UID:20230915T070000UTC-9800evVPKc@https://niccm.com/
DTSTAMP:20260425T143454Z
CATEGORIES:Past NICCM Events
DESCRIPTION:<h1 style='color: #000000\; visibility: visible\; text-align: c
 enter\;'><span style='font-family: arial\, helvetica\, sans-serif\; font-s
 ize: 18pt\;'>CDA Fast Track&nbsp\;</span></h1>\n<h2 style='color: #000000\
 ; visibility: visible\; text-align: justify\;'><span style='font-size: 12p
 t\; font-family: arial\, helvetica\, sans-serif\;'><strong style='font-siz
 e: 18pt\;'>Location/Hotel:</strong></span>&nbsp\;</h2>\n<p style='backgrou
 nd-color: transparent\; margin: 2px 0px\; padding: 0px\; border: 0px\; out
 line: 0px\; font-size: 12px\; color: #505f69\; font-family: Helvetica\, Ar
 ial\, FreeSans\, sans-serif\;'><span style='color: #000000\; font-family: 
 arial\, helvetica\, sans-serif\; font-size: 14pt\;'>Hilton Garden Inn - La
 ke Buena Vista&nbsp\;</span></p>\n<p><span style='color: #000000\; font-fa
 mily: arial\, helvetica\, sans-serif\; font-size: 14pt\;'>11400 Marabella 
 Palm Court</span></p>\n<p><span style='color: #000000\; font-family: arial
 \, helvetica\, sans-serif\; font-size: 14pt\;'>Orlando\, FL &nbsp\;32836</
 span></p>\n<p><span style='color: #000000\; font-family: arial\, helvetica
 \, sans-serif\; font-size: 14pt\;'>(407) 239- 9550</span></p>\n<p><span st
 yle='font-family: arial\, helvetica\, sans-serif\; font-size: 14pt\; color
 : #000000\;'>Reservations&nbsp\;<a href='https://www.hilton.com/en/book/re
 servation/deeplink/?ctyhocn=MCOBVGI&amp\;groupCode=NICCM5&amp\;arrivaldate
 =2023-09-19&amp\;departuredate=2023-09-25&amp\;cid=OM\,WW\,HILTONLINK\,EN\
 ,DirectLink&amp\;fromId=HILTONLINKDIRECT'>Hilton.com&nbsp\; </a></span></p
 >\n<p><span style='color: #0000ff\; font-size: 14pt\;'><span style='color:
  #000000\;'>Call for assistance if there aren't any available reservations
  on the link.</span>&nbsp\;</span></p>\n<p>&nbsp\;</p>\n<address><span sty
 le='font-family: arial\, helvetica\, sans-serif\;'></span></address>\n<p>&
 nbsp\;</p>\n<p style='text-align: center\;'><a href='http://handprint.nicc
 m.com/products/cda-fast-track.html' title='Registration CDA Fast Track '><
 span style='font-size: 18pt\;'><span style='margin: 0px\; padding: 0px\; b
 order: 0px\; outline: 0px\; background-color: transparent\; font-family: a
 rial\, helvetica\, sans-serif\;'><span style='color: #ffffff\;'><span styl
 e='font-size: 19px\; padding: 3px 10px 4px\; background-color: #7b3b3b\;'>
 <strong>Click Here To Register Online Now!</strong></span></span></span></
 span></a></p>\n<p style='text-align: center\;'>&nbsp\;<span style='font-si
 ze: 18pt\;'><span style='margin: 0px\; padding: 0px\; border: 0px\; outlin
 e: 0px\; background-color: transparent\; font-family: arial\, helvetica\, 
 sans-serif\;'>&nbsp\; &nbsp\; &nbsp\; &nbsp\; &nbsp\; &nbsp\; &nbsp\; &nbs
 p\; &nbsp\; &nbsp\; &nbsp\; &nbsp\; &nbsp\;&nbsp\;</span></span>&nbsp\;</p
 >\n<p style='text-align: center\;'>&nbsp\;</p>\n<div style='text-align: ce
 nter\;'>\n<p>&nbsp\;</p>\n<p style='visibility: visible\; text-align: just
 ify\;'><span style='font-size: 12pt\; font-family: arial\, helvetica\, san
 s-serif\;'><strong style='font-size: 18pt\;'>Course Content &amp\; Schedul
 e:</strong></span>&nbsp\;</p>\n<p style='visibility: visible\; text-align:
  justify\;'>&nbsp\;</p>\n</div>\n<div style='text-align: justify\;'><span 
 style='text-decoration: underline\;'><span style='font-size: large\;'><str
 ong><span style='font-size: 14pt\;'>Friday\, September 22nd\, 2023</span><
 /strong></span></span></div>\n<div>&nbsp\;</div>\n<div><span style='font-s
 ize: 14pt\;'><strong>Arrival and Check-In</strong>: 6:45am -7:00am <span s
 tyle='font-size: 12pt\;'>(students must arrive and check-in 15 minutes bef
 ore class)</span></span></div>\n<div style='padding-left: 30px\;'><span st
 yle='font-size: large\;'><strong><br /></strong></span><span style='font-s
 ize: 14pt\;'><strong>C</strong></span><span style='font-size: 14pt\;'><str
 ong>lass A</strong></span><span style='font-size: 14pt\;'>: 7:00am -12:00p
 m &nbsp\;<span style='font-size: 12pt\;'>(5 Contact Hours/.5 CEUs)</span><
 /span></div>\n<div style='padding-left: 30px\;'>&nbsp\; &nbsp\; &nbsp\; &n
 bsp\; &nbsp\;<span style='font-size: 12pt\;'><strong><span style='font-fam
 ily: Arial\;'><span style='font-size: 14pt\;'>Introduction:</span>&nbsp\;<
 /span>&nbsp\;</strong> </span><span style='font-size: 12pt\;'><strong><spa
 n style='font-family: Arial\;'>Overview of the Course</span><span style='f
 ont-family: Arial\;'>&nbsp\; &nbsp\;</span></strong></span></div>\n<div st
 yle='margin-left: 60px\;'>\n<p><span style='font-size: 14pt\;'><strong><sp
 an style='font-family: Arial\;'>Unit 1: &nbsp\; &nbsp\; &nbsp\; &nbsp\; &n
 bsp\; &nbsp\;</span>&nbsp\;&nbsp\;</strong></span><span style='font-size: 
 12pt\;'><strong><span style='font-family: Arial\;'>Keys to Writing Stateme
 nts</span> </strong> </span></p>\n<p style='margin-left: 31px\;'><span sty
 le='font-size: 12pt\;'><strong><span style='font-family: Arial\;'>&nbsp\; 
 &nbsp\; &nbsp\; &nbsp\; &nbsp\; &nbsp\; &nbsp\; &nbsp\; &nbsp\; &nbsp\; &n
 bsp\; &nbsp\;Competency Statement 1:&nbsp\;&nbsp\;</span> </strong><span s
 tyle='font-family: Arial\;'>Planning a safe and healthy learning environme
 nt</span></span></p>\n<p><span style='font-size: 14pt\;'><strong><span sty
 le='font-family: Arial\;'>Unit 2: &nbsp\; &nbsp\; &nbsp\; &nbsp\; &nbsp\; 
 &nbsp\; </span><span>&nbsp\;</span></strong></span><span style='font-size:
  12pt\;'><strong><span style='font-family: Arial\;'>Competency Statement 2
 :&nbsp\;&nbsp\;</span> </strong><span style='font-family: Arial\;'>Advanci
 ng children’s physical and intellectual development</span></span></p>\n</d
 iv>\n<div style='padding-left: 30px\;'><span style='font-size: 12pt\;'><br
  /><span style='font-size: 14pt\;'><strong>Class B:</strong>&nbsp\;12:30pm
 - 5:30pm &nbsp\;<span style='font-size: 12pt\;'>(5 Contact Hours/.5 CEUs)<
 /span></span> </span></div>\n<div style='padding-left: 30px\;'><span style
 ='font-size: 14pt\;'><span style='font-size: 14pt\;'><strong><span style='
 font-family: Arial\;'>&nbsp\; &nbsp\; &nbsp\;</span></strong></span></span
 >\n<div style='padding-left: 30px\; text-align: justify\;'><span style='fo
 nt-size: 14pt\;'><strong><span style='font-family: Arial\;'><span style='f
 ont-family: arial\, helvetica\, sans-serif\; font-size: 14pt\;'>Unit 3:&nb
 sp\; &nbsp\;&nbsp\;</span></span></strong></span><span style='font-size: 1
 4pt\; font-family: arial\, helvetica\, sans-serif\;'><strong>Competency St
 atement 3:&nbsp\;&nbsp\;</strong>Supporting children’s social and emotiona
 l development</span></div>\n<div style='text-align: justify\;'><span style
 ='font-family: arial\, helvetica\, sans-serif\; font-size: 14pt\;'>&nbsp\;
  &nbsp\; &nbsp\; </span><span style='font-family: arial\, helvetica\, sans
 -serif\;'><strong style='font-family: arial\, helvetica\, sans-serif\; fon
 t-size: 12pt\; text-indent: -1in\; color: inherit\;'><span style='font-siz
 e: 14pt\;'>Unit 4:&nbsp\; &nbsp\;&nbsp\;</span><span style='font-size: 14p
 t\;'>Competency Statement 4:&nbsp\;&nbsp\;</span></strong></span><span sty
 le='font-family: arial\, helvetica\, sans-serif\; font-size: 14pt\;'>Estab
 lishing positive and productive relationships with families</span></div>\n
 <div style='text-align: justify\;'><span style='font-family: arial\, helve
 tica\, sans-serif\; font-size: 14pt\;'><strong>&nbsp\; &nbsp\; &nbsp\; Uni
 t 5:&nbsp\; &nbsp\;&nbsp\;</strong></span><span style='font-size: 14pt\;'>
 <span style='font-family: arial\, helvetica\, sans-serif\;'><strong>Compet
 ency Statement 5:&nbsp\;&nbsp\;</strong></span><span style='font-family: a
 rial\, helvetica\, sans-serif\;'>Ensuring a well-run purposeful program&nb
 sp\;</span></span></div>\n<div style='text-align: justify\;'><span style='
 font-family: arial\, helvetica\, sans-serif\;'><strong><span style='font-f
 amily: arial\, helvetica\, sans-serif\; font-size: 14pt\;'>&nbsp\; &nbsp\;
  &nbsp\; Unit 6:&nbsp\;&nbsp\; &nbsp\;</span><span style='font-size: 14pt\
 ;'>Competency Statement 6:&nbsp\;&nbsp\;</span></strong><span style='font-
 size: 14pt\;'>Maintaining a commitment to professionalism</span></span></d
 iv>\n<div style='padding-left: 60px\;'>&nbsp\;</div>\n</div>\n<div style='
 padding-left: 60px\;'>\n<p>&nbsp\;<span style='font-family: Arial\; font-s
 ize: 12pt\;'><strong>Documenting Professional Education</strong>&nbsp\;- 8
  CDA Subject Areas</span><span style='font-size: 12pt\;'></span></p>\n</di
 v>\n<div><span style='font-size: 12pt\;'><br /></span><span style='text-de
 coration: underline\;'><span style='font-size: large\;'><strong><span styl
 e='font-size: 14pt\;'>Saturday\, September 23rd\, 2023</span></strong></sp
 an></span></div>\n<div style='padding-left: 30px\;'>&nbsp\;</div>\n<div st
 yle='padding-left: 30px\;'><span style='font-size: 14pt\;'><strong>Class C
 </strong><strong>:&nbsp\;</strong>8:00am-3:00pm&nbsp\;<span style='font-si
 ze: 12pt\;'>(7 Contact Hours/.7 CEUs)</span></span></div>\n<div style='pad
 ding-left: 30px\;'><span style='font-size: 12pt\;'>&nbsp\;(arrivals will b
 e staggered\, students will be scheduled in as early as 8:00am)</span></di
 v>\n<div style='padding-left: 30px\;'><span style='font-size: 12pt\;'><str
 ong><span style='font-family: Arial\;'><span style='font-size: 14pt\;'>&nb
 sp\; &nbsp\; &nbsp\;</span></span></strong></span></div>\n<div style='padd
 ing-left: 30px\;'><span style='font-size: 14pt\;'><strong>Class D:&nbsp\;<
 /strong>4:00pm - 7:00pm <span style='font-size: 12pt\;'>(3 Contact Hours/.
 3 CEUs)&nbsp\;</span></span></div>\n<div style='padding-left: 30px\;'><spa
 n style='font-size: 14pt\;'><span style='font-size: 14pt\;'></span><span s
 tyle='font-size: 12pt\;'>(dissmissal will be staggered\, students will be 
 dismissed throughout the evening)</span></span></div>\n<div>\n<div>&nbsp\;
 </div>\n<div style='padding-left: 30px\; text-align: center\;'><span style
 ='font-size: 12pt\;'><span style='font-size: 12pt\;'><strong><span style='
 font-family: Arial\;'><span style='font-size: 14pt\;'>C &amp\; D Class Con
 tent</span></span></strong></span></span>\n<div style='padding-left: 60px\
 ;'>&nbsp\;</div>\n</div>\n<div style='padding-left: 30px\;'><span style='f
 ont-size: 12pt\;'><strong><span style='font-family: Arial\;'><span style='
 font-size: 14pt\;'>Directed Portfolio Lab:</span>&nbsp\;&nbsp\;</span> </s
 trong><span style='font-family: Arial\;'>The Directed Portfolio Lab allows
  for individual consultation &amp\; one-on-one time with</span></span><spa
 n style='font-size: 12pt\;'><span style='font-family: Arial\;'>&nbsp\;the 
 &nbsp\; &nbsp\;</span></span></div>\n<div style='padding-left: 30px\;'><sp
 an style='font-size: 12pt\;'><span style='font-family: Arial\;'>instructor
 . &nbsp\;Participants will work on their portfolio and meet with the instr
 uctor to discuss their statements and</span></span><span style='font-size:
  12pt\;'><span style='font-family: Arial\;'>&nbsp\;the </span></span></div
 >\n<div style='padding-left: 30px\;'><span style='font-size: 12pt\;'><span
  style='font-family: Arial\;'>documentation within their professional port
 folio.</span></span></div>\n</div>\n<div style='padding-left: 30px\;'>\n<d
 iv style='padding-left: 30px\;'>&nbsp\;</div>\n<div style='padding-left: 3
 0px\;'><strong style='font-size: 12pt\; text-indent: -1in\; color: inherit
 \; font-family: inherit\;'><span style='font-family: Arial\;'><span style=
 'font-size: 12pt\;'>The Professional Philosophy Statement</span></span></s
 trong></div>\n<div>&nbsp\;</div>\n<div style='padding-left: 30px\;'><span 
 style='font-size: 12pt\;'><strong>Individual Consultations - allows one on
  one with instructors</strong></span></div>\n<div style='padding-left: 60p
 x\;'>&nbsp\;</div>\n</div>\n<div style='padding-left: 60px\;'>&nbsp\;</div
 >\n<div><span style='font-size: 12pt\;'>&nbsp\;<span style='text-decoratio
 n: underline\;'><span style='font-size: 14pt\;'><strong>Sunday\, September
  24th\, 2023</strong></span></span></span></div>\n<div style='margin-left:
  30px\;'><span style='font-size: large\;'><strong><br /></strong></span><s
 pan style='font-size: 14pt\;'><strong>Class E</strong><strong>:</strong>&n
 bsp\;8:00am-3:00pm</span><span style='font-size: 12pt\;'>&nbsp\;<span styl
 e='font-size: 12pt\;'>(7 Contact Hours/.7 CEUs)</span></span></div>\n<div 
 style='margin-left: 30px\;'>\n<p style='margin-left: 1in\; text-indent: -1
 in\;'><span style='font-size: 14pt\;'><strong>Class F:</strong>&nbsp\;4:00
 pm-7:00pm&nbsp\;<span style='background-color: inherit\; color: inherit\; 
 font-family: inherit\; caret-color: auto\;'>(3 Contact Hours/.3 CEUs)</spa
 n></span></p>\n<p>&nbsp\;</p>\n</div>\n<div style='padding-left: 30px\; te
 xt-align: center\;'><span style='font-size: 12pt\;'><strong><span style='f
 ont-family: Arial\;'><span style='font-size: 14pt\;'><span style='font-siz
 e: 14pt\;'>E &amp\; F Class Content</span><span style='font-family: Arial\
 ;'></span><span style='font-size: 12pt\;'></span><span style='font-size: 1
 2pt\;'></span>&nbsp\; &nbsp\; &nbsp\; </span></span></strong></span></div>
 \n<div style='padding-left: 30px\;'><span style='font-size: 12pt\;'><stron
 g><span style='font-family: Arial\;'><span style='font-size: 14pt\;'><span
  style='font-family: Arial\;'>&nbsp\; &nbsp\; &nbsp\; &nbsp\;<span style='
 font-size: 14pt\;'>Unit 7:</span><span style='font-family: Arial\;'>&nbsp\
 ;CDA Practice Exam&nbsp\;</span>&nbsp\;</span><span style='font-size: 12pt
 \;'></span></span></span></strong></span></div>\n<div style='padding-left:
  30px\;'><span style='font-size: 12pt\;'><strong><span style='font-family:
  Arial\;'><span style='font-size: 14pt\;'>&nbsp\; &nbsp\; &nbsp\; &nbsp\;U
 nit 8:</span>&nbsp\;</span></strong></span><span style='font-size: 14pt\;'
 ><strong><span style='font-family: Arial\;'>I<strong>nstructions on comple
 ting the process</strong></span></strong></span></div>\n<div style='paddin
 g-left: 60px\;'>\n<p style='margin-left: 1in\; text-indent: -1in\;'><span 
 style='font-size: 12pt\;'><strong><span style='font-family: Arial\;'>&nbsp
 \; &nbsp\; &nbsp\; &nbsp\; &nbsp\; &nbsp\; &nbsp\; &nbsp\; &nbsp\; &nbsp\;
  &nbsp\; &nbsp\; &nbsp\;&nbsp\;</span></strong></span><span style='font-si
 ze: 12pt\;'><strong><span style='font-family: Arial\;'>Understanding the v
 erification visit</span> </strong> </span></p>\n<p style='margin-left: 1in
 \; text-indent: -1in\;'><span style='font-size: 12pt\;'><strong><span styl
 e='font-family: Arial\;'>&nbsp\; &nbsp\; &nbsp\; &nbsp\; &nbsp\; &nbsp\; &
 nbsp\; &nbsp\; &nbsp\; &nbsp\; &nbsp\; &nbsp\; &nbsp\;&nbsp\;<strong>The a
 pplication process</strong></span> </strong> </span></p>\n<p style='margin
 -left: 1in\; text-indent: -1in\;'><span style='font-size: 12pt\;'><strong>
 <span style='font-family: Arial\;'>&nbsp\; &nbsp\; &nbsp\; &nbsp\; &nbsp\;
  &nbsp\; &nbsp\; &nbsp\; &nbsp\; &nbsp\; &nbsp\; &nbsp\; &nbsp\; Choosing 
 your PD Specialist</span> </strong> </span></p>\n<p style='margin-left: 1i
 n\; text-indent: -1in\;'><span style='font-size: 12pt\;'><strong><span sty
 le='font-family: Arial\;'>&nbsp\; &nbsp\; &nbsp\; &nbsp\; &nbsp\; &nbsp\; 
 &nbsp\; &nbsp\; &nbsp\; &nbsp\; &nbsp\; &nbsp\; &nbsp\;&nbsp\;</span></str
 ong></span><span style='font-size: 12pt\;'><strong><span style='font-famil
 y: Arial\;'>Finding a Pearson Vue testing site&nbsp\;</span></strong></spa
 n></p>\n<p style='margin-left: 1in\; text-indent: -1in\;'><span style='fon
 t-size: 12pt\;'><strong><span style='font-family: Arial\;'>&nbsp\; &nbsp\;
  &nbsp\; </span></strong></span></p>\n<p style='text-align: center\;'><a h
 ref='http://handprint.niccm.com/products/cda-fast-track.html' title='Regis
 tration CDA Fast Track '><span style='font-size: 18pt\;'><span style='marg
 in: 0px\; padding: 0px\; border: 0px\; outline: 0px\; background-color: tr
 ansparent\; font-family: arial\, helvetica\, sans-serif\;'><span style='co
 lor: #ffffff\;'><span style='font-size: 19px\; padding: 3px 10px 4px\; bac
 kground-color: #7b3b3b\;'><strong>Click Here To Register Online Now!</stro
 ng></span></span></span></span></a></p>\n<p style='text-align: center\;'>&
 nbsp\;</p>\n<p style='text-align: center\;'>&nbsp\;</p>\n<footer></footer>
 </div>\n<p style='text-align: center\;'><span style='font-size: 18pt\;'>&n
 bsp\; &nbsp\; &nbsp\; &nbsp\;Call (602) 476-1422 for More Information&nbsp
 \;</span></p>\n<p>&nbsp\;&nbsp\;</p>
DTSTART:20230922T070000Z
DTEND:20230924T150000Z
SUMMARY:CDA Fast Track  - Orlando 923
URL:https://niccm.com/71-cda-fast-track/812-cda-fast-track-orlando-923
END:VEVENT
BEGIN:VEVENT
UID:20230915T160000UTC-8848l9eP32@https://niccm.com/
DTSTAMP:20260425T143454Z
CATEGORIES:Past NICCM Events
DESCRIPTION:<h1 style='color: #000000\; visibility: visible\; text-align: c
 enter\;'>N.A.C. (National Administrator's Credential)</h1>\n<h2 style='col
 or: #000000\; visibility: visible\; text-align: justify\;'><span style='fo
 nt-size: 18pt\;'>Location/Hotel:</span>&nbsp\;&nbsp\;</h2>\n<p style='back
 ground-color: transparent\; margin: 2px 0px\; padding: 0px\; border: 0px\;
  outline: 0px\; font-size: 12px\; color: #505f69\; font-family: Helvetica\
 , Arial\, FreeSans\, sans-serif\;'>&nbsp\;</p>\n<p style='background-color
 : transparent\; margin: 2px 0px\; padding: 0px\; border: 0px\; outline: 0p
 x\; font-size: 12px\; color: #505f69\; font-family: Helvetica\, Arial\, Fr
 eeSans\, sans-serif\;'><a href='https://www.hilton.com/en/book/reservation
 /deeplink/?ctyhocn=PBIPGES&amp\;groupCode=CESCCM&amp\;arrivaldate=2022-12-
 06&amp\;departuredate=2022-12-12&amp\;cid=OM\,WW\,HILTONLINK\,EN\,DirectLi
 nk&amp\;fromId=HILTONLINKDIRECT' style='font-size: 14pt\; background-color
 : inherit\; font-family: inherit\;'><span style='color: #000000\;'></span>
 </a><span style='font-family: arial\, helvetica\, sans-serif\; font-size: 
 14pt\;'><a href='https://www.hilton.com/en/book/reservation/rooms/?ctyhocn
 =PBIPGES&amp\;arrivalDate=2022-12-06&amp\;departureDate=2022-12-12&amp\;ro
 om1NumAdults=1&amp\;cid=OM%2CWW%2CHILTONLINK%2CEN%2CDirectLink' style='fon
 t-size: 14pt\; background-color: inherit\; font-family: inherit\; color: #
 000000\;'>Hilton Garden Inn - Lake Buena Vista&nbsp\;</a></span></p>\n<p><
 span style='color: #000000\; font-family: arial\, helvetica\, sans-serif\;
  font-size: 14pt\;'><a href='https://www.hilton.com/en/book/reservation/ro
 oms/?ctyhocn=PBIPGES&amp\;arrivalDate=2022-12-06&amp\;departureDate=2022-1
 2-12&amp\;room1NumAdults=1&amp\;cid=OM%2CWW%2CHILTONLINK%2CEN%2CDirectLink
 ' style='font-size: 14pt\; background-color: inherit\; font-family: inheri
 t\; color: #000000\;'>11400 Marabella Palm Court</a></span></p>\n<p><span 
 style='color: #000000\; font-family: arial\, helvetica\, sans-serif\; font
 -size: 14pt\;'><a href='https://www.hilton.com/en/book/reservation/rooms/?
 ctyhocn=PBIPGES&amp\;arrivalDate=2022-12-06&amp\;departureDate=2022-12-12&
 amp\;room1NumAdults=1&amp\;cid=OM%2CWW%2CHILTONLINK%2CEN%2CDirectLink' sty
 le='font-size: 14pt\; background-color: inherit\; font-family: inherit\; c
 olor: #000000\;'>Orlando\, FL &nbsp\;32836</a></span></p>\n<p><span style=
 'color: #000000\; font-family: arial\, helvetica\, sans-serif\; font-size:
  14pt\;'><a href='https://www.hilton.com/en/book/reservation/rooms/?ctyhoc
 n=PBIPGES&amp\;arrivalDate=2022-12-06&amp\;departureDate=2022-12-12&amp\;r
 oom1NumAdults=1&amp\;cid=OM%2CWW%2CHILTONLINK%2CEN%2CDirectLink' style='fo
 nt-size: 14pt\; background-color: inherit\; font-family: inherit\; color: 
 #000000\;'>(407) 239- 9550</a></span></p>\n<p><span style='font-family: ar
 ial\, helvetica\, sans-serif\; font-size: 14pt\; color: #000000\;'>Reserva
 tions&nbsp\;<a href='https://www.hilton.com/en/book/reservation/deeplink/?
 ctyhocn=MCOBVGI&amp\;groupCode=NICCM5&amp\;arrivaldate=2023-09-19&amp\;dep
 arturedate=2023-09-25&amp\;cid=OM\,WW\,HILTONLINK\,EN\,DirectLink&amp\;fro
 mId=HILTONLINKDIRECT'>Hilton.com&nbsp\; </a></span></p>\n<p><span style='c
 olor: #0000ff\; font-size: 14pt\;'><span style='color: #000000\;'>Call for
  assistance if there aren't any available reservations on the link.</span>
 &nbsp\;</span></p>\n<p>&nbsp\;</p>\n<address>&nbsp\;</address>\n<p><span s
 tyle='font-size: 14pt\; background-color: inherit\; color: inherit\; font-
 family: inherit\; caret-color: auto\;'></span></p>\n<p>&nbsp\;</p>\n<p sty
 le='text-align: center\;'><a href='http://handprint.niccm.com/products/nat
 ional-florida-and-texas-director-credential-n-a-c.html' title='Registratio
 n NAC '><span style='color: #ffffff\;'><span style='font-size: 19px\; padd
 ing: 3px 10px 4px\; background-color: #7b3b3b\;'><strong>Click Here To Reg
 ister Online Now!</strong></span></span></a></p>\n<p><span style='color: #
 000000\;'><strong style='font-size: 14pt\;'><span style='font-size: 18pt\;
 '>Schedule:</span></strong></span></p>\n<div><span style='color: #000000\;
 '><span style='text-decoration: underline\;'><strong><span style='font-siz
 e: 14pt\;'>Friday\, September 22nd 2023</span></strong></span><strong><spa
 n style='font-size: 14pt\;'>&nbsp\; &nbsp\;</span></strong></span></div>\n
 <div>&nbsp\;</div>\n<div><span style='font-size: 12pt\; color: #000000\;'>
 <strong>Arrival and Check-In:&nbsp\; </strong>3:45pm-4:00pm &nbsp\;</span>
 <span style='color: #000000\;'><span style='color: #000000\;'>(Students mu
 st arrive and check-in at least 1 hour before class starts)</span></span><
 /div>\n<div>&nbsp\;</div>\n<div><span style='color: #000000\;'></span></di
 v>\n<div><span style='font-size: 12pt\; color: #000000\;'><strong>Session 
 A: &nbsp\;</strong>5:00pm-9:00pm&nbsp\;<span style='font-size: 10.66666698
 4558105px\;'>4</span><span style='font-size: 10.666666984558105px\;'>&nbsp
 \;Contact Hours / .4 CEUs</span>&nbsp\;<span style='font-size: 8pt\;'>(For
  Sessions taken individually earn up to 5 Contact Hours / .5 CEUs by compl
 eting 1 Praxis question)</span></span></div>\n<div style='padding-left: 30
 px\;'><span style='font-size: 12pt\; color: #000000\;'>Unit 1: Fiscal Mana
 gement&nbsp\;</span></div>\n<div style='padding-left: 30px\;'><span style=
 'font-size: 12pt\; color: #000000\;'>Unit 2: Insurance for Your Center</sp
 an></div>\n<div>&nbsp\;</div>\n<div style='padding-left: 30px\;'><span sty
 le='color: #000000\;'></span></div>\n<div><span style='color: #000000\;'><
 span style='text-decoration: underline\;'><strong><span style='font-size: 
 14pt\;'>Saturday\, September 23rd\, 2023</span></strong></span><span style
 ='font-size: 8pt\;'>&nbsp\; &nbsp\;</span></span></div>\n<div>&nbsp\;</div
 >\n<div><span style='color: #000000\;'></span></div>\n<div><span style='fo
 nt-size: 12pt\; color: #000000\;'><strong>Session B:</strong>&nbsp\;&nbsp\
 ;8:00am-12:00pm&nbsp\;<span style='font-size: 10.666666984558105px\;'>4</s
 pan><span style='font-size: 10.666666984558105px\;'>&nbsp\;Contact Hours /
  .4 CEUs&nbsp\;</span><span style='font-size: 8pt\;'>(For Sessions taken i
 ndividually earn up to 5 Contact Hours / .5 CEUs by completing 1 Praxis qu
 estion)</span></span></div>\n<div style='padding-left: 30px\;'><span style
 ='font-size: 12pt\; color: #000000\;'>Unit 3: Hiring &amp\; Teacher Orient
 ation</span></div>\n<div style='padding-left: 30px\;'><span style='font-si
 ze: 12pt\; color: #000000\;'>Unit 4: Employee Handbooks &amp\; Evals</span
 ></div>\n<div style='padding-left: 30px\;'><span style='color: #000000\;'>
 </span></div>\n<div><span style='font-size: 12pt\; color: #000000\;'><stro
 ng>Session C:</strong>&nbsp\;&nbsp\;1:00pm-5:00pm &nbsp\;<span style='font
 -size: 10.666666984558105px\;'>4</span><span style='font-size: 10.66666698
 4558105px\;'>&nbsp\;Contact Hours / .4 CEUs&nbsp\;</span><span style='font
 -size: 8pt\;'>(For Sessions taken individually earn up to 5 Contact Hours 
 / .5 CEUs by completing 1 Praxis question)</span></span></div>\n<div style
 ='padding-left: 30px\;'><span style='font-size: 12pt\; color: #000000\;'>U
 nit 5: Center Management</span></div>\n<div style='padding-left: 30px\;'><
 span style='font-size: 12pt\; color: #000000\;'>Unit 6: Child Development 
 - The Essentials</span></div>\n<div>&nbsp\;</div>\n<div style='padding-lef
 t: 30px\;'><span style='color: #000000\;'></span></div>\n<div><span style=
 'color: #000000\;'><span style='text-decoration: underline\;'><strong><spa
 n style='font-size: 14pt\;'>Sunday\, September 24th\, 2023</span></strong>
 </span><strong><span style='font-size: 14pt\;'>&nbsp\; &nbsp\;</span></str
 ong></span></div>\n<div>&nbsp\;</div>\n<div><span style='color: #000000\;'
 ></span></div>\n<div><span style='font-size: 12pt\; color: #000000\;'><str
 ong>Session D: &nbsp\;</strong>8:00am-12:00pm&nbsp\;<span style='font-size
 : 10.666666984558105px\;'>4</span><span style='font-size: 10.6666669845581
 05px\;'>&nbsp\;Contact Hours / .4 CEUs&nbsp\;</span><span style='font-size
 : 8pt\;'>(For Sessions taken individually earn up to 5 Contact Hours / .5 
 CEUs by completing 1 Praxis question)</span></span></div>\n<div style='pad
 ding-left: 30px\;'><span style='font-size: 12pt\; color: #000000\;'>Unit 7
 : Dealing with Difficult Employees</span></div>\n<div style='padding-left:
  30px\;'><span style='font-size: 12pt\; color: #000000\;'>Unit 8: Administ
 rative Leadership</span></div>\n<div style='padding-left: 30px\;'><span st
 yle='color: #000000\;'></span></div>\n<div>\n<div><span style='font-size: 
 12pt\; color: #000000\;'><strong>Session E: &nbsp\;</strong>1:00pm-5:00pm&
 nbsp\;<span style='font-size: 10.666666984558105px\;'>4</span><span style=
 'font-size: 10.666666984558105px\;'>&nbsp\;Contact Hours / .4 CEUs&nbsp\;<
 /span><span style='font-size: 8pt\;'>(For Sessions taken individually earn
  up to 5 Contact Hours / .5 CEUs by completing 1 Praxis question)</span></
 span></div>\n<div style='padding-left: 30px\;'><span style='font-size: 12p
 t\; color: #000000\;'>Unit 9: The New Economy</span></div>\n<div style='pa
 dding-left: 30px\;'><span style='font-size: 12pt\; color: #000000\;'>Unit 
 10: Train the Trainer</span></div>\n<div>&nbsp\;</div>\n<div style='paddin
 g-left: 30px\;'><span style='color: #000000\;'></span></div>\n<div style='
 padding-left: 30px\;'><span style='color: #000000\;'>&nbsp\;&nbsp\;</span>
 </div>\n</div>\n<div>\n<div>\n<div><span style='color: #000000\; font-fami
 ly: arial\, helvetica\, sans-serif\; font-size: 12pt\;'><strong>Session F:
  &nbsp\;Credential Praxis&nbsp\;</strong>(25 Contact Hours / 2.5 CEUs)</sp
 an></div>\n<div><span style='color: #000000\; font-family: arial\, helveti
 ca\, sans-serif\; font-size: 12pt\;'>When attending the full conference\, 
 each Session is worth 4 Hours/ .4 CEUs for a total of 20 hours for session
 s A-E. &nbsp\;Convert the 20 contact hours / 2 CEUs from attendance in ses
 sions A-E into the NAC (which is worth 45 contact hours/4.5 CEUs) by compl
 eting the Praxis. &nbsp\;Students will be assigned an instructor to advise
  them during the completion of their project from home if they have questi
 ons. Students also have the option of registering for tutoring to complete
  their praxis during the event\, at a future event or to get additional he
 lp from home on their praxis.&nbsp\;</span></div>\n</div>\n<div>&nbsp\;</d
 iv>\n</div>\n<div><span style='color: #000000\;'></span></div>\n<div style
 ='padding-left: 30px\;'><span style='color: #000000\;'></span></div>\n<div
 ><span style='color: #000000\;'><span style='color: #993300\;'><strong sty
 le='font-family: arial\, helvetica\, sans-serif\; font-size: 16px\;'><a hr
 ef='http://handprint.niccm.com/products/national-administrators-credential
 -n-a-c-tutoring.html' title='NAC Tutoring Registration '><span style='font
 -size: 12pt\; color: #993300\;'>Optional Tutoring ($160)</span></a>&nbsp\;
 &nbsp\;</strong></span><span style='font-family: arial\, helvetica\, sans-
 serif\; font-size: 16px\;'>Students who elect to stay for tutoring will re
 ceive a list of materials to bring with them. &nbsp\;The presenter will pr
 ovide individualized assistance to each tutoring participant in order to h
 elp them put together and complete their Praxis. Tutoring allows students 
 the&nbsp\;<strong>opportunity</strong>&nbsp\;of completing their test and 
 praxis at the event and&nbsp\;<strong>leave having earned their certificat
 e</strong>. &nbsp\;Those who wish to participate in tutoring are advised t
 o register for this service at least 3 days prior to the event to obtain a
  list of suggested documentation. Tutoring is usually offered on Saturday 
 and Sunday of each event from approximately 5:15 pm - 8:15 pm.</span></spa
 n></div>
DTSTART:20230922T160000Z
DTEND:20230924T210000Z
SUMMARY:NAC - Orlando 923
URL:https://niccm.com/70-upcoming-credential-courses/828-nac-orlando-923
END:VEVENT
END:VCALENDAR
