BEGIN:VCALENDAR
VERSION:2.0
PRODID:-//https://niccm.com//NONSGML kigkonsult.se iCalcreator 2.23.20//
METHOD:PUBLISH
X-WR-CALNAME:JCal Pro Calendar
X-WR-CALDESC:Your online events calendar
X-WR-TIMEZONE:UTC
BEGIN:VTIMEZONE
TZID:UTC
BEGIN:STANDARD
DTSTART:20260425T164133
TZOFFSETFROM:+0000
TZOFFSETTO:+0000
END:STANDARD
END:VTIMEZONE
BEGIN:VEVENT
UID:20231013T070000UTC-2888tLHe6K@https://niccm.com/
DTSTAMP:20260425T164133Z
CATEGORIES:Past NICCM Events
DESCRIPTION:<h1 style='color: #000000\; visibility: visible\; text-align: c
 enter\;'><span style='font-family: arial\, helvetica\, sans-serif\; font-s
 ize: 18pt\;'>CDA Fast Track&nbsp\;</span></h1>\n<h2 style='color: #000000\
 ; visibility: visible\; text-align: justify\;'><span style='font-size: 12p
 t\; font-family: arial\, helvetica\, sans-serif\;'><strong style='font-siz
 e: 18pt\;'>Location/Hotel:</strong></span>&nbsp\;</h2>\n<p style='backgrou
 nd-color: transparent\; margin: 2px 0px\; padding: 0px\; border: 0px\; out
 line: 0px\; font-size: 12px\; color: #505f69\; font-family: Helvetica\, Ar
 ial\, FreeSans\, sans-serif\;'><span style='font-family: arial\, helvetica
 \, sans-serif\; font-size: 14pt\;'><span style='color: #333333\;'><a href=
 'https://www.hilton.com/en/book/reservation/rooms/?ctyhocn=PBIPGES&amp\;ar
 rivalDate=2022-12-06&amp\;departureDate=2022-12-12&amp\;room1NumAdults=1&a
 mp\;cid=OM%2CWW%2CHILTONLINK%2CEN%2CDirectLink' style='font-size: 14pt\; b
 ackground-color: inherit\; font-family: inherit\; color: #333333\;'>Drury 
 Inn &amp\; Suites</a><span style='margin: 0px\; padding: 0px\; border: 0px
 \; outline: 0px\; background-color: transparent\; display: block\;'><a hre
 f='https://www.hilton.com/en/book/reservation/rooms/?ctyhocn=PBIPGES&amp\;
 arrivalDate=2022-12-06&amp\;departureDate=2022-12-12&amp\;room1NumAdults=1
 &amp\;cid=OM%2CWW%2CHILTONLINK%2CEN%2CDirectLink' style='font-size: 14pt\;
  background-color: inherit\; font-family: inherit\; color: #333333\;'>801 
 N. Loop 1604 East</a></span><span style='margin: 0px\; padding: 0px\; bord
 er: 0px\; outline: 0px\; background-color: transparent\; display: block\;'
 ><a href='https://www.hilton.com/en/book/reservation/rooms/?ctyhocn=PBIPGE
 S&amp\;arrivalDate=2022-12-06&amp\;departureDate=2022-12-12&amp\;room1NumA
 dults=1&amp\;cid=OM%2CWW%2CHILTONLINK%2CEN%2CDirectLink' style='font-size:
  14pt\; background-color: inherit\; font-family: inherit\; color: #333333\
 ;'>San Antonio\, TX 78232</a></span></span><span style='color: #505f69\;'>
 <span style='color: #333333\;'>Reservations</span>&nbsp\;<a href='https://
 www.druryhotels.com/bookandstay/newreservation/?groupno=10021451'>Druryhot
 els.com</a></span></span></p>\n<p><a href='https://www.hilton.com/en/book/
 reservation/rooms/?ctyhocn=PBIPGES&amp\;arrivalDate=2022-12-06&amp\;depart
 ureDate=2022-12-12&amp\;room1NumAdults=1&amp\;cid=OM%2CWW%2CHILTONLINK%2CE
 N%2CDirectLink' style='font-size: 14pt\; background-color: inherit\; font-
 family: inherit\;'><span style='font-size: 14pt\;'></span></a></p>\n<p>&nb
 sp\;</p>\n<address>&nbsp\;</address>\n<p style='text-align: center\;'><a h
 ref='http://handprint.niccm.com/products/cda-fast-track.html' title='Regis
 tration CDA Fast Track '><span style='font-size: 18pt\;'><span style='marg
 in: 0px\; padding: 0px\; border: 0px\; outline: 0px\; background-color: tr
 ansparent\; font-family: arial\, helvetica\, sans-serif\;'><span style='co
 lor: #ffffff\;'><span style='font-size: 19px\; padding: 3px 10px 4px\; bac
 kground-color: #7b3b3b\;'><strong>Click Here To Register Online Now!</stro
 ng></span></span></span></span></a></p>\n<p style='text-align: center\;'>&
 nbsp\;<span style='font-size: 18pt\;'><span style='margin: 0px\; padding: 
 0px\; border: 0px\; outline: 0px\; background-color: transparent\; font-fa
 mily: arial\, helvetica\, sans-serif\;'>&nbsp\; &nbsp\; &nbsp\; &nbsp\; &n
 bsp\; &nbsp\; &nbsp\; &nbsp\; &nbsp\; &nbsp\; &nbsp\; &nbsp\; &nbsp\;&nbsp
 \;</span></span>&nbsp\;</p>\n<p style='text-align: center\;'>&nbsp\;</p>\n
 <div style='text-align: center\;'>\n<p style='visibility: visible\; text-a
 lign: justify\;'><span style='font-size: 12pt\; font-family: arial\, helve
 tica\, sans-serif\;'><strong style='font-size: 18pt\;'>Course Content &amp
 \; Schedule:</strong></span>&nbsp\;</p>\n<p style='visibility: visible\; t
 ext-align: justify\;'>&nbsp\;</p>\n</div>\n<div style='text-align: justify
 \;'><span style='text-decoration: underline\;'><span style='font-size: lar
 ge\;'><strong><span style='font-size: 14pt\;'>Friday\, November 10th\, 202
 3</span></strong></span></span></div>\n<div>&nbsp\;</div>\n<div><span styl
 e='font-size: 14pt\;'><strong>Arrival and Check-In</strong>: 6:45am -7:00a
 m <span style='font-size: 12pt\;'>(students must arrive and check-in 15 mi
 nutes before class)</span></span></div>\n<div style='padding-left: 30px\;'
 ><span style='font-size: large\;'><strong><br /></strong></span><span styl
 e='font-size: 14pt\;'><strong>C</strong></span><span style='font-size: 14p
 t\;'><strong>lass A</strong></span><span style='font-size: 14pt\;'>: 7:00a
 m -12:00pm &nbsp\;<span style='font-size: 12pt\;'>(5 Contact Hours/.5 CEUs
 )</span></span></div>\n<div style='padding-left: 30px\;'>&nbsp\; &nbsp\; &
 nbsp\; &nbsp\; &nbsp\;<span style='font-size: 12pt\;'><strong><span style=
 'font-family: Arial\;'><span style='font-size: 14pt\;'>Introduction:</span
 >&nbsp\;</span>&nbsp\;</strong> </span><span style='font-size: 12pt\;'><st
 rong><span style='font-family: Arial\;'>Overview of the Course</span><span
  style='font-family: Arial\;'>&nbsp\; &nbsp\;</span></strong></span></div>
 \n<div style='margin-left: 60px\;'>\n<p><span style='font-size: 14pt\;'><s
 trong><span style='font-family: Arial\;'>Unit 1: &nbsp\; &nbsp\; &nbsp\; &
 nbsp\; &nbsp\; &nbsp\;</span>&nbsp\;&nbsp\;</strong></span><span style='fo
 nt-size: 12pt\;'><strong><span style='font-family: Arial\;'>Keys to Writin
 g Statements</span> </strong> </span></p>\n<p style='margin-left: 31px\;'>
 <span style='font-size: 12pt\;'><strong><span style='font-family: Arial\;'
 >&nbsp\; &nbsp\; &nbsp\; &nbsp\; &nbsp\; &nbsp\; &nbsp\; &nbsp\; &nbsp\; &
 nbsp\; &nbsp\; &nbsp\;Competency Statement 1:&nbsp\;&nbsp\;</span> </stron
 g><span style='font-family: Arial\;'>Planning a safe and healthy learning 
 environment</span></span></p>\n<p><span style='font-size: 14pt\;'><strong>
 <span style='font-family: Arial\;'>Unit 2: &nbsp\; &nbsp\; &nbsp\; &nbsp\;
  &nbsp\; &nbsp\; </span><span>&nbsp\;</span></strong></span><span style='f
 ont-size: 12pt\;'><strong><span style='font-family: Arial\;'>Competency St
 atement 2:&nbsp\;&nbsp\;</span> </strong><span style='font-family: Arial\;
 '>Advancing children’s physical and intellectual development</span></span>
 </p>\n</div>\n<div style='padding-left: 30px\;'><span style='font-size: 12
 pt\;'><br /><span style='font-size: 14pt\;'><strong>Class B:</strong>&nbsp
 \;12:30pm- 5:30pm &nbsp\;<span style='font-size: 12pt\;'>(5 Contact Hours/
 .5 CEUs)</span></span> </span></div>\n<div style='padding-left: 30px\;'><s
 pan style='font-size: 14pt\;'><span style='font-size: 14pt\;'><strong><spa
 n style='font-family: Arial\;'>&nbsp\; &nbsp\; &nbsp\;</span></strong></sp
 an></span>\n<div style='padding-left: 30px\; text-align: justify\;'><span 
 style='font-size: 14pt\;'><strong><span style='font-family: Arial\;'><span
  style='font-family: arial\, helvetica\, sans-serif\; font-size: 14pt\;'>U
 nit 3:&nbsp\; &nbsp\;&nbsp\;</span></span></strong></span><span style='fon
 t-size: 14pt\; font-family: arial\, helvetica\, sans-serif\;'><strong>Comp
 etency Statement 3:&nbsp\;&nbsp\;</strong>Supporting children’s social and
  emotional development</span></div>\n<div style='text-align: justify\;'><s
 pan style='font-family: arial\, helvetica\, sans-serif\; font-size: 14pt\;
 '>&nbsp\; &nbsp\; &nbsp\; </span><span style='font-family: arial\, helveti
 ca\, sans-serif\;'><strong style='font-family: arial\, helvetica\, sans-se
 rif\; font-size: 12pt\; text-indent: -1in\; color: inherit\;'><span style=
 'font-size: 14pt\;'>Unit 4:&nbsp\; &nbsp\;&nbsp\;</span><span style='font-
 size: 14pt\;'>Competency Statement 4:&nbsp\;&nbsp\;</span></strong></span>
 <span style='font-family: arial\, helvetica\, sans-serif\; font-size: 14pt
 \;'>Establishing positive and productive relationships with families</span
 ></div>\n<div style='text-align: justify\;'><span style='font-family: aria
 l\, helvetica\, sans-serif\; font-size: 14pt\;'><strong>&nbsp\; &nbsp\; &n
 bsp\; Unit 5:&nbsp\; &nbsp\;&nbsp\;</strong></span><span style='font-size:
  14pt\;'><span style='font-family: arial\, helvetica\, sans-serif\;'><stro
 ng>Competency Statement 5:&nbsp\;&nbsp\;</strong></span><span style='font-
 family: arial\, helvetica\, sans-serif\;'>Ensuring a well-run purposeful p
 rogram&nbsp\;</span></span></div>\n<div style='text-align: justify\;'><spa
 n style='font-family: arial\, helvetica\, sans-serif\;'><strong><span styl
 e='font-family: arial\, helvetica\, sans-serif\; font-size: 14pt\;'>&nbsp\
 ; &nbsp\; &nbsp\; Unit 6:&nbsp\;&nbsp\; &nbsp\;</span><span style='font-si
 ze: 14pt\;'>Competency Statement 6:&nbsp\;&nbsp\;</span></strong><span sty
 le='font-size: 14pt\;'>Maintaining a commitment to professionalism</span><
 /span></div>\n<div style='padding-left: 60px\;'>&nbsp\;</div>\n</div>\n<di
 v style='padding-left: 60px\;'>\n<p>&nbsp\;<span style='font-family: Arial
 \; font-size: 12pt\;'><strong>Documenting Professional Education</strong>&
 nbsp\;- 8 CDA Subject Areas</span><span style='font-size: 12pt\;'></span><
 /p>\n</div>\n<div><span style='font-size: 12pt\;'><br /></span><span style
 ='text-decoration: underline\;'><span style='font-size: large\;'><strong><
 span style='font-size: 14pt\;'>Saturday\, November 11th\, 2023</span></str
 ong></span></span></div>\n<div style='padding-left: 30px\;'>&nbsp\;</div>
 \n<div style='padding-left: 30px\;'><span style='font-size: 14pt\;'><stron
 g>Class C</strong><strong>:&nbsp\;</strong>8:00am-3:00pm&nbsp\;<span style
 ='font-size: 12pt\;'>(7 Contact Hours/.7 CEUs)</span></span></div>\n<div s
 tyle='padding-left: 30px\;'><span style='font-size: 12pt\;'>&nbsp\;(arriva
 ls will be <span style='font-size: 12pt\;'>staggered</span><span style='fo
 nt-size: 14pt\;'></span>\, students will be scheduled in as early as 8:00a
 m)</span></div>\n<div style='padding-left: 30px\;'><span style='font-size:
  12pt\;'><strong><span style='font-family: Arial\;'><span style='font-size
 : 14pt\;'>&nbsp\; &nbsp\; &nbsp\;</span></span></strong></span></div>\n<di
 v style='padding-left: 30px\;'><span style='font-size: 14pt\;'><strong>Cla
 ss D:&nbsp\;</strong>4:00pm - 7:00pm <span style='font-size: 12pt\;'>(3 Co
 ntact Hours/.3 CEUs)&nbsp\;</span></span></div>\n<div style='padding-left:
  30px\;'><span style='font-size: 14pt\;'><span style='font-size: 14pt\;'><
 /span><span style='font-size: 12pt\;'>(dissmissal will be <span style='fon
 t-size: 12pt\;'>staggered</span><span style='font-size: 14pt\;'></span>\, 
 students will be dismissed throughout the evening)</span></span></div>\n<d
 iv>\n<div>&nbsp\;</div>\n<div style='padding-left: 30px\; text-align: cent
 er\;'><span style='font-size: 12pt\;'><span style='font-size: 12pt\;'><str
 ong><span style='font-family: Arial\;'><span style='font-size: 14pt\;'>C &
 amp\; D Class Content</span></span></strong></span></span>\n<div style='pa
 dding-left: 60px\;'>&nbsp\;</div>\n</div>\n<div style='padding-left: 30px\
 ;'><span style='font-size: 12pt\;'><strong><span style='font-family: Arial
 \;'><span style='font-size: 14pt\;'>Directed Portfolio Lab:</span>&nbsp\;&
 nbsp\;</span> </strong><span style='font-family: Arial\;'>The Directed Por
 tfolio Lab allows for individual consultation &amp\; one-on-one time with<
 /span></span><span style='font-size: 12pt\;'><span style='font-family: Ari
 al\;'>&nbsp\;the &nbsp\; &nbsp\;</span></span></div>\n<div style='padding-
 left: 30px\;'><span style='font-size: 12pt\;'><span style='font-family: Ar
 ial\;'>instructor. &nbsp\;Participants will work on their portfolio and me
 et with the instructor to discuss their statements and</span></span><span 
 style='font-size: 12pt\;'><span style='font-family: Arial\;'>&nbsp\;the </
 span></span></div>\n<div style='padding-left: 30px\;'><span style='font-si
 ze: 12pt\;'><span style='font-family: Arial\;'>documentation within their 
 professional portfolio.</span></span></div>\n</div>\n<div style='padding-l
 eft: 30px\;'>\n<div style='padding-left: 30px\;'>&nbsp\;</div>\n<div style
 ='padding-left: 30px\;'><strong style='font-size: 12pt\; text-indent: -1in
 \; color: inherit\; font-family: inherit\;'><span style='font-family: Aria
 l\;'><span style='font-size: 12pt\;'>The Professional Philosophy Statement
 </span></span></strong></div>\n<div>&nbsp\;</div>\n<div style='padding-lef
 t: 30px\;'><span style='font-size: 12pt\;'><strong>Individual Consultation
 s - allows one on one with instructors</strong></span></div>\n<div style='
 padding-left: 60px\;'>&nbsp\;</div>\n</div>\n<div style='padding-left: 60p
 x\;'>&nbsp\;</div>\n<div><span style='font-size: 12pt\;'>&nbsp\;<span styl
 e='text-decoration: underline\;'><span style='font-size: 14pt\;'><strong>S
 unday\, November 12th\, 2023</strong></span></span></span></div>\n<div sty
 le='margin-left: 30px\;'><span style='font-size: large\;'><strong><br /></
 strong></span><span style='font-size: 14pt\;'><strong>Class E</strong><str
 ong>:</strong>&nbsp\;8:00am-3:00pm</span><span style='font-size: 12pt\;'>&
 nbsp\;<span style='font-size: 12pt\;'>(7 Contact Hours/.7 CEUs)</span></sp
 an></div>\n<div style='margin-left: 30px\;'>\n<p style='margin-left: 1in\;
  text-indent: -1in\;'><span style='font-size: 14pt\;'><strong>Class F:</st
 rong>&nbsp\;4:00pm-7:00pm&nbsp\;<span style='background-color: inherit\; c
 olor: inherit\; font-family: inherit\; caret-color: auto\;'>(3 Contact Hou
 rs/.3 CEUs)</span></span></p>\n<p>&nbsp\;</p>\n</div>\n<div style='padding
 -left: 30px\; text-align: center\;'><span style='font-size: 12pt\;'><stron
 g><span style='font-family: Arial\;'><span style='font-size: 14pt\;'><span
  style='font-size: 14pt\;'>E &amp\; F Class Content</span><span style='fon
 t-family: Arial\;'></span><span style='font-size: 12pt\;'></span><span sty
 le='font-size: 12pt\;'></span>&nbsp\; &nbsp\; &nbsp\; </span></span></stro
 ng></span></div>\n<div style='padding-left: 30px\;'><span style='font-size
 : 12pt\;'><strong><span style='font-family: Arial\;'><span style='font-siz
 e: 14pt\;'><span style='font-family: Arial\;'>&nbsp\; &nbsp\; &nbsp\; &nbs
 p\;<span style='font-size: 14pt\;'>Unit 7:</span><span style='font-family:
  Arial\;'>&nbsp\;CDA Practice Exam&nbsp\;</span>&nbsp\;</span><span style=
 'font-size: 12pt\;'></span></span></span></strong></span></div>\n<div styl
 e='padding-left: 30px\;'><span style='font-size: 12pt\;'><strong><span sty
 le='font-family: Arial\;'><span style='font-size: 14pt\;'>&nbsp\; &nbsp\; 
 &nbsp\; &nbsp\;Unit 8:</span>&nbsp\;</span></strong></span><span style='fo
 nt-size: 14pt\;'><strong><span style='font-family: Arial\;'>I<strong>nstru
 ctions on completing the process</strong></span></strong></span></div>\n<d
 iv style='padding-left: 60px\;'>\n<p style='margin-left: 1in\; text-indent
 : -1in\;'><span style='font-size: 12pt\;'><strong><span style='font-family
 : Arial\;'>&nbsp\; &nbsp\; &nbsp\; &nbsp\; &nbsp\; &nbsp\; &nbsp\; &nbsp\;
  &nbsp\; &nbsp\; &nbsp\; &nbsp\; &nbsp\;&nbsp\;</span></strong></span><spa
 n style='font-size: 12pt\;'><strong><span style='font-family: Arial\;'>Und
 erstanding the verification visit</span> </strong> </span></p>\n<p style='
 margin-left: 1in\; text-indent: -1in\;'><span style='font-size: 12pt\;'><s
 trong><span style='font-family: Arial\;'>&nbsp\; &nbsp\; &nbsp\; &nbsp\; &
 nbsp\; &nbsp\; &nbsp\; &nbsp\; &nbsp\; &nbsp\; &nbsp\; &nbsp\; &nbsp\;&nbs
 p\;<strong>The application process</strong></span> </strong> </span></p>\n
 <p style='margin-left: 1in\; text-indent: -1in\;'><span style='font-size: 
 12pt\;'><strong><span style='font-family: Arial\;'>&nbsp\; &nbsp\; &nbsp\;
  &nbsp\; &nbsp\; &nbsp\; &nbsp\; &nbsp\; &nbsp\; &nbsp\; &nbsp\; &nbsp\; &
 nbsp\; Choosing your PD Specialist</span> </strong> </span></p>\n<p style=
 'margin-left: 1in\; text-indent: -1in\;'><span style='font-size: 12pt\;'><
 strong><span style='font-family: Arial\;'>&nbsp\; &nbsp\; &nbsp\; &nbsp\; 
 &nbsp\; &nbsp\; &nbsp\; &nbsp\; &nbsp\; &nbsp\; &nbsp\; &nbsp\; &nbsp\;&nb
 sp\;</span></strong></span><span style='font-size: 12pt\;'><strong><span s
 tyle='font-family: Arial\;'>Finding a Pearson Vue testing site&nbsp\;</spa
 n></strong></span></p>\n<p style='margin-left: 1in\; text-indent: -1in\;'>
 <span style='font-size: 12pt\;'><strong><span style='font-family: Arial\;'
 >&nbsp\; &nbsp\; &nbsp\; </span></strong></span></p>\n<p style='text-align
 : center\;'><a href='http://handprint.niccm.com/products/cda-fast-track.ht
 ml' title='Registration CDA Fast Track '><span style='font-size: 18pt\;'><
 span style='margin: 0px\; padding: 0px\; border: 0px\; outline: 0px\; back
 ground-color: transparent\; font-family: arial\, helvetica\, sans-serif\;'
 ><span style='color: #ffffff\;'><span style='font-size: 19px\; padding: 3p
 x 10px 4px\; background-color: #7b3b3b\;'><strong>Click Here To Register O
 nline Now!</strong></span></span></span></span></a></p>\n<p style='text-al
 ign: center\;'>&nbsp\;</p>\n<p style='text-align: center\;'>&nbsp\;</p>\n<
 footer></footer></div>\n<p style='text-align: center\;'><span style='font-
 size: 18pt\;'>&nbsp\; &nbsp\; &nbsp\; &nbsp\;Call (602) 476-1422 for More 
 Information&nbsp\;</span></p>\n<p>&nbsp\;&nbsp\;</p>
DTSTART:20231110T070000Z
DTEND:20231112T190000Z
SUMMARY:CDA Fast Track  - San Antonio 1123
URL:https://niccm.com/71-cda-fast-track/814-cda-fast-track-miami-1023
END:VEVENT
BEGIN:VEVENT
UID:20231020T160000UTC-2964gP2kL8@https://niccm.com/
DTSTAMP:20260425T164133Z
CATEGORIES:Past NICCM Events
DESCRIPTION:<h1 style='color: #000000\; visibility: visible\; text-align: c
 enter\;'>N.A.C. (National Administrator's Credential)</h1>\n<h2 style='col
 or: #000000\; visibility: visible\; text-align: justify\;'><span style='fo
 nt-size: 18pt\;'>Location/Hotel:</span>&nbsp\;&nbsp\;</h2>\n<p style='back
 ground-color: transparent\; margin: 2px 0px\; padding: 0px\; border: 0px\;
  outline: 0px\; font-size: 12px\; color: #505f69\; font-family: Helvetica\
 , Arial\, FreeSans\, sans-serif\;'><span style='font-size: 14pt\;'><span s
 tyle='background-color: inherit\; color: inherit\; font-family: inherit\; 
 caret-color: auto\;'><a href='https://www.hilton.com/en/book/reservation/d
 eeplink/?ctyhocn=PBIPGES&amp\;groupCode=CESCCM&amp\;arrivaldate=2022-12-06
 &amp\;departuredate=2022-12-12&amp\;cid=OM\,WW\,HILTONLINK\,EN\,DirectLink
 &amp\;fromId=HILTONLINKDIRECT' style='font-size: 14pt\; background-color: 
 inherit\; font-family: inherit\;'><span style='margin: 0px\; padding: 0px\
 ; border: 0px\; outline: 0px\; background-color: transparent\; display: bl
 ock\; font-family: helvetica\; color: #505f69\;'></span></a></span><span s
 tyle='background-color: inherit\; color: inherit\; font-family: inherit\; 
 caret-color: auto\;'><span style='font-family: arial\, helvetica\, sans-se
 rif\;'><span style='color: #333333\;'><a href='https://www.hilton.com/en/b
 ook/reservation/rooms/?ctyhocn=PBIPGES&amp\;arrivalDate=2022-12-06&amp\;de
 partureDate=2022-12-12&amp\;room1NumAdults=1&amp\;cid=OM%2CWW%2CHILTONLINK
 %2CEN%2CDirectLink' style='font-size: 14pt\; background-color: inherit\; f
 ont-family: inherit\; color: #333333\;'>Drury Inn &amp\; Suites</a><span s
 tyle='margin: 0px\; padding: 0px\; border: 0px\; outline: 0px\; background
 -color: transparent\; display: block\;'><a href='https://www.hilton.com/en
 /book/reservation/rooms/?ctyhocn=PBIPGES&amp\;arrivalDate=2022-12-06&amp\;
 departureDate=2022-12-12&amp\;room1NumAdults=1&amp\;cid=OM%2CWW%2CHILTONLI
 NK%2CEN%2CDirectLink' style='font-size: 14pt\; background-color: inherit\;
  font-family: inherit\; color: #333333\;'>801 N. Loop 1604 East</a></span>
 <span style='margin: 0px\; padding: 0px\; border: 0px\; outline: 0px\; bac
 kground-color: transparent\; display: block\;'><a href='https://www.hilton
 .com/en/book/reservation/rooms/?ctyhocn=PBIPGES&amp\;arrivalDate=2022-12-0
 6&amp\;departureDate=2022-12-12&amp\;room1NumAdults=1&amp\;cid=OM%2CWW%2CH
 ILTONLINK%2CEN%2CDirectLink' style='font-size: 14pt\; background-color: in
 herit\; font-family: inherit\; color: #333333\;'>San Antonio\, TX 78232</a
 ></span>Reservations&nbsp\;</span> <a href='https://www.druryhotels.com/bo
 okandstay/newreservation/?groupno=10021451'>Druryhotels.com</a></span></sp
 an><span style='background-color: inherit\; color: inherit\; font-family: 
 arial\, helvetica\, sans-serif\; caret-color: auto\;'>&nbsp\;&nbsp\;</span
 ></span></p>\n<p>&nbsp\;</p>\n<p style='text-align: center\;'><a href='htt
 p://handprint.niccm.com/products/national-florida-and-texas-director-crede
 ntial-n-a-c.html' title='Registration NAC '><span style='color: #ffffff\;'
 ><span style='font-size: 19px\; padding: 3px 10px 4px\; background-color: 
 #7b3b3b\;'><strong>Click Here To Register Online Now!</strong></span></spa
 n></a></p>\n<p>&nbsp\;</p>\n<p><span style='color: #000000\;'><strong styl
 e='font-size: 14pt\;'><span style='font-size: 18pt\;'>Schedule:</span></st
 rong></span></p>\n<div><span style='color: #000000\;'><span style='text-de
 coration: underline\;'><strong><span style='font-size: 14pt\;'>Friday\, No
 vember 10th\, 2023</span></strong></span><strong><span style='font-size: 1
 4pt\;'>&nbsp\; &nbsp\;</span></strong></span></div>\n<div>&nbsp\;</div>\n<
 div><span style='font-size: 12pt\; color: #000000\;'><strong>Arrival and C
 heck-In:&nbsp\; </strong>3:45pm-4:00pm &nbsp\;</span><span style='color: #
 000000\;'><span style='color: #000000\;'>(Students must arrive and check-i
 n at least 1 hour before class starts)</span></span></div>\n<div>&nbsp\;</
 div>\n<div><span style='color: #000000\;'></span></div>\n<div><span style=
 'font-size: 12pt\; color: #000000\;'><strong>Session A: &nbsp\;</strong>5:
 00pm-9:00pm&nbsp\;<span style='font-size: 10.666666984558105px\;'>4</span>
 <span style='font-size: 10.666666984558105px\;'>&nbsp\;Contact Hours / .4 
 CEUs</span>&nbsp\;<span style='font-size: 8pt\;'>(For Sessions taken indiv
 idually earn up to 5 Contact Hours / .5 CEUs by completing 1 Praxis questi
 on)</span></span></div>\n<div style='padding-left: 30px\;'><span style='fo
 nt-size: 12pt\; color: #000000\;'>Unit 1: Fiscal Management&nbsp\;</span><
 /div>\n<div style='padding-left: 30px\;'><span style='font-size: 12pt\; co
 lor: #000000\;'>Unit 2: Insurance for Your Center</span></div>\n<div>&nbsp
 \;</div>\n<div style='padding-left: 30px\;'><span style='color: #000000\;'
 ></span></div>\n<div><span style='color: #000000\;'><span style='text-deco
 ration: underline\;'><strong><span style='font-size: 14pt\;'>Saturday\, No
 vember 11th\, 2023</span></strong></span><span style='font-size: 8pt\;'>&n
 bsp\; &nbsp\;</span></span></div>\n<div>&nbsp\;</div>\n<div><span style='c
 olor: #000000\;'></span></div>\n<div><span style='font-size: 12pt\; color:
  #000000\;'><strong>Session B:</strong>&nbsp\;&nbsp\;8:00am-12:00pm&nbsp\;
 <span style='font-size: 10.666666984558105px\;'>4</span><span style='font-
 size: 10.666666984558105px\;'>&nbsp\;Contact Hours / .4 CEUs&nbsp\;</span>
 <span style='font-size: 8pt\;'>(For Sessions taken individually earn up to
  5 Contact Hours / .5 CEUs by completing 1 Praxis question)</span></span><
 /div>\n<div style='padding-left: 30px\;'><span style='font-size: 12pt\; co
 lor: #000000\;'>Unit 3: Hiring &amp\; Teacher Orientation</span></div>\n<d
 iv style='padding-left: 30px\;'><span style='font-size: 12pt\; color: #000
 000\;'>Unit 4: Employee Handbooks &amp\; Evals</span></div>\n<div style='p
 adding-left: 30px\;'><span style='color: #000000\;'></span></div>\n<div><s
 pan style='font-size: 12pt\; color: #000000\;'><strong>Session C:</strong>
 &nbsp\;&nbsp\;1:00pm-5:00pm &nbsp\;<span style='font-size: 10.666666984558
 105px\;'>4</span><span style='font-size: 10.666666984558105px\;'>&nbsp\;Co
 ntact Hours / .4 CEUs&nbsp\;</span><span style='font-size: 8pt\;'>(For Ses
 sions taken individually earn up to 5 Contact Hours / .5 CEUs by completin
 g 1 Praxis question)</span></span></div>\n<div style='padding-left: 30px\;
 '><span style='font-size: 12pt\; color: #000000\;'>Unit 5: Center Manageme
 nt</span></div>\n<div style='padding-left: 30px\;'><span style='font-size:
  12pt\; color: #000000\;'>Unit 6: Child Development - The Essentials</span
 ></div>\n<div>&nbsp\;</div>\n<div style='padding-left: 30px\;'><span style
 ='color: #000000\;'></span></div>\n<div><span style='color: #000000\;'><sp
 an style='text-decoration: underline\;'><strong><span style='font-size: 14
 pt\;'>Sunday\, November 12th\, 2023</span></strong></span><strong><span st
 yle='font-size: 14pt\;'>&nbsp\; &nbsp\;</span></strong></span></div>\n<div
 >&nbsp\;</div>\n<div><span style='color: #000000\;'></span></div>\n<div><s
 pan style='font-size: 12pt\; color: #000000\;'><strong>Session D: &nbsp\;<
 /strong>8:00am-12:00pm&nbsp\;<span style='font-size: 10.666666984558105px\
 ;'>4</span><span style='font-size: 10.666666984558105px\;'>&nbsp\;Contact 
 Hours / .4 CEUs&nbsp\;</span><span style='font-size: 8pt\;'>(For Sessions 
 taken individually earn up to 5 Contact Hours / .5 CEUs by completing 1 Pr
 axis question)</span></span></div>\n<div style='padding-left: 30px\;'><spa
 n style='font-size: 12pt\; color: #000000\;'>Unit 7: Dealing with Difficul
 t Employees</span></div>\n<div style='padding-left: 30px\;'><span style='f
 ont-size: 12pt\; color: #000000\;'>Unit 8: Administrative Leadership</span
 ></div>\n<div style='padding-left: 30px\;'><span style='color: #000000\;'>
 </span></div>\n<div>\n<div><span style='font-size: 12pt\; color: #000000\;
 '><strong>Session E: &nbsp\;</strong>1:00pm-5:00pm&nbsp\;<span style='font
 -size: 10.666666984558105px\;'>4</span><span style='font-size: 10.66666698
 4558105px\;'>&nbsp\;Contact Hours / .4 CEUs&nbsp\;</span><span style='font
 -size: 8pt\;'>(For Sessions taken individually earn up to 5 Contact Hours 
 / .5 CEUs by completing 1 Praxis question)</span></span></div>\n<div style
 ='padding-left: 30px\;'><span style='font-size: 12pt\; color: #000000\;'>U
 nit 9: The New Economy</span></div>\n<div style='padding-left: 30px\;'><sp
 an style='font-size: 12pt\; color: #000000\;'>Unit 10: Train the Trainer</
 span></div>\n<div>&nbsp\;</div>\n<div style='padding-left: 30px\;'><span s
 tyle='color: #000000\;'></span></div>\n<div style='padding-left: 30px\;'><
 span style='color: #000000\;'>&nbsp\;&nbsp\;</span></div>\n</div>\n<div>\n
 <div>\n<div><span style='color: #000000\; font-family: arial\, helvetica\,
  sans-serif\; font-size: 12pt\;'><strong>Session F: &nbsp\;Credential Prax
 is&nbsp\;</strong>(25 Contact Hours / 2.5 CEUs)</span></div>\n<div><span s
 tyle='color: #000000\; font-family: arial\, helvetica\, sans-serif\; font-
 size: 12pt\;'>When attending the full conference\, each Session is worth 4
  Hours/ .4 CEUs for a total of 20 hours for sessions A-E. &nbsp\;Convert t
 he 20 contact hours / 2 CEUs from attendance in sessions A-E into the NAC 
 (which is worth 45 contact hours/4.5 CEUs) by completing the Praxis. &nbsp
 \;Students will be assigned an instructor to advise them during the comple
 tion of their project from home if they have questions. Students also have
  the option of registering for tutoring to complete their praxis during th
 e event\, at a future event or to get additional help from home on their p
 raxis.&nbsp\;</span></div>\n<span style='background-color: inherit\; color
 : inherit\; font-family: inherit\; font-size: 1rem\; caret-color: auto\;'>
  </span></div>\n</div>\n<div><span style='color: #000000\;'></span></div>
 \n<div style='padding-left: 30px\;'><span style='color: #000000\;'></span>
 </div>\n<div><span style='color: #000000\;'><span style='color: #993300\;'
 ><strong style='font-family: arial\, helvetica\, sans-serif\; font-size: 1
 6px\;'><a href='http://handprint.niccm.com/products/national-administrator
 s-credential-n-a-c-tutoring.html' title='NAC Tutoring Registration '><span
  style='font-size: 12pt\; color: #993300\;'>Optional Tutoring ($160)</span
 ></a>&nbsp\;&nbsp\;</strong></span><span style='font-family: arial\, helve
 tica\, sans-serif\; font-size: 16px\;'>Students who elect to stay for tuto
 ring will receive a list of materials to bring with them. &nbsp\;The prese
 nter will provide individualized assistance to each tutoring participant i
 n order to help them put together and complete their Praxis. Tutoring allo
 ws students the&nbsp\;<strong>opportunity</strong>&nbsp\;of completing the
 ir test and praxis at the event and&nbsp\;<strong>leave having earned thei
 r certificate</strong>. &nbsp\;Those who wish to participate in tutoring a
 re advised to register for this service at least 3 days prior to the event
  to obtain a list of suggested documentation. Tutoring is usually offered 
 on Saturday and Sunday of each event from approximately 5:15 pm - 8:15 pm.
 </span></span></div>
DTSTART:20231110T160000Z
DTEND:20231112T170000Z
SUMMARY:NAC - San Antonio 1123
URL:https://niccm.com/70-upcoming-credential-courses/831-nac-san-antonio-11
 23
END:VEVENT
END:VCALENDAR
