BEGIN:VCALENDAR
VERSION:2.0
PRODID:-//https://niccm.com//NONSGML kigkonsult.se iCalcreator 2.23.20//
METHOD:PUBLISH
X-WR-CALNAME:JCal Pro Calendar
X-WR-CALDESC:Your online events calendar
X-WR-TIMEZONE:UTC
BEGIN:VTIMEZONE
TZID:UTC
BEGIN:STANDARD
DTSTART:20260425T164633
TZOFFSETFROM:+0000
TZOFFSETTO:+0000
END:STANDARD
END:VTIMEZONE
BEGIN:VEVENT
UID:20231020T070000UTC-7115h1LlxI@https://niccm.com/
DTSTAMP:20260425T164633Z
CATEGORIES:Past NICCM Events
DESCRIPTION:<h1 style='color: #000000\; visibility: visible\; text-align: c
 enter\;'><span style='font-family: arial\, helvetica\, sans-serif\; font-s
 ize: 18pt\;'>CDA Fast Track&nbsp\;</span></h1>\n<h2 style='color: #000000\
 ; visibility: visible\; text-align: justify\;'><span style='font-size: 12p
 t\; font-family: arial\, helvetica\, sans-serif\;'><strong style='font-siz
 e: 18pt\;'>Location/Hotel:</strong></span>&nbsp\;</h2>\n<p style='backgrou
 nd-color: transparent\; margin: 2px 0px\; padding: 0px\; border: 0px\; out
 line: 0px\; font-size: 12px\; color: #505f69\; font-family: Helvetica\, Ar
 ial\, FreeSans\, sans-serif\;'><span style='color: #000000\; font-family: 
 arial\, helvetica\, sans-serif\; font-size: 14pt\;'>Hilton Garden Inn - La
 ke Buena Vista&nbsp\;</span></p>\n<p><span style='color: #000000\; font-fa
 mily: arial\, helvetica\, sans-serif\; font-size: 14pt\;'>11400 Marabella 
 Palm Court</span></p>\n<p><span style='color: #000000\; font-family: arial
 \, helvetica\, sans-serif\; font-size: 14pt\;'>Orlando\, FL &nbsp\;32836</
 span></p>\n<p><span style='color: #000000\; font-family: arial\, helvetica
 \, sans-serif\; font-size: 14pt\;'>(407) 239- 9550</span></p>\n<p><span st
 yle='font-size: 14pt\; font-family: arial\, helvetica\, sans-serif\; color
 : #000000\;'>Reservations</span>&nbsp\;<span style='font-size: 14pt\;'><a 
 href='https://www.hilton.com/en/book/reservation/deeplink/?ctyhocn=MCOBVGI
 &amp\;groupCode=NICCM6&amp\;arrivaldate=2023-11-14&amp\;departuredate=2023
 -11-20&amp\;cid=OM\,WW\,HILTONLINK\,EN\,DirectLink&amp\;fromId=HILTONLINKD
 IRECT'>Hilton.com&nbsp\;</a></span></p>\n<p><span style='color: #0000ff\; 
 font-size: 14pt\;'><span style='color: #000000\;'>Call for assistance if t
 here aren't any available reservations on the link.</span>&nbsp\;</span></
 p>\n<address>&nbsp\;</address>\n<p>&nbsp\;</p>\n<p style='text-align: cent
 er\;'><a href='http://handprint.niccm.com/products/cda-fast-track.html' ti
 tle='Registration CDA Fast Track '><span style='font-size: 18pt\;'><span s
 tyle='margin: 0px\; padding: 0px\; border: 0px\; outline: 0px\; background
 -color: transparent\; font-family: arial\, helvetica\, sans-serif\;'><span
  style='color: #ffffff\;'><span style='font-size: 19px\; padding: 3px 10px
  4px\; background-color: #7b3b3b\;'><strong>Click Here To Register Online 
 Now!</strong></span></span></span></span></a></p>\n<p style='text-align: c
 enter\;'>&nbsp\;<span style='font-size: 18pt\;'><span style='margin: 0px\;
  padding: 0px\; border: 0px\; outline: 0px\; background-color: transparent
 \; font-family: arial\, helvetica\, sans-serif\;'>&nbsp\; &nbsp\; &nbsp\; 
 &nbsp\; &nbsp\; &nbsp\; &nbsp\; &nbsp\; &nbsp\; &nbsp\; &nbsp\; &nbsp\; &n
 bsp\;&nbsp\;</span></span>&nbsp\;</p>\n<p style='text-align: center\;'>&nb
 sp\;</p>\n<div style='text-align: center\;'>\n<p style='visibility: visibl
 e\; text-align: justify\;'><span style='color: #333333\;'><span style='fon
 t-size: 12pt\; font-family: arial\, helvetica\, sans-serif\;'><strong styl
 e='font-size: 18pt\;'>Course Content &amp\; Schedule:</strong></span>&nbsp
 \;</span></p>\n<p style='visibility: visible\; text-align: justify\;'><spa
 n style='color: #333333\;'></span></p>\n</div>\n<div>&nbsp\;</div>\n<div s
 tyle='text-align: justify\;'><span style='text-decoration: underline\; col
 or: #333333\;'><span style='font-size: large\;'><strong><span style='font-
 size: 14pt\;'>Friday\, November 17th\, 2023</span></strong></span></span><
 /div>\n<div><span style='color: #333333\;'></span></div>\n<div>&nbsp\;</di
 v>\n<div><span style='font-size: 14pt\; color: #333333\;'><strong>Arrival 
 and Check-In</strong>: 6:45am -7:00am <span style='font-size: 12pt\;'>(stu
 dents must arrive and check-in 15 minutes before class)</span></span></div
 >\n<div style='padding-left: 30px\;'><span style='color: #333333\;'><span 
 style='font-size: large\;'><strong><br /></strong></span><span style='font
 -size: 14pt\;'><strong>C</strong><strong>lass A</strong>: 7:00am -12:00pm 
 &nbsp\;(5 Contact Hours/.5 CEUs)</span></span></div>\n<div style='padding-
 left: 30px\;'><span style='font-size: 14pt\; color: #333333\;'>&nbsp\; &nb
 sp\; &nbsp\;&nbsp\;</span><span style='font-size: 14pt\; color: #333333\;'
 ><strong><span style='font-family: Arial\;'>Introduction:&nbsp\;</span>&nb
 sp\;</strong> <strong><span style='font-family: Arial\;'>Overview of the C
 ourse</span><span style='font-family: Arial\;'>&nbsp\; &nbsp\;</span></str
 ong></span></div>\n<div style='margin-left: 60px\;'>\n<p><span style='font
 -size: 14pt\; color: #333333\;'><strong><span style='font-family: Arial\;'
 >Unit 1:&nbsp\; &nbsp\; </span></strong><strong><span style='font-family: 
 Arial\;'>Keys to Writing Statements</span> </strong> </span></p>\n<p style
 ='margin-left: 31px\;'><span style='font-size: 14pt\; color: #333333\;'><s
 trong><span style='font-family: Arial\;'>&nbsp\; &nbsp\; &nbsp\; &nbsp\; &
 nbsp\;Competency Statement 1:&nbsp\;&nbsp\;</span> </strong><span style='f
 ont-family: Arial\;'>Planning a safe and healthy learning environment</spa
 n></span></p>\n<p><span style='font-size: 14pt\; color: #333333\;'><strong
 ><span style='font-family: Arial\;'>Unit 2:&nbsp\; &nbsp\; </span></strong
 ><strong><span style='font-family: Arial\;'>Competency Statement 2:&nbsp\;
 &nbsp\;</span> </strong><span style='font-family: Arial\;'>Advancing child
 ren’s physical and intellectual development</span></span></p>\n</div>\n<di
 v style='padding-left: 30px\;'><span style='font-size: 12pt\; color: #3333
 33\;'><br /><span style='font-size: 14pt\;'><strong>Class B:</strong>&nbsp
 \;12:30pm- 5:30pm &nbsp\;(5 Contact Hours/.5 CEUs) </span></span></div>\n<
 div style='padding-left: 30px\;'><span style='font-size: 14pt\; color: #33
 3333\;'><strong><span style='font-family: Arial\;'>&nbsp\; &nbsp\; &nbsp\;
 </span></strong></span>\n<div style='padding-left: 30px\; text-align: just
 ify\;'><span style='color: #333333\; font-size: 14pt\;'><strong><span styl
 e='font-family: Arial\;'>Unit 3:&nbsp\; &nbsp\;&nbsp\;</span></strong><str
 ong>Competency Statement 3:&nbsp\;&nbsp\;</strong>Supporting children’s so
 cial and emotional development</span></div>\n<div style='text-align: justi
 fy\;'><span style='color: #333333\; font-size: 14pt\;'>&nbsp\; &nbsp\; &nb
 sp\; </span><span style='color: #333333\;'><strong style='font-family: ari
 al\, helvetica\, sans-serif\; font-size: 12pt\; text-indent: -1in\; color:
  inherit\;'><span style='font-size: 14pt\;'>Unit 4:&nbsp\; &nbsp\;&nbsp\;C
 ompetency Statement 4:</span>&nbsp\;&nbsp\;</strong></span><span style='co
 lor: #333333\; font-size: 14pt\;'>Establishing positive and productive rel
 ationships with families</span></div>\n<div style='text-align: justify\;'>
 <span style='color: #333333\; font-size: 14pt\;'><strong>&nbsp\; &nbsp\; &
 nbsp\; Unit 5:&nbsp\; &nbsp\;&nbsp\;</strong><strong>Competency Statement 
 5:&nbsp\;&nbsp\;</strong>Ensuring a well-run purposeful program&nbsp\;</sp
 an></div>\n<div style='text-align: justify\;'><span style='color: #333333\
 ; font-size: 14pt\;'><strong>&nbsp\; &nbsp\; &nbsp\; Unit 6:&nbsp\;&nbsp\;
  &nbsp\;Competency Statement 6:&nbsp\;&nbsp\;</strong>Maintaining a commit
 ment to professionalism</span></div>\n<div style='padding-left: 60px\;'><s
 pan style='color: #333333\; font-size: 14pt\;'></span></div>\n</div>\n<div
  style='padding-left: 60px\;'>\n<p><span style='font-size: 14pt\; color: #
 333333\;'></span></p>\n<p><span style='color: #333333\; font-size: 14pt\;'
 ></span></p>\n<p><span style='font-size: 14pt\; color: #333333\;'><span st
 yle='font-family: Arial\;'><strong>Documenting Professional Education</str
 ong>&nbsp\;- 8 CDA Subject Areas</span>&nbsp\;</span></p>\n</div>\n<div><s
 pan style='font-size: 14pt\; color: #333333\;'><br /><span style='text-dec
 oration: underline\;'><strong>Saturday\, November 18th\, 2023</strong></sp
 an></span></div>\n<div style='padding-left: 30px\;'><span style='font-size
 : 14pt\; color: #333333\;'></span></div>\n<div>&nbsp\;</div>\n<div style='
 padding-left: 30px\;'><span style='font-size: 14pt\; color: #333333\;'><st
 rong>Class C</strong><strong>:&nbsp\;</strong>8:00am-3:00pm&nbsp\;(7 Conta
 ct Hours/.7 CEUs)</span></div>\n<div style='padding-left: 30px\;'><span st
 yle='font-size: 14pt\; color: #333333\;'>&nbsp\;(arrivals will be staggere
 d\, students will be scheduled in as early as 8:00am)</span></div>\n<div s
 tyle='padding-left: 30px\;'><span style='font-size: 14pt\; color: #333333\
 ;'><strong><span style='font-family: Arial\;'>&nbsp\; &nbsp\; &nbsp\;</spa
 n></strong></span></div>\n<div style='padding-left: 30px\;'><span style='f
 ont-size: 14pt\; color: #333333\;'><strong>Class D:&nbsp\;</strong>4:00pm 
 - 7:00pm (3 Contact Hours/.3 CEUs)&nbsp\;</span></div>\n<div style='paddin
 g-left: 30px\;'><span style='font-size: 14pt\; color: #333333\;'>&nbsp\;(d
 issmissal will be staggered\, students will be dismissed throughout the ev
 ening)</span></div>\n<div>\n<div><span style='font-size: 14pt\; color: #33
 3333\;'></span></div>\n<div>&nbsp\;</div>\n<div style='text-align: center\
 ;'>&nbsp\;<span style='font-size: 14pt\; color: #333333\;'><strong><span s
 tyle='font-family: Arial\;'>C &amp\; D Class Content</span></strong></span
 >\n<div style='padding-left: 60px\;'><span style='font-size: 14pt\; color:
  #333333\;'></span></div>\n</div>\n<div>&nbsp\;<span style='color: #333333
 \;'><span style='font-size: 14pt\;'><strong><span style='font-family: Aria
 l\;'>Directed Portfolio Lab:&nbsp\;</span></strong><span style='font-famil
 y: Arial\;'>The Directed Portfolio Lab allows for individual consultation 
 &amp\; one-on-one time with</span><span style='font-family: Arial\;'>&nbsp
 \;the&nbsp\;</span></span><span style='font-size: 14pt\;'><span style='fon
 t-family: Arial\;'>instructor. &nbsp\;Participants will work on their port
 folio and meet with the instructor to discuss their statements and</span><
 span style='font-family: Arial\;'>&nbsp\;the </span></span><span style='fo
 nt-size: 14pt\;'><span style='font-family: Arial\;'>documentation within t
 heir professional portfolio.</span></span></span></div>\n<div><strong styl
 e='font-family: arial\, helvetica\, sans-serif\;'>&nbsp\; &nbsp\; &nbsp\; 
 &nbsp\; &nbsp\; &nbsp\; &nbsp\; &nbsp\; &nbsp\;<span style='font-size: 14p
 t\; color: #000000\;'>The Professional Philosophy Statement</span></strong
 ></div>\n</div>\n<div style='padding-left: 30px\;'>\n<div style='text-alig
 n: justify\;'><span style='color: #333333\;'>&nbsp\; &nbsp\; &nbsp\; &nbsp
 \; &nbsp\;</span><span style='font-family: arial\, helvetica\, sans-serif\
 ; color: #333333\; font-size: 14pt\;'><strong>Individual Consultations - a
 llows one on one with instructors</strong></span></div>\n<div style='paddi
 ng-left: 60px\;'><span style='font-family: arial\, helvetica\, sans-serif\
 ; color: #333333\; font-size: 14pt\;'></span></div>\n</div>\n<div style='p
 adding-left: 60px\;'><span style='font-size: 14pt\; font-family: arial\, h
 elvetica\, sans-serif\; color: #333333\;'></span></div>\n<div><span style=
 'font-size: 14pt\; color: #333333\;'></span></div>\n<div>&nbsp\;</div>\n<d
 iv><span style='font-size: 14pt\; color: #333333\;'><span style='text-deco
 ration: underline\;'><strong>Sunday\, November 19th\, 2023</strong></span>
 </span></div>\n<div style='margin-left: 30px\;'><span style='font-size: 14
 pt\; color: #333333\;'><strong><br /></strong><strong>Class E</strong><str
 ong>:</strong>&nbsp\;8:00am-3:00pm&nbsp\;(7 Contact Hours/.7 CEUs)</span><
 /div>\n<div style='margin-left: 30px\;'>\n<p style='margin-left: 1in\; tex
 t-indent: -1in\;'><span style='font-size: 14pt\; color: #333333\;'><strong
 >Class F:</strong>&nbsp\;4:00pm-7:00pm&nbsp\;<span style='background-color
 : inherit\; font-family: inherit\; caret-color: auto\;'>(3 Contact Hours/.
 3 CEUs)</span></span></p>\n<p><span style='font-size: 14pt\; color: #33333
 3\;'></span></p>\n</div>\n<div>&nbsp\;</div>\n<div style='padding-left: 30
 px\; text-align: center\;'><span style='font-size: 14pt\; color: #333333\;
 '><strong><span style='font-family: Arial\;'>E &amp\; F Class Content<span
  style='font-family: Arial\;'></span>&nbsp\;&nbsp\;&nbsp\; &nbsp\; &nbsp\;
  </span></strong></span></div>\n<div style='padding-left: 30px\;'><span st
 yle='font-size: 14pt\; color: #333333\;'><strong><span style='font-family:
  Arial\;'><span style='font-family: Arial\;'>&nbsp\; &nbsp\; &nbsp\; &nbsp
 \;Unit 7:<span style='font-family: Arial\;'>&nbsp\;CDA Practice Exam&nbsp\
 ;</span>&nbsp\;</span>&nbsp\;</span></strong></span></div>\n<div style='pa
 dding-left: 30px\;'><span style='font-size: 14pt\; color: #333333\;'><stro
 ng><span style='font-family: Arial\;'>&nbsp\; &nbsp\; &nbsp\; &nbsp\;</spa
 n></strong></span><span style='color: #333333\; font-size: 14pt\;'><strong
 ><span style='font-family: Arial\;'>Unit 8:&nbsp\;</span></strong><strong>
 <span style='font-family: Arial\;'>I<strong>nstructions on completing the 
 process</strong></span></strong></span></div>\n<div style='padding-left: 6
 0px\;'>\n<p style='margin-left: 1in\; text-indent: -1in\;'><span style='fo
 nt-size: 14pt\; color: #333333\;'><strong><span style='font-family: Arial\
 ;'>&nbsp\; &nbsp\; &nbsp\; &nbsp\; &nbsp\; &nbsp\; &nbsp\; &nbsp\; &nbsp\;
  &nbsp\; &nbsp\; &nbsp\; &nbsp\;&nbsp\;</span></strong><strong><span style
 ='font-family: Arial\;'>Understanding the verification visit</span> </stro
 ng> </span></p>\n<p style='margin-left: 1in\; text-indent: -1in\;'><span s
 tyle='font-size: 14pt\; color: #333333\;'><strong><span style='font-family
 : Arial\;'>&nbsp\; &nbsp\; &nbsp\; &nbsp\; &nbsp\; &nbsp\; &nbsp\; &nbsp\;
  &nbsp\; &nbsp\; &nbsp\; &nbsp\; &nbsp\;&nbsp\;<strong>The application pro
 cess</strong></span> </strong> </span></p>\n<p style='margin-left: 1in\; t
 ext-indent: -1in\;'><span style='font-size: 14pt\; color: #333333\;'><stro
 ng><span style='font-family: Arial\;'>&nbsp\; &nbsp\; &nbsp\; &nbsp\; &nbs
 p\; &nbsp\; &nbsp\; &nbsp\; &nbsp\; &nbsp\; &nbsp\; &nbsp\; &nbsp\; Choosi
 ng your PD Specialist</span> </strong> </span></p>\n<p style='margin-left:
  1in\; text-indent: -1in\;'><span style='font-size: 14pt\; color: #333333\
 ;'><strong><span style='font-family: Arial\;'>&nbsp\; &nbsp\; &nbsp\; &nbs
 p\; &nbsp\; &nbsp\; &nbsp\; &nbsp\; &nbsp\; &nbsp\; &nbsp\; &nbsp\; &nbsp\
 ;&nbsp\;</span></strong><strong><span style='font-family: Arial\;'>Finding
  a Pearson Vue testing site&nbsp\;</span></strong></span></p>\n<p style='m
 argin-left: 1in\; text-indent: -1in\;'><span style='font-size: 14pt\;'><st
 rong><span style='font-family: Arial\;'>&nbsp\; &nbsp\; &nbsp\; </span></s
 trong></span></p>\n<p style='text-align: center\;'><span style='font-size:
  14pt\;'><a href='http://handprint.niccm.com/products/cda-fast-track.html'
  title='Registration CDA Fast Track '><span style='margin: 0px\; padding: 
 0px\; border: 0px\; outline: 0px\; background-color: transparent\; font-fa
 mily: arial\, helvetica\, sans-serif\;'><span style='color: #ffffff\;'><sp
 an style='padding: 3px 10px 4px\; background-color: #7b3b3b\;'><strong>Cli
 ck Here To Register Online Now!</strong></span></span></span></a></span></
 p>\n<p style='text-align: center\;'>&nbsp\;</p>\n<p style='text-align: cen
 ter\;'>&nbsp\;</p>\n<footer></footer></div>\n<p style='text-align: center\
 ;'><span style='font-size: 18pt\;'>&nbsp\; &nbsp\; &nbsp\; &nbsp\;Call (60
 2) 476-1422 for More Information&nbsp\;</span></p>\n<p>&nbsp\;&nbsp\;</p>
DTSTART:20231117T070000Z
DTEND:20231119T190000Z
SUMMARY:CDA Fast Track  - Orlando 1123
URL:https://niccm.com/71-cda-fast-track/816-cda-fast-track-orlando-1123
END:VEVENT
BEGIN:VEVENT
UID:20231110T160000UTC-1843eXnV1C@https://niccm.com/
DTSTAMP:20260425T164633Z
CATEGORIES:Past NICCM Events
DESCRIPTION:<h1 style='color: #000000\; visibility: visible\; text-align: c
 enter\;'>N.A.C. (National Administrator's Credential)</h1>\n<h2 style='col
 or: #000000\; visibility: visible\; text-align: justify\;'><span style='fo
 nt-size: 18pt\;'>Location/Hotel:</span>&nbsp\;&nbsp\;</h2>\n<p style='back
 ground-color: transparent\; margin: 2px 0px\; padding: 0px\; border: 0px\;
  outline: 0px\; font-size: 12px\; color: #505f69\; font-family: Helvetica\
 , Arial\, FreeSans\, sans-serif\;'>&nbsp\;</p>\n<p style='background-color
 : transparent\; margin: 2px 0px\; padding: 0px\; border: 0px\; outline: 0p
 x\; font-size: 12px\; color: #505f69\; font-family: Helvetica\, Arial\, Fr
 eeSans\, sans-serif\;'><span style='font-family: arial\, helvetica\, sans-
 serif\; font-size: 14pt\; color: #000000\;'>Hilton Garden Inn - Lake Buena
  Vista&nbsp\;</span></p>\n<p><span style='color: #000000\; font-family: ar
 ial\, helvetica\, sans-serif\; font-size: 14pt\;'>11400 Marabella Palm Cou
 rt</span></p>\n<p><span style='color: #000000\; font-family: arial\, helve
 tica\, sans-serif\; font-size: 14pt\;'>Orlando\, FL &nbsp\;32836</span></p
 >\n<p><span style='color: #000000\; font-family: arial\, helvetica\, sans-
 serif\; font-size: 14pt\;'>(407) 239- 9550</span></p>\n<p><span style='fon
 t-size: 14pt\; font-family: arial\, helvetica\, sans-serif\; color: #00000
 0\;'>Reservations</span>&nbsp\;<span style='font-size: 14pt\;'><a href='ht
 tps://www.hilton.com/en/book/reservation/deeplink/?ctyhocn=MCOBVGI&amp\;gr
 oupCode=NICCM6&amp\;arrivaldate=2023-11-14&amp\;departuredate=2023-11-20&a
 mp\;cid=OM\,WW\,HILTONLINK\,EN\,DirectLink&amp\;fromId=HILTONLINKDIRECT'>H
 ilton.com&nbsp\;</a></span></p>\n<p><span style='color: #0000ff\; font-siz
 e: 14pt\;'><span style='color: #000000\;'>Call for assistance if there are
 n't any available reservations on the link.</span>&nbsp\;</span></p>\n<p>&
 nbsp\;</p>\n<p>&nbsp\;</p>\n<p style='text-align: center\;'><a href='http:
 //handprint.niccm.com/products/national-florida-and-texas-director-credent
 ial-n-a-c.html' title='Registration NAC '><span style='color: #ffffff\;'><
 span style='font-size: 19px\; padding: 3px 10px 4px\; background-color: #7
 b3b3b\;'><strong>Click Here To Register Online Now!</strong></span></span>
 </a></p>\n<p>&nbsp\;</p>\n<p>&nbsp\;</p>\n<p><span style='color: #000000\;
 '><strong style='font-size: 14pt\;'><span style='font-size: 18pt\;'>Schedu
 le:</span></strong></span></p>\n<div>&nbsp\;</div>\n<div><span style='colo
 r: #000000\;'><span style='text-decoration: underline\;'><strong><span sty
 le='font-size: 14pt\;'>Friday\, November 17th\, 2023</span></strong></span
 ><strong><span style='font-size: 14pt\;'>&nbsp\; &nbsp\;</span></strong></
 span></div>\n<div>&nbsp\;</div>\n<div><span style='font-size: 12pt\; color
 : #000000\;'><strong>Arrival and Check-In:&nbsp\; </strong>3:45pm-4:00pm &
 nbsp\;</span><span style='color: #000000\;'><span style='color: #000000\;'
 >(Students must arrive and check-in at least 1 hour before class starts)</
 span></span></div>\n<div>&nbsp\;</div>\n<div><span style='color: #000000\;
 '></span></div>\n<div><span style='font-size: 12pt\; color: #000000\;'><st
 rong>Session A: &nbsp\;</strong>5:00pm-9:00pm&nbsp\;<span style='font-size
 : 10.6667px\;'>4</span><span style='font-size: 10.6667px\;'>&nbsp\;Contact
  Hours / .4 CEUs</span>&nbsp\;<span style='font-size: 8pt\;'>(For Sessions
  taken individually earn up to 5 Contact Hours / .5 CEUs by completing 1 P
 raxis question)</span></span></div>\n<div style='padding-left: 30px\;'><sp
 an style='font-size: 12pt\; color: #000000\;'>Unit 1: Fiscal Management&nb
 sp\;</span></div>\n<div style='padding-left: 30px\;'><span style='font-siz
 e: 12pt\; color: #000000\;'>Unit 2: Insurance for Your Center</span></div>
 \n<div>&nbsp\;</div>\n<div style='padding-left: 30px\;'><span style='color
 : #000000\;'></span></div>\n<div><span style='color: #000000\;'><span styl
 e='text-decoration: underline\;'><strong><span style='font-size: 14pt\;'>S
 aturday\, November 18th\, 2023</span></strong></span><span style='font-siz
 e: 8pt\;'>&nbsp\; &nbsp\;</span></span></div>\n<div>&nbsp\;</div>\n<div><s
 pan style='color: #000000\;'></span></div>\n<div><span style='font-size: 1
 2pt\; color: #000000\;'><strong>Session B:</strong>&nbsp\;&nbsp\;8:00am-12
 :00pm&nbsp\;<span style='font-size: 10.6667px\;'>4</span><span style='font
 -size: 10.6667px\;'>&nbsp\;Contact Hours / .4 CEUs&nbsp\;</span><span styl
 e='font-size: 8pt\;'>(For Sessions taken individually earn up to 5 Contact
  Hours / .5 CEUs by completing 1 Praxis question)</span></span></div>\n<di
 v style='padding-left: 30px\;'><span style='font-size: 12pt\; color: #0000
 00\;'>Unit 3: Hiring &amp\; Teacher Orientation</span></div>\n<div style='
 padding-left: 30px\;'><span style='font-size: 12pt\; color: #000000\;'>Uni
 t 4: Employee Handbooks &amp\; Evals</span></div>\n<div style='padding-lef
 t: 30px\;'><span style='color: #000000\;'></span></div>\n<div><span style=
 'font-size: 12pt\; color: #000000\;'><strong>Session C:</strong>&nbsp\;&nb
 sp\;1:00pm-5:00pm &nbsp\;<span style='font-size: 10.6667px\;'>4</span><spa
 n style='font-size: 10.6667px\;'>&nbsp\;Contact Hours / .4 CEUs&nbsp\;</sp
 an><span style='font-size: 8pt\;'>(For Sessions taken individually earn up
  to 5 Contact Hours / .5 CEUs by completing 1 Praxis question)</span></spa
 n></div>\n<div style='padding-left: 30px\;'><span style='font-size: 12pt\;
  color: #000000\;'>Unit 5: Center Management</span></div>\n<div style='pad
 ding-left: 30px\;'><span style='font-size: 12pt\; color: #000000\;'>Unit 6
 : Child Development - The Essentials</span></div>\n<div>&nbsp\;</div>\n<di
 v style='padding-left: 30px\;'><span style='color: #000000\;'></span></div
 >\n<div><span style='color: #000000\;'><span style='text-decoration: under
 line\;'><strong><span style='font-size: 14pt\;'>Sunday\, November 19th\, 2
 023</span></strong></span><strong><span style='font-size: 14pt\;'>&nbsp\; 
 &nbsp\;</span></strong></span></div>\n<div>&nbsp\;</div>\n<div><span style
 ='color: #000000\;'></span></div>\n<div><span style='font-size: 12pt\; col
 or: #000000\;'><strong>Session D: &nbsp\;</strong>8:00am-12:00pm&nbsp\;<sp
 an style='font-size: 10.6667px\;'>4</span><span style='font-size: 10.6667p
 x\;'>&nbsp\;Contact Hours / .4 CEUs&nbsp\;</span><span style='font-size: 8
 pt\;'>(For Sessions taken individually earn up to 5 Contact Hours / .5 CEU
 s by completing 1 Praxis question)</span></span></div>\n<div style='paddin
 g-left: 30px\;'><span style='font-size: 12pt\; color: #000000\;'>Unit 7: D
 ealing with Difficult Employees</span></div>\n<div style='padding-left: 30
 px\;'><span style='font-size: 12pt\; color: #000000\;'>Unit 8: Administrat
 ive Leadership</span></div>\n<div style='padding-left: 30px\;'><span style
 ='color: #000000\;'></span></div>\n<div>\n<div><span style='font-size: 12p
 t\; color: #000000\;'><strong>Session E: &nbsp\;</strong>1:00pm-5:00pm&nbs
 p\;<span style='font-size: 10.6667px\;'>4</span><span style='font-size: 10
 .6667px\;'>&nbsp\;Contact Hours / .4 CEUs&nbsp\;</span><span style='font-s
 ize: 8pt\;'>(For Sessions taken individually earn up to 5 Contact Hours / 
 .5 CEUs by completing 1 Praxis question)</span></span></div>\n<div style='
 padding-left: 30px\;'><span style='font-size: 12pt\; color: #000000\;'>Uni
 t 9: The New Economy</span></div>\n<div style='padding-left: 30px\;'><span
  style='font-size: 12pt\; color: #000000\;'>Unit 10: Train the Trainer</sp
 an></div>\n<div>&nbsp\;</div>\n<div style='padding-left: 30px\;'><span sty
 le='color: #000000\;'></span></div>\n<div style='padding-left: 30px\;'><sp
 an style='color: #000000\;'>&nbsp\;&nbsp\;</span></div>\n</div>\n<div>\n<d
 iv><span style='font-size: 12pt\; color: #000000\;'><strong>Session F: &nb
 sp\;Credential Praxis&nbsp\;</strong><span style='font-size: 8pt\;'>(25 Co
 ntact Hours / 2.5 CEUs)</span></span></div>\n<div><span style='color: #000
 000\;'><span style='font-size: medium\;'>When attending the full conferenc
 e\, each Session is worth 4 Hours/ .4 CEUs for a total of 20 hours for ses
 sions A-E. &nbsp\;Convert the 20 contact hours / 2 CEUs from attendance in
  sessions A-E into the NAC (which is worth 45 contact hours/4.5 CEUs) by c
 ompleting the Praxis. Students will be assigned an instructor to advise th
 em during the completion of their project from home if they have questions
 . Students also have the option of registering for tutoring to complete th
 eir praxis during the event\, at a future event or to get additional help 
 from home on their praxis.&nbsp\;</span></span></div>\n<div>&nbsp\;</div>
 \n</div>\n<div><span style='color: #000000\;'></span></div>\n<div style='p
 adding-left: 30px\;'><span style='color: #000000\;'></span></div>\n<div><s
 pan style='color: #000000\;'><span style='color: #993300\;'><strong style=
 'font-family: arial\, helvetica\, sans-serif\; font-size: 16px\;'><a href=
 'http://handprint.niccm.com/products/national-administrators-credential-n-
 a-c-tutoring.html' title='NAC Tutoring Registration '><span style='font-si
 ze: 12pt\; color: #993300\;'>Optional Tutoring ($160)</span></a>&nbsp\;&nb
 sp\;</strong></span><span style='font-family: arial\, helvetica\, sans-ser
 if\; font-size: 16px\;'>Students who elect to stay for tutoring will recei
 ve a list of materials to bring with them. &nbsp\;The presenter will provi
 de individualized assistance to each tutoring participant in order to help
  them put together and complete their Praxis. Tutoring allows students the
 &nbsp\;<strong>opportunity</strong>&nbsp\;of completing their test and pra
 xis at the event and&nbsp\;<strong>leave having earned their certificate</
 strong>. &nbsp\;Those who wish to participate in tutoring are advised to r
 egister for this service at least 3 days prior to the event to obtain a li
 st of suggested documentation. Tutoring is usually offered on Saturday and
  Sunday of each event from approximately 5:15 pm - 8:15 pm.</span></span><
 /div>
DTSTART:20231117T160000Z
DTEND:20231119T170000Z
SUMMARY:NAC - Orlando 1123
URL:https://niccm.com/70-upcoming-credential-courses/832-nac-orlando-1123
END:VEVENT
END:VCALENDAR
