BEGIN:VCALENDAR
VERSION:2.0
PRODID:-//https://niccm.com//NONSGML kigkonsult.se iCalcreator 2.23.20//
METHOD:PUBLISH
X-WR-CALNAME:JCal Pro Calendar
X-WR-CALDESC:Your online events calendar
X-WR-TIMEZONE:UTC
BEGIN:VTIMEZONE
TZID:UTC
BEGIN:STANDARD
DTSTART:20260419T184945
TZOFFSETFROM:+0000
TZOFFSETTO:+0000
END:STANDARD
END:VTIMEZONE
BEGIN:VEVENT
UID:20231117T070000UTC-6988iiV4Wu@https://niccm.com/
DTSTAMP:20260419T184945Z
CATEGORIES:Past NICCM Events
DESCRIPTION:<h1 style='color: #000000\; visibility: visible\; text-align: c
 enter\;'><span style='font-family: arial\, helvetica\, sans-serif\; font-s
 ize: 18pt\;'>CDA Fast Track&nbsp\;</span></h1>\n<h2 style='color: #000000\
 ; visibility: visible\; text-align: justify\;'><span style='font-size: 12p
 t\; font-family: arial\, helvetica\, sans-serif\;'><strong style='font-siz
 e: 18pt\;'>Location/Hotel:</strong></span>&nbsp\;</h2>\n<p style='backgrou
 nd-color: transparent\; margin: 2px 0px\; padding: 0px\; border: 0px\; out
 line: 0px\; font-size: 12px\; color: #505f69\; font-family: Helvetica\, Ar
 ial\, FreeSans\, sans-serif\;'><span style='color: #000000\; font-family: 
 arial\, helvetica\, sans-serif\; font-size: 14pt\;'>Hilton Garden Inn - La
 ke Buena Vista&nbsp\;</span></p>\n<p><span style='color: #000000\; font-fa
 mily: arial\, helvetica\, sans-serif\; font-size: 14pt\;'>11400 Marabella 
 Palm Court</span></p>\n<p><span style='color: #000000\; font-family: arial
 \, helvetica\, sans-serif\; font-size: 14pt\;'>Orlando\, FL &nbsp\;32836</
 span></p>\n<p><span style='color: #000000\; font-family: arial\, helvetica
 \, sans-serif\; font-size: 14pt\;'>(407) 239- 9550</span></p>\n<p><span st
 yle='font-size: 14pt\; font-family: arial\, helvetica\, sans-serif\; color
 : #000000\;'>Reservations</span>&nbsp\;<span style='font-size: 14pt\;'><a 
 href='https://www.hilton.com/en/book/reservation/deeplink/?ctyhocn=MCOBVGI
 &amp\;groupCode=NIC1&amp\;arrivaldate=2024-01-16&amp\;departuredate=2024-0
 1-22&amp\;cid=OM\,WW\,HILTONLINK\,EN\,DirectLink&amp\;fromId=HILTONLINKDIR
 ECT'>Hilton.com</a><a href='https://www.hilton.com/en/book/reservation/dee
 plink/?ctyhocn=MCOBVGI&amp\;groupCode=NICCM6&amp\;arrivaldate=2023-11-14&a
 mp\;departuredate=2023-11-20&amp\;cid=OM\,WW\,HILTONLINK\,EN\,DirectLink&a
 mp\;fromId=HILTONLINKDIRECT'></a></span></p>\n<p><span style='color: #0000
 ff\; font-size: 14pt\;'><span style='color: #000000\;'>Call for assistance
  if there aren't any available reservations on the link.</span>&nbsp\;</sp
 an></p>\n<address>&nbsp\;</address>\n<p>&nbsp\;</p>\n<p style='text-align:
  center\;'><a href='http://handprint.niccm.com/products/cda-fast-track.htm
 l' title='Registration CDA Fast Track '><span style='font-size: 18pt\;'><s
 pan style='margin: 0px\; padding: 0px\; border: 0px\; outline: 0px\; backg
 round-color: transparent\; font-family: arial\, helvetica\, sans-serif\;'>
 <span style='color: #ffffff\;'><span style='font-size: 19px\; padding: 3px
  10px 4px\; background-color: #7b3b3b\;'><strong>Click Here To Register On
 line Now!</strong></span></span></span></span></a></p>\n<p style='text-ali
 gn: center\;'>&nbsp\;<span style='font-size: 18pt\;'><span style='margin: 
 0px\; padding: 0px\; border: 0px\; outline: 0px\; background-color: transp
 arent\; font-family: arial\, helvetica\, sans-serif\;'>&nbsp\; &nbsp\; &nb
 sp\; &nbsp\; &nbsp\; &nbsp\; &nbsp\; &nbsp\; &nbsp\; &nbsp\; &nbsp\; &nbsp
 \; &nbsp\;&nbsp\;</span></span>&nbsp\;</p>\n<p style='text-align: center\;
 '>&nbsp\;</p>\n<div style='text-align: center\;'>\n<p style='visibility: v
 isible\; text-align: justify\;'><span style='color: #333333\;'><span style
 ='font-size: 12pt\; font-family: arial\, helvetica\, sans-serif\;'><strong
  style='font-size: 18pt\;'>Course Content &amp\; Schedule:</strong></span>
 &nbsp\;</span></p>\n<p style='visibility: visible\; text-align: justify\;'
 ><span style='color: #333333\;'></span></p>\n</div>\n<div>&nbsp\;</div>\n<
 div style='text-align: justify\;'><span style='text-decoration: underline\
 ; color: #333333\;'><span style='font-size: large\;'><strong><span style='
 font-size: 14pt\;'>Friday\, January 19th\, 2024</span></strong></span></sp
 an></div>\n<div><span style='color: #333333\;'></span></div>\n<div>&nbsp\;
 </div>\n<div><span style='font-size: 14pt\; color: #333333\;'><strong>Arri
 val and Check-In</strong>: 6:45am -7:00am <span style='font-size: 12pt\;'>
 (students must arrive and check-in 15 minutes before class)</span></span><
 /div>\n<div style='padding-left: 30px\;'><span style='color: #333333\;'><s
 pan style='font-size: large\;'><strong><br /></strong></span><span style='
 font-size: 14pt\;'><strong>C</strong><strong>lass A</strong>: 7:00am -12:0
 0pm &nbsp\;(5 Contact Hours/.5 CEUs)</span></span></div>\n<div style='padd
 ing-left: 30px\;'><span style='font-size: 14pt\; color: #333333\;'>&nbsp\;
  &nbsp\; &nbsp\;&nbsp\;</span><span style='font-size: 14pt\; color: #33333
 3\;'><strong><span style='font-family: Arial\;'>Introduction:&nbsp\;</span
 >&nbsp\;</strong> <strong><span style='font-family: Arial\;'>Overview of t
 he Course</span><span style='font-family: Arial\;'>&nbsp\; &nbsp\;</span><
 /strong></span></div>\n<div style='margin-left: 60px\;'>\n<p><span style='
 font-size: 14pt\; color: #333333\;'><strong><span style='font-family: Aria
 l\;'>Unit 1:&nbsp\; &nbsp\; </span></strong><strong><span style='font-fami
 ly: Arial\;'>Keys to Writing Statements</span> </strong> </span></p>\n<p s
 tyle='margin-left: 31px\;'><span style='font-size: 14pt\; color: #333333\;
 '><strong><span style='font-family: Arial\;'>&nbsp\; &nbsp\; &nbsp\; &nbsp
 \; &nbsp\;Competency Statement 1:&nbsp\;&nbsp\;</span> </strong><span styl
 e='font-family: Arial\;'>Planning a safe and healthy learning environment<
 /span></span></p>\n<p><span style='font-size: 14pt\; color: #333333\;'><st
 rong><span style='font-family: Arial\;'>Unit 2:&nbsp\; &nbsp\; </span></st
 rong><strong><span style='font-family: Arial\;'>Competency Statement 2:&nb
 sp\;&nbsp\;</span> </strong><span style='font-family: Arial\;'>Advancing c
 hildren’s physical and intellectual development</span></span></p>\n</div>
 \n<div style='padding-left: 30px\;'><span style='font-size: 12pt\; color: 
 #333333\;'><br /><span style='font-size: 14pt\;'><strong>Class B:</strong>
 &nbsp\;12:30pm- 5:30pm &nbsp\;(5 Contact Hours/.5 CEUs) </span></span></di
 v>\n<div style='padding-left: 30px\;'><span style='font-size: 14pt\; color
 : #333333\;'><strong><span style='font-family: Arial\;'>&nbsp\; &nbsp\; &n
 bsp\;</span></strong></span>\n<div style='padding-left: 30px\; text-align:
  justify\;'><span style='color: #333333\; font-size: 14pt\;'><strong><span
  style='font-family: Arial\;'>Unit 3:&nbsp\; &nbsp\;&nbsp\;</span></strong
 ><strong>Competency Statement 3:&nbsp\;&nbsp\;</strong>Supporting children
 ’s social and emotional development</span></div>\n<div style='text-align: 
 justify\;'><span style='color: #333333\; font-size: 14pt\;'>&nbsp\; &nbsp\
 ; &nbsp\; </span><span style='color: #333333\;'><strong style='font-family
 : arial\, helvetica\, sans-serif\; font-size: 12pt\; text-indent: -1in\; c
 olor: inherit\;'><span style='font-size: 14pt\;'>Unit 4:&nbsp\; &nbsp\;&nb
 sp\;Competency Statement 4:</span>&nbsp\;&nbsp\;</strong></span><span styl
 e='color: #333333\; font-size: 14pt\;'>Establishing positive and productiv
 e relationships with families</span></div>\n<div style='text-align: justif
 y\;'><span style='color: #333333\; font-size: 14pt\;'><strong>&nbsp\; &nbs
 p\; &nbsp\; Unit 5:&nbsp\; &nbsp\;&nbsp\;</strong><strong>Competency State
 ment 5:&nbsp\;&nbsp\;</strong>Ensuring a well-run purposeful program&nbsp\
 ;</span></div>\n<div style='text-align: justify\;'><span style='color: #33
 3333\; font-size: 14pt\;'><strong>&nbsp\; &nbsp\; &nbsp\; Unit 6:&nbsp\;&n
 bsp\; &nbsp\;Competency Statement 6:&nbsp\;&nbsp\;</strong>Maintaining a c
 ommitment to professionalism</span></div>\n<div style='padding-left: 60px\
 ;'><span style='color: #333333\; font-size: 14pt\;'></span></div>\n</div>
 \n<div style='padding-left: 60px\;'>\n<p><span style='font-size: 14pt\; co
 lor: #333333\;'></span></p>\n<p><span style='color: #333333\; font-size: 1
 4pt\;'></span></p>\n<p><span style='font-size: 14pt\; color: #333333\;'><s
 pan style='font-family: Arial\;'><strong>Documenting Professional Educatio
 n</strong>&nbsp\;- 8 CDA Subject Areas</span>&nbsp\;</span></p>\n</div>\n<
 div><span style='font-size: 14pt\; color: #333333\;'><br /><span style='te
 xt-decoration: underline\;'><strong>Saturday\, January 20th\, 2024</strong
 ></span></span></div>\n<div style='padding-left: 30px\;'><span style='font
 -size: 14pt\; color: #333333\;'></span></div>\n<div>&nbsp\;</div>\n<div st
 yle='padding-left: 30px\;'><span style='font-size: 14pt\; color: #333333\;
 '><strong>Class C</strong><strong>:&nbsp\;</strong>8:00am-3:00pm&nbsp\;(7 
 Contact Hours/.7 CEUs)</span></div>\n<div style='padding-left: 30px\;'><sp
 an style='font-size: 14pt\; color: #333333\;'>&nbsp\;(arrivals will be sta
 ggered\, students will be scheduled in as early as 8:00am)</span></div>\n<
 div style='padding-left: 30px\;'><span style='font-size: 14pt\; color: #33
 3333\;'><strong><span style='font-family: Arial\;'>&nbsp\; &nbsp\; &nbsp\;
 </span></strong></span></div>\n<div style='padding-left: 30px\;'><span sty
 le='font-size: 14pt\; color: #333333\;'><strong>Class D:&nbsp\;</strong>4:
 00pm - 7:00pm (3 Contact Hours/.3 CEUs)&nbsp\;</span></div>\n<div style='p
 adding-left: 30px\;'><span style='font-size: 14pt\; color: #333333\;'>&nbs
 p\;(dissmissal will be staggered\, students will be dismissed throughout t
 he evening)</span></div>\n<div>\n<div><span style='font-size: 14pt\; color
 : #333333\;'></span></div>\n<div>&nbsp\;</div>\n<div style='text-align: ce
 nter\;'>&nbsp\;<span style='font-size: 14pt\; color: #333333\;'><strong><s
 pan style='font-family: Arial\;'>C &amp\; D Class Content</span></strong><
 /span>\n<div style='padding-left: 60px\;'><span style='font-size: 14pt\; c
 olor: #333333\;'></span></div>\n</div>\n<div>&nbsp\;<span style='color: #3
 33333\;'><span style='font-size: 14pt\;'><strong><span style='font-family:
  Arial\;'>Directed Portfolio Lab:&nbsp\;</span></strong><span style='font-
 family: Arial\;'>The Directed Portfolio Lab allows for individual consulta
 tion &amp\; one-on-one time with</span><span style='font-family: Arial\;'>
 &nbsp\;the&nbsp\;</span></span><span style='font-size: 14pt\;'><span style
 ='font-family: Arial\;'>instructor. &nbsp\;Participants will work on their
  portfolio and meet with the instructor to discuss their statements and</s
 pan><span style='font-family: Arial\;'>&nbsp\;the </span></span><span styl
 e='font-size: 14pt\;'><span style='font-family: Arial\;'>documentation wit
 hin their professional portfolio.</span></span></span></div>\n<div><strong
  style='font-family: arial\, helvetica\, sans-serif\;'>&nbsp\; &nbsp\; &nb
 sp\; &nbsp\; &nbsp\; &nbsp\; &nbsp\; &nbsp\; &nbsp\;<span style='font-size
 : 14pt\; color: #000000\;'>The Professional Philosophy Statement</span></s
 trong></div>\n</div>\n<div style='padding-left: 30px\;'>\n<div style='text
 -align: justify\;'><span style='color: #333333\;'>&nbsp\; &nbsp\; &nbsp\; 
 &nbsp\; &nbsp\;</span><span style='font-family: arial\, helvetica\, sans-s
 erif\; color: #333333\; font-size: 14pt\;'><strong>Individual Consultation
 s - allows one on one with instructors</strong></span></div>\n<div style='
 padding-left: 60px\;'><span style='font-family: arial\, helvetica\, sans-s
 erif\; color: #333333\; font-size: 14pt\;'></span></div>\n</div>\n<div sty
 le='padding-left: 60px\;'><span style='font-size: 14pt\; font-family: aria
 l\, helvetica\, sans-serif\; color: #333333\;'></span></div>\n<div><span s
 tyle='font-size: 14pt\; color: #333333\;'></span></div>\n<div>&nbsp\;</div
 >\n<div><span style='font-size: 14pt\; color: #333333\;'><span style='text
 -decoration: underline\;'><strong>Sunday\, January 21st\, 2024</strong></s
 pan></span></div>\n<div style='margin-left: 30px\;'><span style='font-size
 : 14pt\; color: #333333\;'><strong><br /></strong><strong>Class E</strong>
 <strong>:</strong>&nbsp\;8:00am-3:00pm&nbsp\;(7 Contact Hours/.7 CEUs)</sp
 an></div>\n<div style='margin-left: 30px\;'>\n<p style='margin-left: 1in\;
  text-indent: -1in\;'><span style='font-size: 14pt\; color: #333333\;'><st
 rong>Class F:</strong>&nbsp\;4:00pm-7:00pm&nbsp\;<span style='background-c
 olor: inherit\; font-family: inherit\; caret-color: auto\;'>(3 Contact Hou
 rs/.3 CEUs)</span></span></p>\n<p><span style='font-size: 14pt\; color: #3
 33333\;'></span></p>\n</div>\n<div>&nbsp\;</div>\n<div style='padding-left
 : 30px\; text-align: center\;'><span style='font-size: 14pt\; color: #3333
 33\;'><strong><span style='font-family: Arial\;'>E &amp\; F Class Content<
 span style='font-family: Arial\;'></span>&nbsp\;&nbsp\;&nbsp\; &nbsp\; &nb
 sp\; </span></strong></span></div>\n<div style='padding-left: 30px\;'><spa
 n style='font-size: 14pt\; color: #333333\;'><strong><span style='font-fam
 ily: Arial\;'><span style='font-family: Arial\;'>&nbsp\; &nbsp\; &nbsp\; &
 nbsp\;Unit 7:<span style='font-family: Arial\;'>&nbsp\;CDA Practice Exam&n
 bsp\;</span>&nbsp\;</span>&nbsp\;</span></strong></span></div>\n<div style
 ='padding-left: 30px\;'><span style='font-size: 14pt\; color: #333333\;'><
 strong><span style='font-family: Arial\;'>&nbsp\; &nbsp\; &nbsp\; &nbsp\;<
 /span></strong></span><span style='color: #333333\; font-size: 14pt\;'><st
 rong><span style='font-family: Arial\;'>Unit 8:&nbsp\;</span></strong><str
 ong><span style='font-family: Arial\;'>I<strong>nstructions on completing 
 the process</strong></span></strong></span></div>\n<div style='padding-lef
 t: 60px\;'>\n<p style='margin-left: 1in\; text-indent: -1in\;'><span style
 ='font-size: 14pt\; color: #333333\;'><strong><span style='font-family: Ar
 ial\;'>&nbsp\; &nbsp\; &nbsp\; &nbsp\; &nbsp\; &nbsp\; &nbsp\; &nbsp\; &nb
 sp\; &nbsp\; &nbsp\; &nbsp\; &nbsp\;&nbsp\;</span></strong><strong><span s
 tyle='font-family: Arial\;'>Understanding the verification visit</span> </
 strong> </span></p>\n<p style='margin-left: 1in\; text-indent: -1in\;'><sp
 an style='font-size: 14pt\; color: #333333\;'><strong><span style='font-fa
 mily: Arial\;'>&nbsp\; &nbsp\; &nbsp\; &nbsp\; &nbsp\; &nbsp\; &nbsp\; &nb
 sp\; &nbsp\; &nbsp\; &nbsp\; &nbsp\; &nbsp\;&nbsp\;<strong>The application
  process</strong></span> </strong> </span></p>\n<p style='margin-left: 1in
 \; text-indent: -1in\;'><span style='font-size: 14pt\; color: #333333\;'><
 strong><span style='font-family: Arial\;'>&nbsp\; &nbsp\; &nbsp\; &nbsp\; 
 &nbsp\; &nbsp\; &nbsp\; &nbsp\; &nbsp\; &nbsp\; &nbsp\; &nbsp\; &nbsp\; Ch
 oosing your PD Specialist</span> </strong> </span></p>\n<p style='margin-l
 eft: 1in\; text-indent: -1in\;'><span style='font-size: 14pt\; color: #333
 333\;'><strong><span style='font-family: Arial\;'>&nbsp\; &nbsp\; &nbsp\; 
 &nbsp\; &nbsp\; &nbsp\; &nbsp\; &nbsp\; &nbsp\; &nbsp\; &nbsp\; &nbsp\; &n
 bsp\;&nbsp\;</span></strong><strong><span style='font-family: Arial\;'>Fin
 ding a Pearson Vue testing site&nbsp\;</span></strong></span></p>\n<p styl
 e='margin-left: 1in\; text-indent: -1in\;'><span style='font-size: 14pt\;'
 ><strong><span style='font-family: Arial\;'>&nbsp\; &nbsp\; &nbsp\; </span
 ></strong></span></p>\n<p style='text-align: center\;'><span style='font-s
 ize: 14pt\;'><a href='http://handprint.niccm.com/products/cda-fast-track.h
 tml' title='Registration CDA Fast Track '><span style='margin: 0px\; paddi
 ng: 0px\; border: 0px\; outline: 0px\; background-color: transparent\; fon
 t-family: arial\, helvetica\, sans-serif\;'><span style='color: #ffffff\;'
 ><span style='padding: 3px 10px 4px\; background-color: #7b3b3b\;'><strong
 >Click Here To Register Online Now!</strong></span></span></span></a></spa
 n></p>\n<p style='text-align: center\;'>&nbsp\;</p>\n<p style='text-align:
  center\;'>&nbsp\;</p>\n<footer></footer></div>\n<p style='text-align: cen
 ter\;'><span style='font-size: 18pt\;'>&nbsp\; &nbsp\; &nbsp\; &nbsp\;Call
  (602) 476-1422 for More Information&nbsp\;</span></p>\n<p>&nbsp\;&nbsp\;<
 /p>
DTSTART:20240119T070000Z
DTEND:20240121T190000Z
SUMMARY:CDA Fast Track  - Orlando 124
URL:https://niccm.com/71-cda-fast-track/843-cda-fast-track-orlando-124
END:VEVENT
BEGIN:VEVENT
UID:20231117T160000UTC-16852KFJgX@https://niccm.com/
DTSTAMP:20260419T184945Z
CATEGORIES:Past NICCM Events
DESCRIPTION:<h1 style='color: #000000\; visibility: visible\; text-align: c
 enter\;'>N.A.C. (National Administrator's Credential)</h1>\n<h2 style='col
 or: #000000\; visibility: visible\; text-align: justify\;'><span style='fo
 nt-size: 18pt\;'>Location/Hotel:</span>&nbsp\;&nbsp\;</h2>\n<p style='back
 ground-color: transparent\; margin: 2px 0px\; padding: 0px\; border: 0px\;
  outline: 0px\; font-size: 12px\; color: #505f69\; font-family: Helvetica\
 , Arial\, FreeSans\, sans-serif\;'>&nbsp\;</p>\n<p style='background-color
 : transparent\; margin: 2px 0px\; padding: 0px\; border: 0px\; outline: 0p
 x\; font-size: 12px\; color: #505f69\; font-family: Helvetica\, Arial\, Fr
 eeSans\, sans-serif\;'><span style='font-family: arial\, helvetica\, sans-
 serif\; font-size: 14pt\; color: #000000\;'>Hilton Garden Inn - Lake Buena
  Vista&nbsp\;</span></p>\n<p><span style='color: #000000\; font-family: ar
 ial\, helvetica\, sans-serif\; font-size: 14pt\;'>11400 Marabella Palm Cou
 rt</span></p>\n<p><span style='color: #000000\; font-family: arial\, helve
 tica\, sans-serif\; font-size: 14pt\;'>Orlando\, FL &nbsp\;32836</span></p
 >\n<p><span style='color: #000000\; font-family: arial\, helvetica\, sans-
 serif\; font-size: 14pt\;'>(407) 239- 9550</span></p>\n<p><span style='fon
 t-size: 14pt\; font-family: arial\, helvetica\, sans-serif\; color: #00000
 0\;'>Reservations</span>&nbsp\;<a href='https://www.hilton.com/en/book/res
 ervation/deeplink/?ctyhocn=MCOBVGI&amp\;groupCode=NIC1&amp\;arrivaldate=20
 24-01-16&amp\;departuredate=2024-01-22&amp\;cid=OM\,WW\,HILTONLINK\,EN\,Di
 rectLink&amp\;fromId=HILTONLINKDIRECT'><span style='font-size: 14pt\;'>Hil
 ton.com&nbsp\;</span></a></p>\n<p><span style='color: #0000ff\; font-size:
  14pt\;'><span style='color: #000000\;'>Call for assistance if there aren'
 t any available reservations on the link.</span>&nbsp\;</span></p>\n<p>&nb
 sp\;</p>\n<p>&nbsp\;</p>\n<p style='text-align: center\;'><a href='http://
 handprint.niccm.com/products/national-florida-and-texas-director-credentia
 l-n-a-c.html' title='Registration NAC '><span style='color: #ffffff\;'><sp
 an style='font-size: 19px\; padding: 3px 10px 4px\; background-color: #7b3
 b3b\;'><strong>Click Here To Register Online Now!</strong></span></span></
 a></p>\n<p>&nbsp\;</p>\n<p>&nbsp\;</p>\n<p><span style='color: #000000\;'>
 <strong style='font-size: 14pt\;'><span style='font-size: 18pt\;'>Schedule
 :</span></strong></span></p>\n<div>&nbsp\;</div>\n<div><span style='color:
  #000000\;'><span style='text-decoration: underline\;'><strong><span style
 ='font-size: 14pt\;'>Friday\, January 19th\, 2024</span></strong></span><s
 trong><span style='font-size: 14pt\;'>&nbsp\; &nbsp\;</span></strong></spa
 n></div>\n<div>&nbsp\;</div>\n<div><span style='font-size: 12pt\; color: #
 000000\;'><strong>Arrival and Check-In:&nbsp\; </strong>3:45pm-4:00pm &nbs
 p\;</span><span style='color: #000000\;'><span style='color: #000000\;'>(S
 tudents must arrive and check-in at least 1 hour before class starts)</spa
 n></span></div>\n<div>&nbsp\;</div>\n<div><span style='color: #000000\;'><
 /span></div>\n<div><span style='font-size: 12pt\; color: #000000\;'><stron
 g>Session A: &nbsp\;</strong>5:00pm-9:00pm&nbsp\;<span style='font-size: 1
 0.6667px\;'>4</span><span style='font-size: 10.6667px\;'>&nbsp\;Contact Ho
 urs / .4 CEUs</span>&nbsp\;<span style='font-size: 8pt\;'>(For Sessions ta
 ken individually earn up to 5 Contact Hours / .5 CEUs by completing 1 Prax
 is question)</span></span></div>\n<div style='padding-left: 30px\;'><span 
 style='font-size: 12pt\; color: #000000\;'>Unit 1: Fiscal Management&nbsp\
 ;</span></div>\n<div style='padding-left: 30px\;'><span style='font-size: 
 12pt\; color: #000000\;'>Unit 2: Insurance for Your Center</span></div>\n<
 div>&nbsp\;</div>\n<div style='padding-left: 30px\;'><span style='color: #
 000000\;'></span></div>\n<div><span style='color: #000000\;'><span style='
 text-decoration: underline\;'><strong><span style='font-size: 14pt\;'>Satu
 rday\, January 20th\, 2024</span></strong></span><span style='font-size: 8
 pt\;'>&nbsp\;&nbsp\;</span></span></div>\n<div>&nbsp\;</div>\n<div><span s
 tyle='color: #000000\;'></span></div>\n<div><span style='font-size: 12pt\;
  color: #000000\;'><strong>Session B:</strong>&nbsp\;&nbsp\;8:00am-12:00pm
 &nbsp\;<span style='font-size: 10.6667px\;'>4</span><span style='font-size
 : 10.6667px\;'>&nbsp\;Contact Hours / .4 CEUs&nbsp\;</span><span style='fo
 nt-size: 8pt\;'>(For Sessions taken individually earn up to 5 Contact Hour
 s / .5 CEUs by completing 1 Praxis question)</span></span></div>\n<div sty
 le='padding-left: 30px\;'><span style='font-size: 12pt\; color: #000000\;'
 >Unit 3: Hiring &amp\; Teacher Orientation</span></div>\n<div style='paddi
 ng-left: 30px\;'><span style='font-size: 12pt\; color: #000000\;'>Unit 4: 
 Employee Handbooks &amp\; Evals</span></div>\n<div style='padding-left: 30
 px\;'><span style='color: #000000\;'></span></div>\n<div><span style='font
 -size: 12pt\; color: #000000\;'><strong>Session C:</strong>&nbsp\;&nbsp\;1
 :00pm-5:00pm &nbsp\;<span style='font-size: 10.6667px\;'>4</span><span sty
 le='font-size: 10.6667px\;'>&nbsp\;Contact Hours / .4 CEUs&nbsp\;</span><s
 pan style='font-size: 8pt\;'>(For Sessions taken individually earn up to 5
  Contact Hours / .5 CEUs by completing 1 Praxis question)</span></span></d
 iv>\n<div style='padding-left: 30px\;'><span style='font-size: 12pt\; colo
 r: #000000\;'>Unit 5: Center Management</span></div>\n<div style='padding-
 left: 30px\;'><span style='font-size: 12pt\; color: #000000\;'>Unit 6: Chi
 ld Development - The Essentials</span></div>\n<div>&nbsp\;</div>\n<div sty
 le='padding-left: 30px\;'><span style='color: #000000\;'></span></div>\n<d
 iv><span style='color: #000000\;'><span style='text-decoration: underline\
 ;'><strong><span style='font-size: 14pt\;'>Sunday\, January 21st\, 2024</s
 pan></strong></span><strong><span style='font-size: 14pt\;'>&nbsp\; &nbsp\
 ;</span></strong></span></div>\n<div>&nbsp\;</div>\n<div><span style='colo
 r: #000000\;'></span></div>\n<div><span style='font-size: 12pt\; color: #0
 00000\;'><strong>Session D: &nbsp\;</strong>8:00am-12:00pm&nbsp\;<span sty
 le='font-size: 10.6667px\;'>4</span><span style='font-size: 10.6667px\;'>&
 nbsp\;Contact Hours / .4 CEUs&nbsp\;</span><span style='font-size: 8pt\;'>
 (For Sessions taken individually earn up to 5 Contact Hours / .5 CEUs by c
 ompleting 1 Praxis question)</span></span></div>\n<div style='padding-left
 : 30px\;'><span style='font-size: 12pt\; color: #000000\;'>Unit 7: Dealing
  with Difficult Employees</span></div>\n<div style='padding-left: 30px\;'>
 <span style='font-size: 12pt\; color: #000000\;'>Unit 8: Administrative Le
 adership</span></div>\n<div style='padding-left: 30px\;'><span style='colo
 r: #000000\;'></span></div>\n<div>\n<div><span style='font-size: 12pt\; co
 lor: #000000\;'><strong>Session E: &nbsp\;</strong>1:00pm-5:00pm&nbsp\;<sp
 an style='font-size: 10.6667px\;'>4</span><span style='font-size: 10.6667p
 x\;'>&nbsp\;Contact Hours / .4 CEUs&nbsp\;</span><span style='font-size: 8
 pt\;'>(For Sessions taken individually earn up to 5 Contact Hours / .5 CEU
 s by completing 1 Praxis question)</span></span></div>\n<div style='paddin
 g-left: 30px\;'><span style='font-size: 12pt\; color: #000000\;'>Unit 9: T
 he New Economy</span></div>\n<div style='padding-left: 30px\;'><span style
 ='font-size: 12pt\; color: #000000\;'>Unit 10: Train the Trainer</span></d
 iv>\n<div>&nbsp\;</div>\n<div style='padding-left: 30px\;'><span style='co
 lor: #000000\;'></span></div>\n<div style='padding-left: 30px\;'><span sty
 le='color: #000000\;'>&nbsp\;&nbsp\;</span></div>\n</div>\n<div>\n<div><sp
 an style='font-size: 12pt\; color: #000000\;'><strong>Session F: &nbsp\;Cr
 edential Praxis&nbsp\;</strong><span style='font-size: 8pt\;'>(25 Contact 
 Hours / 2.5 CEUs)</span></span></div>\n<div><span style='color: #000000\;'
 ><span style='font-size: medium\;'>When attending the full conference\, ea
 ch Session is worth 4 Hours/ .4 CEUs for a total of 20 hours for sessions 
 A-E. &nbsp\;Convert the 20 contact hours / 2 CEUs from attendance in sessi
 ons A-E into the NAC (which is worth 45 contact hours/4.5 CEUs) by complet
 ing the Praxis. Students will be assigned an instructor to advise them dur
 ing the completion of their project from home if they have questions. Stud
 ents also have the option of registering for tutoring to complete their pr
 axis during the event\, at a future event or to get additional help from h
 ome on their praxis.&nbsp\;</span></span></div>\n<div>&nbsp\;</div>\n</div
 >\n<div><span style='color: #000000\;'></span></div>\n<div style='padding-
 left: 30px\;'><span style='color: #000000\;'></span></div>\n<div><span sty
 le='color: #000000\;'><span style='color: #993300\;'><strong style='font-f
 amily: arial\, helvetica\, sans-serif\; font-size: 16px\;'><a href='http:/
 /handprint.niccm.com/products/national-administrators-credential-n-a-c-tut
 oring.html' title='NAC Tutoring Registration '><span style='font-size: 12p
 t\; color: #993300\;'>Optional Tutoring ($160)</span></a>&nbsp\;&nbsp\;</s
 trong></span><span style='font-family: arial\, helvetica\, sans-serif\; fo
 nt-size: 16px\;'>Students who elect to stay for tutoring will receive a li
 st of materials to bring with them. &nbsp\;The presenter will provide indi
 vidualized assistance to each tutoring participant in order to help them p
 ut together and complete their Praxis. Tutoring allows students the&nbsp\;
 <strong>opportunity</strong>&nbsp\;of completing their test and praxis at 
 the event and&nbsp\;<strong>leave having earned their certificate</strong>
 . &nbsp\;Those who wish to participate in tutoring are advised to register
  for this service at least 3 days prior to the event to obtain a list of s
 uggested documentation. Tutoring is usually offered on Saturday and Sunday
  of each event from approximately 5:15 pm - 8:15 pm.</span></span></div>
DTSTART:20240119T160000Z
DTEND:20240121T170000Z
SUMMARY:NAC - Orlando 124
URL:https://niccm.com/70-upcoming-credential-courses/844-nac-orlando-124
END:VEVENT
END:VCALENDAR
