BEGIN:VCALENDAR
VERSION:2.0
PRODID:-//https://niccm.com//NONSGML kigkonsult.se iCalcreator 2.23.20//
METHOD:PUBLISH
X-WR-CALNAME:JCal Pro Calendar
X-WR-CALDESC:Your online events calendar
X-WR-TIMEZONE:UTC
BEGIN:VTIMEZONE
TZID:UTC
BEGIN:STANDARD
DTSTART:20260419T170540
TZOFFSETFROM:+0000
TZOFFSETTO:+0000
END:STANDARD
END:VTIMEZONE
BEGIN:VEVENT
UID:20240322T070000UTC-4378FPUCjo@https://niccm.com/
DTSTAMP:20260419T170540Z
CATEGORIES:Past NICCM Events
DESCRIPTION:<h1 style='color: #000000\; visibility: visible\; text-align: c
 enter\;'><span style='font-family: arial\, helvetica\, sans-serif\; font-s
 ize: 18pt\;'>CDA Fast Track&nbsp\;</span></h1>\n<h2 style='color: #000000\
 ; visibility: visible\; text-align: justify\;'><span style='font-size: 12p
 t\; font-family: arial\, helvetica\, sans-serif\;'><strong style='font-siz
 e: 18pt\;'>Location/Hotel:</strong></span>&nbsp\;</h2>\n<p style='backgrou
 nd-color: transparent\; margin: 2px 0px\; padding: 0px\; border: 0px\; out
 line: 0px\; font-size: 12px\; color: #505f69\; font-family: Helvetica\, Ar
 ial\, FreeSans\, sans-serif\;'><span style='color: #000000\; font-family: 
 arial\, helvetica\, sans-serif\; font-size: 14pt\;'>Holiday Inn I-295 E Ba
 ymeadows&nbsp\;</span></p>\n<p><span style='color: #000000\; font-family: 
 arial\, helvetica\, sans-serif\; font-size: 14pt\;'>11083 Nurseryfields Dr
 ive</span></p>\n<p><span style='color: #000000\; font-family: arial\, helv
 etica\, sans-serif\; font-size: 14pt\;'>Jacksonville\, FL &nbsp\;32256</sp
 an></p>\n<p><span style='color: #000000\; font-family: arial\, helvetica\,
  sans-serif\; font-size: 14pt\;'>(904) 854- 8000</span></p>\n<p><span styl
 e='font-size: 14pt\; font-family: arial\, helvetica\, sans-serif\; color: 
 #000000\;'>Reservations</span>&nbsp\;<a href='https://www.holidayinn.com/r
 edirect?path=hd&amp\;brandCode=HI&amp\;localeCode=en&amp\;regionCode=1&amp
 \;hotelCode=JAXES&amp\;_PMID=99801505&amp\;GPC=ACM&amp\;cn=no&amp\;viewful
 lsite=true'><span style='font-size: 14pt\;'>Holidayinn.com&nbsp\;</span></
 a></p>\n<p><span style='color: #0000ff\; font-size: 14pt\;'><span style='c
 olor: #000000\;'>Call for assistance if there aren't any available reserva
 tions on the link and use code ACM.</span>&nbsp\;</span></p>\n<address>&nb
 sp\;</address>\n<p>&nbsp\;</p>\n<p style='text-align: center\;'><a href='h
 ttp://handprint.niccm.com/products/cda-fast-track.html' title='Registratio
 n CDA Fast Track '><span style='font-size: 18pt\;'><span style='margin: 0p
 x\; padding: 0px\; border: 0px\; outline: 0px\; background-color: transpar
 ent\; font-family: arial\, helvetica\, sans-serif\;'><span style='color: #
 ffffff\;'><span style='font-size: 19px\; padding: 3px 10px 4px\; backgroun
 d-color: #7b3b3b\;'><strong>Click Here To Register Online Now!</strong></s
 pan></span></span></span></a></p>\n<p style='text-align: center\;'>&nbsp\;
 <span style='font-size: 18pt\;'><span style='margin: 0px\; padding: 0px\; 
 border: 0px\; outline: 0px\; background-color: transparent\; font-family: 
 arial\, helvetica\, sans-serif\;'>&nbsp\; &nbsp\; &nbsp\; &nbsp\; &nbsp\; 
 &nbsp\; &nbsp\; &nbsp\; &nbsp\; &nbsp\; &nbsp\; &nbsp\; &nbsp\;&nbsp\;</sp
 an></span>&nbsp\;</p>\n<p style='text-align: center\;'>&nbsp\;</p>\n<div s
 tyle='text-align: center\;'>\n<p style='visibility: visible\; text-align: 
 justify\;'><span style='color: #333333\;'><span style='font-size: 12pt\; f
 ont-family: arial\, helvetica\, sans-serif\;'><strong style='font-size: 18
 pt\;'>Course Content &amp\; Schedule:</strong></span>&nbsp\;</span></p>\n<
 p style='visibility: visible\; text-align: justify\;'><span style='color: 
 #333333\;'></span></p>\n</div>\n<div>&nbsp\;</div>\n<div style='text-align
 : justify\;'><span style='text-decoration: underline\; color: #333333\;'><
 span style='font-size: large\;'><strong><span style='font-size: 14pt\;'>Fr
 iday\, April 19th\, 2024</span></strong></span></span></div>\n<div><span s
 tyle='color: #333333\;'></span></div>\n<div>&nbsp\;</div>\n<div><span styl
 e='font-size: 14pt\; color: #333333\;'><strong>Arrival and Check-In</stron
 g>: 6:45am -7:00am <span style='font-size: 12pt\;'>(students must arrive a
 nd check-in 15 minutes before class)</span></span></div>\n<div style='padd
 ing-left: 30px\;'><span style='color: #333333\;'><span style='font-size: l
 arge\;'><strong><br /></strong></span><span style='font-size: 14pt\;'><str
 ong>C</strong><strong>lass A</strong>: 7:00am -12:00pm &nbsp\;(5 Contact H
 ours/.5 CEUs)</span></span></div>\n<div style='padding-left: 30px\;'><span
  style='font-size: 14pt\; color: #333333\;'>&nbsp\; &nbsp\; &nbsp\;&nbsp\;
 </span><span style='font-size: 14pt\; color: #333333\;'><strong><span styl
 e='font-family: Arial\;'>Introduction:&nbsp\;</span>&nbsp\;</strong> <stro
 ng><span style='font-family: Arial\;'>Overview of the Course</span><span s
 tyle='font-family: Arial\;'>&nbsp\; &nbsp\;</span></strong></span></div>\n
 <div style='margin-left: 60px\;'>\n<p><span style='font-size: 14pt\; color
 : #333333\;'><strong><span style='font-family: Arial\;'>Unit 1:&nbsp\; &nb
 sp\; </span></strong><strong><span style='font-family: Arial\;'>Keys to Wr
 iting Statements</span> </strong> </span></p>\n<p style='margin-left: 31px
 \;'><span style='font-size: 14pt\; color: #333333\;'><strong><span style='
 font-family: Arial\;'>&nbsp\; &nbsp\; &nbsp\; &nbsp\; &nbsp\;Competency St
 atement 1:&nbsp\;&nbsp\;</span> </strong><span style='font-family: Arial\;
 '>Planning a safe and healthy learning environment</span></span></p>\n<p><
 span style='font-size: 14pt\; color: #333333\;'><strong><span style='font-
 family: Arial\;'>Unit 2:&nbsp\; &nbsp\; </span></strong><strong><span styl
 e='font-family: Arial\;'>Competency Statement 2:&nbsp\;&nbsp\;</span> </st
 rong><span style='font-family: Arial\;'>Advancing children’s physical and 
 intellectual development</span></span></p>\n</div>\n<div style='padding-le
 ft: 30px\;'><span style='font-size: 12pt\; color: #333333\;'><br /><span s
 tyle='font-size: 14pt\;'><strong>Class B:</strong>&nbsp\;12:30pm- 5:30pm &
 nbsp\;(5 Contact Hours/.5 CEUs) </span></span></div>\n<div style='padding-
 left: 30px\;'><span style='font-size: 14pt\; color: #333333\;'><strong><sp
 an style='font-family: Arial\;'>&nbsp\; &nbsp\; &nbsp\;</span></strong></s
 pan>\n<div style='padding-left: 30px\; text-align: justify\;'><span style=
 'color: #333333\; font-size: 14pt\;'><strong><span style='font-family: Ari
 al\;'>Unit 3:&nbsp\; &nbsp\;&nbsp\;</span></strong><strong>Competency Stat
 ement 3:&nbsp\;&nbsp\;</strong>Supporting children’s social and emotional 
 development</span></div>\n<div style='text-align: justify\;'><span style='
 color: #333333\; font-size: 14pt\;'>&nbsp\; &nbsp\; &nbsp\; </span><span s
 tyle='color: #333333\;'><strong style='font-family: arial\, helvetica\, sa
 ns-serif\; font-size: 12pt\; text-indent: -1in\; color: inherit\;'><span s
 tyle='font-size: 14pt\;'>Unit 4:&nbsp\; &nbsp\;&nbsp\;Competency Statement
  4:</span>&nbsp\;&nbsp\;</strong></span><span style='color: #333333\; font
 -size: 14pt\;'>Establishing positive and productive relationships with fam
 ilies</span></div>\n<div style='text-align: justify\;'><span style='color:
  #333333\; font-size: 14pt\;'><strong>&nbsp\; &nbsp\; &nbsp\; Unit 5:&nbsp
 \; &nbsp\;&nbsp\;</strong><strong>Competency Statement 5:&nbsp\;&nbsp\;</s
 trong>Ensuring a well-run purposeful program&nbsp\;</span></div>\n<div sty
 le='text-align: justify\;'><span style='color: #333333\; font-size: 14pt\;
 '><strong>&nbsp\; &nbsp\; &nbsp\; Unit 6:&nbsp\;&nbsp\; &nbsp\;Competency 
 Statement 6:&nbsp\;&nbsp\;</strong>Maintaining a commitment to professiona
 lism</span></div>\n<div style='padding-left: 60px\;'><span style='color: #
 333333\; font-size: 14pt\;'></span></div>\n</div>\n<div style='padding-lef
 t: 60px\;'>\n<p><span style='font-size: 14pt\; color: #333333\;'></span></
 p>\n<p><span style='color: #333333\; font-size: 14pt\;'></span></p>\n<p><s
 pan style='font-size: 14pt\; color: #333333\;'><span style='font-family: A
 rial\;'><strong>Documenting Professional Education</strong>&nbsp\;- 8 CDA 
 Subject Areas</span>&nbsp\;</span></p>\n</div>\n<div><span style='font-siz
 e: 14pt\; color: #333333\;'><br /><span style='text-decoration: underline\
 ;'><strong>Saturday\, April 20th\, 2024</strong></span></span></div>\n<div
  style='padding-left: 30px\;'><span style='font-size: 14pt\; color: #33333
 3\;'></span></div>\n<div>&nbsp\;</div>\n<div style='padding-left: 30px\;'>
 <span style='font-size: 14pt\; color: #333333\;'><strong>Class C</strong><
 strong>:&nbsp\;</strong>8:00am-3:00pm&nbsp\;(7 Contact Hours/.7 CEUs)</spa
 n></div>\n<div style='padding-left: 30px\;'><span style='font-size: 14pt\;
  color: #333333\;'>&nbsp\;(arrivals will be staggered\, students will be s
 cheduled in as early as 8:00am)</span></div>\n<div style='padding-left: 30
 px\;'><span style='font-size: 14pt\; color: #333333\;'><strong><span style
 ='font-family: Arial\;'>&nbsp\; &nbsp\; &nbsp\;</span></strong></span></di
 v>\n<div style='padding-left: 30px\;'><span style='font-size: 14pt\; color
 : #333333\;'><strong>Class D:&nbsp\;</strong>4:00pm - 7:00pm (3 Contact Ho
 urs/.3 CEUs)&nbsp\;</span></div>\n<div style='padding-left: 30px\;'><span 
 style='font-size: 14pt\; color: #333333\;'>&nbsp\;(dissmissal will be stag
 gered\, students will be dismissed throughout the evening)</span></div>\n<
 div>\n<div><span style='font-size: 14pt\; color: #333333\;'></span></div>
 \n<div>&nbsp\;</div>\n<div style='text-align: center\;'>&nbsp\;<span style
 ='font-size: 14pt\; color: #333333\;'><strong><span style='font-family: Ar
 ial\;'>C &amp\; D Class Content</span></strong></span>\n<div style='paddin
 g-left: 60px\;'><span style='font-size: 14pt\; color: #333333\;'></span></
 div>\n</div>\n<div>&nbsp\;<span style='color: #333333\;'><span style='font
 -size: 14pt\;'><strong><span style='font-family: Arial\;'>Directed Portfol
 io Lab:&nbsp\;</span></strong><span style='font-family: Arial\;'>The Direc
 ted Portfolio Lab allows for individual consultation &amp\; one-on-one tim
 e with</span><span style='font-family: Arial\;'>&nbsp\;the&nbsp\;</span></
 span><span style='font-size: 14pt\;'><span style='font-family: Arial\;'>in
 structor. &nbsp\;Participants will work on their portfolio and meet with t
 he instructor to discuss their statements and</span><span style='font-fami
 ly: Arial\;'>&nbsp\;the </span></span><span style='font-size: 14pt\;'><spa
 n style='font-family: Arial\;'>documentation within their professional por
 tfolio.</span></span></span></div>\n<div><strong style='font-family: arial
 \, helvetica\, sans-serif\;'>&nbsp\; &nbsp\; &nbsp\; &nbsp\; &nbsp\; &nbsp
 \; &nbsp\; &nbsp\; &nbsp\;<span style='font-size: 14pt\; color: #000000\;'
 >The Professional Philosophy Statement</span></strong></div>\n</div>\n<div
  style='padding-left: 30px\;'>\n<div style='text-align: justify\;'><span s
 tyle='color: #333333\;'>&nbsp\; &nbsp\; &nbsp\; &nbsp\; &nbsp\;</span><spa
 n style='font-family: arial\, helvetica\, sans-serif\; color: #333333\; fo
 nt-size: 14pt\;'><strong>Individual Consultations - allows one on one with
  instructors</strong></span></div>\n<div style='padding-left: 60px\;'><spa
 n style='font-family: arial\, helvetica\, sans-serif\; color: #333333\; fo
 nt-size: 14pt\;'></span></div>\n</div>\n<div style='padding-left: 60px\;'>
 <span style='font-size: 14pt\; font-family: arial\, helvetica\, sans-serif
 \; color: #333333\;'></span></div>\n<div><span style='font-size: 14pt\; co
 lor: #333333\;'></span></div>\n<div>&nbsp\;</div>\n<div><span style='font-
 size: 14pt\; color: #333333\;'><span style='text-decoration: underline\;'>
 <strong>Sunday\, April 21st\, 2024</strong></span></span></div>\n<div styl
 e='margin-left: 30px\;'><span style='font-size: 14pt\; color: #333333\;'><
 strong><br /></strong><strong>Class E</strong><strong>:</strong>&nbsp\;8:0
 0am-3:00pm&nbsp\;(7 Contact Hours/.7 CEUs)</span></div>\n<div style='margi
 n-left: 30px\;'>\n<p style='margin-left: 1in\; text-indent: -1in\;'><span 
 style='font-size: 14pt\; color: #333333\;'><strong>Class F:</strong>&nbsp\
 ;4:00pm-7:00pm&nbsp\;<span style='background-color: inherit\; font-family:
  inherit\; caret-color: auto\;'>(3 Contact Hours/.3 CEUs)</span></span></p
 >\n<p><span style='font-size: 14pt\; color: #333333\;'></span></p>\n</div>
 \n<div>&nbsp\;</div>\n<div style='padding-left: 30px\; text-align: center\
 ;'><span style='font-size: 14pt\; color: #333333\;'><strong><span style='f
 ont-family: Arial\;'>E &amp\; F Class Content<span style='font-family: Ari
 al\;'></span>&nbsp\;&nbsp\;&nbsp\; &nbsp\; &nbsp\; </span></strong></span>
 </div>\n<div style='padding-left: 30px\;'><span style='font-size: 14pt\; c
 olor: #333333\;'><strong><span style='font-family: Arial\;'><span style='f
 ont-family: Arial\;'>&nbsp\; &nbsp\; &nbsp\; &nbsp\;Unit 7:<span style='fo
 nt-family: Arial\;'>&nbsp\;CDA Practice Exam&nbsp\;</span>&nbsp\;</span>&n
 bsp\;</span></strong></span></div>\n<div style='padding-left: 30px\;'><spa
 n style='font-size: 14pt\; color: #333333\;'><strong><span style='font-fam
 ily: Arial\;'>&nbsp\; &nbsp\; &nbsp\; &nbsp\;</span></strong></span><span 
 style='color: #333333\; font-size: 14pt\;'><strong><span style='font-famil
 y: Arial\;'>Unit 8:&nbsp\;</span></strong><strong><span style='font-family
 : Arial\;'>I<strong>nstructions on completing the process</strong></span><
 /strong></span></div>\n<div style='padding-left: 60px\;'>\n<p style='margi
 n-left: 1in\; text-indent: -1in\;'><span style='font-size: 14pt\; color: #
 333333\;'><strong><span style='font-family: Arial\;'>&nbsp\; &nbsp\; &nbsp
 \; &nbsp\; &nbsp\; &nbsp\; &nbsp\; &nbsp\; &nbsp\; &nbsp\; &nbsp\; &nbsp\;
  &nbsp\;&nbsp\;</span></strong><strong><span style='font-family: Arial\;'>
 Understanding the verification visit</span> </strong> </span></p>\n<p styl
 e='margin-left: 1in\; text-indent: -1in\;'><span style='font-size: 14pt\; 
 color: #333333\;'><strong><span style='font-family: Arial\;'>&nbsp\; &nbsp
 \; &nbsp\; &nbsp\; &nbsp\; &nbsp\; &nbsp\; &nbsp\; &nbsp\; &nbsp\; &nbsp\;
  &nbsp\; &nbsp\;&nbsp\;<strong>The application process</strong></span> </s
 trong> </span></p>\n<p style='margin-left: 1in\; text-indent: -1in\;'><spa
 n style='font-size: 14pt\; color: #333333\;'><strong><span style='font-fam
 ily: Arial\;'>&nbsp\; &nbsp\; &nbsp\; &nbsp\; &nbsp\; &nbsp\; &nbsp\; &nbs
 p\; &nbsp\; &nbsp\; &nbsp\; &nbsp\; &nbsp\; Choosing your PD Specialist</s
 pan> </strong> </span></p>\n<p style='margin-left: 1in\; text-indent: -1in
 \;'><span style='font-size: 14pt\; color: #333333\;'><strong><span style='
 font-family: Arial\;'>&nbsp\; &nbsp\; &nbsp\; &nbsp\; &nbsp\; &nbsp\; &nbs
 p\; &nbsp\; &nbsp\; &nbsp\; &nbsp\; &nbsp\; &nbsp\;&nbsp\;</span></strong>
 <strong><span style='font-family: Arial\;'>Finding a Pearson Vue testing s
 ite&nbsp\;</span></strong></span></p>\n<p style='margin-left: 1in\; text-i
 ndent: -1in\;'><span style='font-size: 14pt\;'><strong><span style='font-f
 amily: Arial\;'>&nbsp\; &nbsp\; &nbsp\; </span></strong></span></p>\n<p st
 yle='text-align: center\;'><span style='font-size: 14pt\;'><a href='http:/
 /handprint.niccm.com/products/cda-fast-track.html' title='Registration CDA
  Fast Track '><span style='margin: 0px\; padding: 0px\; border: 0px\; outl
 ine: 0px\; background-color: transparent\; font-family: arial\, helvetica\
 , sans-serif\;'><span style='color: #ffffff\;'><span style='padding: 3px 1
 0px 4px\; background-color: #7b3b3b\;'><strong>Click Here To Register Onli
 ne Now!</strong></span></span></span></a></span></p>\n<p style='text-align
 : center\;'>&nbsp\;</p>\n<p style='text-align: center\;'>&nbsp\;</p>\n<foo
 ter></footer></div>\n<p style='text-align: center\;'><span style='font-siz
 e: 18pt\;'>&nbsp\; &nbsp\; &nbsp\; &nbsp\;Call (602) 476-1422 for More Inf
 ormation&nbsp\;</span></p>\n<p>&nbsp\;&nbsp\;</p>
DTSTART:20240419T070000Z
DTEND:20240421T190000Z
SUMMARY:CDA Fast Track  - Jacksonville 424  
URL:https://niccm.com/71-cda-fast-track/856-cda-fast-track-jacksonville-424
END:VEVENT
BEGIN:VEVENT
UID:20240322T160000UTC-56828XMKg8@https://niccm.com/
DTSTAMP:20260419T170540Z
CATEGORIES:Past NICCM Events
DESCRIPTION:<h1 style='color: #000000\; visibility: visible\; text-align: c
 enter\;'>N.A.C. (National Administrator's Credential)</h1>\n<h2 style='col
 or: #000000\; visibility: visible\; text-align: justify\;'><span style='fo
 nt-size: 18pt\;'>Location/Hotel:</span>&nbsp\;&nbsp\;</h2>\n<p style='back
 ground-color: transparent\; margin: 2px 0px\; padding: 0px\; border: 0px\;
  outline: 0px\; font-size: 12px\; color: #505f69\; font-family: Helvetica\
 , Arial\, FreeSans\, sans-serif\;'>&nbsp\;</p>\n<p style='background-color
 : transparent\; margin: 2px 0px\; padding: 0px\; border: 0px\; outline: 0p
 x\; font-size: 12px\; color: #505f69\; font-family: Helvetica\, Arial\, Fr
 eeSans\, sans-serif\;'><span style='color: #000000\; font-family: arial\, 
 helvetica\, sans-serif\; font-size: 14pt\;'>Holiday Inn I-295 E Baymeadows
 &nbsp\;</span></p>\n<p><span style='color: #000000\; font-family: arial\, 
 helvetica\, sans-serif\; font-size: 14pt\;'>11083 Nurseryfields Drive</spa
 n></p>\n<p><span style='color: #000000\; font-family: arial\, helvetica\, 
 sans-serif\; font-size: 14pt\;'>Jacksonville\, FL &nbsp\;32256</span></p>
 \n<p><span style='color: #000000\; font-family: arial\, helvetica\, sans-s
 erif\; font-size: 14pt\;'>(904) 854- 8000</span></p>\n<p><span style='font
 -size: 14pt\; font-family: arial\, helvetica\, sans-serif\; color: #000000
 \;'>Reservations</span>&nbsp\;<a href='https://www.holidayinn.com/redirect
 ?path=hd&amp\;brandCode=HI&amp\;localeCode=en&amp\;regionCode=1&amp\;hotel
 Code=JAXES&amp\;_PMID=99801505&amp\;GPC=ACM&amp\;cn=no&amp\;viewfullsite=t
 rue'><span style='font-size: 14pt\;'>Holidayinn.com&nbsp\;</span></a></p>
 \n<p><span style='color: #0000ff\; font-size: 14pt\;'><span style='color: 
 #000000\;'><span style='color: #0000ff\; font-size: 14pt\;'><span style='c
 olor: #000000\;'>Call for assistance if there aren't any available reserva
 tions on the link and use code ACM</span></span>.</span>&nbsp\;</span></p>
 \n<p>&nbsp\;</p>\n<p>&nbsp\;</p>\n<p style='text-align: center\;'><a href=
 'http://handprint.niccm.com/products/national-florida-and-texas-director-c
 redential-n-a-c.html' title='Registration NAC '><span style='color: #fffff
 f\;'><span style='font-size: 19px\; padding: 3px 10px 4px\; background-col
 or: #7b3b3b\;'><strong>Click Here To Register Online Now!</strong></span><
 /span></a></p>\n<p>&nbsp\;</p>\n<p>&nbsp\;</p>\n<p><span style='color: #00
 0000\;'><strong style='font-size: 14pt\;'><span style='font-size: 18pt\;'>
 Schedule:</span></strong></span></p>\n<div>&nbsp\;</div>\n<div><span style
 ='color: #000000\;'><span style='text-decoration: underline\;'><strong><sp
 an style='font-size: 14pt\;'>Friday\, April 19th\, 2024</span></strong></s
 pan><strong><span style='font-size: 14pt\;'>&nbsp\; &nbsp\;</span></strong
 ></span></div>\n<div>&nbsp\;</div>\n<div><span style='font-size: 12pt\; co
 lor: #000000\;'><strong>Arrival and Check-In:&nbsp\; </strong>3:45pm-4:00p
 m &nbsp\;</span><span style='color: #000000\;'><span style='color: #000000
 \;'>(Students must arrive and check-in at least 1 hour before class starts
 )</span></span></div>\n<div>&nbsp\;</div>\n<div><span style='color: #00000
 0\;'></span></div>\n<div><span style='font-size: 12pt\; color: #000000\;'>
 <strong>Session A: &nbsp\;</strong>5:00pm-9:00pm&nbsp\;<span style='font-s
 ize: 10.6667px\;'>4</span><span style='font-size: 10.6667px\;'>&nbsp\;Cont
 act Hours / .4 CEUs</span>&nbsp\;<span style='font-size: 8pt\;'>(For Sessi
 ons taken individually earn up to 5 Contact Hours / .5 CEUs by completing 
 1 Praxis question)</span></span></div>\n<div style='padding-left: 30px\;'>
 <span style='font-size: 12pt\; color: #000000\;'>Unit 1: Fiscal Management
 &nbsp\;</span></div>\n<div style='padding-left: 30px\;'><span style='font-
 size: 12pt\; color: #000000\;'>Unit 2: Insurance for Your Center</span></d
 iv>\n<div>&nbsp\;</div>\n<div style='padding-left: 30px\;'><span style='co
 lor: #000000\;'></span></div>\n<div><span style='color: #000000\;'><span s
 tyle='text-decoration: underline\;'><strong><span style='font-size: 14pt\;
 '>Saturday\, April 20th\, 2024</span></strong></span><span style='font-siz
 e: 8pt\;'>&nbsp\;&nbsp\;</span></span></div>\n<div>&nbsp\;</div>\n<div><sp
 an style='color: #000000\;'></span></div>\n<div><span style='font-size: 12
 pt\; color: #000000\;'><strong>Session B:</strong>&nbsp\;&nbsp\;8:00am-12:
 00pm&nbsp\;<span style='font-size: 10.6667px\;'>4</span><span style='font-
 size: 10.6667px\;'>&nbsp\;Contact Hours / .4 CEUs&nbsp\;</span><span style
 ='font-size: 8pt\;'>(For Sessions taken individually earn up to 5 Contact 
 Hours / .5 CEUs by completing 1 Praxis question)</span></span></div>\n<div
  style='padding-left: 30px\;'><span style='font-size: 12pt\; color: #00000
 0\;'>Unit 3: Hiring &amp\; Teacher Orientation</span></div>\n<div style='p
 adding-left: 30px\;'><span style='font-size: 12pt\; color: #000000\;'>Unit
  4: Employee Handbooks &amp\; Evals</span></div>\n<div style='padding-left
 : 30px\;'><span style='color: #000000\;'></span></div>\n<div><span style='
 font-size: 12pt\; color: #000000\;'><strong>Session C:</strong>&nbsp\;&nbs
 p\;1:00pm-5:00pm &nbsp\;<span style='font-size: 10.6667px\;'>4</span><span
  style='font-size: 10.6667px\;'>&nbsp\;Contact Hours / .4 CEUs&nbsp\;</spa
 n><span style='font-size: 8pt\;'>(For Sessions taken individually earn up 
 to 5 Contact Hours / .5 CEUs by completing 1 Praxis question)</span></span
 ></div>\n<div style='padding-left: 30px\;'><span style='font-size: 12pt\; 
 color: #000000\;'>Unit 5: Center Management</span></div>\n<div style='padd
 ing-left: 30px\;'><span style='font-size: 12pt\; color: #000000\;'>Unit 6:
  Child Development - The Essentials</span></div>\n<div>&nbsp\;</div>\n<div
  style='padding-left: 30px\;'><span style='color: #000000\;'></span></div>
 \n<div><span style='color: #000000\;'><span style='text-decoration: underl
 ine\;'><strong><span style='font-size: 14pt\;'>Sunday\, April 21st\, 2024<
 /span></strong></span><strong><span style='font-size: 14pt\;'>&nbsp\; &nbs
 p\;</span></strong></span></div>\n<div>&nbsp\;</div>\n<div><span style='co
 lor: #000000\;'></span></div>\n<div><span style='font-size: 12pt\; color: 
 #000000\;'><strong>Session D: &nbsp\;</strong>8:00am-12:00pm&nbsp\;<span s
 tyle='font-size: 10.6667px\;'>4</span><span style='font-size: 10.6667px\;'
 >&nbsp\;Contact Hours / .4 CEUs&nbsp\;</span><span style='font-size: 8pt\;
 '>(For Sessions taken individually earn up to 5 Contact Hours / .5 CEUs by
  completing 1 Praxis question)</span></span></div>\n<div style='padding-le
 ft: 30px\;'><span style='font-size: 12pt\; color: #000000\;'>Unit 7: Deali
 ng with Difficult Employees</span></div>\n<div style='padding-left: 30px\;
 '><span style='font-size: 12pt\; color: #000000\;'>Unit 8: Administrative 
 Leadership</span></div>\n<div style='padding-left: 30px\;'><span style='co
 lor: #000000\;'></span></div>\n<div>\n<div><span style='font-size: 12pt\; 
 color: #000000\;'><strong>Session E: &nbsp\;</strong>1:00pm-5:00pm&nbsp\;<
 span style='font-size: 10.6667px\;'>4</span><span style='font-size: 10.666
 7px\;'>&nbsp\;Contact Hours / .4 CEUs&nbsp\;</span><span style='font-size:
  8pt\;'>(For Sessions taken individually earn up to 5 Contact Hours / .5 C
 EUs by completing 1 Praxis question)</span></span></div>\n<div style='padd
 ing-left: 30px\;'><span style='font-size: 12pt\; color: #000000\;'>Unit 9:
  The New Economy</span></div>\n<div style='padding-left: 30px\;'><span sty
 le='font-size: 12pt\; color: #000000\;'>Unit 10: Train the Trainer</span><
 /div>\n<div>&nbsp\;</div>\n<div style='padding-left: 30px\;'><span style='
 color: #000000\;'></span></div>\n<div style='padding-left: 30px\;'><span s
 tyle='color: #000000\;'>&nbsp\;&nbsp\;</span></div>\n</div>\n<div>\n<div>
 \n<div><span style='font-size: 12pt\; color: #000000\;'><strong><span styl
 e='font-family: arial\, helvetica\, sans-serif\; font-size: 14pt\;'>Sessio
 n F: &nbsp\;Credential Praxis</span>&nbsp\;</strong><span style='font-size
 : 8pt\;'>(25 Contact Hours / 2.5 CEUs)</span></span></div>\n<div><span sty
 le='color: #000000\; font-family: arial\, helvetica\, sans-serif\; font-si
 ze: 14pt\;'>When attending the full conference\, each Session is worth 4 H
 ours/ .4 CEUs for a total of 20 hours for sessions A-E. &nbsp\;Convert the
  20 contact hours / 2 CEUs from attendance in sessions A-E into the NAC (w
 hich is worth 45 contact hours/4.5 CEUs) by completing the Praxis. Student
 s will be assigned an instructor to advise them during the completion of t
 heir project from home if they have questions. Students also have the opti
 on of registering for tutoring to complete their praxis during the event\,
  at a future event or to get additional help from home on their praxis.&nb
 sp\;</span></div>\n<div>&nbsp\;</div>\n</div>\n<div>&nbsp\;</div>\n<div><s
 pan style='color: #000000\; font-family: arial\, helvetica\, sans-serif\;'
 ><span style='color: #993300\;'><strong style='font-family: arial\, helvet
 ica\, sans-serif\; font-size: 16px\;'><a href='http://handprint.niccm.com/
 products/national-administrators-credential-n-a-c-tutoring.html' title='NA
 C Tutoring Registration'><span style='color: #993300\;'>Optional Tutoring 
 $170 - includes tutoring binder</span></a></strong></span></span><span sty
 le='color: #000000\; font-family: arial\, helvetica\, sans-serif\; font-si
 ze: 14pt\;'><strong style='font-family: arial\, helvetica\, sans-serif\; f
 ont-size: 16px\;'>&nbsp\;&nbsp\;</strong>Students who elect to stay for tu
 toring will receive a list of documentation to bring with them. The presen
 ter will provide individualized assistance to each tutoring participant in
  order to help them put together and complete their Praxis. Tutoring allow
 s students the&nbsp\;<strong>opportunity</strong>&nbsp\;of completing thei
 r test and praxis at the event and&nbsp\;<strong>leave having earned their
  certificate</strong>. Those who wish to participate in tutoring are advis
 ed to register for this service at least 3 days before the event in order 
 to arrive prepared for tutoring. Tutoring is usually offered on Saturday a
 nd Sunday of each event from approximately 5:15 pm - 8:15 pm.</span></div>
 \n</div>
DTSTART:20240419T160000Z
DTEND:20240421T170000Z
SUMMARY:NAC - Jacksonville 424  
URL:https://niccm.com/70-upcoming-credential-courses/857-nac-jacksonville-4
 24
END:VEVENT
END:VCALENDAR
