BEGIN:VCALENDAR
VERSION:2.0
PRODID:-//https://niccm.com//NONSGML kigkonsult.se iCalcreator 2.23.20//
METHOD:PUBLISH
X-WR-CALNAME:JCal Pro Calendar
X-WR-CALDESC:Your online events calendar
X-WR-TIMEZONE:UTC
BEGIN:VTIMEZONE
TZID:UTC
BEGIN:STANDARD
DTSTART:20260425T102427
TZOFFSETFROM:+0000
TZOFFSETTO:+0000
END:STANDARD
END:VTIMEZONE
BEGIN:VEVENT
UID:20240223T070000UTC-9184c880fz@https://niccm.com/
DTSTAMP:20260425T102427Z
CATEGORIES:Past NICCM Events
DESCRIPTION:<h1 style='color: #000000\; visibility: visible\; text-align: c
 enter\;'><span style='font-family: arial\, helvetica\, sans-serif\; font-s
 ize: 18pt\;'>CDA Fast Track&nbsp\;</span></h1>\n<h2 style='color: #000000\
 ; visibility: visible\; text-align: justify\;'><span style='font-size: 12p
 t\; font-family: arial\, helvetica\, sans-serif\;'><strong style='font-siz
 e: 18pt\;'>Location/Hotel:</strong></span>&nbsp\;</h2>\n<p style='backgrou
 nd-color: transparent\; margin: 2px 0px\; padding: 0px\; border: 0px\; out
 line: 0px\; font-size: 12px\; color: #505f69\; font-family: Helvetica\, Ar
 ial\, FreeSans\, sans-serif\;'><span style='color: #000000\; font-family: 
 arial\, helvetica\, sans-serif\; font-size: 14pt\;'>Hyatt House Tampa Airp
 ort -&nbsp\; Westshore</span></p>\n<p><span style='color: #000000\; font-f
 amily: arial\, helvetica\, sans-serif\; font-size: 14pt\;'>5308 Avion Park
  Drive</span></p>\n<p><span style='color: #000000\; font-family: arial\, h
 elvetica\, sans-serif\; font-size: 14pt\;'>Tampa\, FL &nbsp\;33607</span><
 /p>\n<p><span style='color: #000000\; font-family: arial\, helvetica\, san
 s-serif\; font-size: 14pt\;'>(813) 465-5306</span></p>\n<p><span style='fo
 nt-size: 14pt\; font-family: arial\, helvetica\, sans-serif\; color: #0000
 00\;'>Reservations</span>&nbsp\;<a href='https://www.hyatt.com/en-US/hotel
 /florida/hyatt-house-tampa-airport-westshore/tpaxw?corp_id=G-NIC6'><span s
 tyle='font-size: 14pt\;'>Hyatt.com&nbsp\;</span></a></p>\n<p><span style='
 color: #0000ff\; font-size: 14pt\;'><span style='color: #000000\;'>Call fo
 r assistance if there aren't any available reservations on the link.</span
 >&nbsp\;</span></p>\n<address>&nbsp\;</address>\n<p>&nbsp\;</p>\n<p style=
 'text-align: center\;'><a href='http://handprint.niccm.com/products/cda-fa
 st-track.html' title='Registration CDA Fast Track '><span style='font-size
 : 18pt\;'><span style='margin: 0px\; padding: 0px\; border: 0px\; outline:
  0px\; background-color: transparent\; font-family: arial\, helvetica\, sa
 ns-serif\;'><span style='color: #ffffff\;'><span style='font-size: 19px\; 
 padding: 3px 10px 4px\; background-color: #7b3b3b\;'><strong>Click Here To
  Register Online Now!</strong></span></span></span></span></a></p>\n<p sty
 le='text-align: center\;'>&nbsp\;<span style='font-size: 18pt\;'><span sty
 le='margin: 0px\; padding: 0px\; border: 0px\; outline: 0px\; background-c
 olor: transparent\; font-family: arial\, helvetica\, sans-serif\;'>&nbsp\;
  &nbsp\; &nbsp\; &nbsp\; &nbsp\; &nbsp\; &nbsp\; &nbsp\; &nbsp\; &nbsp\; &
 nbsp\; &nbsp\; &nbsp\;&nbsp\;</span></span>&nbsp\;</p>\n<p style='text-ali
 gn: center\;'>&nbsp\;</p>\n<div style='text-align: center\;'>\n<p style='v
 isibility: visible\; text-align: justify\;'><span style='color: #333333\;'
 ><span style='font-size: 12pt\; font-family: arial\, helvetica\, sans-seri
 f\;'><strong style='font-size: 18pt\;'>Course Content &amp\; Schedule:</st
 rong></span>&nbsp\;</span></p>\n<p style='visibility: visible\; text-align
 : justify\;'><span style='color: #333333\;'></span></p>\n</div>\n<div>&nbs
 p\;</div>\n<div style='text-align: justify\;'><span style='text-decoration
 : underline\; color: #333333\;'><span style='font-size: large\;'><strong><
 span style='font-size: 14pt\;'>Friday\, June 28th\, 2024</span></strong></
 span></span></div>\n<div><span style='color: #333333\;'></span></div>\n<di
 v>&nbsp\;</div>\n<div><span style='font-size: 14pt\; color: #333333\;'><st
 rong>Arrival and Check-In</strong>: 6:45am -7:00am <span style='font-size:
  12pt\;'>(students must arrive and check-in 15 minutes before class)</span
 ></span></div>\n<div style='padding-left: 30px\;'><span style='color: #333
 333\;'><span style='font-size: large\;'><strong><br /></strong></span><spa
 n style='font-size: 14pt\;'><strong>C</strong><strong>lass A</strong>: 7:0
 0am -12:00pm &nbsp\;(5 Contact Hours/.5 CEUs)</span></span></div>\n<div st
 yle='padding-left: 30px\;'><span style='font-size: 14pt\; color: #333333\;
 '>&nbsp\; &nbsp\; &nbsp\;&nbsp\;</span><span style='font-size: 14pt\; colo
 r: #333333\;'><strong><span style='font-family: Arial\;'>Introduction:&nbs
 p\;</span>&nbsp\;</strong> <strong><span style='font-family: Arial\;'>Over
 view of the Course</span><span style='font-family: Arial\;'>&nbsp\; &nbsp\
 ;</span></strong></span></div>\n<div style='margin-left: 60px\;'>\n<p><spa
 n style='font-size: 14pt\; color: #333333\;'><strong><span style='font-fam
 ily: Arial\;'>Unit 1:&nbsp\; &nbsp\; </span></strong><strong><span style='
 font-family: Arial\;'>Keys to Writing Statements</span> </strong> </span><
 /p>\n<p style='margin-left: 31px\;'><span style='font-size: 14pt\; color: 
 #333333\;'><strong><span style='font-family: Arial\;'>&nbsp\; &nbsp\; &nbs
 p\; &nbsp\; &nbsp\;Competency Statement 1:&nbsp\;&nbsp\;</span> </strong><
 span style='font-family: Arial\;'>Planning a safe and healthy learning env
 ironment</span></span></p>\n<p><span style='font-size: 14pt\; color: #3333
 33\;'><strong><span style='font-family: Arial\;'>Unit 2:&nbsp\; &nbsp\; </
 span></strong><strong><span style='font-family: Arial\;'>Competency Statem
 ent 2:&nbsp\;&nbsp\;</span> </strong><span style='font-family: Arial\;'>Ad
 vancing children’s physical and intellectual development</span></span></p>
 \n</div>\n<div style='padding-left: 30px\;'><span style='font-size: 12pt\;
  color: #333333\;'><br /><span style='font-size: 14pt\;'><strong>Class B:<
 /strong>&nbsp\;12:30pm- 5:30pm &nbsp\;(5 Contact Hours/.5 CEUs) </span></s
 pan></div>\n<div style='padding-left: 30px\;'><span style='font-size: 14pt
 \; color: #333333\;'><strong><span style='font-family: Arial\;'>&nbsp\; &n
 bsp\; &nbsp\;</span></strong></span>\n<div style='padding-left: 30px\; tex
 t-align: justify\;'><span style='color: #333333\; font-size: 14pt\;'><stro
 ng><span style='font-family: Arial\;'>Unit 3:&nbsp\; &nbsp\;&nbsp\;</span>
 </strong><strong>Competency Statement 3:&nbsp\;&nbsp\;</strong>Supporting 
 children’s social and emotional development</span></div>\n<div style='text
 -align: justify\;'><span style='color: #333333\; font-size: 14pt\;'>&nbsp\
 ; &nbsp\; &nbsp\; </span><span style='color: #333333\;'><strong style='fon
 t-family: arial\, helvetica\, sans-serif\; font-size: 12pt\; text-indent: 
 -1in\; color: inherit\;'><span style='font-size: 14pt\;'>Unit 4:&nbsp\; &n
 bsp\;&nbsp\;Competency Statement 4:</span>&nbsp\;&nbsp\;</strong></span><s
 pan style='color: #333333\; font-size: 14pt\;'>Establishing positive and p
 roductive relationships with families</span></div>\n<div style='text-align
 : justify\;'><span style='color: #333333\; font-size: 14pt\;'><strong>&nbs
 p\; &nbsp\; &nbsp\; Unit 5:&nbsp\; &nbsp\;&nbsp\;</strong><strong>Competen
 cy Statement 5:&nbsp\;&nbsp\;</strong>Ensuring a well-run purposeful progr
 am&nbsp\;</span></div>\n<div style='text-align: justify\;'><span style='co
 lor: #333333\; font-size: 14pt\;'><strong>&nbsp\; &nbsp\; &nbsp\; Unit 6:&
 nbsp\;&nbsp\; &nbsp\;Competency Statement 6:&nbsp\;&nbsp\;</strong>Maintai
 ning a commitment to professionalism</span></div>\n<div style='padding-lef
 t: 60px\;'><span style='color: #333333\; font-size: 14pt\;'></span></div>
 \n</div>\n<div style='padding-left: 60px\;'>\n<p><span style='font-size: 1
 4pt\; color: #333333\;'></span></p>\n<p><span style='color: #333333\; font
 -size: 14pt\;'></span></p>\n<p><span style='font-size: 14pt\; color: #3333
 33\;'><span style='font-family: Arial\;'><strong>Documenting Professional 
 Education</strong>&nbsp\;- 8 CDA Subject Areas</span>&nbsp\;</span></p>\n<
 /div>\n<div><span style='font-size: 14pt\; color: #333333\;'><br /><span s
 tyle='text-decoration: underline\;'><strong>Saturday\, June 29th\, 2024</s
 trong></span></span></div>\n<div style='padding-left: 30px\;'><span style=
 'font-size: 14pt\; color: #333333\;'></span></div>\n<div>&nbsp\;</div>\n<d
 iv style='padding-left: 30px\;'><span style='font-size: 14pt\; color: #333
 333\;'><strong>Class C</strong><strong>:&nbsp\;</strong>8:00am-3:00pm&nbsp
 \;(7 Contact Hours/.7 CEUs)</span></div>\n<div style='padding-left: 30px\;
 '><span style='font-size: 14pt\; color: #333333\;'>&nbsp\;(arrivals will b
 e staggered\, students will be scheduled in as early as 8:00am)</span></di
 v>\n<div style='padding-left: 30px\;'><span style='font-size: 14pt\; color
 : #333333\;'><strong><span style='font-family: Arial\;'>&nbsp\; &nbsp\; &n
 bsp\;</span></strong></span></div>\n<div style='padding-left: 30px\;'><spa
 n style='font-size: 14pt\; color: #333333\;'><strong>Class D:&nbsp\;</stro
 ng>4:00pm - 7:00pm (3 Contact Hours/.3 CEUs)&nbsp\;</span></div>\n<div sty
 le='padding-left: 30px\;'><span style='font-size: 14pt\; color: #333333\;'
 >&nbsp\;(dissmissal will be staggered\, students will be dismissed through
 out the evening)</span></div>\n<div>\n<div><span style='font-size: 14pt\; 
 color: #333333\;'></span></div>\n<div>&nbsp\;</div>\n<div style='text-alig
 n: center\;'>&nbsp\;<span style='font-size: 14pt\; color: #333333\;'><stro
 ng><span style='font-family: Arial\;'>C &amp\; D Class Content</span></str
 ong></span>\n<div style='padding-left: 60px\;'><span style='font-size: 14p
 t\; color: #333333\;'></span></div>\n</div>\n<div>&nbsp\;<span style='colo
 r: #333333\;'><span style='font-size: 14pt\;'><strong><span style='font-fa
 mily: Arial\;'>Directed Portfolio Lab:&nbsp\;</span></strong><span style='
 font-family: Arial\;'>The Directed Portfolio Lab allows for individual con
 sultation &amp\; one-on-one time with</span><span style='font-family: Aria
 l\;'>&nbsp\;the&nbsp\;</span></span><span style='font-size: 14pt\;'><span 
 style='font-family: Arial\;'>instructor. &nbsp\;Participants will work on 
 their portfolio and meet with the instructor to discuss their statements a
 nd</span><span style='font-family: Arial\;'>&nbsp\;the </span></span><span
  style='font-size: 14pt\;'><span style='font-family: Arial\;'>documentatio
 n within their professional portfolio.</span></span></span></div>\n<div><s
 trong style='font-family: arial\, helvetica\, sans-serif\;'>&nbsp\; &nbsp\
 ; &nbsp\; &nbsp\; &nbsp\; &nbsp\; &nbsp\; &nbsp\; &nbsp\;<span style='font
 -size: 14pt\; color: #000000\;'>The Professional Philosophy Statement</spa
 n></strong></div>\n</div>\n<div style='padding-left: 30px\;'>\n<div style=
 'text-align: justify\;'><span style='color: #333333\;'>&nbsp\; &nbsp\; &nb
 sp\; &nbsp\; &nbsp\;</span><span style='font-family: arial\, helvetica\, s
 ans-serif\; color: #333333\; font-size: 14pt\;'><strong>Individual Consult
 ations - allows one on one with instructors</strong></span></div>\n<div st
 yle='padding-left: 60px\;'><span style='font-family: arial\, helvetica\, s
 ans-serif\; color: #333333\; font-size: 14pt\;'></span></div>\n</div>\n<di
 v style='padding-left: 60px\;'><span style='font-size: 14pt\; font-family:
  arial\, helvetica\, sans-serif\; color: #333333\;'></span></div>\n<div><s
 pan style='font-size: 14pt\; color: #333333\;'></span></div>\n<div>&nbsp\;
 </div>\n<div><span style='font-size: 14pt\; color: #333333\;'><span style=
 'text-decoration: underline\;'><strong>Sunday\, June 30th\, 2024</strong><
 /span></span></div>\n<div style='margin-left: 30px\;'><span style='font-si
 ze: 14pt\; color: #333333\;'><strong><br /></strong><strong>Class E</stron
 g><strong>:</strong>&nbsp\;8:00am-3:00pm&nbsp\;(7 Contact Hours/.7 CEUs)</
 span></div>\n<div style='margin-left: 30px\;'>\n<p style='margin-left: 1in
 \; text-indent: -1in\;'><span style='font-size: 14pt\; color: #333333\;'><
 strong>Class F:</strong>&nbsp\;4:00pm-7:00pm&nbsp\;<span style='background
 -color: inherit\; font-family: inherit\; caret-color: auto\;'>(3 Contact H
 ours/.3 CEUs)</span></span></p>\n<p><span style='font-size: 14pt\; color: 
 #333333\;'></span></p>\n</div>\n<div>&nbsp\;</div>\n<div style='padding-le
 ft: 30px\; text-align: center\;'><span style='font-size: 14pt\; color: #33
 3333\;'><strong><span style='font-family: Arial\;'>E &amp\; F Class Conten
 t<span style='font-family: Arial\;'></span>&nbsp\;&nbsp\;&nbsp\; &nbsp\; &
 nbsp\; </span></strong></span></div>\n<div style='padding-left: 30px\;'><s
 pan style='font-size: 14pt\; color: #333333\;'><strong><span style='font-f
 amily: Arial\;'><span style='font-family: Arial\;'>&nbsp\; &nbsp\; &nbsp\;
  &nbsp\;Unit 7:<span style='font-family: Arial\;'>&nbsp\;CDA Practice Exam
 &nbsp\;</span>&nbsp\;</span>&nbsp\;</span></strong></span></div>\n<div sty
 le='padding-left: 30px\;'><span style='font-size: 14pt\; color: #333333\;'
 ><strong><span style='font-family: Arial\;'>&nbsp\; &nbsp\; &nbsp\; &nbsp\
 ;</span></strong></span><span style='color: #333333\; font-size: 14pt\;'><
 strong><span style='font-family: Arial\;'>Unit 8:&nbsp\;</span></strong><s
 trong><span style='font-family: Arial\;'>I<strong>nstructions on completin
 g the process</strong></span></strong></span></div>\n<div style='padding-l
 eft: 60px\;'>\n<p style='margin-left: 1in\; text-indent: -1in\;'><span sty
 le='font-size: 14pt\; color: #333333\;'><strong><span style='font-family: 
 Arial\;'>&nbsp\; &nbsp\; &nbsp\; &nbsp\; &nbsp\; &nbsp\; &nbsp\; &nbsp\; &
 nbsp\; &nbsp\; &nbsp\; &nbsp\; &nbsp\;&nbsp\;</span></strong><strong><span
  style='font-family: Arial\;'>Understanding the verification visit</span> 
 </strong> </span></p>\n<p style='margin-left: 1in\; text-indent: -1in\;'><
 span style='font-size: 14pt\; color: #333333\;'><strong><span style='font-
 family: Arial\;'>&nbsp\; &nbsp\; &nbsp\; &nbsp\; &nbsp\; &nbsp\; &nbsp\; &
 nbsp\; &nbsp\; &nbsp\; &nbsp\; &nbsp\; &nbsp\;&nbsp\;<strong>The applicati
 on process</strong></span> </strong> </span></p>\n<p style='margin-left: 1
 in\; text-indent: -1in\;'><span style='font-size: 14pt\; color: #333333\;'
 ><strong><span style='font-family: Arial\;'>&nbsp\; &nbsp\; &nbsp\; &nbsp\
 ; &nbsp\; &nbsp\; &nbsp\; &nbsp\; &nbsp\; &nbsp\; &nbsp\; &nbsp\; &nbsp\; 
 Choosing your PD Specialist</span> </strong> </span></p>\n<p style='margin
 -left: 1in\; text-indent: -1in\;'><span style='font-size: 14pt\; color: #3
 33333\;'><strong><span style='font-family: Arial\;'>&nbsp\; &nbsp\; &nbsp\
 ; &nbsp\; &nbsp\; &nbsp\; &nbsp\; &nbsp\; &nbsp\; &nbsp\; &nbsp\; &nbsp\; 
 &nbsp\;&nbsp\;</span></strong><strong><span style='font-family: Arial\;'>F
 inding a Pearson Vue testing site&nbsp\;</span></strong></span></p>\n<p st
 yle='margin-left: 1in\; text-indent: -1in\;'><span style='font-size: 14pt\
 ;'><strong><span style='font-family: Arial\;'>&nbsp\; &nbsp\; &nbsp\; </sp
 an></strong></span></p>\n<p style='text-align: center\;'><span style='font
 -size: 14pt\;'><a href='http://handprint.niccm.com/products/cda-fast-track
 .html' title='Registration CDA Fast Track '><span style='margin: 0px\; pad
 ding: 0px\; border: 0px\; outline: 0px\; background-color: transparent\; f
 ont-family: arial\, helvetica\, sans-serif\;'><span style='color: #ffffff\
 ;'><span style='padding: 3px 10px 4px\; background-color: #7b3b3b\;'><stro
 ng>Click Here To Register Online Now!</strong></span></span></span></a></s
 pan></p>\n<p style='text-align: center\;'>&nbsp\;</p>\n<p style='text-alig
 n: center\;'>&nbsp\;</p>\n<footer></footer></div>\n<p style='text-align: c
 enter\;'><span style='font-size: 18pt\;'>&nbsp\; &nbsp\; &nbsp\; &nbsp\;Ca
 ll (602) 476-1422 for More Information&nbsp\;</span></p>\n<p>&nbsp\;&nbsp\
 ;</p>
DTSTART:20240628T070000Z
DTEND:20240630T190000Z
SUMMARY:CDA Fast Track  - Tampa 624  
URL:https://niccm.com/71-cda-fast-track/867-cda-fast-track-tampa-624
END:VEVENT
BEGIN:VEVENT
UID:20240223T160000UTC-1240xkdiKr@https://niccm.com/
DTSTAMP:20260425T102427Z
CATEGORIES:Past NICCM Events
DESCRIPTION:<h1 style='color: #000000\; visibility: visible\; text-align: c
 enter\;'>N.A.C. (National Administrator's Credential)</h1>\n<h2 style='col
 or: #000000\; visibility: visible\; text-align: justify\;'><span style='fo
 nt-size: 18pt\;'>Location/Hotel:</span>&nbsp\;&nbsp\;</h2>\n<p style='back
 ground-color: transparent\; margin: 2px 0px\; padding: 0px\; border: 0px\;
  outline: 0px\; font-size: 12px\; color: #505f69\; font-family: Helvetica\
 , Arial\, FreeSans\, sans-serif\;'>&nbsp\;</p>\n<p style='background-color
 : transparent\; margin: 2px 0px\; padding: 0px\; border: 0px\; outline: 0p
 x\; font-size: 12px\; color: #505f69\; font-family: Helvetica\, Arial\, Fr
 eeSans\, sans-serif\;'><span style='color: #000000\; font-family: arial\, 
 helvetica\, sans-serif\; font-size: 14pt\;'>Hyatt House Tampa Airport -&nb
 sp\; Westshore</span></p>\n<p><span style='color: #000000\; font-family: a
 rial\, helvetica\, sans-serif\; font-size: 14pt\;'>5308 Avion Park Drive</
 span></p>\n<p><span style='color: #000000\; font-family: arial\, helvetica
 \, sans-serif\; font-size: 14pt\;'>Tampa\, FL &nbsp\;33607</span></p>\n<p>
 <span style='color: #000000\; font-family: arial\, helvetica\, sans-serif\
 ; font-size: 14pt\;'>(813) 465-5306</span></p>\n<p><span style='font-size:
  14pt\; font-family: arial\, helvetica\, sans-serif\; color: #000000\;'>Re
 servations</span>&nbsp\;<a href='https://www.hyatt.com/en-US/hotel/florida
 /hyatt-house-tampa-airport-westshore/tpaxw?corp_id=G-NIC6'><span style='fo
 nt-size: 14pt\;'>Hyatt.com&nbsp\;</span></a></p>\n<p><span style='color: #
 0000ff\; font-size: 14pt\;'><span style='color: #000000\;'>Call for assist
 ance if there aren't any available reservations on the link.</span>&nbsp\;
 </span></p>\n<p>&nbsp\;</p>\n<p>&nbsp\;</p>\n<p style='text-align: center\
 ;'><a href='http://handprint.niccm.com/products/national-florida-and-texas
 -director-credential-n-a-c.html' title='Registration NAC '><span style='co
 lor: #ffffff\;'><span style='font-size: 19px\; padding: 3px 10px 4px\; bac
 kground-color: #7b3b3b\;'><strong>Click Here To Register Online Now!</stro
 ng></span></span></a></p>\n<p>&nbsp\;</p>\n<p>&nbsp\;</p>\n<p><span style=
 'color: #000000\;'><strong style='font-size: 14pt\;'><span style='font-siz
 e: 18pt\;'>Schedule:</span></strong></span></p>\n<div>&nbsp\;</div>\n<div>
 <span style='color: #000000\;'><span style='text-decoration: underline\;'>
 <strong><span style='font-size: 14pt\;'>Friday\, June 28th\, 2024</span></
 strong></span><strong><span style='font-size: 14pt\;'>&nbsp\; &nbsp\;</spa
 n></strong></span></div>\n<div>&nbsp\;</div>\n<div><span style='font-size:
  12pt\; color: #000000\;'><strong>Arrival and Check-In:&nbsp\; </strong>3:
 45pm-4:00pm &nbsp\;</span><span style='color: #000000\;'><span style='colo
 r: #000000\;'>(Students must arrive and check-in at least 1 hour before cl
 ass starts)</span></span></div>\n<div>&nbsp\;</div>\n<div><span style='col
 or: #000000\;'></span></div>\n<div><span style='font-size: 12pt\; color: #
 000000\;'><strong>Session A: &nbsp\;</strong>5:00pm-9:00pm&nbsp\;<span sty
 le='font-size: 10.6667px\;'>4</span><span style='font-size: 10.6667px\;'>&
 nbsp\;Contact Hours / .4 CEUs</span>&nbsp\;<span style='font-size: 8pt\;'>
 (For Sessions taken individually earn up to 5 Contact Hours / .5 CEUs by c
 ompleting 1 Praxis question)</span></span></div>\n<div style='padding-left
 : 30px\;'><span style='font-size: 12pt\; color: #000000\;'>Unit 1: Fiscal 
 Management&nbsp\;</span></div>\n<div style='padding-left: 30px\;'><span st
 yle='font-size: 12pt\; color: #000000\;'>Unit 2: Insurance for Your Center
 </span></div>\n<div>&nbsp\;</div>\n<div style='padding-left: 30px\;'><span
  style='color: #000000\;'></span></div>\n<div><span style='color: #000000\
 ;'><span style='text-decoration: underline\;'><strong><span style='font-si
 ze: 14pt\;'>Saturday\, June 29th\, 2024</span></strong></span><span style=
 'font-size: 8pt\;'>&nbsp\;&nbsp\;</span></span></div>\n<div>&nbsp\;</div>
 \n<div><span style='color: #000000\;'></span></div>\n<div><span style='fon
 t-size: 12pt\; color: #000000\;'><strong>Session B:</strong>&nbsp\;&nbsp\;
 8:00am-12:00pm&nbsp\;<span style='font-size: 10.6667px\;'>4</span><span st
 yle='font-size: 10.6667px\;'>&nbsp\;Contact Hours / .4 CEUs&nbsp\;</span><
 span style='font-size: 8pt\;'>(For Sessions taken individually earn up to 
 5 Contact Hours / .5 CEUs by completing 1 Praxis question)</span></span></
 div>\n<div style='padding-left: 30px\;'><span style='font-size: 12pt\; col
 or: #000000\;'>Unit 3: Hiring &amp\; Teacher Orientation</span></div>\n<di
 v style='padding-left: 30px\;'><span style='font-size: 12pt\; color: #0000
 00\;'>Unit 4: Employee Handbooks &amp\; Evals</span></div>\n<div style='pa
 dding-left: 30px\;'><span style='color: #000000\;'></span></div>\n<div><sp
 an style='font-size: 12pt\; color: #000000\;'><strong>Session C:</strong>&
 nbsp\;&nbsp\;1:00pm-5:00pm &nbsp\;<span style='font-size: 10.6667px\;'>4</
 span><span style='font-size: 10.6667px\;'>&nbsp\;Contact Hours / .4 CEUs&n
 bsp\;</span><span style='font-size: 8pt\;'>(For Sessions taken individuall
 y earn up to 5 Contact Hours / .5 CEUs by completing 1 Praxis question)</s
 pan></span></div>\n<div style='padding-left: 30px\;'><span style='font-siz
 e: 12pt\; color: #000000\;'>Unit 5: Center Management</span></div>\n<div s
 tyle='padding-left: 30px\;'><span style='font-size: 12pt\; color: #000000\
 ;'>Unit 6: Child Development - The Essentials</span></div>\n<div>&nbsp\;</
 div>\n<div style='padding-left: 30px\;'><span style='color: #000000\;'></s
 pan></div>\n<div><span style='color: #000000\;'><span style='text-decorati
 on: underline\;'><strong><span style='font-size: 14pt\;'>Sunday\, June 30t
 h\, 2024</span></strong></span><strong><span style='font-size: 14pt\;'>&nb
 sp\; &nbsp\;</span></strong></span></div>\n<div>&nbsp\;</div>\n<div><span 
 style='color: #000000\;'></span></div>\n<div><span style='font-size: 12pt\
 ; color: #000000\;'><strong>Session D: &nbsp\;</strong>8:00am-12:00pm&nbsp
 \;<span style='font-size: 10.6667px\;'>4</span><span style='font-size: 10.
 6667px\;'>&nbsp\;Contact Hours / .4 CEUs&nbsp\;</span><span style='font-si
 ze: 8pt\;'>(For Sessions taken individually earn up to 5 Contact Hours / .
 5 CEUs by completing 1 Praxis question)</span></span></div>\n<div style='p
 adding-left: 30px\;'><span style='font-size: 12pt\; color: #000000\;'>Unit
  7: Dealing with Difficult Employees</span></div>\n<div style='padding-lef
 t: 30px\;'><span style='font-size: 12pt\; color: #000000\;'>Unit 8: Admini
 strative Leadership</span></div>\n<div style='padding-left: 30px\;'><span 
 style='color: #000000\;'></span></div>\n<div>\n<div><span style='font-size
 : 12pt\; color: #000000\;'><strong>Session E: &nbsp\;</strong>1:00pm-5:00p
 m&nbsp\;<span style='font-size: 10.6667px\;'>4</span><span style='font-siz
 e: 10.6667px\;'>&nbsp\;Contact Hours / .4 CEUs&nbsp\;</span><span style='f
 ont-size: 8pt\;'>(For Sessions taken individually earn up to 5 Contact Hou
 rs / .5 CEUs by completing 1 Praxis question)</span></span></div>\n<div st
 yle='padding-left: 30px\;'><span style='font-size: 12pt\; color: #000000\;
 '>Unit 9: The New Economy</span></div>\n<div style='padding-left: 30px\;'>
 <span style='font-size: 12pt\; color: #000000\;'>Unit 10: Train the Traine
 r</span></div>\n<div>&nbsp\;</div>\n<div style='padding-left: 30px\;'><spa
 n style='color: #000000\;'></span></div>\n<div style='padding-left: 30px\;
 '><span style='color: #000000\;'>&nbsp\;&nbsp\;</span></div>\n</div>\n<div
 >\n<div>\n<div><span style='font-size: 12pt\; color: #000000\;'><strong><s
 pan style='font-family: arial\, helvetica\, sans-serif\; font-size: 14pt\;
 '>Session F: &nbsp\;Credential Praxis</span>&nbsp\;</strong><span style='f
 ont-size: 8pt\;'>(25 Contact Hours / 2.5 CEUs)</span></span></div>\n<div><
 span style='color: #000000\; font-family: arial\, helvetica\, sans-serif\;
  font-size: 14pt\;'>When attending the full conference\, each Session is w
 orth 4 Hours/ .4 CEUs for a total of 20 hours for sessions A-E. &nbsp\;Con
 vert the 20 contact hours / 2 CEUs from attendance in sessions A-E into th
 e NAC (which is worth 45 contact hours/4.5 CEUs) by completing the Praxis.
  Students will be assigned an instructor to advise them during the complet
 ion of their project from home if they have questions. Students also have 
 the option of registering for tutoring to complete their praxis during the
  event\, at a future event or to get additional help from home on their pr
 axis.&nbsp\;</span></div>\n<div>&nbsp\;</div>\n</div>\n<div>&nbsp\;</div>
 \n<div><span style='color: #000000\; font-family: arial\, helvetica\, sans
 -serif\;'><span style='color: #993300\;'><strong style='font-family: arial
 \, helvetica\, sans-serif\; font-size: 16px\;'><a href='http://handprint.n
 iccm.com/products/national-administrators-credential-n-a-c-tutoring.html' 
 title='NAC Tutoring Registration'><span style='color: #993300\;'>Optional 
 Tutoring $170 - includes tutoring binder</span></a></strong></span></span>
 <span style='color: #000000\; font-family: arial\, helvetica\, sans-serif\
 ; font-size: 14pt\;'><strong style='font-family: arial\, helvetica\, sans-
 serif\; font-size: 16px\;'>&nbsp\;&nbsp\;</strong>Students who elect to st
 ay for tutoring will receive a list of documentation to bring with them. T
 he presenter will provide individualized assistance to each tutoring parti
 cipant in order to help them put together and complete their Praxis. Tutor
 ing allows students the&nbsp\;<strong>opportunity</strong>&nbsp\;of comple
 ting their test and praxis at the event and&nbsp\;<strong>leave having ear
 ned their certificate</strong>. Those who wish to participate in tutoring 
 are advised to register for this service at least 3 days before the event 
 in order to arrive prepared for tutoring. Tutoring is usually offered on S
 aturday and Sunday of each event from approximately 5:15 pm - 8:15 pm.</sp
 an></div>\n</div>
DTSTART:20240628T160000Z
DTEND:20240630T170000Z
SUMMARY:NAC - Tampa 624   
URL:https://niccm.com/70-upcoming-credential-courses/868-nac-tampa-624
END:VEVENT
END:VCALENDAR
