BEGIN:VCALENDAR
VERSION:2.0
PRODID:-//https://niccm.com//NONSGML kigkonsult.se iCalcreator 2.23.20//
METHOD:PUBLISH
X-WR-CALNAME:JCal Pro Calendar
X-WR-CALDESC:Your online events calendar
X-WR-TIMEZONE:UTC
BEGIN:VTIMEZONE
TZID:UTC
BEGIN:STANDARD
DTSTART:20260419T170523
TZOFFSETFROM:+0000
TZOFFSETTO:+0000
END:STANDARD
END:VTIMEZONE
BEGIN:VEVENT
UID:20250314T064500UTC-1783uAVBFn@https://niccm.com/
DTSTAMP:20260419T170523Z
CATEGORIES:Past NICCM Events
DESCRIPTION:<h1 style='color: #000000\; visibility: visible\; text-align: c
 enter\;'><span style='font-family: arial\, helvetica\, sans-serif\; font-s
 ize: 18pt\;'>CDA Fast Track&nbsp\;</span></h1>\n<h2 style='color: #000000\
 ; visibility: visible\; text-align: justify\;'><span style='font-size: 12p
 t\; font-family: arial\, helvetica\, sans-serif\;'><strong style='font-siz
 e: 18pt\;'>Location/Hotel:</strong></span>&nbsp\;</h2>\n<p style='backgrou
 nd-color: transparent\; margin: 2px 0px\; padding: 0px\; border: 0px\; out
 line: 0px\; font-size: 12px\; color: #505f69\; font-family: Helvetica\, Ar
 ial\, FreeSans\, sans-serif\;'><span style='color: #000000\; font-family: 
 arial\, helvetica\, sans-serif\; font-size: 14pt\;'>Hampton Inn &amp\; Sui
 tes</span></p>\n<p><span style='color: #000000\; font-family: arial\, helv
 etica\, sans-serif\; font-size: 14pt\;'>4741 East Sam Houston Parkway Sout
 h</span></p>\n<p><span style='color: #000000\; font-family: arial\, helvet
 ica\, sans-serif\; font-size: 14pt\;'>Pasadena\, TX&nbsp\; 77505</span></p
 >\n<p><span style='color: #000000\; font-family: arial\, helvetica\, sans-
 serif\; font-size: 14pt\;'>(281) 998- 3300</span></p>\n<p><span style='fon
 t-size: 14pt\; font-family: arial\, helvetica\, sans-serif\; color: #00000
 0\;'>Reservations</span>&nbsp\;<a href='https://www.hilton.com/en/hotels/h
 oupdhx-hampton-suites-houston-pasadena/'><span style='font-size: 14pt\;'>H
 ilton.com&nbsp\;</span></a></p>\n<p><span style='color: #0000ff\; font-siz
 e: 14pt\;'><span style='color: #000000\;'>Call for assistance if there are
 n't any available reservations on the link.</span>&nbsp\;</span></p>\n<add
 ress>&nbsp\;</address>\n<p>&nbsp\;</p>\n<p style='text-align: center\;'><a
  href='http://handprint.niccm.com/products/cda-fast-track.html' title='Reg
 istration CDA Fast Track '><span style='font-size: 18pt\;'><span style='ma
 rgin: 0px\; padding: 0px\; border: 0px\; outline: 0px\; background-color: 
 transparent\; font-family: arial\, helvetica\, sans-serif\;'><span style='
 color: #ffffff\;'><span style='font-size: 19px\; padding: 3px 10px 4px\; b
 ackground-color: #7b3b3b\;'><strong>Click Here To Register Online Now!</st
 rong></span></span></span></span></a></p>\n<p style='text-align: center\;'
 >&nbsp\;<span style='font-size: 18pt\;'><span style='margin: 0px\; padding
 : 0px\; border: 0px\; outline: 0px\; background-color: transparent\; font-
 family: arial\, helvetica\, sans-serif\;'>&nbsp\; &nbsp\; &nbsp\; &nbsp\; 
 &nbsp\; &nbsp\; &nbsp\; &nbsp\; &nbsp\; &nbsp\; &nbsp\; &nbsp\; &nbsp\;&nb
 sp\;</span></span>&nbsp\;</p>\n<p style='text-align: center\;'>&nbsp\;</p>
 \n<div style='text-align: center\;'>\n<p style='visibility: visible\; text
 -align: justify\;'><span style='color: #333333\;'><span style='font-size: 
 12pt\; font-family: arial\, helvetica\, sans-serif\;'><strong style='font-
 size: 18pt\;'>Course Content &amp\; Schedule:</strong></span>&nbsp\;</span
 ></p>\n<p style='visibility: visible\; text-align: justify\;'><span style=
 'color: #333333\;'></span></p>\n</div>\n<div>&nbsp\;</div>\n<div style='te
 xt-align: justify\;'><span style='text-decoration: underline\; color: #333
 333\;'><span style='font-size: large\;'><strong><span style='font-size: 14
 pt\;'>Friday\, September 19th\, 2025</span></strong></span></span></div>\n
 <div><span style='color: #333333\;'></span></div>\n<div>&nbsp\;</div>\n<di
 v><span style='font-size: 14pt\; color: #333333\;'><strong>Arrival and Che
 ck-In</strong>: 6:45am -7:00am <span style='font-size: 12pt\;'>(students m
 ust arrive and check-in 15 minutes before class)</span></span></div>\n<div
  style='padding-left: 30px\;'><span style='color: #333333\;'><span style='
 font-size: large\;'><strong><br /></strong></span><span style='font-size: 
 14pt\;'><strong>C</strong><strong>lass A</strong>: 7:00am -12:00pm &nbsp\;
 (5 Contact Hours/.5 CEUs)</span></span></div>\n<div style='padding-left: 3
 0px\;'><span style='font-size: 14pt\; color: #333333\;'>&nbsp\; &nbsp\; &n
 bsp\;&nbsp\;</span><span style='font-size: 14pt\; color: #333333\;'><stron
 g><span style='font-family: Arial\;'>Introduction:&nbsp\;</span>&nbsp\;</s
 trong> <strong><span style='font-family: Arial\;'>Overview of the Course</
 span><span style='font-family: Arial\;'>&nbsp\; &nbsp\;</span></strong></s
 pan></div>\n<div style='margin-left: 60px\;'>\n<p><span style='font-size: 
 14pt\; color: #333333\;'><strong><span style='font-family: Arial\;'>Unit 1
 :&nbsp\; &nbsp\; </span></strong><strong><span style='font-family: Arial\;
 '>Keys to Writing Statements</span> </strong> </span></p>\n<p style='margi
 n-left: 31px\;'><span style='font-size: 14pt\; color: #333333\;'><strong><
 span style='font-family: Arial\;'>&nbsp\; &nbsp\; &nbsp\; &nbsp\; &nbsp\;C
 ompetency Statement 1:&nbsp\;&nbsp\;</span> </strong><span style='font-fam
 ily: Arial\;'>Planning a safe and healthy learning environment</span></spa
 n></p>\n<p><span style='font-size: 14pt\; color: #333333\;'><strong><span 
 style='font-family: Arial\;'>Unit 2:&nbsp\; &nbsp\; </span></strong><stron
 g><span style='font-family: Arial\;'>Competency Statement 2:&nbsp\;&nbsp\;
 </span> </strong><span style='font-family: Arial\;'>Advancing children’s p
 hysical and intellectual development</span></span></p>\n</div>\n<div style
 ='padding-left: 30px\;'><span style='font-size: 12pt\; color: #333333\;'><
 br /><span style='font-size: 14pt\;'><strong>Class B:</strong>&nbsp\;12:30
 pm- 5:30pm &nbsp\;(5 Contact Hours/.5 CEUs) </span></span></div>\n<div sty
 le='padding-left: 30px\;'><span style='font-size: 14pt\; color: #333333\;'
 ><strong><span style='font-family: Arial\;'>&nbsp\; &nbsp\; &nbsp\;</span>
 </strong></span>\n<div style='padding-left: 30px\; text-align: justify\;'>
 <span style='color: #333333\; font-size: 14pt\;'><strong><span style='font
 -family: Arial\;'>Unit 3:&nbsp\; &nbsp\;&nbsp\;</span></strong><strong>Com
 petency Statement 3:&nbsp\;&nbsp\;</strong>Supporting children’s social an
 d emotional development</span></div>\n<div style='text-align: justify\;'><
 span style='color: #333333\; font-size: 14pt\;'>&nbsp\; &nbsp\; &nbsp\; </
 span><span style='color: #333333\;'><strong style='font-family: arial\, he
 lvetica\, sans-serif\; font-size: 12pt\; text-indent: -1in\; color: inheri
 t\;'><span style='font-size: 14pt\;'>Unit 4:&nbsp\; &nbsp\;&nbsp\;Competen
 cy Statement 4:</span>&nbsp\;&nbsp\;</strong></span><span style='color: #3
 33333\; font-size: 14pt\;'>Establishing positive and productive relationsh
 ips with families</span></div>\n<div style='text-align: justify\;'><span s
 tyle='color: #333333\; font-size: 14pt\;'><strong>&nbsp\; &nbsp\; &nbsp\; 
 Unit 5:&nbsp\; &nbsp\;&nbsp\;</strong><strong>Competency Statement 5:&nbsp
 \;&nbsp\;</strong>Ensuring a well-run purposeful program&nbsp\;</span></di
 v>\n<div style='text-align: justify\;'><span style='color: #333333\; font-
 size: 14pt\;'><strong>&nbsp\; &nbsp\; &nbsp\; Unit 6:&nbsp\;&nbsp\; &nbsp\
 ;Competency Statement 6:&nbsp\;&nbsp\;</strong>Maintaining a commitment to
  professionalism</span></div>\n<div style='padding-left: 60px\;'><span sty
 le='color: #333333\; font-size: 14pt\;'></span></div>\n</div>\n<div style=
 'padding-left: 60px\;'>\n<p><span style='font-size: 14pt\; color: #333333\
 ;'></span></p>\n<p><span style='color: #333333\; font-size: 14pt\;'></span
 ></p>\n<p><span style='font-size: 14pt\; color: #333333\;'><span style='fo
 nt-family: Arial\;'><strong>Documenting Professional Education</strong>&nb
 sp\;- 8 CDA Subject Areas</span>&nbsp\;</span></p>\n</div>\n<div><span sty
 le='font-size: 14pt\; color: #333333\;'><br /><span style='text-decoration
 : underline\;'><strong>Saturday\, September 20th\, 2025</strong></span></s
 pan></div>\n<div style='padding-left: 30px\;'><span style='font-size: 14pt
 \; color: #333333\;'></span></div>\n<div>&nbsp\;</div>\n<div style='paddin
 g-left: 30px\;'><span style='font-size: 14pt\; color: #333333\;'><strong>C
 lass C</strong><strong>:&nbsp\;</strong>8:00am-3:00pm&nbsp\;(7 Contact Hou
 rs/.7 CEUs)</span></div>\n<div style='padding-left: 30px\;'><span style='f
 ont-size: 14pt\; color: #333333\;'>&nbsp\;(arrivals will be staggered\, st
 udents will be scheduled in as early as 8:00am)</span></div>\n<div style='
 padding-left: 30px\;'><span style='font-size: 14pt\; color: #333333\;'><st
 rong><span style='font-family: Arial\;'>&nbsp\; &nbsp\; &nbsp\;</span></st
 rong></span></div>\n<div style='padding-left: 30px\;'><span style='font-si
 ze: 14pt\; color: #333333\;'><strong>Class D:&nbsp\;</strong>4:00pm - 7:00
 pm (3 Contact Hours/.3 CEUs)&nbsp\;</span></div>\n<div style='padding-left
 : 30px\;'><span style='font-size: 14pt\; color: #333333\;'>&nbsp\;(dissmis
 sal will be staggered\, students will be dismissed throughout the evening)
 </span></div>\n<div>\n<div><span style='font-size: 14pt\; color: #333333\;
 '></span></div>\n<div>&nbsp\;</div>\n<div style='text-align: center\;'>&nb
 sp\;<span style='font-size: 14pt\; color: #333333\;'><strong><span style='
 font-family: Arial\;'>C &amp\; D Class Content</span></strong></span>\n<di
 v style='padding-left: 60px\;'><span style='font-size: 14pt\; color: #3333
 33\;'></span></div>\n</div>\n<div>&nbsp\;<span style='color: #333333\;'><s
 pan style='font-size: 14pt\;'><strong><span style='font-family: Arial\;'>D
 irected Portfolio Lab:&nbsp\;</span></strong><span style='font-family: Ari
 al\;'>The Directed Portfolio Lab allows for individual consultation &amp\;
  one-on-one time with</span><span style='font-family: Arial\;'>&nbsp\;the&
 nbsp\;</span></span><span style='font-size: 14pt\;'><span style='font-fami
 ly: Arial\;'>instructor. &nbsp\;Participants will work on their portfolio 
 and meet with the instructor to discuss their statements and</span><span s
 tyle='font-family: Arial\;'>&nbsp\;the </span></span><span style='font-siz
 e: 14pt\;'><span style='font-family: Arial\;'>documentation within their p
 rofessional portfolio.</span></span></span></div>\n<div><strong style='fon
 t-family: arial\, helvetica\, sans-serif\;'>&nbsp\; &nbsp\; &nbsp\; &nbsp\
 ; &nbsp\; &nbsp\; &nbsp\; &nbsp\; &nbsp\;<span style='font-size: 14pt\; co
 lor: #000000\;'>The Professional Philosophy Statement</span></strong></div
 >\n</div>\n<div style='padding-left: 30px\;'>\n<div style='text-align: jus
 tify\;'><span style='color: #333333\;'>&nbsp\; &nbsp\; &nbsp\; &nbsp\; &nb
 sp\;</span><span style='font-family: arial\, helvetica\, sans-serif\; colo
 r: #333333\; font-size: 14pt\;'><strong>Individual Consultations - allows 
 one on one with instructors</strong></span></div>\n<div style='padding-lef
 t: 60px\;'><span style='font-family: arial\, helvetica\, sans-serif\; colo
 r: #333333\; font-size: 14pt\;'></span></div>\n</div>\n<div style='padding
 -left: 60px\;'><span style='font-size: 14pt\; font-family: arial\, helveti
 ca\, sans-serif\; color: #333333\;'></span></div>\n<div><span style='font-
 size: 14pt\; color: #333333\;'></span></div>\n<div>&nbsp\;</div>\n<div><sp
 an style='font-size: 14pt\; color: #333333\;'><span style='text-decoration
 : underline\;'><strong>Sunday\, September 21st\, 2025</strong></span></spa
 n></div>\n<div style='margin-left: 30px\;'><span style='font-size: 14pt\; 
 color: #333333\;'><strong><br /></strong><strong>Class E</strong><strong>:
 </strong>&nbsp\;8:00am-3:00pm&nbsp\;(7 Contact Hours/.7 CEUs)</span></div>
 \n<div style='margin-left: 30px\;'>\n<p style='margin-left: 1in\; text-ind
 ent: -1in\;'><span style='font-size: 14pt\; color: #333333\;'><strong>Clas
 s F:</strong>&nbsp\;4:00pm-7:00pm&nbsp\;<span style='background-color: inh
 erit\; font-family: inherit\; caret-color: auto\;'>(3 Contact Hours/.3 CEU
 s)</span></span></p>\n<p><span style='font-size: 14pt\; color: #333333\;'>
 </span></p>\n</div>\n<div>&nbsp\;</div>\n<div style='padding-left: 30px\; 
 text-align: center\;'><span style='font-size: 14pt\; color: #333333\;'><st
 rong><span style='font-family: Arial\;'>E &amp\; F Class Content<span styl
 e='font-family: Arial\;'></span>&nbsp\;&nbsp\;&nbsp\; &nbsp\; &nbsp\; </sp
 an></strong></span></div>\n<div style='padding-left: 30px\;'><span style='
 font-size: 14pt\; color: #333333\;'><strong><span style='font-family: Aria
 l\;'><span style='font-family: Arial\;'>&nbsp\; &nbsp\; &nbsp\; &nbsp\;Uni
 t 7:<span style='font-family: Arial\;'>&nbsp\;CDA Practice Exam&nbsp\;</sp
 an>&nbsp\;</span>&nbsp\;</span></strong></span></div>\n<div style='padding
 -left: 30px\;'><span style='font-size: 14pt\; color: #333333\;'><strong><s
 pan style='font-family: Arial\;'>&nbsp\; &nbsp\; &nbsp\; &nbsp\;</span></s
 trong></span><span style='color: #333333\; font-size: 14pt\;'><strong><spa
 n style='font-family: Arial\;'>Unit 8:&nbsp\;</span></strong><strong><span
  style='font-family: Arial\;'>I<strong>nstructions on completing the proce
 ss</strong></span></strong></span></div>\n<div style='padding-left: 60px\;
 '>\n<p style='margin-left: 1in\; text-indent: -1in\;'><span style='font-si
 ze: 14pt\; color: #333333\;'><strong><span style='font-family: Arial\;'>&n
 bsp\; &nbsp\; &nbsp\; &nbsp\; &nbsp\; &nbsp\; &nbsp\; &nbsp\; &nbsp\; &nbs
 p\; &nbsp\; &nbsp\; &nbsp\;&nbsp\;</span></strong><strong><span style='fon
 t-family: Arial\;'>Understanding the verification visit</span> </strong> <
 /span></p>\n<p style='margin-left: 1in\; text-indent: -1in\;'><span style=
 'font-size: 14pt\; color: #333333\;'><strong><span style='font-family: Ari
 al\;'>&nbsp\; &nbsp\; &nbsp\; &nbsp\; &nbsp\; &nbsp\; &nbsp\; &nbsp\; &nbs
 p\; &nbsp\; &nbsp\; &nbsp\; &nbsp\;&nbsp\;<strong>The application process<
 /strong></span> </strong> </span></p>\n<p style='margin-left: 1in\; text-i
 ndent: -1in\;'><span style='font-size: 14pt\; color: #333333\;'><strong><s
 pan style='font-family: Arial\;'>&nbsp\; &nbsp\; &nbsp\; &nbsp\; &nbsp\; &
 nbsp\; &nbsp\; &nbsp\; &nbsp\; &nbsp\; &nbsp\; &nbsp\; &nbsp\; Choosing yo
 ur PD Specialist</span> </strong> </span></p>\n<p style='margin-left: 1in\
 ; text-indent: -1in\;'><span style='font-size: 14pt\; color: #333333\;'><s
 trong><span style='font-family: Arial\;'>&nbsp\; &nbsp\; &nbsp\; &nbsp\; &
 nbsp\; &nbsp\; &nbsp\; &nbsp\; &nbsp\; &nbsp\; &nbsp\; &nbsp\; &nbsp\;&nbs
 p\;</span></strong><strong><span style='font-family: Arial\;'>Finding a Pe
 arson Vue testing site&nbsp\;</span></strong></span></p>\n<p style='margin
 -left: 1in\; text-indent: -1in\;'><span style='font-size: 14pt\;'><strong>
 <span style='font-family: Arial\;'>&nbsp\; &nbsp\; &nbsp\; </span></strong
 ></span></p>\n<p style='text-align: center\;'><span style='font-size: 14pt
 \;'><a href='http://handprint.niccm.com/products/cda-fast-track.html' titl
 e='Registration CDA Fast Track '><span style='margin: 0px\; padding: 0px\;
  border: 0px\; outline: 0px\; background-color: transparent\; font-family:
  arial\, helvetica\, sans-serif\;'><span style='color: #ffffff\;'><span st
 yle='padding: 3px 10px 4px\; background-color: #7b3b3b\;'><strong>Click He
 re To Register Online Now!</strong></span></span></span></a></span></p>\n<
 p style='text-align: center\;'>&nbsp\;</p>\n<p style='text-align: center\;
 '>&nbsp\;</p>\n<footer></footer></div>\n<p style='text-align: center\;'><s
 pan style='font-size: 18pt\;'>&nbsp\; &nbsp\; &nbsp\; &nbsp\;Call (602) 47
 6-1422 for More Information&nbsp\;</span></p>\n<p>&nbsp\;&nbsp\;</p>
DTSTART:20250919T064500Z
DTEND:20250921T190000Z
SUMMARY:CDA Fast Track  - Houston 925
URL:https://niccm.com/71-cda-fast-track/932-cda-fast-track-houston-925
END:VEVENT
BEGIN:VEVENT
UID:20250314T160000UTC-79631neTh2@https://niccm.com/
DTSTAMP:20260419T170523Z
CATEGORIES:Past NICCM Events
DESCRIPTION:<h1 style='color: #000000\; visibility: visible\; text-align: c
 enter\;'>N.A.C. (National Administrator's Credential)</h1>\n<h2 style='col
 or: #000000\; visibility: visible\; text-align: justify\;'><span style='fo
 nt-size: 18pt\;'>Location/Hotel:</span>&nbsp\;&nbsp\;</h2>\n<p style='back
 ground-color: transparent\; margin: 2px 0px\; padding: 0px\; border: 0px\;
  outline: 0px\; font-size: 12px\; color: #505f69\; font-family: Helvetica\
 , Arial\, FreeSans\, sans-serif\;'>&nbsp\;</p>\n<p style='background-color
 : transparent\; margin: 2px 0px\; padding: 0px\; border: 0px\; outline: 0p
 x\; font-size: 12px\; color: #505f69\; font-family: Helvetica\, Arial\, Fr
 eeSans\, sans-serif\;'><span style='color: #000000\; font-family: arial\, 
 helvetica\, sans-serif\; font-size: 14pt\;'>Hampton Inn &amp\; Suites</spa
 n></p>\n<p><span style='color: #000000\; font-family: arial\, helvetica\, 
 sans-serif\; font-size: 14pt\;'>4741 East Sam Houston Parkway South</span>
 </p>\n<p><span style='color: #000000\; font-family: arial\, helvetica\, sa
 ns-serif\; font-size: 14pt\;'>Pasadena\, TX&nbsp\; 77505</span></p>\n<p><s
 pan style='color: #000000\; font-family: arial\, helvetica\, sans-serif\; 
 font-size: 14pt\;'>(281) 998- 3300</span></p>\n<p><span style='font-size: 
 14pt\; font-family: arial\, helvetica\, sans-serif\; color: #000000\;'>Res
 ervations</span>&nbsp\;<a href='https://www.hilton.com/en/hotels/houpdhx-h
 ampton-suites-houston-pasadena/'><span style='font-size: 14pt\;'>Hilton.co
 m&nbsp\;</span></a></p>\n<p><span style='color: #0000ff\; font-size: 14pt\
 ;'><span style='color: #000000\;'>Call for assistance if there aren't any 
 available reservations on the link.</span>&nbsp\;</span></p>\n<p>&nbsp\;</
 p>\n<p>&nbsp\;</p>\n<p style='text-align: center\;'><a href='http://handpr
 int.niccm.com/products/national-florida-and-texas-director-credential-n-a-
 c.html' title='Registration NAC '><span style='color: #ffffff\;'><span sty
 le='font-size: 19px\; padding: 3px 10px 4px\; background-color: #7b3b3b\;'
 ><strong>Click Here To Register Online Now!</strong></span></span></a></p>
 \n<p>&nbsp\;</p>\n<p>&nbsp\;</p>\n<p><span style='font-size: 18pt\;'><stro
 ng>Schedule: This event will follow a modified Schedule</strong></span></p
 >\n<p><span style='font-size: 18pt\;'><strong>(Call the office for more de
 tail.)</strong></span></p>\n<p>&nbsp\;</p>\n<p><span style='color: #000000
 \;'><strong style='font-size: 14pt\;'><span style='font-size: 18pt\;'>Sche
 dule:</span></strong></span></p>\n<div>&nbsp\;</div>\n<div><span style='co
 lor: #000000\;'><span style='text-decoration: underline\;'><strong><span s
 tyle='font-size: 14pt\;'>Friday\, September 19th\, 2025</span></strong></s
 pan><strong><span style='font-size: 14pt\;'>&nbsp\; &nbsp\;</span></strong
 ></span></div>\n<div>&nbsp\;</div>\n<div><span style='font-size: 12pt\; co
 lor: #000000\;'><strong>Arrival and Check-In:&nbsp\; </strong>3:45pm-4:00p
 m &nbsp\;</span><span style='color: #000000\;'><span style='color: #000000
 \;'>(Students must arrive and check-in at least 1 hour before class starts
 )</span></span></div>\n<div>&nbsp\;</div>\n<div><span style='color: #00000
 0\;'></span></div>\n<div><span style='font-size: 12pt\; color: #000000\;'>
 <strong>Session A: &nbsp\;</strong>5:00pm-9:00pm&nbsp\;<span style='font-s
 ize: 10.6667px\;'>4</span><span style='font-size: 10.6667px\;'>&nbsp\;Cont
 act Hours / .4 CEUs</span>&nbsp\;<span style='font-size: 8pt\;'>(For Sessi
 ons taken individually earn up to 5 Contact Hours / .5 CEUs by completing 
 1 Praxis question)</span></span></div>\n<div style='padding-left: 30px\;'>
 <span style='font-size: 12pt\; color: #000000\;'>Unit 1: Fiscal Management
 &nbsp\;</span></div>\n<div style='padding-left: 30px\;'><span style='font-
 size: 12pt\; color: #000000\;'>Unit 2: Insurance for Your Center</span></d
 iv>\n<div>&nbsp\;</div>\n<div style='padding-left: 30px\;'><span style='co
 lor: #000000\;'></span></div>\n<div><span style='color: #000000\;'><span s
 tyle='text-decoration: underline\;'><strong><span style='font-size: 14pt\;
 '>Saturday\, September 20th\, 2025</span></strong></span><span style='font
 -size: 8pt\;'>&nbsp\;&nbsp\;</span></span></div>\n<div>&nbsp\;</div>\n<div
 ><span style='color: #000000\;'></span></div>\n<div><span style='font-size
 : 12pt\; color: #000000\;'><strong>Session B:</strong>&nbsp\;&nbsp\;8:00am
 -12:00pm&nbsp\;<span style='font-size: 10.6667px\;'>4</span><span style='f
 ont-size: 10.6667px\;'>&nbsp\;Contact Hours / .4 CEUs&nbsp\;</span><span s
 tyle='font-size: 8pt\;'>(For Sessions taken individually earn up to 5 Cont
 act Hours / .5 CEUs by completing 1 Praxis question)</span></span></div>\n
 <div style='padding-left: 30px\;'><span style='font-size: 12pt\; color: #0
 00000\;'>Unit 3: Hiring &amp\; Teacher Orientation</span></div>\n<div styl
 e='padding-left: 30px\;'><span style='font-size: 12pt\; color: #000000\;'>
 Unit 4: Employee Handbooks &amp\; Evals</span></div>\n<div style='padding-
 left: 30px\;'><span style='color: #000000\;'></span></div>\n<div><span sty
 le='font-size: 12pt\; color: #000000\;'><strong>Session C:</strong>&nbsp\;
 &nbsp\;1:00pm-5:00pm &nbsp\;<span style='font-size: 10.6667px\;'>4</span><
 span style='font-size: 10.6667px\;'>&nbsp\;Contact Hours / .4 CEUs&nbsp\;<
 /span><span style='font-size: 8pt\;'>(For Sessions taken individually earn
  up to 5 Contact Hours / .5 CEUs by completing 1 Praxis question)</span></
 span></div>\n<div style='padding-left: 30px\;'><span style='font-size: 12p
 t\; color: #000000\;'>Unit 5: Center Management</span></div>\n<div style='
 padding-left: 30px\;'><span style='font-size: 12pt\; color: #000000\;'>Uni
 t 6: Child Development - The Essentials</span></div>\n<div>&nbsp\;</div>\n
 <div style='padding-left: 30px\;'><span style='color: #000000\;'></span></
 div>\n<div><span style='color: #000000\;'><span style='text-decoration: un
 derline\;'><strong><span style='font-size: 14pt\;'>Sunday\, September 21st
 \, 2025</span></strong></span><strong><span style='font-size: 14pt\;'>&nbs
 p\; &nbsp\;</span></strong></span></div>\n<div>&nbsp\;</div>\n<div><span s
 tyle='color: #000000\;'></span></div>\n<div><span style='font-size: 12pt\;
  color: #000000\;'><strong>Session D: &nbsp\;</strong>8:00am-12:00pm&nbsp\
 ;<span style='font-size: 10.6667px\;'>4</span><span style='font-size: 10.6
 667px\;'>&nbsp\;Contact Hours / .4 CEUs&nbsp\;</span><span style='font-siz
 e: 8pt\;'>(For Sessions taken individually earn up to 5 Contact Hours / .5
  CEUs by completing 1 Praxis question)</span></span></div>\n<div style='pa
 dding-left: 30px\;'><span style='font-size: 12pt\; color: #000000\;'>Unit 
 7: Dealing with Difficult Employees</span></div>\n<div style='padding-left
 : 30px\;'><span style='font-size: 12pt\; color: #000000\;'>Unit 8: Adminis
 trative Leadership</span></div>\n<div style='padding-left: 30px\;'><span s
 tyle='color: #000000\;'></span></div>\n<div>\n<div><span style='font-size:
  12pt\; color: #000000\;'><strong>Session E: &nbsp\;</strong>1:00pm-5:00pm
 &nbsp\;<span style='font-size: 10.6667px\;'>4</span><span style='font-size
 : 10.6667px\;'>&nbsp\;Contact Hours / .4 CEUs&nbsp\;</span><span style='fo
 nt-size: 8pt\;'>(For Sessions taken individually earn up to 5 Contact Hour
 s / .5 CEUs by completing 1 Praxis question)</span></span></div>\n<div sty
 le='padding-left: 30px\;'><span style='font-size: 12pt\; color: #000000\;'
 >Unit 9: The New Economy</span></div>\n<div style='padding-left: 30px\;'><
 span style='font-size: 12pt\; color: #000000\;'>Unit 10: Train the Trainer
 </span></div>\n<div>&nbsp\;</div>\n<div style='padding-left: 30px\;'><span
  style='color: #000000\;'></span></div>\n<div style='padding-left: 30px\;'
 ><span style='color: #000000\;'>&nbsp\;&nbsp\;</span></div>\n</div>\n<div>
 \n<div>\n<div><span style='font-size: 12pt\; color: #000000\;'><strong><sp
 an style='font-family: arial\, helvetica\, sans-serif\; font-size: 14pt\;'
 >Session F: &nbsp\;Credential Praxis</span>&nbsp\;</strong><span style='fo
 nt-size: 8pt\;'>(25 Contact Hours / 2.5 CEUs)</span></span></div>\n<div><s
 pan style='color: #000000\; font-family: arial\, helvetica\, sans-serif\; 
 font-size: 14pt\;'>When attending the full conference\, each Session is wo
 rth 4 Hours/ .4 CEUs for a total of 20 hours for sessions A-E. &nbsp\;Conv
 ert the 20 contact hours / 2 CEUs from attendance in sessions A-E into the
  NAC (which is worth 45 contact hours/4.5 CEUs) by completing the Praxis. 
 Students will be assigned an instructor to advise them during the completi
 on of their project from home if they have questions. Students also have t
 he option of registering for tutoring to complete their praxis during the 
 event\, at a future event or to get additional help from home on their pra
 xis.&nbsp\;</span></div>\n<div>&nbsp\;</div>\n</div>\n<div>&nbsp\;</div>\n
 <div><span style='color: #000000\; font-family: arial\, helvetica\, sans-s
 erif\;'><span style='color: #993300\;'><strong style='font-family: arial\,
  helvetica\, sans-serif\; font-size: 16px\;'><a href='http://handprint.nic
 cm.com/products/national-administrators-credential-n-a-c-tutoring.html' ti
 tle='NAC Tutoring Registration'><span style='color: #993300\;'>Optional Tu
 toring $170 - includes tutoring binder</span></a></strong></span></span><s
 pan style='color: #000000\; font-family: arial\, helvetica\, sans-serif\; 
 font-size: 14pt\;'><strong style='font-family: arial\, helvetica\, sans-se
 rif\; font-size: 16px\;'>&nbsp\;&nbsp\;</strong>Students who elect to stay
  for tutoring will receive a list of documentation to bring with them. The
  presenter will provide individualized assistance to each tutoring partici
 pant in order to help them put together and complete their Praxis. Tutorin
 g allows students the&nbsp\;<strong>opportunity</strong>&nbsp\;of completi
 ng their test and praxis at the event and&nbsp\;<strong>leave having earne
 d their certificate</strong>. Those who wish to participate in tutoring ar
 e advised to register for this service at least 3 days before the event in
  order to arrive prepared for tutoring. Tutoring is usually offered on Sat
 urday and Sunday of each event from approximately 5:15 pm - 8:15 pm.</span
 ></div>\n</div>
DTSTART:20250919T160000Z
DTEND:20250921T170000Z
SUMMARY:NAC - Houston 925 
URL:https://niccm.com/70-upcoming-credential-courses/930-nac-houston-925
END:VEVENT
END:VCALENDAR
