BEGIN:VCALENDAR
VERSION:2.0
PRODID:-//https://niccm.com//NONSGML kigkonsult.se iCalcreator 2.23.20//
METHOD:PUBLISH
X-WR-CALNAME:JCal Pro Calendar
X-WR-CALDESC:Your online events calendar
X-WR-TIMEZONE:UTC
BEGIN:VTIMEZONE
TZID:UTC
BEGIN:STANDARD
DTSTART:20260425T035049
TZOFFSETFROM:+0000
TZOFFSETTO:+0000
END:STANDARD
END:VTIMEZONE
BEGIN:VEVENT
UID:20220429T080000UTC-8201gxo5cN@https://niccm.com/
DTSTAMP:20260425T035049Z
CATEGORIES:Past NICCM Events
DESCRIPTION:<h1 style='color: #000000\; visibility: visible\; text-align: c
 enter\;'><span style='font-family: arial\, helvetica\, sans-serif\; font-s
 ize: 18pt\;'>CDA Fast Track&nbsp\;</span></h1>\n<h2 style='color: #000000\
 ; visibility: visible\; text-align: justify\;'><span style='font-size: 12p
 t\; font-family: arial\, helvetica\, sans-serif\;'><strong style='font-siz
 e: 18pt\;'>Location/Hotel:</strong></span>&nbsp\;</h2>\n<p style='backgrou
 nd-color: transparent\; margin: 2px 0px\; padding: 0px\; border: 0px\; out
 line: 0px\; font-size: 12px\; color: #505f69\; font-family: Helvetica\, Ar
 ial\, FreeSans\, sans-serif\;'><span style='font-family: arial\, helvetica
 \, sans-serif\; font-size: large\;'>Embassy Suites Hotel - Dallas Love Fie
 ld </span></p>\n<p style='background-color: transparent\; margin: 2px 0px\
 ; padding: 0px\; border: 0px\; outline: 0px\; font-size: 12px\; color: #50
 5f69\; font-family: Helvetica\, Arial\, FreeSans\, sans-serif\;'><span sty
 le='font-family: arial\, helvetica\, sans-serif\; font-size: large\;'>3880
  W. Northwest Highway </span></p>\n<p style='background-color: transparent
 \; margin: 2px 0px\; padding: 0px\; border: 0px\; outline: 0px\; font-size
 : 12px\; color: #505f69\; font-family: Helvetica\, Arial\, FreeSans\, sans
 -serif\;'><span style='font-family: arial\, helvetica\, sans-serif\; font-
 size: large\;'>Dallas\, TX &nbsp\;75220</span></p>\n<p style='background-c
 olor: transparent\; margin: 2px 0px\; padding: 0px\; border: 0px\; outline
 : 0px\; font-size: 12px\; color: #505f69\; font-family: Helvetica\, Arial\
 , FreeSans\, sans-serif\;'><span style='margin: 0px\; padding: 0px\; borde
 r: 0px\; outline: 0px\; font-size: 14pt\; background-color: transparent\; 
 font-family: arial\, helvetica\, sans-serif\;'>(214) 357-4500</span></p>\n
 <p style='background-color: transparent\; margin: 2px 0px\; padding: 0px\;
  border: 0px\; outline: 0px\; font-size: 12px\; color: #505f69\; font-fami
 ly: Helvetica\, Arial\, FreeSans\, sans-serif\;'><span style='font-size: 1
 4pt\; color: #333399\;'><a href='https://secure3.hilton.com/en_US/es/reser
 vation/book.htm?inputModule=HOTEL&amp\;ctyhocn=DALLFES&amp\;groupCode=CESC
 M1&amp\;arrival=20210415&amp\;departure=20210418&amp\;cid=OM\,WW\,HILTONLI
 NK\,EN\,DirectLink&amp\;fromId=HILTONLINKDIRECT' style='color: #333399\;'>
 R</a>eservations Booking Link: Hilton.com</span></p>\n<p style='background
 -color: transparent\; margin: 2px 0px\; padding: 0px\; border: 0px\; outli
 ne: 0px\; font-size: 12px\; color: #505f69\; font-family: Helvetica\, Aria
 l\, FreeSans\, sans-serif\;'><strong><span style='font-size: 14pt\;'> &nbs
 p\; &nbsp\; &nbsp\; &nbsp\; &nbsp\; &nbsp\; Call Hotel If No Rooms Availab
 le On The Link</span><span style='margin: 0px\; padding: 0px\; border: 0px
 \; outline: 0px\; font-size: 14pt\; background-color: transparent\; font-f
 amily: arial\, helvetica\, sans-serif\;'></span>&nbsp\;</strong><span styl
 e='margin: 0px\; padding: 0px\; border: 0px\; outline: 0px\; font-size: 14
 pt\; background-color: transparent\; font-family: arial\, helvetica\, sans
 -serif\;'></span>&nbsp\;</p>\n<address>&nbsp\;</address>\n<p style='text-a
 lign: center\;'><a href='http://handprint.niccm.com/products/cda-fast-trac
 k.html' title='Registration CDA Fast Track '><span style='font-size: 18pt\
 ;'><span style='margin: 0px\; padding: 0px\; border: 0px\; outline: 0px\; 
 background-color: transparent\; font-family: arial\, helvetica\, sans-seri
 f\;'><span style='color: #ffffff\;'><span style='font-size: 19px\; padding
 : 3px 10px 4px\; background-color: #7b3b3b\;'><strong>Click Here To Regist
 er Online Now!</strong></span></span></span></span></a></p>\n<p style='tex
 t-align: center\;'>&nbsp\;<span style='font-size: 18pt\;'><span style='mar
 gin: 0px\; padding: 0px\; border: 0px\; outline: 0px\; background-color: t
 ransparent\; font-family: arial\, helvetica\, sans-serif\;'>&nbsp\; &nbsp\
 ; &nbsp\; &nbsp\; &nbsp\; &nbsp\; &nbsp\; &nbsp\; &nbsp\; &nbsp\; &nbsp\; 
 &nbsp\; &nbsp\;&nbsp\;</span></span>&nbsp\;</p>\n<p style='text-align: cen
 ter\;'>&nbsp\;</p>\n<div style='text-align: center\;'>\n<p style='visibili
 ty: visible\; text-align: justify\;'><span style='font-size: 12pt\; font-f
 amily: arial\, helvetica\, sans-serif\;'><strong style='font-size: 18pt\;'
 >Course Content &amp\; Schedule:</strong></span>&nbsp\;</p>\n<p style='vis
 ibility: visible\; text-align: justify\;'>&nbsp\;</p>\n</div>\n<div style=
 'text-align: justify\;'><span style='text-decoration: underline\;'><span s
 tyle='font-size: large\;'><strong><span style='font-size: 14pt\;'>Friday\,
  May 13th\, 2022</span></strong></span></span></div>\n<div>&nbsp\;</div>\n
 <div><span style='font-size: 14pt\;'><strong>Arrival and Check-In</strong>
 : 7:00am -7:15am <span style='font-size: 12pt\;'>(students must arrive and
  check-in 45 min before class)</span></span></div>\n<div style='padding-le
 ft: 30px\;'><span style='font-size: large\;'><strong><br /></strong></span
 ><span style='font-size: 14pt\;'><strong>C</strong></span><span style='fon
 t-size: 14pt\;'><strong>lass A</strong></span><span style='font-size: 14pt
 \;'>: 8:00am -12:00pm &nbsp\;<span style='font-size: 12pt\;'>(4 Contact Ho
 urs/.4 CEUs)</span></span></div>\n<div style='padding-left: 30px\;'>&nbsp\
 ; &nbsp\; &nbsp\; &nbsp\; &nbsp\;<span style='font-size: 12pt\;'><strong><
 span style='font-family: Arial\;'><span style='font-size: 14pt\;'>Introduc
 tion:</span>&nbsp\;</span>&nbsp\;</strong> </span><span style='font-size: 
 12pt\;'><strong><span style='font-family: Arial\;'>CDA and the NICCM 3-Day
  CDA Fast Track</span><span style='font-family: Arial\;'>&nbsp\; &nbsp\;</
 span></strong></span></div>\n<div style='margin-left: 60px\;'>\n<p><span s
 tyle='font-size: 14pt\;'><strong><span style='font-family: Arial\;'>Unit 1
 : &nbsp\; &nbsp\; &nbsp\; &nbsp\; &nbsp\; &nbsp\;</span>&nbsp\;&nbsp\;</st
 rong></span><span style='font-size: 12pt\;'><strong><span style='font-fami
 ly: Arial\;'>Keys to Writing Statements</span> </strong> </span></p>\n<p s
 tyle='margin-left: 31px\;'><span style='font-size: 12pt\;'><strong><span s
 tyle='font-family: Arial\;'>&nbsp\; &nbsp\; &nbsp\; &nbsp\; &nbsp\; &nbsp\
 ; &nbsp\; &nbsp\; &nbsp\; &nbsp\; &nbsp\; &nbsp\;Competency Statement 1:&n
 bsp\;&nbsp\;</span> </strong><span style='font-family: Arial\;'>Planning a
  safe and healthy learning environment</span></span></p>\n<p><span style='
 font-size: 14pt\;'><strong><span style='font-family: Arial\;'>Unit 2: &nbs
 p\; &nbsp\; &nbsp\; &nbsp\; &nbsp\; &nbsp\; </span><span>&nbsp\;</span></s
 trong></span><span style='font-size: 12pt\;'><strong><span style='font-fam
 ily: Arial\;'>Competency Statement 2:&nbsp\;&nbsp\;</span> </strong><span 
 style='font-family: Arial\;'>Advancing children’s physical and intellectua
 l development</span></span></p>\n<p style='margin-left: 1in\; text-indent:
  -1in\;'><span style='font-size: 14pt\;'><strong><span style='font-family:
  Arial\;'>Unit 3:&nbsp\; &nbsp\; &nbsp\; &nbsp\; &nbsp\; &nbsp\;&nbsp\;</s
 pan>&nbsp\;</strong> </span><span style='font-size: 12pt\;'><strong><span 
 style='font-family: Arial\;'>Competency Statement 3:&nbsp\;&nbsp\;</span> 
 </strong><span style='font-family: Arial\;'>Supporting children’s social a
 nd emotional development</span></span></p>\n</div>\n<div style='padding-le
 ft: 30px\;'><span style='font-size: 12pt\;'><br /><span style='font-size: 
 14pt\;'><strong>Class B:</strong>&nbsp\;12:30pm- 5:30pm &nbsp\;<span style
 ='font-size: 12pt\;'>(5 Contact Hours/.5 CEUs)</span></span> </span></div>
 \n<div style='padding-left: 30px\;'>&nbsp\; &nbsp\; &nbsp\; &nbsp\; &nbsp\
 ;<strong style='font-family: arial\, helvetica\, sans-serif\; font-size: 1
 2pt\; text-indent: -1in\; color: inherit\;'><span style='font-size: 14pt\;
 '>Unit 4:&nbsp\;</span>&nbsp\; &nbsp\; &nbsp\; &nbsp\; &nbsp\; &nbsp\; &nb
 sp\; &nbsp\;Competency Statement 4:&nbsp\;<span style='font-size: 14pt\;'>
 </span></strong><span style='font-size: 12pt\;'>Establishing positive and 
 productive relationships with families</span></div>\n<div style='padding-l
 eft: 60px\;'>\n<p style='margin-left: 1in\; text-indent: -1in\;'><span sty
 le='font-family: arial\, helvetica\, sans-serif\; font-size: 12pt\;'><span
  style='font-size: 14pt\;'><strong>Unit 5: &nbsp\; &nbsp\; &nbsp\; &nbsp\;
  &nbsp\; &nbsp\; &nbsp\;<span style='font-size: 12pt\;'>Competency Stateme
 nt 5:</span>&nbsp\;&nbsp\;</strong></span>Ensuring a well-run purposeful p
 rogram</span></p>\n<p style='margin-left: 1in\; text-indent: -1in\;'><span
  style='font-family: arial\, helvetica\, sans-serif\; font-size: 12pt\;'><
 strong><span style='font-size: 14pt\;'>Unit 6:&nbsp\;</span>&nbsp\; &nbsp\
 ; &nbsp\; &nbsp\; &nbsp\; &nbsp\; &nbsp\; &nbsp\;Competency Statement 6:&n
 bsp\;&nbsp\;</strong>Maintaining a commitment to professionalism</span></p
 >\n<p><span style='font-family: Arial\; font-size: 12pt\;'><strong>Documen
 ting Professional Education</strong>&nbsp\;- 8 CDA Subject Areas</span><sp
 an style='font-size: 12pt\;'></span></p>\n</div>\n<div><span style='font-s
 ize: 12pt\;'><br /></span><span style='text-decoration: underline\;'><span
  style='font-size: large\;'><strong><span style='font-size: 14pt\;'>Saturd
 ay\, May 14th\, 2022</span></strong></span></span></div>\n<div style='padd
 ing-left: 30px\;'>&nbsp\;</div>\n<div style='padding-left: 30px\;'><span s
 tyle='font-size: 14pt\;'><strong>Class C</strong><strong>:</strong>12:00pm
 -4:30pm&nbsp\;</span><span style='font-size: 12pt\;'>&nbsp\;(arrivals will
  be staggard\, students will be scheduled in as early as 8:00am)</span></d
 iv>\n<div style='padding-left: 30px\;'><span style='font-size: 10pt\;'>(13
  Hours/1.3 CEUs&nbsp\;will be awarded for sessions C &amp\; E upon complet
 ion of the course)</span></div>\n<div style='padding-left: 30px\;'><span s
 tyle='font-size: 12pt\;'><strong><span style='font-family: Arial\;'><span 
 style='font-size: 14pt\;'>&nbsp\; &nbsp\; &nbsp\; Directed Portfolio Lab:<
 /span>&nbsp\;&nbsp\;</span> </strong><span style='font-family: Arial\;'>Th
 e Directed Portfolio Lab allows for individual consultation &amp\; one-on-
 one time with</span></span><span style='font-size: 12pt\;'><span style='fo
 nt-family: Arial\;'>&nbsp\;the &nbsp\; &nbsp\;</span></span></div>\n<div s
 tyle='padding-left: 30px\;'><span style='font-size: 12pt\;'><span style='f
 ont-family: Arial\;'>&nbsp\; &nbsp\; &nbsp\; &nbsp\;presenter. &nbsp\;Part
 icipants will work on their portfolio and meet with the presenter to discu
 ss their statements and</span></span><span style='font-size: 12pt\;'><span
  style='font-family: Arial\;'>&nbsp\;the </span></span></div>\n<div style=
 'padding-left: 30px\;'><span style='font-size: 12pt\;'><span style='font-f
 amily: Arial\;'>&nbsp\; &nbsp\; &nbsp\; &nbsp\;documentation within their 
 professional portfolio.</span></span></div>\n<div style='padding-left: 30p
 x\;'><span style='font-size: 12pt\;'><br /></span><span style='font-size: 
 14pt\;'><strong>Class D:&nbsp\;</strong>5:30pm - 9:30pm <span style='font-
 size: 12pt\;'>(dissmissal will be staggard\, students will be dismissed th
 roughout the evening)</span></span></div>\n<div style='padding-left: 30px\
 ;'><span style='font-size: 14pt\;'><span style='font-size: 12pt\;'>(4 Cont
 act Hours/.4 CEUs)</span></span></div>\n<div style='padding-left: 30px\;'>
 &nbsp\; &nbsp\; &nbsp\; &nbsp\; &nbsp\;<strong style='font-size: 12pt\; te
 xt-indent: -1in\; color: inherit\; font-family: inherit\;'><span style='fo
 nt-family: Arial\;'><span style='font-size: 14pt\;'>Unit 7:&nbsp\;&nbsp\;<
 /span>&nbsp\; &nbsp\; The Professional Philosophy Statement</span></strong
 ></div>\n<div style='padding-left: 60px\;'>\n<p style='margin-left: 1in\; 
 text-indent: -1in\;'><span style='font-size: 12pt\;'><strong><span style='
 font-family: Arial\;'>&nbsp\; &nbsp\; &nbsp\; &nbsp\; &nbsp\; &nbsp\; &nbs
 p\; &nbsp\; &nbsp\; &nbsp\; Individual consultations</span> </strong> </sp
 an></p>\n<p style='margin-left: 151px\; text-indent: -1in\;'><span style='
 font-size: 12pt\;'><strong><span style='font-family: Arial\;'>&nbsp\; &nbs
 p\; &nbsp\; &nbsp\;</span><strong><span style='font-family: Arial\;'><stro
 ng>CDA practice Exam&nbsp\;</strong> </span> </strong> </strong> </span></
 p>\n</div>\n<div><span style='font-size: 12pt\;'>&nbsp\;<br /><span style=
 'text-decoration: underline\;'><span style='font-size: 14pt\;'><strong>Sun
 day\, May 15th\, 2022</strong></span></span></span></div>\n<div style='mar
 gin-left: 30px\;'><span style='font-size: large\;'><strong><br /></strong>
 </span><span style='font-size: 14pt\;'><strong>Class E</strong><strong>:</
 strong>&nbsp\;12:00pm-4:30pm</span><span style='font-size: 12pt\;'>&nbsp\;
 <span style='font-size: 10pt\;'>(13 Hours/1.3 CEU's will be awarded for se
 ssions C &amp\; E &nbsp\;upon completion of the course)</span></span></div
 >\n<div style='margin-left: 30px\;'>\n<p style='margin-left: 1in\; text-in
 dent: -1in\;'><span style='font-size: 12pt\;'><strong><span style='font-fa
 mily: Arial\;'>&nbsp\; &nbsp\; &nbsp\; &nbsp\; &nbsp\; &nbsp\; &nbsp\; &nb
 sp\; &nbsp\; &nbsp\; &nbsp\; &nbsp\; &nbsp\; Understanding the verificatio
 n visit</span> </strong> </span></p>\n<p style='margin-left: 1in\; text-in
 dent: -1in\;'><span style='font-size: 12pt\;'><strong><span style='font-fa
 mily: Arial\;'>&nbsp\; &nbsp\; &nbsp\; &nbsp\; &nbsp\; &nbsp\; &nbsp\; &nb
 sp\; &nbsp\; &nbsp\; &nbsp\; &nbsp\; &nbsp\;&nbsp\;<strong>The application
  process</strong></span> </strong> </span></p>\n<p style='margin-left: 1in
 \; text-indent: -1in\;'><span style='font-size: 12pt\;'><strong><span styl
 e='font-family: Arial\;'>&nbsp\; &nbsp\; &nbsp\; &nbsp\; &nbsp\; &nbsp\; &
 nbsp\; &nbsp\; &nbsp\; &nbsp\; &nbsp\; &nbsp\; &nbsp\; Choosing your PD Sp
 ecialist</span> </strong> </span></p>\n<p style='margin-left: 1in\; text-i
 ndent: -1in\;'><span style='font-size: 12pt\;'><strong><span style='font-f
 amily: Arial\;'>&nbsp\; &nbsp\; &nbsp\; &nbsp\; &nbsp\; &nbsp\; &nbsp\; &n
 bsp\; &nbsp\; &nbsp\; &nbsp\; &nbsp\; &nbsp\;&nbsp\;</span></strong></span
 ><span style='font-size: 12pt\;'><strong><span style='font-family: Arial\;
 '>Finding a Pearson Vue testing site&nbsp\;</span></strong></span></p>\n</
 div>\n<div>&nbsp\;</div>\n<div style='padding-left: 30px\;'><span style='f
 ont-size: 12pt\;'><span style='font-size: 14pt\;'><strong>Class F:</strong
 >&nbsp\;5:30pm-9:30pm&nbsp\;<span style='font-size: 12pt\;'>(4 Contact Hou
 rs/.4 CEUs)</span></span></span></div>\n<div style='padding-left: 30px\;'>
 <span style='font-size: 12pt\;'><strong><span style='font-family: Arial\;'
 ><span style='font-size: 14pt\;'>&nbsp\; &nbsp\; &nbsp\; Unit 8:</span>&nb
 sp\; &nbsp\; &nbsp\;</span></strong></span><span style='font-size: 12pt\;'
 ><strong><span style='font-family: Arial\;'>I<strong>nstructions on comple
 ting the process</strong></span></strong></span></div>\n<div style='paddin
 g-left: 60px\;'>\n<p style='margin-left: 1in\; text-indent: -1in\;'><span 
 style='font-size: 12pt\;'><strong><span style='font-family: Arial\;'>&nbsp
 \; &nbsp\; &nbsp\; &nbsp\; &nbsp\; &nbsp\; &nbsp\; &nbsp\; &nbsp\; &nbsp\;
  &nbsp\; &nbsp\; &nbsp\; </span></strong></span></p>\n<p>&nbsp\;</p>\n<p>&
 nbsp\;</p>\n<footer></footer></div>\n<p style='text-align: center\;'><span
  style='font-size: 24pt\;'>Call (602) 476-1422 for More Information&nbsp\;
 </span></p>\n<p>&nbsp\;&nbsp\;</p>
DTSTART:20220513T080000Z
DTEND:20220515T160000Z
SUMMARY:CDA Fast Track  - Dallas 522
URL:https://niccm.com/71-cda-fast-track/766-cda-fast-track-jacksonville-422
 -2
END:VEVENT
BEGIN:VEVENT
UID:20220429T170000UTC-8284COJ3uU@https://niccm.com/
DTSTAMP:20260425T035049Z
CATEGORIES:Past NICCM Events
DESCRIPTION:<h1 style='color: #000000\; visibility: visible\; text-align: c
 enter\;'>N.A.C. (National Administrator's Credential)</h1>\n<h2 style='col
 or: #000000\; visibility: visible\; text-align: justify\;'><span style='fo
 nt-size: 18pt\;'>Location/Hotel:</span>&nbsp\;&nbsp\;</h2>\n<p style='back
 ground-color: transparent\; margin: 2px 0px\; padding: 0px\; border: 0px\;
  outline: 0px\; font-size: 12px\; color: #505f69\; font-family: Helvetica\
 , Arial\, FreeSans\, sans-serif\;'><span style='font-family: arial\, helve
 tica\, sans-serif\; font-size: large\;'>Embassy Suites Hotel - Dallas Love
  Field </span></p>\n<p style='background-color: transparent\; margin: 2px 
 0px\; padding: 0px\; border: 0px\; outline: 0px\; font-size: 12px\; color:
  #505f69\; font-family: Helvetica\, Arial\, FreeSans\, sans-serif\;'><span
  style='font-family: arial\, helvetica\, sans-serif\; font-size: large\;'>
 3880 W. Northwest Highway </span></p>\n<p style='background-color: transpa
 rent\; margin: 2px 0px\; padding: 0px\; border: 0px\; outline: 0px\; font-
 size: 12px\; color: #505f69\; font-family: Helvetica\, Arial\, FreeSans\, 
 sans-serif\;'><span style='font-family: arial\, helvetica\, sans-serif\; f
 ont-size: large\;'>Dallas\, TX &nbsp\;75220</span></p>\n<p style='backgrou
 nd-color: transparent\; margin: 2px 0px\; padding: 0px\; border: 0px\; out
 line: 0px\; font-size: 12px\; color: #505f69\; font-family: Helvetica\, Ar
 ial\, FreeSans\, sans-serif\;'><span style='margin: 0px\; padding: 0px\; b
 order: 0px\; outline: 0px\; font-size: 14pt\; background-color: transparen
 t\; font-family: arial\, helvetica\, sans-serif\;'>(214) 357-4500</span></
 p>\n<p style='background-color: transparent\; margin: 2px 0px\; padding: 0
 px\; border: 0px\; outline: 0px\; font-size: 12px\; color: #505f69\; font-
 family: Helvetica\, Arial\, FreeSans\, sans-serif\;'><span style='font-siz
 e: 14pt\; color: #333399\;'><a href='https://secure3.hilton.com/en_US/es/r
 eservation/book.htm?inputModule=HOTEL&amp\;ctyhocn=DALLFES&amp\;groupCode=
 CESCM1&amp\;arrival=20210415&amp\;departure=20210418&amp\;cid=OM\,WW\,HILT
 ONLINK\,EN\,DirectLink&amp\;fromId=HILTONLINKDIRECT' style='color: #333399
 \;'>Res</a>ervations Booking Link: Hilton.com</span></p>\n<h2 style='color
 : #000000\; visibility: visible\;'>&nbsp\;</h2>\n<p style='text-align: cen
 ter\;'><a href='http://handprint.niccm.com/products/national-florida-and-t
 exas-director-credential-n-a-c.html' title='Registration NAC '><span style
 ='color: #ffffff\;'><span style='font-size: 19px\; padding: 3px 10px 4px\;
  background-color: #7b3b3b\;'><strong>Click Here To Register Online Now!</
 strong></span></span></a></p>\n<p><span style='color: #000000\;'><strong s
 tyle='font-size: 14pt\;'><span style='font-size: 18pt\;'>Schedule:</span><
 /strong></span></p>\n<div><span style='color: #000000\;'><span style='text
 -decoration: underline\;'><strong><span style='font-size: 14pt\;'>Friday\,
  May 13th\, 2022</span></strong></span><strong><span style='font-size: 14p
 t\;'>&nbsp\; &nbsp\;</span></strong></span></div>\n<div>&nbsp\;</div>\n<di
 v><span style='font-size: 12pt\; color: #000000\;'><strong>Arrival and Che
 ck-In: &nbsp\;</strong>4:00pm-4:15pm &nbsp\;</span><span style='color: #00
 0000\;'><span style='color: #000000\;'>(Students must arrive and check-in 
 at least 45 min before class starts)</span></span></div>\n<div>&nbsp\;</di
 v>\n<div><span style='color: #000000\;'></span></div>\n<div><span style='f
 ont-size: 12pt\; color: #000000\;'><strong>Session A: &nbsp\;</strong>5:00
 pm-9:00pm&nbsp\;<span style='font-size: 10.666666984558105px\;'>4</span><s
 pan style='font-size: 10.666666984558105px\;'>&nbsp\;Contact Hours / .4 CE
 Us</span>&nbsp\;<span style='font-size: 8pt\;'>(For Sessions taken individ
 ually earn up to 5 Contact Hours / .5 CEUs by completing 1 Praxis question
 )</span></span></div>\n<div style='padding-left: 30px\;'><span style='font
 -size: 12pt\; color: #000000\;'>Unit 1: Fiscal Management&nbsp\;</span></d
 iv>\n<div style='padding-left: 30px\;'><span style='font-size: 12pt\; colo
 r: #000000\;'>Unit 2: Insurance for Your Center</span></div>\n<div>&nbsp\;
 </div>\n<div style='padding-left: 30px\;'><span style='color: #000000\;'><
 /span></div>\n<div><span style='color: #000000\;'><span style='text-decora
 tion: underline\;'><strong><span style='font-size: 14pt\;'>Saturday\, May 
 14th\, 2022</span></strong></span><span style='font-size: 8pt\;'>&nbsp\; &
 nbsp\;&nbsp\;</span></span></div>\n<div>&nbsp\;</div>\n<div><span style='c
 olor: #000000\;'></span></div>\n<div><span style='font-size: 12pt\; color:
  #000000\;'><strong>Session B:</strong>&nbsp\;&nbsp\;8:00am-12:00pm&nbsp\;
 <span style='font-size: 10.666666984558105px\;'>4</span><span style='font-
 size: 10.666666984558105px\;'>&nbsp\;Contact Hours / .4 CEUs&nbsp\;</span>
 <span style='font-size: 8pt\;'>(For Sessions taken individually earn up to
  5 Contact Hours / .5 CEUs by completing 1 Praxis question)</span></span><
 /div>\n<div style='padding-left: 30px\;'><span style='font-size: 12pt\; co
 lor: #000000\;'>Unit 3: Hiring &amp\; Teacher Orientation</span></div>\n<d
 iv style='padding-left: 30px\;'><span style='font-size: 12pt\; color: #000
 000\;'>Unit 4: Employee Handbooks &amp\; Evals</span></div>\n<div style='p
 adding-left: 30px\;'><span style='color: #000000\;'></span></div>\n<div><s
 pan style='font-size: 12pt\; color: #000000\;'><strong>Session C:</strong>
 &nbsp\;&nbsp\;1:00pm-5:00pm &nbsp\;<span style='font-size: 10.666666984558
 105px\;'>4</span><span style='font-size: 10.666666984558105px\;'>&nbsp\;Co
 ntact Hours / .4 CEUs&nbsp\;</span><span style='font-size: 8pt\;'>(For Ses
 sions taken individually earn up to 5 Contact Hours / .5 CEUs by completin
 g 1 Praxis question)</span></span></div>\n<div style='padding-left: 30px\;
 '><span style='font-size: 12pt\; color: #000000\;'>Unit 5: Center Manageme
 nt</span></div>\n<div style='padding-left: 30px\;'><span style='font-size:
  12pt\; color: #000000\;'>Unit 6: Child Development - The Essentials</span
 ></div>\n<div>&nbsp\;</div>\n<div style='padding-left: 30px\;'><span style
 ='color: #000000\;'></span></div>\n<div><span style='color: #000000\;'><sp
 an style='text-decoration: underline\;'><strong><span style='font-size: 14
 pt\;'>Sunday\, May 15th\, 2022</span></strong></span><strong><span style='
 font-size: 14pt\;'>&nbsp\; &nbsp\;</span></strong></span></div>\n<div>&nbs
 p\;</div>\n<div><span style='color: #000000\;'></span></div>\n<div><span s
 tyle='font-size: 12pt\; color: #000000\;'><strong>Session D: &nbsp\;</stro
 ng>8:00am-12:00pm&nbsp\;<span style='font-size: 10.666666984558105px\;'>4<
 /span><span style='font-size: 10.666666984558105px\;'>&nbsp\;Contact Hours
  / .4 CEUs&nbsp\;</span><span style='font-size: 8pt\;'>(For Sessions taken
  individually earn up to 5 Contact Hours / .5 CEUs by completing 1 Praxis 
 question)</span></span></div>\n<div style='padding-left: 30px\;'><span sty
 le='font-size: 12pt\; color: #000000\;'>Unit 7: Dealing with Difficult Emp
 loyees</span></div>\n<div style='padding-left: 30px\;'><span style='font-s
 ize: 12pt\; color: #000000\;'>Unit 8: Administrative Leadership</span></di
 v>\n<div style='padding-left: 30px\;'><span style='color: #000000\;'></spa
 n></div>\n<div>\n<div><span style='font-size: 12pt\; color: #000000\;'><st
 rong>Session E: &nbsp\;</strong>1:00pm-5:00pm&nbsp\;<span style='font-size
 : 10.666666984558105px\;'>4</span><span style='font-size: 10.6666669845581
 05px\;'>&nbsp\;Contact Hours / .4 CEUs&nbsp\;</span><span style='font-size
 : 8pt\;'>(For Sessions taken individually earn up to 5 Contact Hours / .5 
 CEUs by completing 1 Praxis question)</span></span></div>\n<div style='pad
 ding-left: 30px\;'><span style='font-size: 12pt\; color: #000000\;'>Unit 9
 : The New Economy</span></div>\n<div style='padding-left: 30px\;'><span st
 yle='font-size: 12pt\; color: #000000\;'>Unit 10: Train the Trainer</span>
 </div>\n<div>&nbsp\;</div>\n<div style='padding-left: 30px\;'><span style=
 'color: #000000\;'></span></div>\n<div style='padding-left: 30px\;'><span 
 style='color: #000000\;'>&nbsp\;&nbsp\;</span></div>\n</div>\n<div>\n<div>
 <span style='font-size: 12pt\; color: #000000\;'><strong>Session F: &nbsp\
 ;Credential Praxis&nbsp\;</strong><span style='font-size: 8pt\;'>(25 Conta
 ct Hours / 2.5 CEUs)</span></span></div>\n<div><span style='color: #000000
 \;'>&nbsp\;<span style='font-size: medium\;'>When attending the full confe
 rence\, each Session is worth 4 Hours/ .4 CEUs for a total of 20 hours for
  sessions A-E. &nbsp\;Convert the 20 contact hours / 2 CEUs from attendanc
 e in sessions A-E into the NAC (which is worth 45 contact hours/4.5 CEUs) 
 by completing the Praxis. &nbsp\;Students will be assigned a mentor/instru
 ctor to advise them during the completion of their project from home if th
 ey have questions. Students also have the option of registering for tutori
 ng to complete their praxis during the event\, at a future event or to get
  additional help from home on their praxis.&nbsp\;</span></span></div>\n<d
 iv>&nbsp\;</div>\n</div>\n<div><span style='color: #000000\;'></span></div
 >\n<div style='padding-left: 30px\;'><span style='color: #000000\;'></span
 ></div>\n<div><span style='color: #000000\;'><span style='color: #993300\;
 '><strong style='font-family: arial\, helvetica\, sans-serif\; font-size: 
 16px\;'><a href='http://handprint.niccm.com/products/national-administrato
 rs-credential-n-a-c-tutoring.html' title='NAC Tutoring Registration '><spa
 n style='font-size: 12pt\; color: #993300\;'>Optional Tutoring ($160)</spa
 n></a>&nbsp\;&nbsp\;</strong></span><span style='font-family: arial\, helv
 etica\, sans-serif\; font-size: 16px\;'>Students who elect to stay for tut
 oring will receive a list of materials to bring with them. &nbsp\;The pres
 enter will provide individualized assistance to each tutoring participant 
 in order to help them put together and complete their Praxis. Tutoring all
 ows students the&nbsp\;<strong>opportunity</strong>&nbsp\;of completing th
 eir test and praxis at the event and&nbsp\;<strong>leave having earned the
 ir certificate</strong>. &nbsp\;Those who wish to participate in tutoring 
 are advised to register for this service at least 3 days prior to the even
 t to obtain a list of suggested documentation. Tutoring is usually offered
  on Saturday and Sunday of each event from approximately 5:15 pm - 8:15 pm
 .</span></span></div>
DTSTART:20220513T170000Z
DTEND:20220515T210000Z
SUMMARY:NAC - Dallas 522
URL:https://niccm.com/70-upcoming-credential-courses/743-nac-jacksonville-4
 22-2
END:VEVENT
END:VCALENDAR
