BEGIN:VCALENDAR
VERSION:2.0
PRODID:-//https://niccm.com//NONSGML kigkonsult.se iCalcreator 2.23.20//
METHOD:PUBLISH
X-WR-CALNAME:JCal Pro Calendar
X-WR-CALDESC:Your online events calendar
X-WR-TIMEZONE:UTC
BEGIN:VTIMEZONE
TZID:UTC
BEGIN:STANDARD
DTSTART:20260425T035049
TZOFFSETFROM:+0000
TZOFFSETTO:+0000
END:STANDARD
END:VTIMEZONE
BEGIN:VEVENT
UID:20220520T080000UTC-0518dwcs9I@https://niccm.com/
DTSTAMP:20260425T035049Z
CATEGORIES:Past NICCM Events
DESCRIPTION:<h1 style='color: #000000\; visibility: visible\; text-align: c
 enter\;'><span style='font-family: arial\, helvetica\, sans-serif\; font-s
 ize: 18pt\;'>CDA Fast Track&nbsp\;</span></h1>\n<h2 style='color: #000000\
 ; visibility: visible\; text-align: justify\;'><span style='font-size: 12p
 t\; font-family: arial\, helvetica\, sans-serif\;'><strong style='font-siz
 e: 18pt\;'>Location/Hotel:</strong></span>&nbsp\;</h2>\n<p style='backgrou
 nd-color: transparent\; margin: 2px 0px\; padding: 0px\; border: 0px\; out
 line: 0px\; font-size: 12px\; color: #505f69\; font-family: Helvetica\, Ar
 ial\, FreeSans\, sans-serif\;'><span style='font-family: arial\, helvetica
 \, sans-serif\; font-size: large\;'>Hilton Garden Inn Miami Airport - West
 </span></p>\n<p style='background-color: transparent\; margin: 2px 0px\; p
 adding: 0px\; border: 0px\; outline: 0px\; font-size: 12px\; color: #505f6
 9\; font-family: Helvetica\, Arial\, FreeSans\, sans-serif\;'><span style=
 'font-family: arial\, helvetica\, sans-serif\; font-size: large\;'>3550 NW
  74th Ave&nbsp\;</span></p>\n<p style='background-color: transparent\; mar
 gin: 2px 0px\; padding: 0px\; border: 0px\; outline: 0px\; font-size: 12px
 \; color: #505f69\; font-family: Helvetica\, Arial\, FreeSans\, sans-serif
 \;'><span style='font-family: arial\, helvetica\, sans-serif\; font-size: 
 large\;'>Miami\, FL &nbsp\;33122</span></p>\n<p style='background-color: t
 ransparent\; margin: 2px 0px\; padding: 0px\; border: 0px\; outline: 0px\;
  font-size: 12px\; color: #505f69\; font-family: Helvetica\, Arial\, FreeS
 ans\, sans-serif\;'><span style='margin: 0px\; padding: 0px\; border: 0px\
 ; outline: 0px\; font-size: 14pt\; background-color: transparent\; font-fa
 mily: arial\, helvetica\, sans-serif\;'>(305) 629-7701</span></p>\n<p><spa
 n style='font-size: 14pt\;'><a href='https://www.hilton.com/en/attend-my-e
 vent/miaaigi-gnm-d69e14bf-3bf4-4327-9861-d3f36da244a4/' style='color: #333
 399\;'>Reservations Booking Link: Hilton.com</a></span></p>\n<p style='bac
 kground-color: transparent\; margin: 2px 0px\; padding: 0px\; border: 0px\
 ; outline: 0px\; font-size: 12px\; color: #505f69\; font-family: Helvetica
 \, Arial\, FreeSans\, sans-serif\;'><span style='margin: 0px\; padding: 0p
 x\; border: 0px\; outline: 0px\; font-size: 14pt\; background-color: trans
 parent\; font-family: arial\, helvetica\, sans-serif\;'></span>&nbsp\;</p>
 \n<p style='text-align: center\;'><a href='http://handprint.niccm.com/prod
 ucts/cda-fast-track.html' title='Registration CDA Fast Track '><span style
 ='font-size: 18pt\;'><span style='margin: 0px\; padding: 0px\; border: 0px
 \; outline: 0px\; background-color: transparent\; font-family: arial\, hel
 vetica\, sans-serif\;'><span style='color: #ffffff\;'><span style='font-si
 ze: 19px\; padding: 3px 10px 4px\; background-color: #7b3b3b\;'><strong>Cl
 ick Here To Register Online Now!</strong></span></span></span></span></a><
 /p>\n<p style='text-align: center\;'>&nbsp\;<span style='font-size: 18pt\;
 '><span style='margin: 0px\; padding: 0px\; border: 0px\; outline: 0px\; b
 ackground-color: transparent\; font-family: arial\, helvetica\, sans-serif
 \;'>&nbsp\; &nbsp\; &nbsp\; &nbsp\; &nbsp\; &nbsp\; &nbsp\; &nbsp\; &nbsp\
 ; &nbsp\; &nbsp\; &nbsp\; &nbsp\;&nbsp\;</span></span>&nbsp\;</p>\n<p styl
 e='text-align: center\;'>&nbsp\;</p>\n<div style='text-align: center\;'>\n
 <p style='visibility: visible\; text-align: justify\;'><span style='font-s
 ize: 12pt\; font-family: arial\, helvetica\, sans-serif\;'><strong style='
 font-size: 18pt\;'>Course Content &amp\; Schedule:</strong></span>&nbsp\;<
 /p>\n<p style='visibility: visible\; text-align: justify\;'>&nbsp\;</p>\n<
 /div>\n<div style='text-align: justify\;'><span style='text-decoration: un
 derline\;'><span style='font-size: large\;'><strong><span style='font-size
 : 14pt\;'>Friday\, June 10th\, 2022</span></strong></span></span></div>\n<
 div>&nbsp\;</div>\n<div><span style='font-size: 14pt\;'><strong>Arrival an
 d Check-In</strong>: 7:00am -7:15am <span style='font-size: 12pt\;'>(stude
 nts must arrive and check-in 45 min before class)</span></span></div>\n<di
 v style='padding-left: 30px\;'><span style='font-size: large\;'><strong><b
 r /></strong></span><span style='font-size: 14pt\;'><strong>C</strong></sp
 an><span style='font-size: 14pt\;'><strong>lass A</strong></span><span sty
 le='font-size: 14pt\;'>: 8:00am -12:00pm &nbsp\;<span style='font-size: 12
 pt\;'>(4 Contact Hours/.4 CEUs)</span></span></div>\n<div style='padding-l
 eft: 30px\;'>&nbsp\; &nbsp\; &nbsp\; &nbsp\; &nbsp\;<span style='font-size
 : 12pt\;'><strong><span style='font-family: Arial\;'><span style='font-siz
 e: 14pt\;'>Introduction:</span>&nbsp\;</span>&nbsp\;</strong> </span><span
  style='font-size: 12pt\;'><strong><span style='font-family: Arial\;'>CDA 
 and the NICCM 3-Day CDA Fast Track</span><span style='font-family: Arial\;
 '>&nbsp\; &nbsp\;</span></strong></span></div>\n<div style='margin-left: 6
 0px\;'>\n<p><span style='font-size: 14pt\;'><strong><span style='font-fami
 ly: Arial\;'>Unit 1: &nbsp\; &nbsp\; &nbsp\; &nbsp\; &nbsp\; &nbsp\;</span
 >&nbsp\;&nbsp\;</strong></span><span style='font-size: 12pt\;'><strong><sp
 an style='font-family: Arial\;'>Keys to Writing Statements</span> </strong
 > </span></p>\n<p style='margin-left: 31px\;'><span style='font-size: 12pt
 \;'><strong><span style='font-family: Arial\;'>&nbsp\; &nbsp\; &nbsp\; &nb
 sp\; &nbsp\; &nbsp\; &nbsp\; &nbsp\; &nbsp\; &nbsp\; &nbsp\; &nbsp\;Compet
 ency Statement 1:&nbsp\;&nbsp\;</span> </strong><span style='font-family: 
 Arial\;'>Planning a safe and healthy learning environment</span></span></p
 >\n<p><span style='font-size: 14pt\;'><strong><span style='font-family: Ar
 ial\;'>Unit 2: &nbsp\; &nbsp\; &nbsp\; &nbsp\; &nbsp\; &nbsp\; </span><spa
 n>&nbsp\;</span></strong></span><span style='font-size: 12pt\;'><strong><s
 pan style='font-family: Arial\;'>Competency Statement 2:&nbsp\;&nbsp\;</sp
 an> </strong><span style='font-family: Arial\;'>Advancing children’s physi
 cal and intellectual development</span></span></p>\n<p style='margin-left:
  1in\; text-indent: -1in\;'><span style='font-size: 14pt\;'><strong><span 
 style='font-family: Arial\;'>Unit 3:&nbsp\; &nbsp\; &nbsp\; &nbsp\; &nbsp\
 ; &nbsp\;&nbsp\;</span>&nbsp\;</strong> </span><span style='font-size: 12p
 t\;'><strong><span style='font-family: Arial\;'>Competency Statement 3:&nb
 sp\;&nbsp\;</span> </strong><span style='font-family: Arial\;'>Supporting 
 children’s social and emotional development</span></span></p>\n</div>\n<di
 v style='padding-left: 30px\;'><span style='font-size: 12pt\;'><br /><span
  style='font-size: 14pt\;'><strong>Class B:</strong>&nbsp\;12:30pm- 5:30pm
  &nbsp\;<span style='font-size: 12pt\;'>(5 Contact Hours/.5 CEUs)</span></
 span> </span></div>\n<div style='padding-left: 30px\;'>&nbsp\; &nbsp\; &nb
 sp\; &nbsp\; &nbsp\;<strong style='font-family: arial\, helvetica\, sans-s
 erif\; font-size: 12pt\; text-indent: -1in\; color: inherit\;'><span style
 ='font-size: 14pt\;'>Unit 4:&nbsp\;</span>&nbsp\; &nbsp\; &nbsp\; &nbsp\; 
 &nbsp\; &nbsp\; &nbsp\; &nbsp\;Competency Statement 4:&nbsp\;<span style='
 font-size: 14pt\;'></span></strong><span style='font-size: 12pt\;'>Establi
 shing positive and productive relationships with families</span></div>\n<d
 iv style='padding-left: 60px\;'>\n<p style='margin-left: 1in\; text-indent
 : -1in\;'><span style='font-family: arial\, helvetica\, sans-serif\; font-
 size: 12pt\;'><span style='font-size: 14pt\;'><strong>Unit 5: &nbsp\; &nbs
 p\; &nbsp\; &nbsp\; &nbsp\; &nbsp\; &nbsp\;<span style='font-size: 12pt\;'
 >Competency Statement 5:</span>&nbsp\;&nbsp\;</strong></span>Ensuring a we
 ll-run purposeful program</span></p>\n<p style='margin-left: 1in\; text-in
 dent: -1in\;'><span style='font-family: arial\, helvetica\, sans-serif\; f
 ont-size: 12pt\;'><strong><span style='font-size: 14pt\;'>Unit 6:&nbsp\;</
 span>&nbsp\; &nbsp\; &nbsp\; &nbsp\; &nbsp\; &nbsp\; &nbsp\; &nbsp\;Compet
 ency Statement 6:&nbsp\;&nbsp\;</strong>Maintaining a commitment to profes
 sionalism</span></p>\n<p><span style='font-family: Arial\; font-size: 12pt
 \;'><strong>Documenting Professional Education</strong>&nbsp\;- 8 CDA Subj
 ect Areas</span><span style='font-size: 12pt\;'></span></p>\n</div>\n<div>
 <span style='font-size: 12pt\;'><br /></span><span style='text-decoration:
  underline\;'><span style='font-size: large\;'><strong><span style='font-s
 ize: 14pt\;'>Saturday\, June 11th\, 2022</span></strong></span></span></di
 v>\n<div style='padding-left: 30px\;'>&nbsp\;</div>\n<div style='padding-l
 eft: 30px\;'><span style='font-size: 14pt\;'><strong>Class C</strong><stro
 ng>:</strong>12:00pm-4:30pm&nbsp\;</span><span style='font-size: 12pt\;'>&
 nbsp\;(arrivals will be staggard\, students will be scheduled in as early 
 as 8:00am)</span></div>\n<div style='padding-left: 30px\;'><span style='fo
 nt-size: 10pt\;'>(13 Hours/1.3 CEUs&nbsp\;will be awarded for sessions C &
 amp\; E upon completion of the course)</span></div>\n<div style='padding-l
 eft: 30px\;'><span style='font-size: 12pt\;'><strong><span style='font-fam
 ily: Arial\;'><span style='font-size: 14pt\;'>&nbsp\; &nbsp\; &nbsp\; Dire
 cted Portfolio Lab:</span>&nbsp\;&nbsp\;</span> </strong><span style='font
 -family: Arial\;'>The Directed Portfolio Lab allows for individual consult
 ation &amp\; one-on-one time with</span></span><span style='font-size: 12p
 t\;'><span style='font-family: Arial\;'>&nbsp\;the &nbsp\; &nbsp\;</span><
 /span></div>\n<div style='padding-left: 30px\;'><span style='font-size: 12
 pt\;'><span style='font-family: Arial\;'>&nbsp\; &nbsp\; &nbsp\; &nbsp\;pr
 esenter. &nbsp\;Participants will work on their portfolio and meet with th
 e presenter to discuss their statements and</span></span><span style='font
 -size: 12pt\;'><span style='font-family: Arial\;'>&nbsp\;the </span></span
 ></div>\n<div style='padding-left: 30px\;'><span style='font-size: 12pt\;'
 ><span style='font-family: Arial\;'>&nbsp\; &nbsp\; &nbsp\; &nbsp\;documen
 tation within their professional portfolio.</span></span></div>\n<div styl
 e='padding-left: 30px\;'><span style='font-size: 12pt\;'><br /></span><spa
 n style='font-size: 14pt\;'><strong>Class D:&nbsp\;</strong>5:30pm - 9:30p
 m <span style='font-size: 12pt\;'>(dissmissal will be staggard\, students 
 will be dismissed throughout the evening)</span></span></div>\n<div style=
 'padding-left: 30px\;'><span style='font-size: 14pt\;'><span style='font-s
 ize: 12pt\;'>(4 Contact Hours/.4 CEUs)</span></span></div>\n<div style='pa
 dding-left: 30px\;'>&nbsp\; &nbsp\; &nbsp\; &nbsp\; &nbsp\;<strong style='
 font-size: 12pt\; text-indent: -1in\; color: inherit\; font-family: inheri
 t\;'><span style='font-family: Arial\;'><span style='font-size: 14pt\;'>Un
 it 7:&nbsp\;&nbsp\;</span>&nbsp\; &nbsp\; The Professional Philosophy Stat
 ement</span></strong></div>\n<div style='padding-left: 60px\;'>\n<p style=
 'margin-left: 1in\; text-indent: -1in\;'><span style='font-size: 12pt\;'><
 strong><span style='font-family: Arial\;'>&nbsp\; &nbsp\; &nbsp\; &nbsp\; 
 &nbsp\; &nbsp\; &nbsp\; &nbsp\; &nbsp\; &nbsp\; Individual consultations</
 span> </strong> </span></p>\n<p style='margin-left: 151px\; text-indent: -
 1in\;'><span style='font-size: 12pt\;'><strong><span style='font-family: A
 rial\;'>&nbsp\; &nbsp\; &nbsp\; &nbsp\;</span><strong><span style='font-fa
 mily: Arial\;'><strong>CDA practice Exam&nbsp\;</strong> </span> </strong>
  </strong> </span></p>\n</div>\n<div><span style='font-size: 12pt\;'>&nbsp
 \;<br /><span style='text-decoration: underline\;'><span style='font-size:
  14pt\;'><strong>Sunday\, June 12th\, 2022</strong></span></span></span></
 div>\n<div style='margin-left: 30px\;'><span style='font-size: large\;'><s
 trong><br /></strong></span><span style='font-size: 14pt\;'><strong>Class 
 E</strong><strong>:</strong>&nbsp\;12:00pm-4:30pm</span><span style='font-
 size: 12pt\;'>&nbsp\;<span style='font-size: 10pt\;'>(13 Hours/1.3 CEU's w
 ill be awarded for sessions C &amp\; E &nbsp\;upon completion of the cours
 e)</span></span></div>\n<div style='margin-left: 30px\;'>\n<p style='margi
 n-left: 1in\; text-indent: -1in\;'><span style='font-size: 12pt\;'><strong
 ><span style='font-family: Arial\;'>&nbsp\; &nbsp\; &nbsp\; &nbsp\; &nbsp\
 ; &nbsp\; &nbsp\; &nbsp\; &nbsp\; &nbsp\; &nbsp\; &nbsp\; &nbsp\; Understa
 nding the verification visit</span> </strong> </span></p>\n<p style='margi
 n-left: 1in\; text-indent: -1in\;'><span style='font-size: 12pt\;'><strong
 ><span style='font-family: Arial\;'>&nbsp\; &nbsp\; &nbsp\; &nbsp\; &nbsp\
 ; &nbsp\; &nbsp\; &nbsp\; &nbsp\; &nbsp\; &nbsp\; &nbsp\; &nbsp\;&nbsp\;<s
 trong>The application process</strong></span> </strong> </span></p>\n<p st
 yle='margin-left: 1in\; text-indent: -1in\;'><span style='font-size: 12pt\
 ;'><strong><span style='font-family: Arial\;'>&nbsp\; &nbsp\; &nbsp\; &nbs
 p\; &nbsp\; &nbsp\; &nbsp\; &nbsp\; &nbsp\; &nbsp\; &nbsp\; &nbsp\; &nbsp\
 ; Choosing your PD Specialist</span> </strong> </span></p>\n<p style='marg
 in-left: 1in\; text-indent: -1in\;'><span style='font-size: 12pt\;'><stron
 g><span style='font-family: Arial\;'>&nbsp\; &nbsp\; &nbsp\; &nbsp\; &nbsp
 \; &nbsp\; &nbsp\; &nbsp\; &nbsp\; &nbsp\; &nbsp\; &nbsp\; &nbsp\;&nbsp\;<
 /span></strong></span><span style='font-size: 12pt\;'><strong><span style=
 'font-family: Arial\;'>Finding a Pearson Vue testing site&nbsp\;</span></s
 trong></span></p>\n</div>\n<div>&nbsp\;</div>\n<div style='padding-left: 3
 0px\;'><span style='font-size: 12pt\;'><span style='font-size: 14pt\;'><st
 rong>Class F:</strong>&nbsp\;5:30pm-9:30pm&nbsp\;<span style='font-size: 1
 2pt\;'>(4 Contact Hours/.4 CEUs)</span></span></span></div>\n<div style='p
 adding-left: 30px\;'><span style='font-size: 12pt\;'><strong><span style='
 font-family: Arial\;'><span style='font-size: 14pt\;'>&nbsp\; &nbsp\; &nbs
 p\; Unit 8:</span>&nbsp\; &nbsp\; &nbsp\;</span></strong></span><span styl
 e='font-size: 12pt\;'><strong><span style='font-family: Arial\;'>I<strong>
 nstructions on completing the process</strong></span></strong></span></div
 >\n<div style='padding-left: 60px\;'>\n<p style='margin-left: 1in\; text-i
 ndent: -1in\;'><span style='font-size: 12pt\;'><strong><span style='font-f
 amily: Arial\;'>&nbsp\; &nbsp\; &nbsp\; &nbsp\; &nbsp\; &nbsp\; &nbsp\; &n
 bsp\; &nbsp\; &nbsp\; &nbsp\; &nbsp\; &nbsp\; </span></strong></span></p>
 \n<p>&nbsp\;</p>\n<p>&nbsp\;</p>\n<footer></footer></div>\n<p style='text-
 align: center\;'><span style='font-size: 24pt\;'>Call (602) 476-1422 for M
 ore Information&nbsp\;</span></p>\n<p>&nbsp\;&nbsp\;</p>
DTSTART:20220610T080000Z
DTEND:20220612T160000Z
SUMMARY:CDA Fast Track  - Miami 622
URL:https://niccm.com/71-cda-fast-track/768-cda-fast-track-orlando-522-2
END:VEVENT
BEGIN:VEVENT
UID:20220520T170000UTC-0350gd8dOJ@https://niccm.com/
DTSTAMP:20260425T035049Z
CATEGORIES:Past NICCM Events
DESCRIPTION:<h1 style='color: #000000\; visibility: visible\; text-align: c
 enter\;'>N.A.C. (National Administrator's Credential)</h1>\n<h2 style='col
 or: #000000\; visibility: visible\; text-align: justify\;'><span style='fo
 nt-size: 18pt\;'>Location/Hotel:</span>&nbsp\;&nbsp\;</h2>\n<p style='back
 ground-color: transparent\; margin: 2px 0px\; padding: 0px\; border: 0px\;
  outline: 0px\; font-size: 12px\; color: #505f69\; font-family: Helvetica\
 , Arial\, FreeSans\, sans-serif\;'><span style='font-family: arial\, helve
 tica\, sans-serif\; font-size: large\;'>Hilton Garden Inn Miami Airport - 
 West</span></p>\n<p style='background-color: transparent\; margin: 2px 0px
 \; padding: 0px\; border: 0px\; outline: 0px\; font-size: 12px\; color: #5
 05f69\; font-family: Helvetica\, Arial\, FreeSans\, sans-serif\;'><span st
 yle='font-family: arial\, helvetica\, sans-serif\; font-size: large\;'>355
 0 NW 74th Ave&nbsp\;</span></p>\n<p style='background-color: transparent\;
  margin: 2px 0px\; padding: 0px\; border: 0px\; outline: 0px\; font-size: 
 12px\; color: #505f69\; font-family: Helvetica\, Arial\, FreeSans\, sans-s
 erif\;'><span style='font-family: arial\, helvetica\, sans-serif\; font-si
 ze: large\;'>Miami\, FL &nbsp\;33122</span></p>\n<p style='background-colo
 r: transparent\; margin: 2px 0px\; padding: 0px\; border: 0px\; outline: 0
 px\; font-size: 12px\; color: #505f69\; font-family: Helvetica\, Arial\, F
 reeSans\, sans-serif\;'><span style='margin: 0px\; padding: 0px\; border: 
 0px\; outline: 0px\; font-size: 14pt\; background-color: transparent\; fon
 t-family: arial\, helvetica\, sans-serif\;'>(305) 629-7701</span></p>\n<p>
 <span style='font-size: 14pt\;'><a href='https://www.hilton.com/en/attend-
 my-event/miaaigi-gnm-d69e14bf-3bf4-4327-9861-d3f36da244a4/' style='color: 
 #333399\;'>Reservations Booking Link: Hilton.com</a></span></p>\n<p>&nbsp\
 ;</p>\n<p style='text-align: center\;'><a href='http://handprint.niccm.com
 /products/national-florida-and-texas-director-credential-n-a-c.html' title
 ='Registration NAC '><span style='color: #ffffff\;'><span style='font-size
 : 19px\; padding: 3px 10px 4px\; background-color: #7b3b3b\;'><strong>Clic
 k Here To Register Online Now!</strong></span></span></a></p>\n<p><span st
 yle='color: #000000\;'><strong style='font-size: 14pt\;'><span style='font
 -size: 18pt\;'>Schedule:</span></strong></span></p>\n<div><span style='col
 or: #000000\;'><span style='text-decoration: underline\;'><strong><span st
 yle='font-size: 14pt\;'>Friday\, June 10th\, 2022</span></strong></span><s
 trong><span style='font-size: 14pt\;'>&nbsp\; &nbsp\;</span></strong></spa
 n></div>\n<div>&nbsp\;</div>\n<div><span style='font-size: 12pt\; color: #
 000000\;'><strong>Arrival and Check-In: &nbsp\;</strong>4:00pm-4:15pm &nbs
 p\;</span><span style='color: #000000\;'><span style='color: #000000\;'>(S
 tudents must arrive and check-in at least 45 min before class starts)</spa
 n></span></div>\n<div>&nbsp\;</div>\n<div><span style='color: #000000\;'><
 /span></div>\n<div><span style='font-size: 12pt\; color: #000000\;'><stron
 g>Session A: &nbsp\;</strong>5:00pm-9:00pm&nbsp\;<span style='font-size: 1
 0.666666984558105px\;'>4</span><span style='font-size: 10.666666984558105p
 x\;'>&nbsp\;Contact Hours / .4 CEUs</span>&nbsp\;<span style='font-size: 8
 pt\;'>(For Sessions taken individually earn up to 5 Contact Hours / .5 CEU
 s by completing 1 Praxis question)</span></span></div>\n<div style='paddin
 g-left: 30px\;'><span style='font-size: 12pt\; color: #000000\;'>Unit 1: F
 iscal Management&nbsp\;</span></div>\n<div style='padding-left: 30px\;'><s
 pan style='font-size: 12pt\; color: #000000\;'>Unit 2: Insurance for Your 
 Center</span></div>\n<div>&nbsp\;</div>\n<div style='padding-left: 30px\;'
 ><span style='color: #000000\;'></span></div>\n<div><span style='color: #0
 00000\;'><span style='text-decoration: underline\;'><strong><span style='f
 ont-size: 14pt\;'>Saturday\, June 11th\, 2022</span></strong></span><span 
 style='font-size: 8pt\;'>&nbsp\; &nbsp\;&nbsp\;</span></span></div>\n<div>
 &nbsp\;</div>\n<div><span style='color: #000000\;'></span></div>\n<div><sp
 an style='font-size: 12pt\; color: #000000\;'><strong>Session B:</strong>&
 nbsp\;&nbsp\;8:00am-12:00pm&nbsp\;<span style='font-size: 10.6666669845581
 05px\;'>4</span><span style='font-size: 10.666666984558105px\;'>&nbsp\;Con
 tact Hours / .4 CEUs&nbsp\;</span><span style='font-size: 8pt\;'>(For Sess
 ions taken individually earn up to 5 Contact Hours / .5 CEUs by completing
  1 Praxis question)</span></span></div>\n<div style='padding-left: 30px\;'
 ><span style='font-size: 12pt\; color: #000000\;'>Unit 3: Hiring &amp\; Te
 acher Orientation</span></div>\n<div style='padding-left: 30px\;'><span st
 yle='font-size: 12pt\; color: #000000\;'>Unit 4: Employee Handbooks &amp\;
  Evals</span></div>\n<div style='padding-left: 30px\;'><span style='color:
  #000000\;'></span></div>\n<div><span style='font-size: 12pt\; color: #000
 000\;'><strong>Session C:</strong>&nbsp\;&nbsp\;1:00pm-5:00pm &nbsp\;<span
  style='font-size: 10.666666984558105px\;'>4</span><span style='font-size:
  10.666666984558105px\;'>&nbsp\;Contact Hours / .4 CEUs&nbsp\;</span><span
  style='font-size: 8pt\;'>(For Sessions taken individually earn up to 5 Co
 ntact Hours / .5 CEUs by completing 1 Praxis question)</span></span></div>
 \n<div style='padding-left: 30px\;'><span style='font-size: 12pt\; color: 
 #000000\;'>Unit 5: Center Management</span></div>\n<div style='padding-lef
 t: 30px\;'><span style='font-size: 12pt\; color: #000000\;'>Unit 6: Child 
 Development - The Essentials</span></div>\n<div>&nbsp\;</div>\n<div style=
 'padding-left: 30px\;'><span style='color: #000000\;'></span></div>\n<div>
 <span style='color: #000000\;'><span style='text-decoration: underline\;'>
 <strong><span style='font-size: 14pt\;'>Sunday\, June 12th\, 2022</span></
 strong></span><strong><span style='font-size: 14pt\;'>&nbsp\; &nbsp\;</spa
 n></strong></span></div>\n<div>&nbsp\;</div>\n<div><span style='color: #00
 0000\;'></span></div>\n<div><span style='font-size: 12pt\; color: #000000\
 ;'><strong>Session D: &nbsp\;</strong>8:00am-12:00pm&nbsp\;<span style='fo
 nt-size: 10.666666984558105px\;'>4</span><span style='font-size: 10.666666
 984558105px\;'>&nbsp\;Contact Hours / .4 CEUs&nbsp\;</span><span style='fo
 nt-size: 8pt\;'>(For Sessions taken individually earn up to 5 Contact Hour
 s / .5 CEUs by completing 1 Praxis question)</span></span></div>\n<div sty
 le='padding-left: 30px\;'><span style='font-size: 12pt\; color: #000000\;'
 >Unit 7: Dealing with Difficult Employees</span></div>\n<div style='paddin
 g-left: 30px\;'><span style='font-size: 12pt\; color: #000000\;'>Unit 8: A
 dministrative Leadership</span></div>\n<div style='padding-left: 30px\;'><
 span style='color: #000000\;'></span></div>\n<div>\n<div><span style='font
 -size: 12pt\; color: #000000\;'><strong>Session E: &nbsp\;</strong>1:00pm-
 5:00pm&nbsp\;<span style='font-size: 10.666666984558105px\;'>4</span><span
  style='font-size: 10.666666984558105px\;'>&nbsp\;Contact Hours / .4 CEUs&
 nbsp\;</span><span style='font-size: 8pt\;'>(For Sessions taken individual
 ly earn up to 5 Contact Hours / .5 CEUs by completing 1 Praxis question)</
 span></span></div>\n<div style='padding-left: 30px\;'><span style='font-si
 ze: 12pt\; color: #000000\;'>Unit 9: The New Economy</span></div>\n<div st
 yle='padding-left: 30px\;'><span style='font-size: 12pt\; color: #000000\;
 '>Unit 10: Train the Trainer</span></div>\n<div>&nbsp\;</div>\n<div style=
 'padding-left: 30px\;'><span style='color: #000000\;'></span></div>\n<div 
 style='padding-left: 30px\;'><span style='color: #000000\;'>&nbsp\;&nbsp\;
 </span></div>\n</div>\n<div>\n<div><span style='font-size: 12pt\; color: #
 000000\;'><strong>Session F: &nbsp\;Credential Praxis&nbsp\;</strong><span
  style='font-size: 8pt\;'>(25 Contact Hours / 2.5 CEUs)</span></span></div
 >\n<div><span style='color: #000000\;'>&nbsp\;<span style='font-size: medi
 um\;'>When attending the full conference\, each Session is worth 4 Hours/ 
 .4 CEUs for a total of 20 hours for sessions A-E. &nbsp\;Convert the 20 co
 ntact hours / 2 CEUs from attendance in sessions A-E into the NAC (which i
 s worth 45 contact hours/4.5 CEUs) by completing the Praxis. &nbsp\;Studen
 ts will be assigned a mentor/instructor to advise them during the completi
 on of their project from home if they have questions. Students also have t
 he option of registering for tutoring to complete their praxis during the 
 event\, at a future event or to get additional help from home on their pra
 xis.&nbsp\;</span></span></div>\n<div>&nbsp\;</div>\n</div>\n<div><span st
 yle='color: #000000\;'></span></div>\n<div style='padding-left: 30px\;'><s
 pan style='color: #000000\;'></span></div>\n<div><span style='color: #0000
 00\;'><span style='color: #993300\;'><strong style='font-family: arial\, h
 elvetica\, sans-serif\; font-size: 16px\;'><a href='http://handprint.niccm
 .com/products/national-administrators-credential-n-a-c-tutoring.html' titl
 e='NAC Tutoring Registration '><span style='font-size: 12pt\; color: #9933
 00\;'>Optional Tutoring ($160)</span></a>&nbsp\;&nbsp\;</strong></span><sp
 an style='font-family: arial\, helvetica\, sans-serif\; font-size: 16px\;'
 >Students who elect to stay for tutoring will receive a list of materials 
 to bring with them. &nbsp\;The presenter will provide individualized assis
 tance to each tutoring participant in order to help them put together and 
 complete their Praxis. Tutoring allows students the&nbsp\;<strong>opportun
 ity</strong>&nbsp\;of completing their test and praxis at the event and&nb
 sp\;<strong>leave having earned their certificate</strong>. &nbsp\;Those w
 ho wish to participate in tutoring are advised to register for this servic
 e at least 3 days prior to the event to obtain a list of suggested documen
 tation. Tutoring is usually offered on Saturday and Sunday of each event f
 rom approximately 5:15 pm - 8:15 pm.</span></span></div>
DTSTART:20220610T170000Z
DTEND:20220612T210000Z
SUMMARY:NAC - Miami 622
URL:https://niccm.com/70-upcoming-credential-courses/745-nac-orlando-522-2
END:VEVENT
END:VCALENDAR
