BEGIN:VCALENDAR
VERSION:2.0
PRODID:-//https://niccm.com//NONSGML kigkonsult.se iCalcreator 2.23.20//
METHOD:PUBLISH
X-WR-CALNAME:JCal Pro Calendar
X-WR-CALDESC:Your online events calendar
X-WR-TIMEZONE:UTC
BEGIN:VTIMEZONE
TZID:UTC
BEGIN:STANDARD
DTSTART:20260425T035115
TZOFFSETFROM:+0000
TZOFFSETTO:+0000
END:STANDARD
END:VTIMEZONE
BEGIN:VEVENT
UID:20220617T080000UTC-4651rDk7js@https://niccm.com/
DTSTAMP:20260425T035115Z
CATEGORIES:Past NICCM Events
DESCRIPTION:<h1 style='color: #000000\; visibility: visible\; text-align: c
 enter\;'><span style='font-family: arial\, helvetica\, sans-serif\; font-s
 ize: 18pt\;'>CDA Fast Track&nbsp\;</span></h1>\n<h2 style='color: #000000\
 ; visibility: visible\; text-align: justify\;'><span style='font-size: 12p
 t\; font-family: arial\, helvetica\, sans-serif\;'><strong style='font-siz
 e: 18pt\;'>Location/Hotel:</strong></span>&nbsp\;</h2>\n<p style='letter-s
 pacing: 0px\; background-color: transparent\; margin: 15px 0px\; padding: 
 0px\; border: 0px\; outline: 0px\; font-size: 12px\; color: #505f69\; font
 -family: Helvetica\, Arial\, FreeSans\, sans-serif\; text-align: justify\;
 '><span style='margin: 0px\; padding: 0px\; border: 0px\; outline: 0px\; f
 ont-size: 14pt\; background-color: transparent\; display: block\;'>Drury I
 nn &amp\; Suites</span></p>\n<p style='letter-spacing: 0px\; background-co
 lor: transparent\; margin: 15px 0px\; padding: 0px\; border: 0px\; outline
 : 0px\; font-size: 12px\; color: #505f69\; font-family: Helvetica\, Arial\
 , FreeSans\, sans-serif\; text-align: justify\;'><span style='margin: 0px\
 ; padding: 0px\; border: 0px\; outline: 0px\; font-size: 14pt\; background
 -color: transparent\; display: block\;'>801 N. Loop 1604 East</span></p>\n
 <p style='letter-spacing: 0px\; background-color: transparent\; margin: 15
 px 0px\; padding: 0px\; border: 0px\; outline: 0px\; font-size: 12px\; col
 or: #505f69\; font-family: Helvetica\, Arial\, FreeSans\, sans-serif\; tex
 t-align: justify\;'><span style='margin: 0px\; padding: 0px\; border: 0px\
 ; outline: 0px\; font-size: 14pt\; background-color: transparent\; display
 : block\;'>San Antonio\, TX 78232</span></p>\n<p style='letter-spacing: 0p
 x\; background-color: transparent\; margin: 15px 0px\; padding: 0px\; bord
 er: 0px\; outline: 0px\; font-size: 12px\; color: #505f69\; font-family: H
 elvetica\, Arial\, FreeSans\, sans-serif\; text-align: justify\;'><span st
 yle='margin: 0px\; padding: 0px\; border: 0px\; outline: 0px\; font-size: 
 14pt\; background-color: transparent\; display: block\;'>T. (210) 404-1600
 </span></p>\n<p style='background-color: transparent\; margin: 2px 0px\; p
 adding: 0px\; border: 0px\; outline: 0px\; font-size: 12px\; color: #505f6
 9\; font-family: Helvetica\, Arial\, FreeSans\, sans-serif\;'><span style=
 'margin: 0px\; padding: 0px\; border: 0px\; outline: 0px\; font-size: 14pt
 \; background-color: transparent\; font-family: arial\, helvetica\, sans-s
 erif\;'></span>&nbsp\;</p>\n<address>&nbsp\;</address>\n<p style='text-ali
 gn: center\;'><a href='http://handprint.niccm.com/products/cda-fast-track.
 html' title='Registration CDA Fast Track '><span style='font-size: 18pt\;'
 ><span style='margin: 0px\; padding: 0px\; border: 0px\; outline: 0px\; ba
 ckground-color: transparent\; font-family: arial\, helvetica\, sans-serif\
 ;'><span style='color: #ffffff\;'><span style='font-size: 19px\; padding: 
 3px 10px 4px\; background-color: #7b3b3b\;'><strong>Click Here To Register
  Online Now!</strong></span></span></span></span></a></p>\n<p style='text-
 align: center\;'>&nbsp\;<span style='font-size: 18pt\;'><span style='margi
 n: 0px\; padding: 0px\; border: 0px\; outline: 0px\; background-color: tra
 nsparent\; font-family: arial\, helvetica\, sans-serif\;'>&nbsp\; &nbsp\; 
 &nbsp\; &nbsp\; &nbsp\; &nbsp\; &nbsp\; &nbsp\; &nbsp\; &nbsp\; &nbsp\; &n
 bsp\; &nbsp\;&nbsp\;</span></span>&nbsp\;</p>\n<p style='text-align: cente
 r\;'>&nbsp\;</p>\n<div style='text-align: center\;'>\n<p style='visibility
 : visible\; text-align: justify\;'><span style='font-size: 12pt\; font-fam
 ily: arial\, helvetica\, sans-serif\;'><strong style='font-size: 18pt\;'>C
 ourse Content &amp\; Schedule:</strong></span>&nbsp\;</p>\n<p style='visib
 ility: visible\; text-align: justify\;'>&nbsp\;</p>\n</div>\n<div style='t
 ext-align: justify\;'><span style='text-decoration: underline\;'><span sty
 le='font-size: large\;'><strong><span style='font-size: 14pt\;'>Friday\, J
 uly 22nd\, 2022</span></strong></span></span></div>\n<div>&nbsp\;</div>\n<
 div><span style='font-size: 14pt\;'><strong>Arrival and Check-In</strong>:
  7:00am -7:15am <span style='font-size: 12pt\;'>(students must arrive and 
 check-in 45 min before class)</span></span></div>\n<div style='padding-lef
 t: 30px\;'><span style='font-size: large\;'><strong><br /></strong></span>
 <span style='font-size: 14pt\;'><strong>C</strong></span><span style='font
 -size: 14pt\;'><strong>lass A</strong></span><span style='font-size: 14pt\
 ;'>: 8:00am -12:00pm &nbsp\;<span style='font-size: 12pt\;'>(4 Contact Hou
 rs/.4 CEUs)</span></span></div>\n<div style='padding-left: 30px\;'>&nbsp\;
  &nbsp\; &nbsp\; &nbsp\; &nbsp\;<span style='font-size: 12pt\;'><strong><s
 pan style='font-family: Arial\;'><span style='font-size: 14pt\;'>Introduct
 ion:</span>&nbsp\;</span>&nbsp\;</strong> </span><span style='font-size: 1
 2pt\;'><strong><span style='font-family: Arial\;'>CDA and the NICCM 3-Day 
 CDA Fast Track</span><span style='font-family: Arial\;'>&nbsp\; &nbsp\;</s
 pan></strong></span></div>\n<div style='margin-left: 60px\;'>\n<p><span st
 yle='font-size: 14pt\;'><strong><span style='font-family: Arial\;'>Unit 1:
  &nbsp\; &nbsp\; &nbsp\; &nbsp\; &nbsp\; &nbsp\;</span>&nbsp\;&nbsp\;</str
 ong></span><span style='font-size: 12pt\;'><strong><span style='font-famil
 y: Arial\;'>Keys to Writing Statements</span> </strong> </span></p>\n<p st
 yle='margin-left: 31px\;'><span style='font-size: 12pt\;'><strong><span st
 yle='font-family: Arial\;'>&nbsp\; &nbsp\; &nbsp\; &nbsp\; &nbsp\; &nbsp\;
  &nbsp\; &nbsp\; &nbsp\; &nbsp\; &nbsp\; &nbsp\;Competency Statement 1:&nb
 sp\;&nbsp\;</span> </strong><span style='font-family: Arial\;'>Planning a 
 safe and healthy learning environment</span></span></p>\n<p><span style='f
 ont-size: 14pt\;'><strong><span style='font-family: Arial\;'>Unit 2: &nbsp
 \; &nbsp\; &nbsp\; &nbsp\; &nbsp\; &nbsp\; </span><span>&nbsp\;</span></st
 rong></span><span style='font-size: 12pt\;'><strong><span style='font-fami
 ly: Arial\;'>Competency Statement 2:&nbsp\;&nbsp\;</span> </strong><span s
 tyle='font-family: Arial\;'>Advancing children’s physical and intellectual
  development</span></span></p>\n<p style='margin-left: 1in\; text-indent: 
 -1in\;'><span style='font-size: 14pt\;'><strong><span style='font-family: 
 Arial\;'>Unit 3:&nbsp\; &nbsp\; &nbsp\; &nbsp\; &nbsp\; &nbsp\;&nbsp\;</sp
 an>&nbsp\;</strong> </span><span style='font-size: 12pt\;'><strong><span s
 tyle='font-family: Arial\;'>Competency Statement 3:&nbsp\;&nbsp\;</span> <
 /strong><span style='font-family: Arial\;'>Supporting children’s social an
 d emotional development</span></span></p>\n</div>\n<div style='padding-lef
 t: 30px\;'><span style='font-size: 12pt\;'><br /><span style='font-size: 1
 4pt\;'><strong>Class B:</strong>&nbsp\;12:30pm- 5:30pm &nbsp\;<span style=
 'font-size: 12pt\;'>(5 Contact Hours/.5 CEUs)</span></span> </span></div>
 \n<div style='padding-left: 30px\;'>&nbsp\; &nbsp\; &nbsp\; &nbsp\; &nbsp\
 ;<strong style='font-family: arial\, helvetica\, sans-serif\; font-size: 1
 2pt\; text-indent: -1in\; color: inherit\;'><span style='font-size: 14pt\;
 '>Unit 4:&nbsp\;</span>&nbsp\; &nbsp\; &nbsp\; &nbsp\; &nbsp\; &nbsp\; &nb
 sp\; &nbsp\;Competency Statement 4:&nbsp\;<span style='font-size: 14pt\;'>
 </span></strong><span style='font-size: 12pt\;'>Establishing positive and 
 productive relationships with families</span></div>\n<div style='padding-l
 eft: 60px\;'>\n<p style='margin-left: 1in\; text-indent: -1in\;'><span sty
 le='font-family: arial\, helvetica\, sans-serif\; font-size: 12pt\;'><span
  style='font-size: 14pt\;'><strong>Unit 5: &nbsp\; &nbsp\; &nbsp\; &nbsp\;
  &nbsp\; &nbsp\; &nbsp\;<span style='font-size: 12pt\;'>Competency Stateme
 nt 5:</span>&nbsp\;&nbsp\;</strong></span>Ensuring a well-run purposeful p
 rogram</span></p>\n<p style='margin-left: 1in\; text-indent: -1in\;'><span
  style='font-family: arial\, helvetica\, sans-serif\; font-size: 12pt\;'><
 strong><span style='font-size: 14pt\;'>Unit 6:&nbsp\;</span>&nbsp\; &nbsp\
 ; &nbsp\; &nbsp\; &nbsp\; &nbsp\; &nbsp\; &nbsp\;Competency Statement 6:&n
 bsp\;&nbsp\;</strong>Maintaining a commitment to professionalism</span></p
 >\n<p><span style='font-family: Arial\; font-size: 12pt\;'><strong>Documen
 ting Professional Education</strong>&nbsp\;- 8 CDA Subject Areas</span><sp
 an style='font-size: 12pt\;'></span></p>\n</div>\n<div><span style='font-s
 ize: 12pt\;'><br /></span><span style='text-decoration: underline\;'><span
  style='font-size: large\;'><strong><span style='font-size: 14pt\;'>Saturd
 ay\, July 23rd\, 2022</span></strong></span></span></div>\n<div style='pad
 ding-left: 30px\;'>&nbsp\;</div>\n<div style='padding-left: 30px\;'><span 
 style='font-size: 14pt\;'><strong>Class C</strong><strong>:</strong>12:00p
 m-4:30pm&nbsp\;</span><span style='font-size: 12pt\;'>&nbsp\;(arrivals wil
 l be staggard\, students will be scheduled in as early as 8:00am)</span></
 div>\n<div style='padding-left: 30px\;'><span style='font-size: 10pt\;'>(1
 3 Hours/1.3 CEUs&nbsp\;will be awarded for sessions C &amp\; E upon comple
 tion of the course)</span></div>\n<div style='padding-left: 30px\;'><span 
 style='font-size: 12pt\;'><strong><span style='font-family: Arial\;'><span
  style='font-size: 14pt\;'>&nbsp\; &nbsp\; &nbsp\; Directed Portfolio Lab:
 </span>&nbsp\;&nbsp\;</span> </strong><span style='font-family: Arial\;'>T
 he Directed Portfolio Lab allows for individual consultation &amp\; one-on
 -one time with</span></span><span style='font-size: 12pt\;'><span style='f
 ont-family: Arial\;'>&nbsp\;the &nbsp\; &nbsp\;</span></span></div>\n<div 
 style='padding-left: 30px\;'><span style='font-size: 12pt\;'><span style='
 font-family: Arial\;'>&nbsp\; &nbsp\; &nbsp\; &nbsp\;presenter. &nbsp\;Par
 ticipants will work on their portfolio and meet with the presenter to disc
 uss their statements and</span></span><span style='font-size: 12pt\;'><spa
 n style='font-family: Arial\;'>&nbsp\;the </span></span></div>\n<div style
 ='padding-left: 30px\;'><span style='font-size: 12pt\;'><span style='font-
 family: Arial\;'>&nbsp\; &nbsp\; &nbsp\; &nbsp\;documentation within their
  professional portfolio.</span></span></div>\n<div style='padding-left: 30
 px\;'><span style='font-size: 12pt\;'><br /></span><span style='font-size:
  14pt\;'><strong>Class D:&nbsp\;</strong>5:30pm - 9:30pm <span style='font
 -size: 12pt\;'>(dissmissal will be staggard\, students will be dismissed t
 hroughout the evening)</span></span></div>\n<div style='padding-left: 30px
 \;'><span style='font-size: 14pt\;'><span style='font-size: 12pt\;'>(4 Con
 tact Hours/.4 CEUs)</span></span></div>\n<div style='padding-left: 30px\;'
 >&nbsp\; &nbsp\; &nbsp\; &nbsp\; &nbsp\;<strong style='font-size: 12pt\; t
 ext-indent: -1in\; color: inherit\; font-family: inherit\;'><span style='f
 ont-family: Arial\;'><span style='font-size: 14pt\;'>Unit 7:&nbsp\;&nbsp\;
 </span>&nbsp\; &nbsp\; The Professional Philosophy Statement</span></stron
 g></div>\n<div style='padding-left: 60px\;'>\n<p style='margin-left: 1in\;
  text-indent: -1in\;'><span style='font-size: 12pt\;'><strong><span style=
 'font-family: Arial\;'>&nbsp\; &nbsp\; &nbsp\; &nbsp\; &nbsp\; &nbsp\; &nb
 sp\; &nbsp\; &nbsp\; &nbsp\; Individual consultations</span> </strong> </s
 pan></p>\n<p style='margin-left: 151px\; text-indent: -1in\;'><span style=
 'font-size: 12pt\;'><strong><span style='font-family: Arial\;'>&nbsp\; &nb
 sp\; &nbsp\; &nbsp\;</span><strong><span style='font-family: Arial\;'><str
 ong>CDA practice Exam&nbsp\;</strong> </span> </strong> </strong> </span><
 /p>\n</div>\n<div><span style='font-size: 12pt\;'>&nbsp\;<br /><span style
 ='text-decoration: underline\;'><span style='font-size: 14pt\;'><strong>Su
 nday\, July 24th\, 2022</strong></span></span></span></div>\n<div style='m
 argin-left: 30px\;'><span style='font-size: large\;'><strong><br /></stron
 g></span><span style='font-size: 14pt\;'><strong>Class E</strong><strong>:
 </strong>&nbsp\;12:00pm-4:30pm</span><span style='font-size: 12pt\;'>&nbsp
 \;<span style='font-size: 10pt\;'>(13 Hours/1.3 CEU's will be awarded for 
 sessions C &amp\; E &nbsp\;upon completion of the course)</span></span></d
 iv>\n<div style='margin-left: 30px\;'>\n<p style='margin-left: 1in\; text-
 indent: -1in\;'><span style='font-size: 12pt\;'><strong><span style='font-
 family: Arial\;'>&nbsp\; &nbsp\; &nbsp\; &nbsp\; &nbsp\; &nbsp\; &nbsp\; &
 nbsp\; &nbsp\; &nbsp\; &nbsp\; &nbsp\; &nbsp\; Understanding the verificat
 ion visit</span> </strong> </span></p>\n<p style='margin-left: 1in\; text-
 indent: -1in\;'><span style='font-size: 12pt\;'><strong><span style='font-
 family: Arial\;'>&nbsp\; &nbsp\; &nbsp\; &nbsp\; &nbsp\; &nbsp\; &nbsp\; &
 nbsp\; &nbsp\; &nbsp\; &nbsp\; &nbsp\; &nbsp\;&nbsp\;<strong>The applicati
 on process</strong></span> </strong> </span></p>\n<p style='margin-left: 1
 in\; text-indent: -1in\;'><span style='font-size: 12pt\;'><strong><span st
 yle='font-family: Arial\;'>&nbsp\; &nbsp\; &nbsp\; &nbsp\; &nbsp\; &nbsp\;
  &nbsp\; &nbsp\; &nbsp\; &nbsp\; &nbsp\; &nbsp\; &nbsp\; Choosing your PD 
 Specialist</span> </strong> </span></p>\n<p style='margin-left: 1in\; text
 -indent: -1in\;'><span style='font-size: 12pt\;'><strong><span style='font
 -family: Arial\;'>&nbsp\; &nbsp\; &nbsp\; &nbsp\; &nbsp\; &nbsp\; &nbsp\; 
 &nbsp\; &nbsp\; &nbsp\; &nbsp\; &nbsp\; &nbsp\;&nbsp\;</span></strong></sp
 an><span style='font-size: 12pt\;'><strong><span style='font-family: Arial
 \;'>Finding a Pearson Vue testing site&nbsp\;</span></strong></span></p>\n
 </div>\n<div>&nbsp\;</div>\n<div style='padding-left: 30px\;'><span style=
 'font-size: 12pt\;'><span style='font-size: 14pt\;'><strong>Class F:</stro
 ng>&nbsp\;5:30pm-9:30pm&nbsp\;<span style='font-size: 12pt\;'>(4 Contact H
 ours/.4 CEUs)</span></span></span></div>\n<div style='padding-left: 30px\;
 '><span style='font-size: 12pt\;'><strong><span style='font-family: Arial\
 ;'><span style='font-size: 14pt\;'>&nbsp\; &nbsp\; &nbsp\; Unit 8:</span>&
 nbsp\; &nbsp\; &nbsp\;</span></strong></span><span style='font-size: 12pt\
 ;'><strong><span style='font-family: Arial\;'>I<strong>nstructions on comp
 leting the process</strong></span></strong></span></div>\n<div style='padd
 ing-left: 60px\;'>\n<p style='margin-left: 1in\; text-indent: -1in\;'><spa
 n style='font-size: 12pt\;'><strong><span style='font-family: Arial\;'>&nb
 sp\; &nbsp\; &nbsp\; &nbsp\; &nbsp\; &nbsp\; &nbsp\; &nbsp\; &nbsp\; &nbsp
 \; &nbsp\; &nbsp\; &nbsp\; </span></strong></span></p>\n<p>&nbsp\;</p>\n<p
 >&nbsp\;</p>\n<footer></footer></div>\n<p style='text-align: center\;'><sp
 an style='font-size: 24pt\;'>Call (602) 476-1422 for More Information&nbsp
 \;</span></p>\n<p>&nbsp\;&nbsp\;</p>
DTSTART:20220722T080000Z
DTEND:20220724T160000Z
SUMMARY:CDA Fast Track  - San Antonio 722
URL:https://niccm.com/71-cda-fast-track/770-cda-fast-track-tampa-622-2
END:VEVENT
BEGIN:VEVENT
UID:20220617T170000UTC-5818LepFIn@https://niccm.com/
DTSTAMP:20260425T035115Z
CATEGORIES:Past NICCM Events
DESCRIPTION:<h1 style='color: #000000\; visibility: visible\; text-align: c
 enter\;'>N.A.C. (National Administrator's Credential)</h1>\n<h2 style='col
 or: #000000\; visibility: visible\; text-align: justify\;'><span style='fo
 nt-size: 18pt\;'>Location/Hotel:</span>&nbsp\;&nbsp\;</h2>\n<p style='lett
 er-spacing: 0px\; background-color: transparent\; margin: 15px 0px\; paddi
 ng: 0px\; border: 0px\; outline: 0px\; font-size: 12px\; color: #505f69\; 
 font-family: Helvetica\, Arial\, FreeSans\, sans-serif\; text-align: justi
 fy\;'><span style='margin: 0px\; padding: 0px\; border: 0px\; outline: 0px
 \; font-size: 14pt\; background-color: transparent\; display: block\;'>Dru
 ry Inn &amp\; Suites</span></p>\n<p style='letter-spacing: 0px\; backgroun
 d-color: transparent\; margin: 15px 0px\; padding: 0px\; border: 0px\; out
 line: 0px\; font-size: 12px\; color: #505f69\; font-family: Helvetica\, Ar
 ial\, FreeSans\, sans-serif\; text-align: justify\;'><span style='margin: 
 0px\; padding: 0px\; border: 0px\; outline: 0px\; font-size: 14pt\; backgr
 ound-color: transparent\; display: block\;'>801 N. Loop 1604 East</span></
 p>\n<p style='letter-spacing: 0px\; background-color: transparent\; margin
 : 15px 0px\; padding: 0px\; border: 0px\; outline: 0px\; font-size: 12px\;
  color: #505f69\; font-family: Helvetica\, Arial\, FreeSans\, sans-serif\;
  text-align: justify\;'><span style='margin: 0px\; padding: 0px\; border: 
 0px\; outline: 0px\; font-size: 14pt\; background-color: transparent\; dis
 play: block\;'>San Antonio\, TX 78232</span></p>\n<p style='letter-spacing
 : 0px\; background-color: transparent\; margin: 15px 0px\; padding: 0px\; 
 border: 0px\; outline: 0px\; font-size: 12px\; color: #505f69\; font-famil
 y: Helvetica\, Arial\, FreeSans\, sans-serif\; text-align: justify\;'><spa
 n style='margin: 0px\; padding: 0px\; border: 0px\; outline: 0px\; font-si
 ze: 14pt\; background-color: transparent\; display: block\;'>T. (210) 404-
 1600</span></p>\n<h2 style='color: #000000\; visibility: visible\;'>&nbsp\
 ;</h2>\n<p style='text-align: center\;'><a href='http://handprint.niccm.co
 m/products/national-florida-and-texas-director-credential-n-a-c.html' titl
 e='Registration NAC '><span style='color: #ffffff\;'><span style='font-siz
 e: 19px\; padding: 3px 10px 4px\; background-color: #7b3b3b\;'><strong>Cli
 ck Here To Register Online Now!</strong></span></span></a></p>\n<p><span s
 tyle='color: #000000\;'><strong style='font-size: 14pt\;'><span style='fon
 t-size: 18pt\;'>Schedule:</span></strong></span></p>\n<div><span style='co
 lor: #000000\;'><span style='text-decoration: underline\;'><strong><span s
 tyle='font-size: 14pt\;'>Friday\, July 22nd\, 2022</span></strong></span><
 strong><span style='font-size: 14pt\;'>&nbsp\; &nbsp\;</span></strong></sp
 an></div>\n<div>&nbsp\;</div>\n<div><span style='font-size: 12pt\; color: 
 #000000\;'><strong>Arrival and Check-In: &nbsp\;</strong>4:00pm-4:15pm &nb
 sp\;</span><span style='color: #000000\;'><span style='color: #000000\;'>(
 Students must arrive and check-in at least 45 min before class starts)</sp
 an></span></div>\n<div>&nbsp\;</div>\n<div><span style='color: #000000\;'>
 </span></div>\n<div><span style='font-size: 12pt\; color: #000000\;'><stro
 ng>Session A: &nbsp\;</strong>5:00pm-9:00pm&nbsp\;<span style='font-size: 
 10.666666984558105px\;'>4</span><span style='font-size: 10.666666984558105
 px\;'>&nbsp\;Contact Hours / .4 CEUs</span>&nbsp\;<span style='font-size: 
 8pt\;'>(For Sessions taken individually earn up to 5 Contact Hours / .5 CE
 Us by completing 1 Praxis question)</span></span></div>\n<div style='paddi
 ng-left: 30px\;'><span style='font-size: 12pt\; color: #000000\;'>Unit 1: 
 Fiscal Management&nbsp\;</span></div>\n<div style='padding-left: 30px\;'><
 span style='font-size: 12pt\; color: #000000\;'>Unit 2: Insurance for Your
  Center</span></div>\n<div>&nbsp\;</div>\n<div style='padding-left: 30px\;
 '><span style='color: #000000\;'></span></div>\n<div><span style='color: #
 000000\;'><span style='text-decoration: underline\;'><strong><span style='
 font-size: 14pt\;'>Saturday\, July 23rd\, 2022</span></strong></span><span
  style='font-size: 8pt\;'>&nbsp\; &nbsp\;&nbsp\;</span></span></div>\n<div
 >&nbsp\;</div>\n<div><span style='color: #000000\;'></span></div>\n<div><s
 pan style='font-size: 12pt\; color: #000000\;'><strong>Session B:</strong>
 &nbsp\;&nbsp\;8:00am-12:00pm&nbsp\;<span style='font-size: 10.666666984558
 105px\;'>4</span><span style='font-size: 10.666666984558105px\;'>&nbsp\;Co
 ntact Hours / .4 CEUs&nbsp\;</span><span style='font-size: 8pt\;'>(For Ses
 sions taken individually earn up to 5 Contact Hours / .5 CEUs by completin
 g 1 Praxis question)</span></span></div>\n<div style='padding-left: 30px\;
 '><span style='font-size: 12pt\; color: #000000\;'>Unit 3: Hiring &amp\; T
 eacher Orientation</span></div>\n<div style='padding-left: 30px\;'><span s
 tyle='font-size: 12pt\; color: #000000\;'>Unit 4: Employee Handbooks &amp\
 ; Evals</span></div>\n<div style='padding-left: 30px\;'><span style='color
 : #000000\;'></span></div>\n<div><span style='font-size: 12pt\; color: #00
 0000\;'><strong>Session C:</strong>&nbsp\;&nbsp\;1:00pm-5:00pm &nbsp\;<spa
 n style='font-size: 10.666666984558105px\;'>4</span><span style='font-size
 : 10.666666984558105px\;'>&nbsp\;Contact Hours / .4 CEUs&nbsp\;</span><spa
 n style='font-size: 8pt\;'>(For Sessions taken individually earn up to 5 C
 ontact Hours / .5 CEUs by completing 1 Praxis question)</span></span></div
 >\n<div style='padding-left: 30px\;'><span style='font-size: 12pt\; color:
  #000000\;'>Unit 5: Center Management</span></div>\n<div style='padding-le
 ft: 30px\;'><span style='font-size: 12pt\; color: #000000\;'>Unit 6: Child
  Development - The Essentials</span></div>\n<div>&nbsp\;</div>\n<div style
 ='padding-left: 30px\;'><span style='color: #000000\;'></span></div>\n<div
 ><span style='color: #000000\;'><span style='text-decoration: underline\;'
 ><strong><span style='font-size: 14pt\;'>Sunday\, July 24th\, 2022</span><
 /strong></span><strong><span style='font-size: 14pt\;'>&nbsp\; &nbsp\;</sp
 an></strong></span></div>\n<div>&nbsp\;</div>\n<div><span style='color: #0
 00000\;'></span></div>\n<div><span style='font-size: 12pt\; color: #000000
 \;'><strong>Session D: &nbsp\;</strong>8:00am-12:00pm&nbsp\;<span style='f
 ont-size: 10.666666984558105px\;'>4</span><span style='font-size: 10.66666
 6984558105px\;'>&nbsp\;Contact Hours / .4 CEUs&nbsp\;</span><span style='f
 ont-size: 8pt\;'>(For Sessions taken individually earn up to 5 Contact Hou
 rs / .5 CEUs by completing 1 Praxis question)</span></span></div>\n<div st
 yle='padding-left: 30px\;'><span style='font-size: 12pt\; color: #000000\;
 '>Unit 7: Dealing with Difficult Employees</span></div>\n<div style='paddi
 ng-left: 30px\;'><span style='font-size: 12pt\; color: #000000\;'>Unit 8: 
 Administrative Leadership</span></div>\n<div style='padding-left: 30px\;'>
 <span style='color: #000000\;'></span></div>\n<div>\n<div><span style='fon
 t-size: 12pt\; color: #000000\;'><strong>Session E: &nbsp\;</strong>1:00pm
 -5:00pm&nbsp\;<span style='font-size: 10.666666984558105px\;'>4</span><spa
 n style='font-size: 10.666666984558105px\;'>&nbsp\;Contact Hours / .4 CEUs
 &nbsp\;</span><span style='font-size: 8pt\;'>(For Sessions taken individua
 lly earn up to 5 Contact Hours / .5 CEUs by completing 1 Praxis question)<
 /span></span></div>\n<div style='padding-left: 30px\;'><span style='font-s
 ize: 12pt\; color: #000000\;'>Unit 9: The New Economy</span></div>\n<div s
 tyle='padding-left: 30px\;'><span style='font-size: 12pt\; color: #000000\
 ;'>Unit 10: Train the Trainer</span></div>\n<div>&nbsp\;</div>\n<div style
 ='padding-left: 30px\;'><span style='color: #000000\;'></span></div>\n<div
  style='padding-left: 30px\;'><span style='color: #000000\;'>&nbsp\;&nbsp\
 ;</span></div>\n</div>\n<div>\n<div><span style='font-size: 12pt\; color: 
 #000000\;'><strong>Session F: &nbsp\;Credential Praxis&nbsp\;</strong><spa
 n style='font-size: 8pt\;'>(25 Contact Hours / 2.5 CEUs)</span></span></di
 v>\n<div><span style='color: #000000\;'>&nbsp\;<span style='font-size: med
 ium\;'>When attending the full conference\, each Session is worth 4 Hours/
  .4 CEUs for a total of 20 hours for sessions A-E. &nbsp\;Convert the 20 c
 ontact hours / 2 CEUs from attendance in sessions A-E into the NAC (which 
 is worth 45 contact hours/4.5 CEUs) by completing the Praxis. &nbsp\;Stude
 nts will be assigned a mentor/instructor to advise them during the complet
 ion of their project from home if they have questions. Students also have 
 the option of registering for tutoring to complete their praxis during the
  event\, at a future event or to get additional help from home on their pr
 axis.&nbsp\;</span></span></div>\n<div>&nbsp\;</div>\n</div>\n<div><span s
 tyle='color: #000000\;'></span></div>\n<div style='padding-left: 30px\;'><
 span style='color: #000000\;'></span></div>\n<div><span style='color: #000
 000\;'><span style='color: #993300\;'><strong style='font-family: arial\, 
 helvetica\, sans-serif\; font-size: 16px\;'><a href='http://handprint.nicc
 m.com/products/national-administrators-credential-n-a-c-tutoring.html' tit
 le='NAC Tutoring Registration '><span style='font-size: 12pt\; color: #993
 300\;'>Optional Tutoring ($160)</span></a>&nbsp\;&nbsp\;</strong></span><s
 pan style='font-family: arial\, helvetica\, sans-serif\; font-size: 16px\;
 '>Students who elect to stay for tutoring will receive a list of materials
  to bring with them. &nbsp\;The presenter will provide individualized assi
 stance to each tutoring participant in order to help them put together and
  complete their Praxis. Tutoring allows students the&nbsp\;<strong>opportu
 nity</strong>&nbsp\;of completing their test and praxis at the event and&n
 bsp\;<strong>leave having earned their certificate</strong>. &nbsp\;Those 
 who wish to participate in tutoring are advised to register for this servi
 ce at least 3 days prior to the event to obtain a list of suggested docume
 ntation. Tutoring is usually offered on Saturday and Sunday of each event 
 from approximately 5:15 pm - 8:15 pm.</span></span></div>
DTSTART:20220722T170000Z
DTEND:20220724T210000Z
SUMMARY:NAC - San Antonio 722
URL:https://niccm.com/70-upcoming-credential-courses/747-nac-tampa-622-2
END:VEVENT
END:VCALENDAR
