BEGIN:VCALENDAR
VERSION:2.0
PRODID:-//https://niccm.com//NONSGML kigkonsult.se iCalcreator 2.23.20//
METHOD:PUBLISH
X-WR-CALNAME:JCal Pro Calendar
X-WR-CALDESC:Your online events calendar
X-WR-TIMEZONE:UTC
BEGIN:VTIMEZONE
TZID:UTC
BEGIN:STANDARD
DTSTART:20260425T035115
TZOFFSETFROM:+0000
TZOFFSETTO:+0000
END:STANDARD
END:VTIMEZONE
BEGIN:VEVENT
UID:20230127T070000UTC-5270uvmjur@https://niccm.com/
DTSTAMP:20260425T035115Z
CATEGORIES:Past NICCM Events
DESCRIPTION:<h1 style='color: #000000\; visibility: visible\; text-align: c
 enter\;'><span style='font-family: arial\, helvetica\, sans-serif\; font-s
 ize: 18pt\;'>CDA Fast Track&nbsp\;</span></h1>\n<h2 style='color: #000000\
 ; visibility: visible\; text-align: justify\;'><span style='font-size: 12p
 t\; font-family: arial\, helvetica\, sans-serif\;'><strong style='font-siz
 e: 18pt\;'>Location/Hotel:</strong></span>&nbsp\;</h2>\n<p style='font-sty
 le: italic\;'><span style='font-size: 14pt\;'>Hilton Garden Inn - Lake Bue
 na Vista&nbsp\;</span></p>\n<p><span style='font-size: 14pt\;'>11400 Marab
 ella Palm Court </span></p>\n<p><span style='font-size: 14pt\;'>Orlando\, 
 FL &nbsp\;32836</span></p>\n<p><span style='font-size: 14pt\;'>(407) 239- 
 9550</span></p>\n<p style='font-style: italic\;'><span style='font-family:
  arial\, helvetica\, sans-serif\; font-size: 14pt\;'>Reservations <a href=
 'https://www.hilton.com/en/book/reservation/deeplink/?&amp\;ctyhocn=MCOBVG
 I&amp\;groupCode=NICM2&amp\;arrival=20210519&amp\;departure=20210523&amp\;
 cid=OM\,WW\,HILTONLINK\,en\,DirectLink&amp\;fromId=HILTONLINKDIRECT'></a><
 a href='https://www.hilton.com/en/book/reservation/rooms/?ctyhocn=MCOBVGI&
 amp\;arrivalDate=2023-01-17&amp\;departureDate=2023-01-23&amp\;groupCode=N
 ICCM1&amp\;room1NumAdults=1&amp\;cid=OM%2CWW%2CHILTONLINK%2CEN%2CDirectLin
 k'>Hilton.co</a><a href='https://www.hilton.com/en/book/reservation/rooms/
 ?ctyhocn=MCOBVGI&amp\;arrivalDate=2023-01-17&amp\;departureDate=2023-01-23
 &amp\;groupCode=NICCM1&amp\;room1NumAdults=1&amp\;cid=OM%2CWW%2CHILTONLINK
 %2CEN%2CDirectLink'>m</a></span></p>\n<address><span style='font-family: a
 rial\, helvetica\, sans-serif\; font-size: 14pt\;'>Call Hotel If No Rooms 
 Available On The Link&nbsp\;</span></address><address>&nbsp\;</address>\n<
 p style='text-align: center\;'><a href='http://handprint.niccm.com/product
 s/cda-fast-track.html' title='Registration CDA Fast Track '><span style='f
 ont-size: 18pt\;'><span style='margin: 0px\; padding: 0px\; border: 0px\; 
 outline: 0px\; background-color: transparent\; font-family: arial\, helvet
 ica\, sans-serif\;'><span style='color: #ffffff\;'><span style='font-size:
  19px\; padding: 3px 10px 4px\; background-color: #7b3b3b\;'><strong>Click
  Here To Register Online Now!</strong></span></span></span></span></a></p>
 \n<p style='text-align: center\;'>&nbsp\;<span style='font-size: 18pt\;'><
 span style='margin: 0px\; padding: 0px\; border: 0px\; outline: 0px\; back
 ground-color: transparent\; font-family: arial\, helvetica\, sans-serif\;'
 >&nbsp\; &nbsp\; &nbsp\; &nbsp\; &nbsp\; &nbsp\; &nbsp\; &nbsp\; &nbsp\; &
 nbsp\; &nbsp\; &nbsp\; &nbsp\;&nbsp\;</span></span>&nbsp\;</p>\n<p style='
 text-align: center\;'>&nbsp\;</p>\n<div style='text-align: center\;'>\n<p 
 style='visibility: visible\; text-align: justify\;'><span style='font-size
 : 12pt\; font-family: arial\, helvetica\, sans-serif\;'><strong style='fon
 t-size: 18pt\;'>Course Content &amp\; Schedule:</strong></span>&nbsp\;</p>
 \n<p style='visibility: visible\; text-align: justify\;'>&nbsp\;</p>\n</di
 v>\n<div style='text-align: justify\;'><span style='text-decoration: under
 line\;'><span style='font-size: large\;'><strong><span style='font-size: 1
 4pt\;'>Friday\, January 20th\, 2023</span></strong></span></span></div>\n<
 div>&nbsp\;</div>\n<div><span style='font-size: 14pt\;'><strong>Arrival an
 d Check-In</strong>: 6:45am -7:00am <span style='font-size: 12pt\;'>(stude
 nts must arrive and check-in <span style='font-size: 12pt\;'>15 minutes </
 span><span style='font-size: 14pt\;'></span> before class)</span></span></
 div>\n<div style='padding-left: 30px\;'><span style='font-size: large\;'><
 strong><br /></strong></span><span style='font-size: 14pt\;'><strong>C</st
 rong></span><span style='font-size: 14pt\;'><strong>lass A</strong></span>
 <span style='font-size: 14pt\;'>: 7:00am -12:00pm &nbsp\;<span style='font
 -size: 12pt\;'>(5 Contact Hours/.5 CEUs)</span></span></div>\n<div style='
 padding-left: 30px\;'>&nbsp\; &nbsp\; &nbsp\; &nbsp\; &nbsp\;<span style='
 font-size: 12pt\;'><strong><span style='font-family: Arial\;'><span style=
 'font-size: 14pt\;'>Introduction:</span>&nbsp\;</span>&nbsp\;</strong> </s
 pan><span style='font-size: 12pt\;'><strong><span style='font-family: Aria
 l\;'>Overview of the Course</span><span style='font-family: Arial\;'>&nbsp
 \; &nbsp\;</span></strong></span></div>\n<div style='margin-left: 60px\;'>
 \n<p><span style='font-size: 14pt\;'><strong><span style='font-family: Ari
 al\;'>Unit 1: &nbsp\; &nbsp\; &nbsp\; &nbsp\; &nbsp\; &nbsp\;</span>&nbsp\
 ;&nbsp\;</strong></span><span style='font-size: 12pt\;'><strong><span styl
 e='font-family: Arial\;'>Keys to Writing Statements</span> </strong> </spa
 n></p>\n<p style='margin-left: 31px\;'><span style='font-size: 12pt\;'><st
 rong><span style='font-family: Arial\;'>&nbsp\; &nbsp\; &nbsp\; &nbsp\; &n
 bsp\; &nbsp\; &nbsp\; &nbsp\; &nbsp\; &nbsp\; &nbsp\; &nbsp\;Competency St
 atement 1:&nbsp\;&nbsp\;</span> </strong><span style='font-family: Arial\;
 '>Planning a safe and healthy learning environment</span></span></p>\n<p><
 span style='font-size: 14pt\;'><strong><span style='font-family: Arial\;'>
 Unit 2: &nbsp\; &nbsp\; &nbsp\; &nbsp\; &nbsp\; &nbsp\; </span><span>&nbsp
 \;</span></strong></span><span style='font-size: 12pt\;'><strong><span sty
 le='font-family: Arial\;'>Competency Statement 2:&nbsp\;&nbsp\;</span> </s
 trong><span style='font-family: Arial\;'>Advancing children’s physical and
  intellectual development</span></span></p>\n</div>\n<div style='padding-l
 eft: 30px\;'><span style='font-size: 12pt\;'><br /><span style='font-size:
  14pt\;'><strong>Class B:</strong>&nbsp\;12:30pm- 5:30pm &nbsp\;<span styl
 e='font-size: 12pt\;'>(5 Contact Hours/.5 CEUs)</span></span> </span></div
 >\n<div style='padding-left: 30px\;'><span style='font-size: 14pt\;'><stro
 ng><span style='font-family: Arial\;'>&nbsp\; &nbsp\; &nbsp\; Unit 3:&nbsp
 \; &nbsp\; &nbsp\; &nbsp\; &nbsp\; &nbsp\;&nbsp\;</span>&nbsp\;</strong> <
 /span><span style='font-size: 12pt\;'><strong><span style='font-family: Ar
 ial\;'>Competency Statement 3:&nbsp\;&nbsp\;</span> </strong><span style='
 font-family: Arial\;'>Supporting children’s social and emotional developme
 nt</span></span></div>\n<div>&nbsp\; &nbsp\; &nbsp\; &nbsp\; &nbsp\; &nbsp
 \; &nbsp\; &nbsp\; &nbsp\;&nbsp\;<strong style='font-family: arial\, helve
 tica\, sans-serif\; font-size: 12pt\; text-indent: -1in\; color: inherit\;
 '><span style='font-size: 14pt\;'>Unit 4:&nbsp\;</span>&nbsp\; &nbsp\; &nb
 sp\; &nbsp\; &nbsp\; &nbsp\; &nbsp\; &nbsp\;Competency Statement 4:&nbsp\;
 <span style='font-size: 14pt\;'></span></strong><span style='font-size: 12
 pt\;'>Establishing positive and productive relationships with families</sp
 an></div>\n<div style='padding-left: 60px\;'>\n<p style='margin-left: 1in\
 ; text-indent: -1in\;'><span style='font-family: arial\, helvetica\, sans-
 serif\; font-size: 12pt\;'><span style='font-size: 14pt\;'><strong>Unit 5:
  &nbsp\; &nbsp\; &nbsp\; &nbsp\; &nbsp\; &nbsp\; &nbsp\;<span style='font-
 size: 12pt\;'>Competency Statement 5:</span>&nbsp\;&nbsp\;</strong></span>
 Ensuring a well-run purposeful program</span></p>\n<p style='margin-left: 
 1in\; text-indent: -1in\;'><span style='font-family: arial\, helvetica\, s
 ans-serif\; font-size: 12pt\;'><strong><span style='font-size: 14pt\;'>Uni
 t 6:&nbsp\;</span>&nbsp\; &nbsp\; &nbsp\; &nbsp\; &nbsp\; &nbsp\; &nbsp\; 
 &nbsp\;Competency Statement 6:&nbsp\;&nbsp\;</strong>Maintaining a commitm
 ent to professionalism</span></p>\n<p>&nbsp\;</p>\n<p style='margin-left: 
 1in\; text-indent: -1in\;'><span style='font-family: Arial\; font-size: 12
 pt\;'><strong>Documenting Professional Education</strong>&nbsp\;- 8 CDA Su
 bject Areas</span><span style='font-size: 12pt\;'></span></p>\n</div>\n<di
 v><span style='font-size: 12pt\;'><br /></span><span style='text-decoratio
 n: underline\;'><span style='font-size: large\;'><strong><span style='font
 -size: 14pt\;'>Saturday\, January 21st\, 2023</span></strong></span></span
 ></div>\n<div style='padding-left: 30px\;'>&nbsp\;</div>\n<div style='padd
 ing-left: 30px\;'><span style='font-size: 14pt\;'><strong>Class C</strong>
 <strong>:&nbsp\;</strong>8:00am-3:00pm&nbsp\;<span style='font-size: 12pt\
 ;'>(7 Contact Hours/.7 CEUs)</span></span></div>\n<div style='padding-left
 : 30px\;'><span style='font-size: 12pt\;'>&nbsp\;(arrivals will be stagger
 ed\, students will be scheduled in as early as 8:00am)</span></div>\n<div 
 style='padding-left: 30px\;'><span style='font-size: 12pt\;'><strong><span
  style='font-family: Arial\;'><span style='font-size: 14pt\;'>&nbsp\; &nbs
 p\; &nbsp\;</span></span></strong></span></div>\n<div style='padding-left:
  30px\;'><span style='font-size: 14pt\;'><strong>Class D:&nbsp\;</strong>4
 :00pm - 7:00pm <span style='font-size: 12pt\;'>(3 Contact Hours/.3 CEUs)&n
 bsp\;</span></span></div>\n<div style='padding-left: 30px\;'><span style='
 font-size: 14pt\;'><span style='font-size: 14pt\;'></span><span style='fon
 t-size: 12pt\;'>(dissmissal will be staggard\, students will be dismissed 
 throughout the evening)</span></span></div>\n<div>\n<div>&nbsp\;</div>\n<d
 iv style='padding-left: 30px\; text-align: center\;'><span style='font-siz
 e: 12pt\;'><span style='font-size: 12pt\;'><strong><span style='font-famil
 y: Arial\;'><span style='font-size: 14pt\;'>C &amp\; D Class Content</span
 ></span></strong></span></span>\n<div style='padding-left: 60px\;'>&nbsp\;
 </div>\n</div>\n<div style='padding-left: 30px\;'><span style='font-size: 
 12pt\;'><strong><span style='font-family: Arial\;'><span style='font-size:
  14pt\;'>&nbsp\; &nbsp\; &nbsp\; Directed Portfolio Lab:</span>&nbsp\;&nbs
 p\;</span> </strong><span style='font-family: Arial\;'>The Directed Portfo
 lio Lab allows for individual consultation &amp\; one-on-one time with</sp
 an></span><span style='font-size: 12pt\;'><span style='font-family: Arial\
 ;'>&nbsp\;the &nbsp\; &nbsp\;</span></span></div>\n<div style='padding-lef
 t: 30px\;'><span style='font-size: 12pt\;'><span style='font-family: Arial
 \;'>&nbsp\; &nbsp\; &nbsp\; &nbsp\;instructor. &nbsp\;Participants will wo
 rk on their portfolio and meet with the instructor to discuss their statem
 ents and</span></span><span style='font-size: 12pt\;'><span style='font-fa
 mily: Arial\;'>&nbsp\;the </span></span></div>\n<div style='padding-left: 
 30px\;'><span style='font-size: 12pt\;'><span style='font-family: Arial\;'
 >&nbsp\; &nbsp\; &nbsp\; &nbsp\;documentation within their professional po
 rtfolio.</span></span></div>\n</div>\n<div style='padding-left: 30px\;'>\n
 <div style='padding-left: 30px\;'>&nbsp\;</div>\n<div style='padding-left:
  30px\;'><strong style='font-size: 12pt\; text-indent: -1in\; color: inher
 it\; font-family: inherit\;'><span style='font-family: Arial\;'><span styl
 e='font-size: 12pt\;'>The Professional Philosophy Statement</span></span><
 /strong></div>\n<div>&nbsp\;</div>\n<div style='padding-left: 30px\;'><spa
 n style='font-size: 12pt\;'><strong>Individual Consultations - allows one 
 on one with instructors</strong></span></div>\n<div style='padding-left: 6
 0px\;'>&nbsp\;</div>\n</div>\n<div style='padding-left: 60px\;'>&nbsp\;</d
 iv>\n<div><span style='font-size: 12pt\;'>&nbsp\;<span style='text-decorat
 ion: underline\;'><span style='font-size: 14pt\;'><strong>Sunday\, January
  22nd\, 2023</strong></span></span></span></div>\n<div style='margin-left:
  30px\;'><span style='font-size: large\;'><strong><br /></strong></span><s
 pan style='font-size: 14pt\;'><strong>Class E</strong><strong>:</strong>&n
 bsp\;8:00am-3:00pm</span><span style='font-size: 12pt\;'>&nbsp\;<span styl
 e='font-size: 12pt\;'>(7 Contact Hours/.7 CEUs)</span></span></div>\n<div 
 style='margin-left: 30px\;'>\n<p style='margin-left: 1in\; text-indent: -1
 in\;'><span style='font-size: 14pt\;'><strong>Class F:</strong>&nbsp\;4:00
 pm-7:00pm&nbsp\;<span style='background-color: inherit\; color: inherit\; 
 font-family: inherit\; caret-color: auto\;'>(3 Contact Hours/.3 CEUs)</spa
 n></span></p>\n<p>&nbsp\;</p>\n</div>\n<div style='padding-left: 30px\; te
 xt-align: center\;'><span style='font-size: 12pt\;'><strong><span style='f
 ont-family: Arial\;'><span style='font-size: 14pt\;'><span style='font-siz
 e: 14pt\;'>E &amp\; F Class Content</span><span style='font-family: Arial\
 ;'></span><span style='font-size: 12pt\;'></span><span style='font-size: 1
 2pt\;'></span>&nbsp\; &nbsp\; &nbsp\; </span></span></strong></span></div>
 \n<div style='padding-left: 30px\;'><span style='font-size: 12pt\;'><stron
 g><span style='font-family: Arial\;'><span style='font-size: 14pt\;'><span
  style='font-family: Arial\;'>&nbsp\; &nbsp\; &nbsp\; &nbsp\;<span style='
 font-size: 14pt\;'>Unit 7:</span><span style='font-family: Arial\;'>&nbsp\
 ;CDA Practice Exam&nbsp\;</span>&nbsp\;</span><span style='font-size: 12pt
 \;'></span></span></span></strong></span></div>\n<div style='padding-left:
  30px\;'><span style='font-size: 12pt\;'><strong><span style='font-family:
  Arial\;'><span style='font-size: 14pt\;'>&nbsp\; &nbsp\; &nbsp\; &nbsp\;U
 nit 8:</span>&nbsp\;</span></strong></span><span style='font-size: 14pt\;'
 ><strong><span style='font-family: Arial\;'>I<strong>nstructions on comple
 ting the process</strong></span></strong></span></div>\n<div style='paddin
 g-left: 60px\;'>\n<p style='margin-left: 1in\; text-indent: -1in\;'><span 
 style='font-size: 12pt\;'><strong><span style='font-family: Arial\;'>&nbsp
 \; &nbsp\; &nbsp\; &nbsp\; &nbsp\; &nbsp\; &nbsp\; &nbsp\; &nbsp\; &nbsp\;
  &nbsp\; &nbsp\; &nbsp\;&nbsp\;</span></strong></span><span style='font-si
 ze: 12pt\;'><strong><span style='font-family: Arial\;'>Understanding the v
 erification visit</span> </strong> </span></p>\n<p style='margin-left: 1in
 \; text-indent: -1in\;'><span style='font-size: 12pt\;'><strong><span styl
 e='font-family: Arial\;'>&nbsp\; &nbsp\; &nbsp\; &nbsp\; &nbsp\; &nbsp\; &
 nbsp\; &nbsp\; &nbsp\; &nbsp\; &nbsp\; &nbsp\; &nbsp\;&nbsp\;<strong>The a
 pplication process</strong></span> </strong> </span></p>\n<p style='margin
 -left: 1in\; text-indent: -1in\;'><span style='font-size: 12pt\;'><strong>
 <span style='font-family: Arial\;'>&nbsp\; &nbsp\; &nbsp\; &nbsp\; &nbsp\;
  &nbsp\; &nbsp\; &nbsp\; &nbsp\; &nbsp\; &nbsp\; &nbsp\; &nbsp\; Choosing 
 your PD Specialist</span> </strong> </span></p>\n<p style='margin-left: 1i
 n\; text-indent: -1in\;'><span style='font-size: 12pt\;'><strong><span sty
 le='font-family: Arial\;'>&nbsp\; &nbsp\; &nbsp\; &nbsp\; &nbsp\; &nbsp\; 
 &nbsp\; &nbsp\; &nbsp\; &nbsp\; &nbsp\; &nbsp\; &nbsp\;&nbsp\;</span></str
 ong></span><span style='font-size: 12pt\;'><strong><span style='font-famil
 y: Arial\;'>Finding a Pearson Vue testing site&nbsp\;</span></strong></spa
 n></p>\n<p style='margin-left: 1in\; text-indent: -1in\;'><span style='fon
 t-size: 12pt\;'><strong><span style='font-family: Arial\;'>&nbsp\; &nbsp\;
  &nbsp\; </span></strong></span></p>\n<p style='text-align: center\;'><a h
 ref='http://handprint.niccm.com/products/cda-fast-track.html' title='Regis
 tration CDA Fast Track '><span style='font-size: 18pt\;'><span style='marg
 in: 0px\; padding: 0px\; border: 0px\; outline: 0px\; background-color: tr
 ansparent\; font-family: arial\, helvetica\, sans-serif\;'><span style='co
 lor: #ffffff\;'><span style='font-size: 19px\; padding: 3px 10px 4px\; bac
 kground-color: #7b3b3b\;'><strong>Click Here To Register Online Now!</stro
 ng></span></span></span></span></a></p>\n<p style='text-align: center\;'>&
 nbsp\;</p>\n<p style='text-align: center\;'>&nbsp\;</p>\n<footer></footer>
 </div>\n<p style='text-align: center\;'><span style='font-size: 18pt\;'>&n
 bsp\; &nbsp\; &nbsp\; &nbsp\;Call (602) 476-1422 for More Information&nbsp
 \;</span></p>\n<p>&nbsp\;&nbsp\;</p>
DTSTART:20230120T070000Z
DTEND:20230122T150000Z
SUMMARY:CDA Fast Track  - Orlando 123
URL:https://niccm.com/71-cda-fast-track/835-cda-fast-track-orlando-123
END:VEVENT
BEGIN:VEVENT
UID:20221209T170000UTC-1147txwWHp@https://niccm.com/
DTSTAMP:20260425T035115Z
CATEGORIES:Past NICCM Events
DESCRIPTION:<h1 style='color: #000000\; visibility: visible\; text-align: c
 enter\;'>N.A.C. (National Administrator's Credential)</h1>\n<h2 style='col
 or: #000000\; visibility: visible\; text-align: justify\;'><span style='fo
 nt-size: 18pt\;'>Location/Hotel:</span>&nbsp\;&nbsp\;</h2>\n<p style='back
 ground-color: transparent\; margin: 2px 0px\; padding: 0px\; border: 0px\;
  outline: 0px\; font-size: 12px\; color: #505f69\; font-family: Helvetica\
 , Arial\, FreeSans\, sans-serif\;'>&nbsp\;</p>\n<p style='font-style: ital
 ic\;'><span style='font-size: 14pt\;'>Hilton Garden Inn - Lake Buena Vista
 &nbsp\;</span></p>\n<p><span style='font-size: 14pt\;'>11400 Marabella Pal
 m Court </span></p>\n<p><span style='font-size: 14pt\;'>Orlando\, FL &nbsp
 \;32836</span></p>\n<p><span style='font-size: 14pt\;'>(407) 239- 9550</sp
 an></p>\n<p style='font-style: italic\;'><span style='font-size: 14pt\;'>R
 eservations <a href='https://www.hilton.com/en/book/reservation/deeplink/?
 &amp\;ctyhocn=MCOBVGI&amp\;groupCode=NICM2&amp\;arrival=20210519&amp\;depa
 rture=20210523&amp\;cid=OM\,WW\,HILTONLINK\,en\,DirectLink&amp\;fromId=HIL
 TONLINKDIRECT'></a><a href='https://www.hilton.com/en/book/reservation/roo
 ms/?ctyhocn=MCOBVGI&amp\;arrivalDate=2023-01-17&amp\;departureDate=2023-01
 -23&amp\;groupCode=NICCM1&amp\;room1NumAdults=1&amp\;cid=OM%2CWW%2CHILTONL
 INK%2CEN%2CDirectLink'>Hilton.com</a></span></p>\n<p><span style='font-siz
 e: 14pt\; background-color: inherit\; color: inherit\; font-family: inheri
 t\; caret-color: auto\;'>Call Hotel If No Rooms Available On The Link&nbsp
 \;&nbsp\;</span></p>\n<p>&nbsp\;</p>\n<p style='text-align: center\;'><a h
 ref='http://handprint.niccm.com/products/national-florida-and-texas-direct
 or-credential-n-a-c.html' title='Registration NAC '><span style='color: #f
 fffff\;'><span style='font-size: 19px\; padding: 3px 10px 4px\; background
 -color: #7b3b3b\;'><strong>Click Here To Register Online Now!</strong></sp
 an></span></a></p>\n<p><span style='color: #000000\;'><strong style='font-
 size: 14pt\;'><span style='font-size: 18pt\;'>Schedule:</span></strong></s
 pan></p>\n<div><span style='color: #000000\;'><span style='text-decoration
 : underline\;'><strong><span style='font-size: 14pt\;'>Friday\, January 20
 th\, 2023</span></strong></span><strong><span style='font-size: 14pt\;'>&n
 bsp\; &nbsp\;</span></strong></span></div>\n<div>&nbsp\;</div>\n<div><span
  style='font-size: 12pt\; color: #000000\;'><strong>Arrival and Check-In:&
 nbsp\; </strong>3:45pm-4:00pm &nbsp\;</span><span style='color: #000000\;'
 ><span style='color: #000000\;'>(Students must arrive and check-in at leas
 t 1 hour before class starts)</span></span></div>\n<div>&nbsp\;</div>\n<di
 v><span style='color: #000000\;'></span></div>\n<div><span style='font-siz
 e: 12pt\; color: #000000\;'><strong>Session A: &nbsp\;</strong>5:00pm-9:00
 pm&nbsp\;<span style='font-size: 10.666666984558105px\;'>4</span><span sty
 le='font-size: 10.666666984558105px\;'>&nbsp\;Contact Hours / .4 CEUs</spa
 n>&nbsp\;<span style='font-size: 8pt\;'>(For Sessions taken individually e
 arn up to 5 Contact Hours / .5 CEUs by completing 1 Praxis question)</span
 ></span></div>\n<div style='padding-left: 30px\;'><span style='font-size: 
 12pt\; color: #000000\;'>Unit 1: Fiscal Management&nbsp\;</span></div>\n<d
 iv style='padding-left: 30px\;'><span style='font-size: 12pt\; color: #000
 000\;'>Unit 2: Insurance for Your Center</span></div>\n<div>&nbsp\;</div>
 \n<div style='padding-left: 30px\;'><span style='color: #000000\;'></span>
 </div>\n<div><span style='color: #000000\;'><span style='text-decoration: 
 underline\;'><strong><span style='font-size: 14pt\;'>Saturday\, January 21
 st\, 2023</span></strong></span><span style='font-size: 8pt\;'>&nbsp\; &nb
 sp\;&nbsp\;</span></span></div>\n<div>&nbsp\;</div>\n<div><span style='col
 or: #000000\;'></span></div>\n<div><span style='font-size: 12pt\; color: #
 000000\;'><strong>Session B:</strong>&nbsp\;&nbsp\;8:00am-12:00pm&nbsp\;<s
 pan style='font-size: 10.666666984558105px\;'>4</span><span style='font-si
 ze: 10.666666984558105px\;'>&nbsp\;Contact Hours / .4 CEUs&nbsp\;</span><s
 pan style='font-size: 8pt\;'>(For Sessions taken individually earn up to 5
  Contact Hours / .5 CEUs by completing 1 Praxis question)</span></span></d
 iv>\n<div style='padding-left: 30px\;'><span style='font-size: 12pt\; colo
 r: #000000\;'>Unit 3: Hiring &amp\; Teacher Orientation</span></div>\n<div
  style='padding-left: 30px\;'><span style='font-size: 12pt\; color: #00000
 0\;'>Unit 4: Employee Handbooks &amp\; Evals</span></div>\n<div style='pad
 ding-left: 30px\;'><span style='color: #000000\;'></span></div>\n<div><spa
 n style='font-size: 12pt\; color: #000000\;'><strong>Session C:</strong>&n
 bsp\;&nbsp\;1:00pm-5:00pm &nbsp\;<span style='font-size: 10.66666698455810
 5px\;'>4</span><span style='font-size: 10.666666984558105px\;'>&nbsp\;Cont
 act Hours / .4 CEUs&nbsp\;</span><span style='font-size: 8pt\;'>(For Sessi
 ons taken individually earn up to 5 Contact Hours / .5 CEUs by completing 
 1 Praxis question)</span></span></div>\n<div style='padding-left: 30px\;'>
 <span style='font-size: 12pt\; color: #000000\;'>Unit 5: Center Management
 </span></div>\n<div style='padding-left: 30px\;'><span style='font-size: 1
 2pt\; color: #000000\;'>Unit 6: Child Development - The Essentials</span><
 /div>\n<div>&nbsp\;</div>\n<div style='padding-left: 30px\;'><span style='
 color: #000000\;'></span></div>\n<div><span style='color: #000000\;'><span
  style='text-decoration: underline\;'><strong><span style='font-size: 14pt
 \;'>Sunday\, January 22nd\, 2023</span></strong></span><strong><span style
 ='font-size: 14pt\;'>&nbsp\; &nbsp\;</span></strong></span></div>\n<div>&n
 bsp\;</div>\n<div><span style='color: #000000\;'></span></div>\n<div><span
  style='font-size: 12pt\; color: #000000\;'><strong>Session D: &nbsp\;</st
 rong>8:00am-12:00pm&nbsp\;<span style='font-size: 10.666666984558105px\;'>
 4</span><span style='font-size: 10.666666984558105px\;'>&nbsp\;Contact Hou
 rs / .4 CEUs&nbsp\;</span><span style='font-size: 8pt\;'>(For Sessions tak
 en individually earn up to 5 Contact Hours / .5 CEUs by completing 1 Praxi
 s question)</span></span></div>\n<div style='padding-left: 30px\;'><span s
 tyle='font-size: 12pt\; color: #000000\;'>Unit 7: Dealing with Difficult E
 mployees</span></div>\n<div style='padding-left: 30px\;'><span style='font
 -size: 12pt\; color: #000000\;'>Unit 8: Administrative Leadership</span></
 div>\n<div style='padding-left: 30px\;'><span style='color: #000000\;'></s
 pan></div>\n<div>\n<div><span style='font-size: 12pt\; color: #000000\;'><
 strong>Session E: &nbsp\;</strong>1:00pm-5:00pm&nbsp\;<span style='font-si
 ze: 10.666666984558105px\;'>4</span><span style='font-size: 10.66666698455
 8105px\;'>&nbsp\;Contact Hours / .4 CEUs&nbsp\;</span><span style='font-si
 ze: 8pt\;'>(For Sessions taken individually earn up to 5 Contact Hours / .
 5 CEUs by completing 1 Praxis question)</span></span></div>\n<div style='p
 adding-left: 30px\;'><span style='font-size: 12pt\; color: #000000\;'>Unit
  9: The New Economy</span></div>\n<div style='padding-left: 30px\;'><span 
 style='font-size: 12pt\; color: #000000\;'>Unit 10: Train the Trainer</spa
 n></div>\n<div>&nbsp\;</div>\n<div style='padding-left: 30px\;'><span styl
 e='color: #000000\;'></span></div>\n<div style='padding-left: 30px\;'><spa
 n style='color: #000000\;'>&nbsp\;&nbsp\;</span></div>\n</div>\n<div>\n<di
 v><span style='font-size: 12pt\; color: #000000\;'><strong>Session F: &nbs
 p\;Credential Praxis&nbsp\;</strong><span style='font-size: 8pt\;'>(25 Con
 tact Hours / 2.5 CEUs)</span></span></div>\n<div><span style='color: #0000
 00\;'>&nbsp\;<span style='font-size: medium\;'>When attending the full con
 ference\, each Session is worth 4 Hours/ .4 CEUs for a total of 20 hours f
 or sessions A-E. &nbsp\;Convert the 20 contact hours / 2 CEUs from attenda
 nce in sessions A-E into the NAC (which is worth 45 contact hours/4.5 CEUs
 ) by completing the Praxis. &nbsp\;Students will be assigned an instructor
  to advise them during the completion of their project from home if they h
 ave questions. Students also have the option of registering for tutoring t
 o complete their praxis during the event\, at a future event or to get add
 itional help from home on their praxis.&nbsp\;</span></span></div>\n<div>&
 nbsp\;</div>\n</div>\n<div><span style='color: #000000\;'></span></div>\n<
 div style='padding-left: 30px\;'><span style='color: #000000\;'></span></d
 iv>\n<div><span style='color: #000000\;'><span style='color: #993300\;'><s
 trong style='font-family: arial\, helvetica\, sans-serif\; font-size: 16px
 \;'><a href='http://handprint.niccm.com/products/national-administrators-c
 redential-n-a-c-tutoring.html' title='NAC Tutoring Registration '><span st
 yle='font-size: 12pt\; color: #993300\;'>Optional Tutoring ($160)</span></
 a>&nbsp\;&nbsp\;</strong></span><span style='font-family: arial\, helvetic
 a\, sans-serif\; font-size: 16px\;'>Students who elect to stay for tutorin
 g will receive a list of materials to bring with them. &nbsp\;The presente
 r will provide individualized assistance to each tutoring participant in o
 rder to help them put together and complete their Praxis. Tutoring allows 
 students the&nbsp\;<strong>opportunity</strong>&nbsp\;of completing their 
 test and praxis at the event and&nbsp\;<strong>leave having earned their c
 ertificate</strong>. &nbsp\;Those who wish to participate in tutoring are 
 advised to register for this service at least 3 days prior to the event to
  obtain a list of suggested documentation. Tutoring is usually offered on 
 Saturday and Sunday of each event from approximately 5:15 pm - 8:15 pm.</s
 pan></span></div>
DTSTART:20230120T160000Z
DTEND:20230122T200000Z
SUMMARY:NAC - Orlando 123
URL:https://niccm.com/70-upcoming-credential-courses/784-nac-orlando-122
END:VEVENT
END:VCALENDAR
