BEGIN:VCALENDAR
VERSION:2.0
PRODID:-//https://niccm.com//NONSGML kigkonsult.se iCalcreator 2.23.20//
METHOD:PUBLISH
X-WR-CALNAME:JCal Pro Calendar
X-WR-CALDESC:Your online events calendar
X-WR-TIMEZONE:UTC
BEGIN:VTIMEZONE
TZID:UTC
BEGIN:STANDARD
DTSTART:20260425T190921
TZOFFSETFROM:+0000
TZOFFSETTO:+0000
END:STANDARD
END:VTIMEZONE
BEGIN:VEVENT
UID:20231201T070000UTC-118594lSIv@https://niccm.com/
DTSTAMP:20260425T190921Z
CATEGORIES:Past NICCM Events
DESCRIPTION:<h1 style='color: #000000\; visibility: visible\; text-align: c
 enter\;'><span style='font-family: arial\, helvetica\, sans-serif\; font-s
 ize: 18pt\;'>CDA Fast Track&nbsp\;</span></h1>\n<h2 style='color: #000000\
 ; visibility: visible\; text-align: justify\;'><span style='font-size: 12p
 t\; font-family: arial\, helvetica\, sans-serif\;'><strong style='font-siz
 e: 18pt\;'>Location/Hotel:</strong></span>&nbsp\;</h2>\n<p><span style='fo
 nt-family: arial\, helvetica\, sans-serif\; font-size: 14pt\; color: #0000
 00\;'>The Westin Fort Lauderdale</span></p>\n<p><span style='font-family: 
 arial\, helvetica\, sans-serif\; font-size: 14pt\; color: #000000\;'>400 C
 oporate Drive</span></p>\n<p><span style='font-family: arial\, helvetica\,
  sans-serif\; font-size: 14pt\; color: #000000\;'>Fort Lauderdale\, FL&nbs
 p\; 33334</span></p>\n<p><span style='font-family: arial\, helvetica\, san
 s-serif\; font-size: 14pt\; color: #000000\;'>(954) 772-1331</span></p>\n<
 p><span style='font-family: arial\, helvetica\, sans-serif\; font-size: 14
 pt\;'><span style='color: #000000\;'>Reservations</span>&nbsp\;&nbsp\;<a h
 ref='https://www.marriott.com/events/start.mi?id=1696354053541&amp\;key=GR
 P'>Marriott.com</a></span></p>\n<p>&nbsp\;</p>\n<p>&nbsp\;</p>\n<p style='
 background-color: transparent\; margin: 2px 0px\; padding: 0px\; border: 0
 px\; outline: 0px\; font-size: 12px\; color: #505f69\; font-family: Helvet
 ica\, Arial\, FreeSans\, sans-serif\;'>&nbsp\;</p>\n<address>&nbsp\;</addr
 ess>\n<p style='text-align: center\;'><a href='http://handprint.niccm.com/
 products/cda-fast-track.html' title='Registration CDA Fast Track '><span s
 tyle='font-size: 18pt\;'><span style='margin: 0px\; padding: 0px\; border:
  0px\; outline: 0px\; background-color: transparent\; font-family: arial\,
  helvetica\, sans-serif\;'><span style='color: #ffffff\;'><span style='fon
 t-size: 19px\; padding: 3px 10px 4px\; background-color: #7b3b3b\;'><stron
 g>Click Here To Register Online Now!</strong></span></span></span></span><
 /a></p>\n<p style='text-align: center\;'>&nbsp\;<span style='font-size: 18
 pt\;'><span style='margin: 0px\; padding: 0px\; border: 0px\; outline: 0px
 \; background-color: transparent\; font-family: arial\, helvetica\, sans-s
 erif\;'>&nbsp\; &nbsp\; &nbsp\; &nbsp\; &nbsp\; &nbsp\; &nbsp\; &nbsp\; &n
 bsp\; &nbsp\; &nbsp\; &nbsp\; &nbsp\;&nbsp\;</span></span>&nbsp\;</p>\n<p 
 style='text-align: center\;'>&nbsp\;</p>\n<div style='text-align: center\;
 '>\n<p style='visibility: visible\; text-align: justify\;'><span style='fo
 nt-size: 12pt\; font-family: arial\, helvetica\, sans-serif\;'><strong sty
 le='font-size: 18pt\;'>Course Content &amp\; Schedule:</strong></span>&nbs
 p\;</p>\n<p style='visibility: visible\; text-align: justify\;'>&nbsp\;</p
 >\n</div>\n<div style='text-align: justify\;'><span style='text-decoration
 : underline\;'><span style='font-size: large\;'><strong><span style='font-
 size: 14pt\;'>Friday\, December 8th\, 2023</span></strong></span></span></
 div>\n<div>&nbsp\;</div>\n<div><span style='font-size: 14pt\;'><strong>Arr
 ival and Check-In</strong>: 6:45am -7:00am <span style='font-size: 12pt\;'
 >(students must arrive and check-in 15 minutes before class)</span></span>
 </div>\n<div style='padding-left: 30px\;'><span style='font-size: large\;'
 ><strong><br /></strong></span><span style='font-size: 14pt\;'><strong>C</
 strong></span><span style='font-size: 14pt\;'><strong>lass A</strong></spa
 n><span style='font-size: 14pt\;'>: 7:00am -12:00pm &nbsp\;<span style='fo
 nt-size: 12pt\;'>(5 Contact Hours/.5 CEUs)</span></span></div>\n<div style
 ='padding-left: 30px\;'>&nbsp\; &nbsp\; &nbsp\; &nbsp\; &nbsp\;<span style
 ='font-size: 12pt\;'><strong><span style='font-family: Arial\;'><span styl
 e='font-size: 14pt\;'>Introduction:</span>&nbsp\;</span>&nbsp\;</strong> <
 /span><span style='font-size: 12pt\;'><strong><span style='font-family: Ar
 ial\;'>Overview of the Course</span><span style='font-family: Arial\;'>&nb
 sp\; &nbsp\;</span></strong></span></div>\n<div style='margin-left: 60px\;
 '>\n<p><span style='font-size: 14pt\;'><strong><span style='font-family: A
 rial\;'>Unit 1: &nbsp\; &nbsp\; &nbsp\; &nbsp\; &nbsp\; &nbsp\;</span>&nbs
 p\;&nbsp\;</strong></span><span style='font-size: 12pt\;'><strong><span st
 yle='font-family: Arial\;'>Keys to Writing Statements</span> </strong> </s
 pan></p>\n<p style='margin-left: 31px\;'><span style='font-size: 12pt\;'><
 strong><span style='font-family: Arial\;'>&nbsp\; &nbsp\; &nbsp\; &nbsp\; 
 &nbsp\; &nbsp\; &nbsp\; &nbsp\; &nbsp\; &nbsp\; &nbsp\; &nbsp\;Competency 
 Statement 1:&nbsp\;&nbsp\;</span> </strong><span style='font-family: Arial
 \;'>Planning a safe and healthy learning environment</span></span></p>\n<p
 ><span style='font-size: 14pt\;'><strong><span style='font-family: Arial\;
 '>Unit 2: &nbsp\; &nbsp\; &nbsp\; &nbsp\; &nbsp\; &nbsp\; </span><span>&nb
 sp\;</span></strong></span><span style='font-size: 12pt\;'><strong><span s
 tyle='font-family: Arial\;'>Competency Statement 2:&nbsp\;&nbsp\;</span> <
 /strong><span style='font-family: Arial\;'>Advancing children’s physical a
 nd intellectual development</span></span></p>\n</div>\n<div style='padding
 -left: 30px\;'><span style='font-size: 12pt\;'><br /><span style='font-siz
 e: 14pt\;'><strong>Class B:</strong>&nbsp\;12:30pm- 5:30pm &nbsp\;<span st
 yle='font-size: 12pt\;'>(5 Contact Hours/.5 CEUs)</span></span> </span></d
 iv>\n<div style='padding-left: 30px\;'><span style='font-size: 14pt\;'><sp
 an style='font-size: 14pt\;'><strong><span style='font-family: Arial\;'>&n
 bsp\; &nbsp\; &nbsp\;</span></strong></span></span>\n<div style='padding-l
 eft: 30px\; text-align: justify\;'><span style='font-size: 14pt\;'><strong
 ><span style='font-family: Arial\;'><span style='font-family: arial\, helv
 etica\, sans-serif\; font-size: 14pt\;'>Unit 3:&nbsp\; &nbsp\;&nbsp\;</spa
 n></span></strong></span><span style='font-size: 14pt\; font-family: arial
 \, helvetica\, sans-serif\;'><strong>Competency Statement 3:&nbsp\;&nbsp\;
 </strong>Supporting children’s social and emotional development</span></di
 v>\n<div style='text-align: justify\;'><span style='font-family: arial\, h
 elvetica\, sans-serif\; font-size: 14pt\;'>&nbsp\; &nbsp\; &nbsp\; </span>
 <span style='font-family: arial\, helvetica\, sans-serif\;'><strong style=
 'font-family: arial\, helvetica\, sans-serif\; font-size: 12pt\; text-inde
 nt: -1in\; color: inherit\;'><span style='font-size: 14pt\;'>Unit 4:&nbsp\
 ; &nbsp\;&nbsp\;</span><span style='font-size: 14pt\;'>Competency Statemen
 t 4:&nbsp\;&nbsp\;</span></strong></span><span style='font-family: arial\,
  helvetica\, sans-serif\; font-size: 14pt\;'>Establishing positive and pro
 ductive relationships with families</span></div>\n<div style='text-align: 
 justify\;'><span style='font-family: arial\, helvetica\, sans-serif\; font
 -size: 14pt\;'><strong>&nbsp\; &nbsp\; &nbsp\; Unit 5:&nbsp\; &nbsp\;&nbsp
 \;</strong></span><span style='font-size: 14pt\;'><span style='font-family
 : arial\, helvetica\, sans-serif\;'><strong>Competency Statement 5:&nbsp\;
 &nbsp\;</strong></span><span style='font-family: arial\, helvetica\, sans-
 serif\;'>Ensuring a well-run purposeful program&nbsp\;</span></span></div>
 \n<div style='text-align: justify\;'><span style='font-family: arial\, hel
 vetica\, sans-serif\;'><strong><span style='font-family: arial\, helvetica
 \, sans-serif\; font-size: 14pt\;'>&nbsp\; &nbsp\; &nbsp\; Unit 6:&nbsp\;&
 nbsp\; &nbsp\;</span><span style='font-size: 14pt\;'>Competency Statement 
 6:&nbsp\;&nbsp\;</span></strong><span style='font-size: 14pt\;'>Maintainin
 g a commitment to professionalism</span></span></div>\n<div style='padding
 -left: 60px\;'>&nbsp\;</div>\n</div>\n<div style='padding-left: 60px\;'>\n
 <p>&nbsp\;<span style='font-family: Arial\; font-size: 12pt\;'><strong>Doc
 umenting Professional Education</strong>&nbsp\;- 8 CDA Subject Areas</span
 ><span style='font-size: 12pt\;'></span></p>\n</div>\n<div><span style='fo
 nt-size: 12pt\;'><br /></span><span style='text-decoration: underline\;'><
 span style='font-size: large\;'><strong><span style='font-size: 14pt\;'>Sa
 turday\, December 9th\, 2023</span></strong></span></span></div>\n<div sty
 le='padding-left: 30px\;'>&nbsp\;</div>\n<div style='padding-left: 30px\;'
 ><span style='font-size: 14pt\;'><strong>Class C</strong><strong>:&nbsp\;<
 /strong>8:00am-3:00pm&nbsp\;<span style='font-size: 12pt\;'>(7 Contact Hou
 rs/.7 CEUs)</span></span></div>\n<div style='padding-left: 30px\;'><span s
 tyle='font-size: 12pt\;'>&nbsp\;(arrivals will be <span style='font-size: 
 12pt\;'>staggered</span><span style='font-size: 14pt\;'></span>\, students
  will be scheduled in as early as 8:00am)</span></div>\n<div style='paddin
 g-left: 30px\;'><span style='font-size: 12pt\;'><strong><span style='font-
 family: Arial\;'><span style='font-size: 14pt\;'>&nbsp\; &nbsp\; &nbsp\;</
 span></span></strong></span></div>\n<div style='padding-left: 30px\;'><spa
 n style='font-size: 14pt\;'><strong>Class D:&nbsp\;</strong>4:00pm - 7:00p
 m <span style='font-size: 12pt\;'>(3 Contact Hours/.3 CEUs)&nbsp\;</span><
 /span></div>\n<div style='padding-left: 30px\;'><span style='font-size: 14
 pt\;'><span style='font-size: 14pt\;'></span><span style='font-size: 12pt\
 ;'>(dissmissal will be <span style='font-size: 12pt\;'>staggered</span><sp
 an style='font-size: 14pt\;'></span>\, students will be dismissed througho
 ut the evening)</span></span></div>\n<div>\n<div>&nbsp\;</div>\n<div style
 ='padding-left: 30px\; text-align: center\;'><span style='font-size: 12pt\
 ;'><span style='font-size: 12pt\;'><strong><span style='font-family: Arial
 \;'><span style='font-size: 14pt\;'>C &amp\; D Class Content</span></span>
 </strong></span></span>\n<div style='padding-left: 60px\;'>&nbsp\;</div>\n
 </div>\n<div style='padding-left: 30px\;'><span style='font-size: 12pt\;'>
 <strong><span style='font-family: Arial\;'><span style='font-size: 14pt\;'
 >&nbsp\;Directed Portfolio Lab:</span>&nbsp\;&nbsp\;</span> </strong><span
  style='font-family: Arial\;'>The Directed Portfolio Lab allows for indivi
 dual consultation &amp\; one-on-one time with</span></span><span style='fo
 nt-size: 12pt\;'><span style='font-family: Arial\;'>&nbsp\;the &nbsp\; &nb
 sp\;</span></span></div>\n<div style='padding-left: 30px\;'><span style='f
 ont-size: 12pt\;'><span style='font-family: Arial\;'>&nbsp\;instructor. &n
 bsp\;Participants will work on their portfolio and meet with the instructo
 r to discuss their statements and</span></span><span style='font-size: 12p
 t\;'><span style='font-family: Arial\;'>&nbsp\;the </span></span></div>\n<
 div style='padding-left: 30px\;'><span style='font-size: 12pt\;'><span sty
 le='font-family: Arial\;'>&nbsp\;documentation within their professional p
 ortfolio.</span></span></div>\n</div>\n<div style='padding-left: 30px\;'>
 \n<div style='padding-left: 30px\;'>&nbsp\;</div>\n<div style='padding-lef
 t: 30px\;'><strong style='font-size: 12pt\; text-indent: -1in\; color: inh
 erit\; font-family: inherit\;'><span style='font-family: Arial\;'><span st
 yle='font-size: 12pt\;'>The Professional Philosophy Statement</span></span
 ></strong></div>\n<div>&nbsp\;</div>\n<div style='padding-left: 30px\;'><s
 pan style='font-size: 12pt\;'><strong>Individual Consultations - allows on
 e on one with instructors</strong></span></div>\n<div style='padding-left:
  60px\;'>&nbsp\;</div>\n</div>\n<div style='padding-left: 60px\;'>&nbsp\;<
 /div>\n<div><span style='font-size: 12pt\;'>&nbsp\;<span style='text-decor
 ation: underline\;'><span style='font-size: 14pt\;'><strong>Sunday\, Decem
 ber 10th\, 2023</strong></span></span></span></div>\n<div style='margin-le
 ft: 30px\;'><span style='font-size: large\;'><strong><br /></strong></span
 ><span style='font-size: 14pt\;'><strong>Class E</strong><strong>:</strong
 >&nbsp\;8:00am-3:00pm</span><span style='font-size: 12pt\;'>&nbsp\;<span s
 tyle='font-size: 12pt\;'>(7 Contact Hours/.7 CEUs)</span></span></div>\n<d
 iv style='margin-left: 30px\;'>\n<p style='margin-left: 1in\; text-indent:
  -1in\;'><span style='font-size: 14pt\;'><strong>Class F:</strong>&nbsp\;4
 :00pm-7:00pm&nbsp\;<span style='background-color: inherit\; color: inherit
 \; font-family: inherit\; caret-color: auto\;'>(3 Contact Hours/.3 CEUs)</
 span></span></p>\n<p>&nbsp\;</p>\n</div>\n<div style='padding-left: 30px\;
  text-align: center\;'><span style='font-size: 12pt\;'><strong><span style
 ='font-family: Arial\;'><span style='font-size: 14pt\;'><span style='font-
 size: 14pt\;'>E &amp\; F Class Content</span><span style='font-family: Ari
 al\;'></span><span style='font-size: 12pt\;'></span><span style='font-size
 : 12pt\;'></span>&nbsp\; &nbsp\; &nbsp\; </span></span></strong></span></d
 iv>\n<div style='padding-left: 30px\;'><span style='font-size: 12pt\;'><st
 rong><span style='font-family: Arial\;'><span style='font-size: 14pt\;'><s
 pan style='font-family: Arial\;'>&nbsp\; &nbsp\; &nbsp\; &nbsp\;<span styl
 e='font-size: 14pt\;'>Unit 7:</span><span style='font-family: Arial\;'>&nb
 sp\;CDA Practice Exam&nbsp\;</span>&nbsp\;</span><span style='font-size: 1
 2pt\;'></span></span></span></strong></span></div>\n<div style='padding-le
 ft: 30px\;'><span style='font-size: 12pt\;'><strong><span style='font-fami
 ly: Arial\;'><span style='font-size: 14pt\;'>&nbsp\; &nbsp\; &nbsp\; &nbsp
 \;Unit 8:</span>&nbsp\;</span></strong></span><span style='font-size: 14pt
 \;'><strong><span style='font-family: Arial\;'>I<strong>nstructions on com
 pleting the process</strong></span></strong></span></div>\n<div style='pad
 ding-left: 60px\;'>\n<p style='margin-left: 1in\; text-indent: -1in\;'><sp
 an style='font-size: 12pt\;'><strong><span style='font-family: Arial\;'>&n
 bsp\; &nbsp\; &nbsp\; &nbsp\; &nbsp\; &nbsp\; &nbsp\; &nbsp\; &nbsp\; &nbs
 p\; &nbsp\; &nbsp\; &nbsp\;&nbsp\;</span></strong></span><span style='font
 -size: 12pt\;'><strong><span style='font-family: Arial\;'>Understanding th
 e verification visit</span> </strong> </span></p>\n<p style='margin-left: 
 1in\; text-indent: -1in\;'><span style='font-size: 12pt\;'><strong><span s
 tyle='font-family: Arial\;'>&nbsp\; &nbsp\; &nbsp\; &nbsp\; &nbsp\; &nbsp\
 ; &nbsp\; &nbsp\; &nbsp\; &nbsp\; &nbsp\; &nbsp\; &nbsp\;&nbsp\;<strong>Th
 e application process</strong></span> </strong> </span></p>\n<p style='mar
 gin-left: 1in\; text-indent: -1in\;'><span style='font-size: 12pt\;'><stro
 ng><span style='font-family: Arial\;'>&nbsp\; &nbsp\; &nbsp\; &nbsp\; &nbs
 p\; &nbsp\; &nbsp\; &nbsp\; &nbsp\; &nbsp\; &nbsp\; &nbsp\; &nbsp\; Choosi
 ng your PD Specialist</span> </strong> </span></p>\n<p style='margin-left:
  1in\; text-indent: -1in\;'><span style='font-size: 12pt\;'><strong><span 
 style='font-family: Arial\;'>&nbsp\; &nbsp\; &nbsp\; &nbsp\; &nbsp\; &nbsp
 \; &nbsp\; &nbsp\; &nbsp\; &nbsp\; &nbsp\; &nbsp\; &nbsp\;&nbsp\;</span></
 strong></span><span style='font-size: 12pt\;'><strong><span style='font-fa
 mily: Arial\;'>Finding a Pearson Vue testing site&nbsp\;</span></strong></
 span></p>\n<p style='margin-left: 1in\; text-indent: -1in\;'><span style='
 font-size: 12pt\;'><strong><span style='font-family: Arial\;'>&nbsp\; &nbs
 p\; &nbsp\; </span></strong></span></p>\n<p style='text-align: center\;'><
 a href='http://handprint.niccm.com/products/cda-fast-track.html' title='Re
 gistration CDA Fast Track '><span style='font-size: 18pt\;'><span style='m
 argin: 0px\; padding: 0px\; border: 0px\; outline: 0px\; background-color:
  transparent\; font-family: arial\, helvetica\, sans-serif\;'><span style=
 'color: #ffffff\;'><span style='font-size: 19px\; padding: 3px 10px 4px\; 
 background-color: #7b3b3b\;'><strong>Click Here To Register Online Now!</s
 trong></span></span></span></span></a></p>\n<p style='text-align: center\;
 '>&nbsp\;</p>\n<p style='text-align: center\;'>&nbsp\;</p>\n<footer></foot
 er></div>\n<p style='text-align: center\;'><span style='font-size: 18pt\;'
 >&nbsp\; &nbsp\; &nbsp\; &nbsp\;Call (602) 476-1422 for More Information&n
 bsp\;</span></p>\n<p>&nbsp\;&nbsp\;</p>
DTSTART:20231208T070000Z
DTEND:20231210T190000Z
SUMMARY:CDA Fast Track  - Ft. Lauderdale 1223
URL:https://niccm.com/71-cda-fast-track/818-cda-fast-track-ft-lauderdale-12
 23
END:VEVENT
BEGIN:VEVENT
UID:20231201T160000UTC-3282P5WA7c@https://niccm.com/
DTSTAMP:20260425T190921Z
CATEGORIES:Past NICCM Events
DESCRIPTION:<h1 style='color: #000000\; visibility: visible\; text-align: c
 enter\;'>N.A.C. (National Administrator's Credential)</h1>\n<h2 style='col
 or: #000000\; visibility: visible\; text-align: justify\;'><span style='fo
 nt-size: 18pt\;'>Location/Hotel:</span>&nbsp\;&nbsp\;</h2>\n<p><span style
 ='font-family: arial\, helvetica\, sans-serif\; font-size: 14pt\; color: #
 000000\;'>The Westin Fort Lauderdale</span></p>\n<p><span style='font-fami
 ly: arial\, helvetica\, sans-serif\; font-size: 14pt\; color: #000000\;'>4
 00 Coporate Drive</span></p>\n<p><span style='font-family: arial\, helveti
 ca\, sans-serif\; font-size: 14pt\; color: #000000\;'>Fort Lauderdale\, FL
 &nbsp\; 33334</span></p>\n<p><span style='font-family: arial\, helvetica\,
  sans-serif\; font-size: 14pt\; color: #000000\;'>(954) 772-1331</span></p
 >\n<p><span style='font-family: arial\, helvetica\, sans-serif\; font-size
 : 14pt\;'><span style='color: #000000\;'>Reservations&nbsp\;<a href='https
 ://www.marriott.com/events/start.mi?id=1696354053541&amp\;key=GRP'>Marriot
 t.com</a></span></span></p>\n<p>&nbsp\;</p>\n<p style='background-color: t
 ransparent\; margin: 2px 0px\; padding: 0px\; border: 0px\; outline: 0px\;
  font-size: 12px\; color: #505f69\; font-family: Helvetica\, Arial\, FreeS
 ans\, sans-serif\;'>&nbsp\;</p>\n<p style='text-align: center\;'><a href='
 http://handprint.niccm.com/products/national-florida-and-texas-director-cr
 edential-n-a-c.html' title='Registration NAC '><span style='color: #ffffff
 \;'><span style='font-size: 19px\; padding: 3px 10px 4px\; background-colo
 r: #7b3b3b\;'><strong>Click Here To Register Online Now!</strong></span></
 span></a></p>\n<p>&nbsp\;</p>\n<p><span style='color: #000000\;'><strong s
 tyle='font-size: 14pt\;'><span style='font-size: 18pt\;'>Schedule:</span><
 /strong></span></p>\n<div><span style='color: #000000\;'><span style='text
 -decoration: underline\;'><strong><span style='font-size: 14pt\;'>Friday\,
  December 8th\, 2023</span></strong></span><strong><span style='font-size:
  14pt\;'>&nbsp\; &nbsp\;</span></strong></span></div>\n<div>&nbsp\;</div>
 \n<div><span style='font-size: 12pt\; color: #000000\;'><strong>Arrival an
 d Check-In:&nbsp\; </strong>3:45pm-4:00pm &nbsp\;</span><span style='color
 : #000000\;'><span style='color: #000000\;'>(Students must arrive and chec
 k-in at least 1 hour before class starts)</span></span></div>\n<div>&nbsp\
 ;</div>\n<div><span style='color: #000000\;'></span></div>\n<div><span sty
 le='font-size: 12pt\; color: #000000\;'><strong>Session A: &nbsp\;</strong
 >5:00pm-9:00pm&nbsp\;<span style='font-size: 10.6667px\;'>4</span><span st
 yle='font-size: 10.6667px\;'>&nbsp\;Contact Hours / .4 CEUs</span>&nbsp\;<
 span style='font-size: 8pt\;'>(For Sessions taken individually earn up to 
 5 Contact Hours / .5 CEUs by completing 1 Praxis question)</span></span></
 div>\n<div style='padding-left: 30px\;'><span style='font-size: 12pt\; col
 or: #000000\;'>Unit 1: Fiscal Management&nbsp\;</span></div>\n<div style='
 padding-left: 30px\;'><span style='font-size: 12pt\; color: #000000\;'>Uni
 t 2: Insurance for Your Center</span></div>\n<div>&nbsp\;</div>\n<div styl
 e='padding-left: 30px\;'><span style='color: #000000\;'></span></div>\n<di
 v><span style='color: #000000\;'><span style='text-decoration: underline\;
 '><strong><span style='font-size: 14pt\;'>Saturday\, December 9th\, 2023</
 span></strong></span><span style='font-size: 8pt\;'>&nbsp\; &nbsp\;</span>
 </span></div>\n<div>&nbsp\;</div>\n<div><span style='color: #000000\;'></s
 pan></div>\n<div><span style='font-size: 12pt\; color: #000000\;'><strong>
 Session B:</strong>&nbsp\;&nbsp\;8:00am-12:00pm&nbsp\;<span style='font-si
 ze: 10.6667px\;'>4</span><span style='font-size: 10.6667px\;'>&nbsp\;Conta
 ct Hours / .4 CEUs&nbsp\;</span><span style='font-size: 8pt\;'>(For Sessio
 ns taken individually earn up to 5 Contact Hours / .5 CEUs by completing 1
  Praxis question)</span></span></div>\n<div style='padding-left: 30px\;'><
 span style='font-size: 12pt\; color: #000000\;'>Unit 3: Hiring &amp\; Teac
 her Orientation</span></div>\n<div style='padding-left: 30px\;'><span styl
 e='font-size: 12pt\; color: #000000\;'>Unit 4: Employee Handbooks &amp\; E
 vals</span></div>\n<div style='padding-left: 30px\;'><span style='color: #
 000000\;'></span></div>\n<div><span style='font-size: 12pt\; color: #00000
 0\;'><strong>Session C:</strong>&nbsp\;&nbsp\;1:00pm-5:00pm &nbsp\;<span s
 tyle='font-size: 10.6667px\;'>4</span><span style='font-size: 10.6667px\;'
 >&nbsp\;Contact Hours / .4 CEUs&nbsp\;</span><span style='font-size: 8pt\;
 '>(For Sessions taken individually earn up to 5 Contact Hours / .5 CEUs by
  completing 1 Praxis question)</span></span></div>\n<div style='padding-le
 ft: 30px\;'><span style='font-size: 12pt\; color: #000000\;'>Unit 5: Cente
 r Management</span></div>\n<div style='padding-left: 30px\;'><span style='
 font-size: 12pt\; color: #000000\;'>Unit 6: Child Development - The Essent
 ials</span></div>\n<div>&nbsp\;</div>\n<div style='padding-left: 30px\;'><
 span style='color: #000000\;'></span></div>\n<div><span style='color: #000
 000\;'><span style='text-decoration: underline\;'><strong><span style='fon
 t-size: 14pt\;'>Sunday\, December 10th\, 2023</span></strong></span><stron
 g><span style='font-size: 14pt\;'>&nbsp\; &nbsp\;</span></strong></span></
 div>\n<div>&nbsp\;</div>\n<div><span style='color: #000000\;'></span></div
 >\n<div><span style='font-size: 12pt\; color: #000000\;'><strong>Session D
 : &nbsp\;</strong>8:00am-12:00pm&nbsp\;<span style='font-size: 10.6667px\;
 '>4</span><span style='font-size: 10.6667px\;'>&nbsp\;Contact Hours / .4 C
 EUs&nbsp\;</span><span style='font-size: 8pt\;'>(For Sessions taken indivi
 dually earn up to 5 Contact Hours / .5 CEUs by completing 1 Praxis questio
 n)</span></span></div>\n<div style='padding-left: 30px\;'><span style='fon
 t-size: 12pt\; color: #000000\;'>Unit 7: Dealing with Difficult Employees<
 /span></div>\n<div style='padding-left: 30px\;'><span style='font-size: 12
 pt\; color: #000000\;'>Unit 8: Administrative Leadership</span></div>\n<di
 v style='padding-left: 30px\;'><span style='color: #000000\;'></span></div
 >\n<div>\n<div><span style='font-size: 12pt\; color: #000000\;'><strong>Se
 ssion E: &nbsp\;</strong>1:00pm-5:00pm&nbsp\;<span style='font-size: 10.66
 67px\;'>4</span><span style='font-size: 10.6667px\;'>&nbsp\;Contact Hours 
 / .4 CEUs&nbsp\;</span><span style='font-size: 8pt\;'>(For Sessions taken 
 individually earn up to 5 Contact Hours / .5 CEUs by completing 1 Praxis q
 uestion)</span></span></div>\n<div style='padding-left: 30px\;'><span styl
 e='font-size: 12pt\; color: #000000\;'>Unit 9: The New Economy</span></div
 >\n<div style='padding-left: 30px\;'><span style='font-size: 12pt\; color:
  #000000\;'>Unit 10: Train the Trainer</span></div>\n<div>&nbsp\;</div>\n<
 div style='padding-left: 30px\;'><span style='color: #000000\;'></span></d
 iv>\n<div style='padding-left: 30px\;'><span style='color: #000000\;'>&nbs
 p\;&nbsp\;</span></div>\n</div>\n<div>\n<div>\n<div><span style='color: #0
 00000\; font-family: arial\, helvetica\, sans-serif\; font-size: 12pt\;'><
 strong>Session F: &nbsp\;Credential Praxis&nbsp\;</strong>(25 Contact Hour
 s / 2.5 CEUs)</span></div>\n<div><span style='color: #000000\; font-family
 : arial\, helvetica\, sans-serif\; font-size: 12pt\;'>When attending the f
 ull conference\, each Session is worth 4 Hours/ .4 CEUs for a total of 20 
 hours for sessions A-E. &nbsp\;Convert the 20 contact hours / 2 CEUs from 
 attendance in sessions A-E into the NAC (which is worth 45 contact hours/4
 .5 CEUs) by completing the Praxis. &nbsp\;Students will be assigned an ins
 tructor to advise them during the completion of their project from home if
  they have questions. Students also have the option of registering for tut
 oring to complete their praxis during the event\, at a future event or to 
 get additional help from home on their praxis.&nbsp\;</span></div>\n</div>
 \n<div>&nbsp\;</div>\n</div>\n<div><span style='color: #000000\;'></span><
 /div>\n<div style='padding-left: 30px\;'><span style='color: #000000\;'></
 span></div>\n<div><span style='color: #000000\;'><span style='color: #9933
 00\;'><strong style='font-family: arial\, helvetica\, sans-serif\; font-si
 ze: 16px\;'><a href='http://handprint.niccm.com/products/national-administ
 rators-credential-n-a-c-tutoring.html' title='NAC Tutoring Registration '>
 <span style='font-size: 12pt\; color: #993300\;'>Optional Tutoring ($160)<
 /span></a>&nbsp\;&nbsp\;</strong></span><span style='font-family: arial\, 
 helvetica\, sans-serif\; font-size: 16px\;'>Students who elect to stay for
  tutoring will receive a list of materials to bring with them. &nbsp\;The 
 presenter will provide individualized assistance to each tutoring particip
 ant in order to help them put together and complete their Praxis. Tutoring
  allows students the&nbsp\;<strong>opportunity</strong>&nbsp\;of completin
 g their test and praxis at the event and&nbsp\;<strong>leave having earned
  their certificate</strong>. &nbsp\;Those who wish to participate in tutor
 ing are advised to register for this service at least 3 days prior to the 
 event to obtain a list of suggested documentation. Tutoring is usually off
 ered on Saturday and Sunday of each event from approximately 5:15 pm - 8:1
 5 pm.</span></span></div>
DTSTART:20231208T160000Z
DTEND:20231210T170000Z
SUMMARY:NAC -Ft. Lauderdale 1223
URL:https://niccm.com/70-upcoming-credential-courses/834-nac-ft-lauderdale-
 1223
END:VEVENT
END:VCALENDAR
