BEGIN:VCALENDAR
VERSION:2.0
PRODID:-//https://niccm.com//NONSGML kigkonsult.se iCalcreator 2.23.20//
METHOD:PUBLISH
X-WR-CALNAME:JCal Pro Calendar
X-WR-CALDESC:Your online events calendar
X-WR-TIMEZONE:UTC
BEGIN:VTIMEZONE
TZID:UTC
BEGIN:STANDARD
DTSTART:20260425T105050
TZOFFSETFROM:+0000
TZOFFSETTO:+0000
END:STANDARD
END:VTIMEZONE
BEGIN:VEVENT
UID:20240712T070000UTC-5237VbFBnu@https://niccm.com/
DTSTAMP:20260425T105050Z
CATEGORIES:Past NICCM Events
DESCRIPTION:<h1 style='color: #000000\; visibility: visible\; text-align: c
 enter\;'><span style='font-family: arial\, helvetica\, sans-serif\; font-s
 ize: 18pt\;'>CDA Fast Track&nbsp\;</span></h1>\n<h2 style='color: #000000\
 ; visibility: visible\; text-align: justify\;'><span style='font-size: 12p
 t\; font-family: arial\, helvetica\, sans-serif\;'><strong style='font-siz
 e: 18pt\;'>Location/Hotel:</strong></span>&nbsp\;</h2>\n<p style='backgrou
 nd-color: transparent\; margin: 2px 0px\; padding: 0px\; border: 0px\; out
 line: 0px\; font-size: 12px\; color: #505f69\; font-family: Helvetica\, Ar
 ial\, FreeSans\, sans-serif\;'><span style='color: #000000\; font-family: 
 arial\, helvetica\, sans-serif\; font-size: 14pt\;'>Drury Inn &amp\; Suite
 s San Antonio North Stone Oak</span></p>\n<p><span style='color: #000000\;
  font-family: arial\, helvetica\, sans-serif\; font-size: 14pt\;'>801 Nort
 h Loop 1604 East</span></p>\n<p><span style='color: #000000\; font-family:
  arial\, helvetica\, sans-serif\; font-size: 14pt\;'>San Antonio\, TX&nbsp
 \; 78258</span></p>\n<p><span style='color: #000000\; font-family: arial\,
  helvetica\, sans-serif\; font-size: 14pt\;'>(210) 404-1600</span></p>\n<p
 ><span style='font-size: 14pt\; font-family: arial\, helvetica\, sans-seri
 f\; color: #000000\;'>Reservations</span>&nbsp\;<a href='https://www.drury
 hotels.com/bookandstay/newreservation/?groupno=10072340'><span style='font
 -size: 14pt\;'>Drury.com&nbsp\;</span></a></p>\n<p><span style='color: #00
 00ff\; font-size: 14pt\;'><span style='color: #000000\;'>Call for assistan
 ce if there aren't any available reservations on the link.</span>&nbsp\;</
 span></p>\n<address>&nbsp\;</address>\n<p>&nbsp\;</p>\n<p style='text-alig
 n: center\;'><a href='http://handprint.niccm.com/products/cda-fast-track.h
 tml' title='Registration CDA Fast Track '><span style='font-size: 18pt\;'>
 <span style='margin: 0px\; padding: 0px\; border: 0px\; outline: 0px\; bac
 kground-color: transparent\; font-family: arial\, helvetica\, sans-serif\;
 '><span style='color: #ffffff\;'><span style='font-size: 19px\; padding: 3
 px 10px 4px\; background-color: #7b3b3b\;'><strong>Click Here To Register 
 Online Now!</strong></span></span></span></span></a></p>\n<p style='text-a
 lign: center\;'>&nbsp\;<span style='font-size: 18pt\;'><span style='margin
 : 0px\; padding: 0px\; border: 0px\; outline: 0px\; background-color: tran
 sparent\; font-family: arial\, helvetica\, sans-serif\;'>&nbsp\; &nbsp\; &
 nbsp\; &nbsp\; &nbsp\; &nbsp\; &nbsp\; &nbsp\; &nbsp\; &nbsp\; &nbsp\; &nb
 sp\; &nbsp\;&nbsp\;</span></span>&nbsp\;</p>\n<p style='text-align: center
 \;'>&nbsp\;</p>\n<div style='text-align: center\;'>\n<p style='visibility:
  visible\; text-align: justify\;'><span style='color: #333333\;'><span sty
 le='font-size: 12pt\; font-family: arial\, helvetica\, sans-serif\;'><stro
 ng style='font-size: 18pt\;'>Course Content &amp\; Schedule:</strong></spa
 n>&nbsp\;</span></p>\n<p style='visibility: visible\; text-align: justify\
 ;'><span style='color: #333333\;'></span></p>\n</div>\n<div>&nbsp\;</div>
 \n<div style='text-align: justify\;'><span style='text-decoration: underli
 ne\; color: #333333\;'><span style='font-size: large\;'><strong><span styl
 e='font-size: 14pt\;'>Friday\, July 12th\, 2024</span></strong></span></sp
 an></div>\n<div><span style='color: #333333\;'></span></div>\n<div>&nbsp\;
 </div>\n<div><span style='font-size: 14pt\; color: #333333\;'><strong>Arri
 val and Check-In</strong>: 6:45am -7:00am <span style='font-size: 12pt\;'>
 (students must arrive and check-in 15 minutes before class)</span></span><
 /div>\n<div style='padding-left: 30px\;'><span style='color: #333333\;'><s
 pan style='font-size: large\;'><strong><br /></strong></span><span style='
 font-size: 14pt\;'><strong>C</strong><strong>lass A</strong>: 7:00am -12:0
 0pm &nbsp\;(5 Contact Hours/.5 CEUs)</span></span></div>\n<div style='padd
 ing-left: 30px\;'><span style='font-size: 14pt\; color: #333333\;'>&nbsp\;
  &nbsp\; &nbsp\;&nbsp\;</span><span style='font-size: 14pt\; color: #33333
 3\;'><strong><span style='font-family: Arial\;'>Introduction:&nbsp\;</span
 >&nbsp\;</strong> <strong><span style='font-family: Arial\;'>Overview of t
 he Course</span><span style='font-family: Arial\;'>&nbsp\; &nbsp\;</span><
 /strong></span></div>\n<div style='margin-left: 60px\;'>\n<p><span style='
 font-size: 14pt\; color: #333333\;'><strong><span style='font-family: Aria
 l\;'>Unit 1:&nbsp\; &nbsp\; </span></strong><strong><span style='font-fami
 ly: Arial\;'>Keys to Writing Statements</span> </strong> </span></p>\n<p s
 tyle='margin-left: 31px\;'><span style='font-size: 14pt\; color: #333333\;
 '><strong><span style='font-family: Arial\;'>&nbsp\; &nbsp\; &nbsp\; &nbsp
 \; &nbsp\;Competency Statement 1:&nbsp\;&nbsp\;</span> </strong><span styl
 e='font-family: Arial\;'>Planning a safe and healthy learning environment<
 /span></span></p>\n<p><span style='font-size: 14pt\; color: #333333\;'><st
 rong><span style='font-family: Arial\;'>Unit 2:&nbsp\; &nbsp\; </span></st
 rong><strong><span style='font-family: Arial\;'>Competency Statement 2:&nb
 sp\;&nbsp\;</span> </strong><span style='font-family: Arial\;'>Advancing c
 hildren’s physical and intellectual development</span></span></p>\n</div>
 \n<div style='padding-left: 30px\;'><span style='font-size: 12pt\; color: 
 #333333\;'><br /><span style='font-size: 14pt\;'><strong>Class B:</strong>
 &nbsp\;12:30pm- 5:30pm &nbsp\;(5 Contact Hours/.5 CEUs) </span></span></di
 v>\n<div style='padding-left: 30px\;'><span style='font-size: 14pt\; color
 : #333333\;'><strong><span style='font-family: Arial\;'>&nbsp\; &nbsp\; &n
 bsp\;</span></strong></span>\n<div style='padding-left: 30px\; text-align:
  justify\;'><span style='color: #333333\; font-size: 14pt\;'><strong><span
  style='font-family: Arial\;'>Unit 3:&nbsp\; &nbsp\;&nbsp\;</span></strong
 ><strong>Competency Statement 3:&nbsp\;&nbsp\;</strong>Supporting children
 ’s social and emotional development</span></div>\n<div style='text-align: 
 justify\;'><span style='color: #333333\; font-size: 14pt\;'>&nbsp\; &nbsp\
 ; &nbsp\; </span><span style='color: #333333\;'><strong style='font-family
 : arial\, helvetica\, sans-serif\; font-size: 12pt\; text-indent: -1in\; c
 olor: inherit\;'><span style='font-size: 14pt\;'>Unit 4:&nbsp\; &nbsp\;&nb
 sp\;Competency Statement 4:</span>&nbsp\;&nbsp\;</strong></span><span styl
 e='color: #333333\; font-size: 14pt\;'>Establishing positive and productiv
 e relationships with families</span></div>\n<div style='text-align: justif
 y\;'><span style='color: #333333\; font-size: 14pt\;'><strong>&nbsp\; &nbs
 p\; &nbsp\; Unit 5:&nbsp\; &nbsp\;&nbsp\;</strong><strong>Competency State
 ment 5:&nbsp\;&nbsp\;</strong>Ensuring a well-run purposeful program&nbsp\
 ;</span></div>\n<div style='text-align: justify\;'><span style='color: #33
 3333\; font-size: 14pt\;'><strong>&nbsp\; &nbsp\; &nbsp\; Unit 6:&nbsp\;&n
 bsp\; &nbsp\;Competency Statement 6:&nbsp\;&nbsp\;</strong>Maintaining a c
 ommitment to professionalism</span></div>\n<div style='padding-left: 60px\
 ;'><span style='color: #333333\; font-size: 14pt\;'></span></div>\n</div>
 \n<div style='padding-left: 60px\;'>\n<p><span style='font-size: 14pt\; co
 lor: #333333\;'></span></p>\n<p><span style='color: #333333\; font-size: 1
 4pt\;'></span></p>\n<p><span style='font-size: 14pt\; color: #333333\;'><s
 pan style='font-family: Arial\;'><strong>Documenting Professional Educatio
 n</strong>&nbsp\;- 8 CDA Subject Areas</span>&nbsp\;</span></p>\n</div>\n<
 div><span style='font-size: 14pt\; color: #333333\;'><br /><span style='te
 xt-decoration: underline\;'><strong>Saturday\, July 13th\, 2024</strong></
 span></span></div>\n<div style='padding-left: 30px\;'><span style='font-si
 ze: 14pt\; color: #333333\;'></span></div>\n<div>&nbsp\;</div>\n<div style
 ='padding-left: 30px\;'><span style='font-size: 14pt\; color: #333333\;'><
 strong>Class C</strong><strong>:&nbsp\;</strong>8:00am-3:00pm&nbsp\;(7 Con
 tact Hours/.7 CEUs)</span></div>\n<div style='padding-left: 30px\;'><span 
 style='font-size: 14pt\; color: #333333\;'>&nbsp\;(arrivals will be stagge
 red\, students will be scheduled in as early as 8:00am)</span></div>\n<div
  style='padding-left: 30px\;'><span style='font-size: 14pt\; color: #33333
 3\;'><strong><span style='font-family: Arial\;'>&nbsp\; &nbsp\; &nbsp\;</s
 pan></strong></span></div>\n<div style='padding-left: 30px\;'><span style=
 'font-size: 14pt\; color: #333333\;'><strong>Class D:&nbsp\;</strong>4:00p
 m - 7:00pm (3 Contact Hours/.3 CEUs)&nbsp\;</span></div>\n<div style='padd
 ing-left: 30px\;'><span style='font-size: 14pt\; color: #333333\;'>&nbsp\;
 (dissmissal will be staggered\, students will be dismissed throughout the 
 evening)</span></div>\n<div>\n<div><span style='font-size: 14pt\; color: #
 333333\;'></span></div>\n<div>&nbsp\;</div>\n<div style='text-align: cente
 r\;'>&nbsp\;<span style='font-size: 14pt\; color: #333333\;'><strong><span
  style='font-family: Arial\;'>C &amp\; D Class Content</span></strong></sp
 an>\n<div style='padding-left: 60px\;'><span style='font-size: 14pt\; colo
 r: #333333\;'></span></div>\n</div>\n<div>&nbsp\;<span style='color: #3333
 33\;'><span style='font-size: 14pt\;'><strong><span style='font-family: Ar
 ial\;'>Directed Portfolio Lab:&nbsp\;</span></strong><span style='font-fam
 ily: Arial\;'>The Directed Portfolio Lab allows for individual consultatio
 n &amp\; one-on-one time with</span><span style='font-family: Arial\;'>&nb
 sp\;the&nbsp\;</span></span><span style='font-size: 14pt\;'><span style='f
 ont-family: Arial\;'>instructor. &nbsp\;Participants will work on their po
 rtfolio and meet with the instructor to discuss their statements and</span
 ><span style='font-family: Arial\;'>&nbsp\;the </span></span><span style='
 font-size: 14pt\;'><span style='font-family: Arial\;'>documentation within
  their professional portfolio.</span></span></span></div>\n<div><strong st
 yle='font-family: arial\, helvetica\, sans-serif\;'>&nbsp\; &nbsp\; &nbsp\
 ; &nbsp\; &nbsp\; &nbsp\; &nbsp\; &nbsp\; &nbsp\;<span style='font-size: 1
 4pt\; color: #000000\;'>The Professional Philosophy Statement</span></stro
 ng></div>\n</div>\n<div style='padding-left: 30px\;'>\n<div style='text-al
 ign: justify\;'><span style='color: #333333\;'>&nbsp\; &nbsp\; &nbsp\; &nb
 sp\; &nbsp\;</span><span style='font-family: arial\, helvetica\, sans-seri
 f\; color: #333333\; font-size: 14pt\;'><strong>Individual Consultations -
  allows one on one with instructors</strong></span></div>\n<div style='pad
 ding-left: 60px\;'><span style='font-family: arial\, helvetica\, sans-seri
 f\; color: #333333\; font-size: 14pt\;'></span></div>\n</div>\n<div style=
 'padding-left: 60px\;'><span style='font-size: 14pt\; font-family: arial\,
  helvetica\, sans-serif\; color: #333333\;'></span></div>\n<div><span styl
 e='font-size: 14pt\; color: #333333\;'></span></div>\n<div>&nbsp\;</div>\n
 <div><span style='font-size: 14pt\; color: #333333\;'><span style='text-de
 coration: underline\;'><strong>Sunday\, July 14th\, 2024</strong></span></
 span></div>\n<div style='margin-left: 30px\;'><span style='font-size: 14pt
 \; color: #333333\;'><strong><br /></strong><strong>Class E</strong><stron
 g>:</strong>&nbsp\;8:00am-3:00pm&nbsp\;(7 Contact Hours/.7 CEUs)</span></d
 iv>\n<div style='margin-left: 30px\;'>\n<p style='margin-left: 1in\; text-
 indent: -1in\;'><span style='font-size: 14pt\; color: #333333\;'><strong>C
 lass F:</strong>&nbsp\;4:00pm-7:00pm&nbsp\;<span style='background-color: 
 inherit\; font-family: inherit\; caret-color: auto\;'>(3 Contact Hours/.3 
 CEUs)</span></span></p>\n<p><span style='font-size: 14pt\; color: #333333\
 ;'></span></p>\n</div>\n<div>&nbsp\;</div>\n<div style='padding-left: 30px
 \; text-align: center\;'><span style='font-size: 14pt\; color: #333333\;'>
 <strong><span style='font-family: Arial\;'>E &amp\; F Class Content<span s
 tyle='font-family: Arial\;'></span>&nbsp\;&nbsp\;&nbsp\; &nbsp\; &nbsp\; <
 /span></strong></span></div>\n<div style='padding-left: 30px\;'><span styl
 e='font-size: 14pt\; color: #333333\;'><strong><span style='font-family: A
 rial\;'><span style='font-family: Arial\;'>&nbsp\; &nbsp\; &nbsp\; &nbsp\;
 Unit 7:<span style='font-family: Arial\;'>&nbsp\;CDA Practice Exam&nbsp\;<
 /span>&nbsp\;</span>&nbsp\;</span></strong></span></div>\n<div style='padd
 ing-left: 30px\;'><span style='font-size: 14pt\; color: #333333\;'><strong
 ><span style='font-family: Arial\;'>&nbsp\; &nbsp\; &nbsp\; &nbsp\;</span>
 </strong></span><span style='color: #333333\; font-size: 14pt\;'><strong><
 span style='font-family: Arial\;'>Unit 8:&nbsp\;</span></strong><strong><s
 pan style='font-family: Arial\;'>I<strong>nstructions on completing the pr
 ocess</strong></span></strong></span></div>\n<div style='padding-left: 60p
 x\;'>\n<p style='margin-left: 1in\; text-indent: -1in\;'><span style='font
 -size: 14pt\; color: #333333\;'><strong><span style='font-family: Arial\;'
 >&nbsp\; &nbsp\; &nbsp\; &nbsp\; &nbsp\; &nbsp\; &nbsp\; &nbsp\; &nbsp\; &
 nbsp\; &nbsp\; &nbsp\; &nbsp\;&nbsp\;</span></strong><strong><span style='
 font-family: Arial\;'>Understanding the verification visit</span> </strong
 > </span></p>\n<p style='margin-left: 1in\; text-indent: -1in\;'><span sty
 le='font-size: 14pt\; color: #333333\;'><strong><span style='font-family: 
 Arial\;'>&nbsp\; &nbsp\; &nbsp\; &nbsp\; &nbsp\; &nbsp\; &nbsp\; &nbsp\; &
 nbsp\; &nbsp\; &nbsp\; &nbsp\; &nbsp\;&nbsp\;<strong>The application proce
 ss</strong></span> </strong> </span></p>\n<p style='margin-left: 1in\; tex
 t-indent: -1in\;'><span style='font-size: 14pt\; color: #333333\;'><strong
 ><span style='font-family: Arial\;'>&nbsp\; &nbsp\; &nbsp\; &nbsp\; &nbsp\
 ; &nbsp\; &nbsp\; &nbsp\; &nbsp\; &nbsp\; &nbsp\; &nbsp\; &nbsp\; Choosing
  your PD Specialist</span> </strong> </span></p>\n<p style='margin-left: 1
 in\; text-indent: -1in\;'><span style='font-size: 14pt\; color: #333333\;'
 ><strong><span style='font-family: Arial\;'>&nbsp\; &nbsp\; &nbsp\; &nbsp\
 ; &nbsp\; &nbsp\; &nbsp\; &nbsp\; &nbsp\; &nbsp\; &nbsp\; &nbsp\; &nbsp\;&
 nbsp\;</span></strong><strong><span style='font-family: Arial\;'>Finding a
  Pearson Vue testing site&nbsp\;</span></strong></span></p>\n<p style='mar
 gin-left: 1in\; text-indent: -1in\;'><span style='font-size: 14pt\;'><stro
 ng><span style='font-family: Arial\;'>&nbsp\; &nbsp\; &nbsp\; </span></str
 ong></span></p>\n<p style='text-align: center\;'><span style='font-size: 1
 4pt\;'><a href='http://handprint.niccm.com/products/cda-fast-track.html' t
 itle='Registration CDA Fast Track '><span style='margin: 0px\; padding: 0p
 x\; border: 0px\; outline: 0px\; background-color: transparent\; font-fami
 ly: arial\, helvetica\, sans-serif\;'><span style='color: #ffffff\;'><span
  style='padding: 3px 10px 4px\; background-color: #7b3b3b\;'><strong>Click
  Here To Register Online Now!</strong></span></span></span></a></span></p>
 \n<p style='text-align: center\;'>&nbsp\;</p>\n<p style='text-align: cente
 r\;'>&nbsp\;</p>\n<footer></footer></div>\n<p style='text-align: center\;'
 ><span style='font-size: 18pt\;'>&nbsp\; &nbsp\; &nbsp\; &nbsp\;Call (602)
  476-1422 for More Information&nbsp\;</span></p>\n<p>&nbsp\;&nbsp\;</p>
DTSTART:20240712T070000Z
DTEND:20240714T190000Z
SUMMARY:CDA Fast Track  - San Antonio 724  
URL:https://niccm.com/71-cda-fast-track/869-cda-fast-track-san-antonio-724
END:VEVENT
BEGIN:VEVENT
UID:20240712T160000UTC-5639DebWdP@https://niccm.com/
DTSTAMP:20260425T105050Z
CATEGORIES:Past NICCM Events
DESCRIPTION:<h1 style='color: #000000\; visibility: visible\; text-align: c
 enter\;'>N.A.C. (National Administrator's Credential)</h1>\n<h2 style='col
 or: #000000\; visibility: visible\; text-align: justify\;'><span style='fo
 nt-size: 18pt\;'>Location/Hotel:</span>&nbsp\;&nbsp\;</h2>\n<p style='back
 ground-color: transparent\; margin: 2px 0px\; padding: 0px\; border: 0px\;
  outline: 0px\; font-size: 12px\; color: #505f69\; font-family: Helvetica\
 , Arial\, FreeSans\, sans-serif\;'>&nbsp\;</p>\n<p style='background-color
 : transparent\; margin: 2px 0px\; padding: 0px\; border: 0px\; outline: 0p
 x\; font-size: 12px\; color: #505f69\; font-family: Helvetica\, Arial\, Fr
 eeSans\, sans-serif\;'><span style='color: #000000\; font-family: arial\, 
 helvetica\, sans-serif\; font-size: 14pt\;'>Drury Inn &amp\; Suites San An
 tonio North Stone Oak</span></p>\n<p><span style='color: #000000\; font-fa
 mily: arial\, helvetica\, sans-serif\; font-size: 14pt\;'>801 North Loop 1
 604 East</span></p>\n<p><span style='color: #000000\; font-family: arial\,
  helvetica\, sans-serif\; font-size: 14pt\;'>San Antonio\, TX&nbsp\; 78258
 </span></p>\n<p><span style='color: #000000\; font-family: arial\, helveti
 ca\, sans-serif\; font-size: 14pt\;'>(210) 404-1600</span></p>\n<p><span s
 tyle='font-size: 14pt\; font-family: arial\, helvetica\, sans-serif\; colo
 r: #000000\;'>Reservations</span>&nbsp\;<span style='font-size: 14pt\;'><a
  href='https://www.druryhotels.com/bookandstay/newreservation/?groupno=100
 72340'>Drury.com</a><a href='https://www.hilton.com/en/book/reservation/de
 eplink/?ctyhocn=MCOBVGI&amp\;groupCode=NICCM6&amp\;arrivaldate=2023-11-14&
 amp\;departuredate=2023-11-20&amp\;cid=OM\,WW\,HILTONLINK\,EN\,DirectLink&
 amp\;fromId=HILTONLINKDIRECT'></a></span></p>\n<p><span style='color: #000
 0ff\; font-size: 14pt\;'><span style='color: #000000\;'>Call for assistanc
 e if there aren't any available reservations on the link.</span>&nbsp\;</s
 pan></p>\n<p>&nbsp\;</p>\n<p>&nbsp\;</p>\n<p style='text-align: center\;'>
 <a href='http://handprint.niccm.com/products/national-florida-and-texas-di
 rector-credential-n-a-c.html' title='Registration NAC '><span style='color
 : #ffffff\;'><span style='font-size: 19px\; padding: 3px 10px 4px\; backgr
 ound-color: #7b3b3b\;'><strong>Click Here To Register Online Now!</strong>
 </span></span></a></p>\n<p>&nbsp\;</p>\n<p>&nbsp\;</p>\n<p><span style='co
 lor: #000000\;'><strong style='font-size: 14pt\;'><span style='font-size: 
 18pt\;'>Schedule:</span></strong></span></p>\n<div>&nbsp\;</div>\n<div><sp
 an style='color: #000000\;'><span style='text-decoration: underline\;'><st
 rong><span style='font-size: 14pt\;'>Friday\, July 12th\, 2024</span></str
 ong></span><strong><span style='font-size: 14pt\;'>&nbsp\; &nbsp\;</span><
 /strong></span></div>\n<div>&nbsp\;</div>\n<div><span style='font-size: 12
 pt\; color: #000000\;'><strong>Arrival and Check-In:&nbsp\; </strong>3:45p
 m-4:00pm &nbsp\;</span><span style='color: #000000\;'><span style='color: 
 #000000\;'>(Students must arrive and check-in at least 1 hour before class
  starts)</span></span></div>\n<div>&nbsp\;</div>\n<div><span style='color:
  #000000\;'></span></div>\n<div><span style='font-size: 12pt\; color: #000
 000\;'><strong>Session A: &nbsp\;</strong>5:00pm-9:00pm&nbsp\;<span style=
 'font-size: 10.6667px\;'>4</span><span style='font-size: 10.6667px\;'>&nbs
 p\;Contact Hours / .4 CEUs</span>&nbsp\;<span style='font-size: 8pt\;'>(Fo
 r Sessions taken individually earn up to 5 Contact Hours / .5 CEUs by comp
 leting 1 Praxis question)</span></span></div>\n<div style='padding-left: 3
 0px\;'><span style='font-size: 12pt\; color: #000000\;'>Unit 1: Fiscal Man
 agement&nbsp\;</span></div>\n<div style='padding-left: 30px\;'><span style
 ='font-size: 12pt\; color: #000000\;'>Unit 2: Insurance for Your Center</s
 pan></div>\n<div>&nbsp\;</div>\n<div style='padding-left: 30px\;'><span st
 yle='color: #000000\;'></span></div>\n<div><span style='color: #000000\;'>
 <span style='text-decoration: underline\;'><strong><span style='font-size:
  14pt\;'>Saturday\, July 13th\, 2024</span></strong></span><span style='fo
 nt-size: 8pt\;'>&nbsp\;&nbsp\;</span></span></div>\n<div>&nbsp\;</div>\n<d
 iv><span style='color: #000000\;'></span></div>\n<div><span style='font-si
 ze: 12pt\; color: #000000\;'><strong>Session B:</strong>&nbsp\;&nbsp\;8:00
 am-12:00pm&nbsp\;<span style='font-size: 10.6667px\;'>4</span><span style=
 'font-size: 10.6667px\;'>&nbsp\;Contact Hours / .4 CEUs&nbsp\;</span><span
  style='font-size: 8pt\;'>(For Sessions taken individually earn up to 5 Co
 ntact Hours / .5 CEUs by completing 1 Praxis question)</span></span></div>
 \n<div style='padding-left: 30px\;'><span style='font-size: 12pt\; color: 
 #000000\;'>Unit 3: Hiring &amp\; Teacher Orientation</span></div>\n<div st
 yle='padding-left: 30px\;'><span style='font-size: 12pt\; color: #000000\;
 '>Unit 4: Employee Handbooks &amp\; Evals</span></div>\n<div style='paddin
 g-left: 30px\;'><span style='color: #000000\;'></span></div>\n<div><span s
 tyle='font-size: 12pt\; color: #000000\;'><strong>Session C:</strong>&nbsp
 \;&nbsp\;1:00pm-5:00pm &nbsp\;<span style='font-size: 10.6667px\;'>4</span
 ><span style='font-size: 10.6667px\;'>&nbsp\;Contact Hours / .4 CEUs&nbsp\
 ;</span><span style='font-size: 8pt\;'>(For Sessions taken individually ea
 rn up to 5 Contact Hours / .5 CEUs by completing 1 Praxis question)</span>
 </span></div>\n<div style='padding-left: 30px\;'><span style='font-size: 1
 2pt\; color: #000000\;'>Unit 5: Center Management</span></div>\n<div style
 ='padding-left: 30px\;'><span style='font-size: 12pt\; color: #000000\;'>U
 nit 6: Child Development - The Essentials</span></div>\n<div>&nbsp\;</div>
 \n<div style='padding-left: 30px\;'><span style='color: #000000\;'></span>
 </div>\n<div><span style='color: #000000\;'><span style='text-decoration: 
 underline\;'><strong><span style='font-size: 14pt\;'>Sunday\, July 14th\, 
 2024</span></strong></span><strong><span style='font-size: 14pt\;'>&nbsp\;
  &nbsp\;</span></strong></span></div>\n<div>&nbsp\;</div>\n<div><span styl
 e='color: #000000\;'></span></div>\n<div><span style='font-size: 12pt\; co
 lor: #000000\;'><strong>Session D: &nbsp\;</strong>8:00am-12:00pm&nbsp\;<s
 pan style='font-size: 10.6667px\;'>4</span><span style='font-size: 10.6667
 px\;'>&nbsp\;Contact Hours / .4 CEUs&nbsp\;</span><span style='font-size: 
 8pt\;'>(For Sessions taken individually earn up to 5 Contact Hours / .5 CE
 Us by completing 1 Praxis question)</span></span></div>\n<div style='paddi
 ng-left: 30px\;'><span style='font-size: 12pt\; color: #000000\;'>Unit 7: 
 Dealing with Difficult Employees</span></div>\n<div style='padding-left: 3
 0px\;'><span style='font-size: 12pt\; color: #000000\;'>Unit 8: Administra
 tive Leadership</span></div>\n<div style='padding-left: 30px\;'><span styl
 e='color: #000000\;'></span></div>\n<div>\n<div><span style='font-size: 12
 pt\; color: #000000\;'><strong>Session E: &nbsp\;</strong>1:00pm-5:00pm&nb
 sp\;<span style='font-size: 10.6667px\;'>4</span><span style='font-size: 1
 0.6667px\;'>&nbsp\;Contact Hours / .4 CEUs&nbsp\;</span><span style='font-
 size: 8pt\;'>(For Sessions taken individually earn up to 5 Contact Hours /
  .5 CEUs by completing 1 Praxis question)</span></span></div>\n<div style=
 'padding-left: 30px\;'><span style='font-size: 12pt\; color: #000000\;'>Un
 it 9: The New Economy</span></div>\n<div style='padding-left: 30px\;'><spa
 n style='font-size: 12pt\; color: #000000\;'>Unit 10: Train the Trainer</s
 pan></div>\n<div>&nbsp\;</div>\n<div style='padding-left: 30px\;'><span st
 yle='color: #000000\;'></span></div>\n<div style='padding-left: 30px\;'><s
 pan style='color: #000000\;'>&nbsp\;&nbsp\;</span></div>\n</div>\n<div>\n<
 div>\n<div><span style='font-size: 12pt\; color: #000000\;'><strong><span 
 style='font-family: arial\, helvetica\, sans-serif\; font-size: 14pt\;'>Se
 ssion F: &nbsp\;Credential Praxis</span>&nbsp\;</strong><span style='font-
 size: 8pt\;'>(25 Contact Hours / 2.5 CEUs)</span></span></div>\n<div><span
  style='color: #000000\; font-family: arial\, helvetica\, sans-serif\; fon
 t-size: 14pt\;'>When attending the full conference\, each Session is worth
  4 Hours/ .4 CEUs for a total of 20 hours for sessions A-E. &nbsp\;Convert
  the 20 contact hours / 2 CEUs from attendance in sessions A-E into the NA
 C (which is worth 45 contact hours/4.5 CEUs) by completing the Praxis. Stu
 dents will be assigned an instructor to advise them during the completion 
 of their project from home if they have questions. Students also have the 
 option of registering for tutoring to complete their praxis during the eve
 nt\, at a future event or to get additional help from home on their praxis
 .&nbsp\;</span></div>\n<div>&nbsp\;</div>\n</div>\n<div>&nbsp\;</div>\n<di
 v><span style='color: #000000\; font-family: arial\, helvetica\, sans-seri
 f\;'><span style='color: #993300\;'><strong style='font-family: arial\, he
 lvetica\, sans-serif\; font-size: 16px\;'><a href='http://handprint.niccm.
 com/products/national-administrators-credential-n-a-c-tutoring.html' title
 ='NAC Tutoring Registration'><span style='color: #993300\;'>Optional Tutor
 ing $170 - includes tutoring binder</span></a></strong></span></span><span
  style='color: #000000\; font-family: arial\, helvetica\, sans-serif\; fon
 t-size: 14pt\;'><strong style='font-family: arial\, helvetica\, sans-serif
 \; font-size: 16px\;'>&nbsp\;&nbsp\;</strong>Students who elect to stay fo
 r tutoring will receive a list of documentation to bring with them. The pr
 esenter will provide individualized assistance to each tutoring participan
 t in order to help them put together and complete their Praxis. Tutoring a
 llows students the&nbsp\;<strong>opportunity</strong>&nbsp\;of completing 
 their test and praxis at the event and&nbsp\;<strong>leave having earned t
 heir certificate</strong>. Those who wish to participate in tutoring are a
 dvised to register for this service at least 3 days before the event in or
 der to arrive prepared for tutoring. Tutoring is usually offered on Saturd
 ay and Sunday of each event from approximately 5:15 pm - 8:15 pm.</span></
 div>\n</div>
DTSTART:20240712T160000Z
DTEND:20240714T170000Z
SUMMARY:NAC - San Antonio 724    
URL:https://niccm.com/70-upcoming-credential-courses/870-nac-san-antonio-72
 4
END:VEVENT
END:VCALENDAR
