BEGIN:VCALENDAR
VERSION:2.0
PRODID:-//https://niccm.com//NONSGML kigkonsult.se iCalcreator 2.23.20//
METHOD:PUBLISH
X-WR-CALNAME:JCal Pro Calendar
X-WR-CALDESC:Your online events calendar
X-WR-TIMEZONE:UTC
BEGIN:VTIMEZONE
TZID:UTC
BEGIN:STANDARD
DTSTART:20260425T105012
TZOFFSETFROM:+0000
TZOFFSETTO:+0000
END:STANDARD
END:VTIMEZONE
BEGIN:VEVENT
UID:20240426T160000UTC-8058VCjOvl@https://niccm.com/
DTSTAMP:20260425T105012Z
CATEGORIES:Past NICCM Events
DESCRIPTION:<h1 style='color: #000000\; visibility: visible\; text-align: c
 enter\;'>N.A.C. (National Administrator's Credential)</h1>\n<h2 style='col
 or: #000000\; visibility: visible\; text-align: justify\;'><span style='fo
 nt-size: 18pt\;'>Location/Hotel:</span>&nbsp\;&nbsp\;</h2>\n<p style='back
 ground-color: transparent\; margin: 2px 0px\; padding: 0px\; border: 0px\;
  outline: 0px\; font-size: 12px\; color: #505f69\; font-family: Helvetica\
 , Arial\, FreeSans\, sans-serif\;'>&nbsp\;</p>\n<p style='background-color
 : transparent\; margin: 2px 0px\; padding: 0px\; border: 0px\; outline: 0p
 x\; font-size: 12px\; color: #505f69\; font-family: Helvetica\, Arial\, Fr
 eeSans\, sans-serif\;'><span style='color: #000000\; font-family: arial\, 
 helvetica\, sans-serif\; font-size: 14pt\;'>The Westin Fort Lauderdale&nbs
 p\;</span></p>\n<p><span style='color: #000000\; font-family: arial\, helv
 etica\, sans-serif\; font-size: 14pt\;'>400 Corporate Drive</span></p>\n<p
 ><span style='color: #000000\; font-family: arial\, helvetica\, sans-serif
 \; font-size: 14pt\;'>Fort Lauderdale\, FL &nbsp\;33334</span></p>\n<p><sp
 an style='color: #000000\; font-family: arial\, helvetica\, sans-serif\; f
 ont-size: 14pt\;'>(954) 772- 1331</span></p>\n<p><span style='font-size: 1
 4pt\; font-family: arial\, helvetica\, sans-serif\; color: #000000\;'>Rese
 rvations</span>&nbsp\;<span style='font-size: 14pt\;'><a href='https://www
 .marriott.com/events/start.mi?id=1696355846662&amp\;key=GRP'>marriott.com<
 /a><a href='https://www.hilton.com/en/book/reservation/deeplink/?ctyhocn=M
 COBVGI&amp\;groupCode=NICCM6&amp\;arrivaldate=2023-11-14&amp\;departuredat
 e=2023-11-20&amp\;cid=OM\,WW\,HILTONLINK\,EN\,DirectLink&amp\;fromId=HILTO
 NLINKDIRECT'></a></span></p>\n<p style='background-color: transparent\; ma
 rgin: 2px 0px\; padding: 0px\; border: 0px\; outline: 0px\; font-size: 12p
 x\; color: #505f69\; font-family: Helvetica\, Arial\, FreeSans\, sans-seri
 f\;'><span style='font-family: arial\, helvetica\, sans-serif\; font-size:
  14pt\;'><span style='color: #000000\;'>Call for assistance if there aren'
 t any available reservations on the link.</span><span style='color: #0000f
 f\; background-color: inherit\; caret-color: auto\;'></span></span></p>\n<
 p><span style='font-family: arial\, helvetica\, sans-serif\; font-size: 14
 pt\;'></span></p>\n<p>&nbsp\;</p>\n<p style='text-align: center\;'><a href
 ='http://handprint.niccm.com/products/national-florida-and-texas-director-
 credential-n-a-c.html' title='Registration NAC '><span style='color: #ffff
 ff\;'><span style='font-size: 19px\; padding: 3px 10px 4px\; background-co
 lor: #7b3b3b\;'><strong>Click Here To Register Online Now!</strong></span>
 </span></a></p>\n<p>&nbsp\;</p>\n<p>&nbsp\;</p>\n<p><span style='color: #0
 00000\;'><strong style='font-size: 14pt\;'><span style='font-size: 18pt\;'
 >Schedule:</span></strong></span></p>\n<div>&nbsp\;</div>\n<div><span styl
 e='color: #000000\;'><span style='text-decoration: underline\;'><strong><s
 pan style='font-size: 14pt\;'>Friday\, August 2nd\, 2024</span></strong></
 span><strong><span style='font-size: 14pt\;'>&nbsp\; &nbsp\;</span></stron
 g></span></div>\n<div>&nbsp\;</div>\n<div><span style='font-size: 12pt\; c
 olor: #000000\;'><strong>Arrival and Check-In:&nbsp\; </strong>3:45pm-4:00
 pm &nbsp\;</span><span style='color: #000000\;'><span style='color: #00000
 0\;'>(Students must arrive and check-in at least 1 hour before class start
 s)</span></span></div>\n<div>&nbsp\;</div>\n<div><span style='color: #0000
 00\;'></span></div>\n<div><span style='font-size: 12pt\; color: #000000\;'
 ><strong>Session A: &nbsp\;</strong>5:00pm-9:00pm&nbsp\;<span style='font-
 size: 10.6667px\;'>4</span><span style='font-size: 10.6667px\;'>&nbsp\;Con
 tact Hours / .4 CEUs</span>&nbsp\;<span style='font-size: 8pt\;'>(For Sess
 ions taken individually earn up to 5 Contact Hours / .5 CEUs by completing
  1 Praxis question)</span></span></div>\n<div style='padding-left: 30px\;'
 ><span style='font-size: 12pt\; color: #000000\;'>Unit 1: Fiscal Managemen
 t&nbsp\;</span></div>\n<div style='padding-left: 30px\;'><span style='font
 -size: 12pt\; color: #000000\;'>Unit 2: Insurance for Your Center</span></
 div>\n<div>&nbsp\;</div>\n<div style='padding-left: 30px\;'><span style='c
 olor: #000000\;'></span></div>\n<div><span style='color: #000000\;'><span 
 style='text-decoration: underline\;'><strong><span style='font-size: 14pt\
 ;'>Saturday\, August 3rd\, 2024</span></strong></span><span style='font-si
 ze: 8pt\;'>&nbsp\;&nbsp\;</span></span></div>\n<div>&nbsp\;</div>\n<div><s
 pan style='color: #000000\;'></span></div>\n<div><span style='font-size: 1
 2pt\; color: #000000\;'><strong>Session B:</strong>&nbsp\;&nbsp\;8:00am-12
 :00pm&nbsp\;<span style='font-size: 10.6667px\;'>4</span><span style='font
 -size: 10.6667px\;'>&nbsp\;Contact Hours / .4 CEUs&nbsp\;</span><span styl
 e='font-size: 8pt\;'>(For Sessions taken individually earn up to 5 Contact
  Hours / .5 CEUs by completing 1 Praxis question)</span></span></div>\n<di
 v style='padding-left: 30px\;'><span style='font-size: 12pt\; color: #0000
 00\;'>Unit 3: Hiring &amp\; Teacher Orientation</span></div>\n<div style='
 padding-left: 30px\;'><span style='font-size: 12pt\; color: #000000\;'>Uni
 t 4: Employee Handbooks &amp\; Evals</span></div>\n<div style='padding-lef
 t: 30px\;'><span style='color: #000000\;'></span></div>\n<div><span style=
 'font-size: 12pt\; color: #000000\;'><strong>Session C:</strong>&nbsp\;&nb
 sp\;1:00pm-5:00pm &nbsp\;<span style='font-size: 10.6667px\;'>4</span><spa
 n style='font-size: 10.6667px\;'>&nbsp\;Contact Hours / .4 CEUs&nbsp\;</sp
 an><span style='font-size: 8pt\;'>(For Sessions taken individually earn up
  to 5 Contact Hours / .5 CEUs by completing 1 Praxis question)</span></spa
 n></div>\n<div style='padding-left: 30px\;'><span style='font-size: 12pt\;
  color: #000000\;'>Unit 5: Center Management</span></div>\n<div style='pad
 ding-left: 30px\;'><span style='font-size: 12pt\; color: #000000\;'>Unit 6
 : Child Development - The Essentials</span></div>\n<div>&nbsp\;</div>\n<di
 v style='padding-left: 30px\;'><span style='color: #000000\;'></span></div
 >\n<div><span style='color: #000000\;'><span style='text-decoration: under
 line\;'><strong><span style='font-size: 14pt\;'>Sunday\, August 4th\, 2024
 </span></strong></span><strong><span style='font-size: 14pt\;'>&nbsp\; &nb
 sp\;</span></strong></span></div>\n<div>&nbsp\;</div>\n<div><span style='c
 olor: #000000\;'></span></div>\n<div><span style='font-size: 12pt\; color:
  #000000\;'><strong>Session D: &nbsp\;</strong>8:00am-12:00pm&nbsp\;<span 
 style='font-size: 10.6667px\;'>4</span><span style='font-size: 10.6667px\;
 '>&nbsp\;Contact Hours / .4 CEUs&nbsp\;</span><span style='font-size: 8pt\
 ;'>(For Sessions taken individually earn up to 5 Contact Hours / .5 CEUs b
 y completing 1 Praxis question)</span></span></div>\n<div style='padding-l
 eft: 30px\;'><span style='font-size: 12pt\; color: #000000\;'>Unit 7: Deal
 ing with Difficult Employees</span></div>\n<div style='padding-left: 30px\
 ;'><span style='font-size: 12pt\; color: #000000\;'>Unit 8: Administrative
  Leadership</span></div>\n<div style='padding-left: 30px\;'><span style='c
 olor: #000000\;'></span></div>\n<div>\n<div><span style='font-size: 12pt\;
  color: #000000\;'><strong>Session E: &nbsp\;</strong>1:00pm-5:00pm&nbsp\;
 <span style='font-size: 10.6667px\;'>4</span><span style='font-size: 10.66
 67px\;'>&nbsp\;Contact Hours / .4 CEUs&nbsp\;</span><span style='font-size
 : 8pt\;'>(For Sessions taken individually earn up to 5 Contact Hours / .5 
 CEUs by completing 1 Praxis question)</span></span></div>\n<div style='pad
 ding-left: 30px\;'><span style='font-size: 12pt\; color: #000000\;'>Unit 9
 : The New Economy</span></div>\n<div style='padding-left: 30px\;'><span st
 yle='font-size: 12pt\; color: #000000\;'>Unit 10: Train the Trainer</span>
 </div>\n<div>&nbsp\;</div>\n<div style='padding-left: 30px\;'><span style=
 'color: #000000\;'></span></div>\n<div style='padding-left: 30px\;'><span 
 style='color: #000000\;'>&nbsp\;&nbsp\;</span></div>\n</div>\n<div>\n<div>
 \n<div><span style='font-size: 12pt\; color: #000000\;'><strong><span styl
 e='font-family: arial\, helvetica\, sans-serif\; font-size: 14pt\;'>Sessio
 n F: &nbsp\;Credential Praxis</span>&nbsp\;</strong><span style='font-size
 : 8pt\;'>(25 Contact Hours / 2.5 CEUs)</span></span></div>\n<div><span sty
 le='color: #000000\; font-family: arial\, helvetica\, sans-serif\; font-si
 ze: 14pt\;'>When attending the full conference\, each Session is worth 4 H
 ours/ .4 CEUs for a total of 20 hours for sessions A-E. &nbsp\;Convert the
  20 contact hours / 2 CEUs from attendance in sessions A-E into the NAC (w
 hich is worth 45 contact hours/4.5 CEUs) by completing the Praxis. Student
 s will be assigned an instructor to advise them during the completion of t
 heir project from home if they have questions. Students also have the opti
 on of registering for tutoring to complete their praxis during the event\,
  at a future event or to get additional help from home on their praxis.&nb
 sp\;</span></div>\n<div>&nbsp\;</div>\n</div>\n<div>&nbsp\;</div>\n<div><s
 pan style='color: #000000\; font-family: arial\, helvetica\, sans-serif\;'
 ><span style='color: #993300\;'><strong style='font-family: arial\, helvet
 ica\, sans-serif\; font-size: 16px\;'><a href='http://handprint.niccm.com/
 products/national-administrators-credential-n-a-c-tutoring.html' title='NA
 C Tutoring Registration'><span style='color: #993300\;'>Optional Tutoring 
 $170 - includes tutoring binder</span></a></strong></span></span><span sty
 le='color: #000000\; font-family: arial\, helvetica\, sans-serif\; font-si
 ze: 14pt\;'><strong style='font-family: arial\, helvetica\, sans-serif\; f
 ont-size: 16px\;'>&nbsp\;&nbsp\;</strong>Students who elect to stay for tu
 toring will receive a list of documentation to bring with them. The presen
 ter will provide individualized assistance to each tutoring participant in
  order to help them put together and complete their Praxis. Tutoring allow
 s students the&nbsp\;<strong>opportunity</strong>&nbsp\;of completing thei
 r test and praxis at the event and&nbsp\;<strong>leave having earned their
  certificate</strong>. Those who wish to participate in tutoring are advis
 ed to register for this service at least 3 days before the event in order 
 to arrive prepared for tutoring. Tutoring is usually offered on Saturday a
 nd Sunday of each event from approximately 5:15 pm - 8:15 pm.</span></div>
 \n</div>
DTSTART:20240802T160000Z
DTEND:20240804T170000Z
SUMMARY:NAC - Ft Lauderdale 824    
URL:https://niccm.com/70-upcoming-credential-courses/876-nac-ft-lauderdale-
 824
END:VEVENT
END:VCALENDAR
